BEGIN:VCALENDAR
VERSION:2.0
PRODID:-//Epic Trivia - ECPv6.15.18//NONSGML v1.0//EN
CALSCALE:GREGORIAN
METHOD:PUBLISH
X-ORIGINAL-URL:https://epictriviafl.com
X-WR-CALDESC:Events for Epic Trivia
REFRESH-INTERVAL;VALUE=DURATION:PT1H
X-Robots-Tag:noindex
X-PUBLISHED-TTL:PT1H
BEGIN:VTIMEZONE
TZID:America/New_York
BEGIN:DAYLIGHT
TZOFFSETFROM:-0500
TZOFFSETTO:-0400
TZNAME:EDT
DTSTART:20260308T070000
END:DAYLIGHT
BEGIN:STANDARD
TZOFFSETFROM:-0400
TZOFFSETTO:-0500
TZNAME:EST
DTSTART:20261101T060000
END:STANDARD
BEGIN:DAYLIGHT
TZOFFSETFROM:-0500
TZOFFSETTO:-0400
TZNAME:EDT
DTSTART:20270314T070000
END:DAYLIGHT
BEGIN:STANDARD
TZOFFSETFROM:-0400
TZOFFSETTO:-0500
TZNAME:EST
DTSTART:20271107T060000
END:STANDARD
BEGIN:DAYLIGHT
TZOFFSETFROM:-0500
TZOFFSETTO:-0400
TZNAME:EDT
DTSTART:20280312T070000
END:DAYLIGHT
BEGIN:STANDARD
TZOFFSETFROM:-0400
TZOFFSETTO:-0500
TZNAME:EST
DTSTART:20281105T060000
END:STANDARD
BEGIN:DAYLIGHT
TZOFFSETFROM:-0500
TZOFFSETTO:-0400
TZNAME:EDT
DTSTART:20290311T070000
END:DAYLIGHT
BEGIN:STANDARD
TZOFFSETFROM:-0400
TZOFFSETTO:-0500
TZNAME:EST
DTSTART:20291104T060000
END:STANDARD
END:VTIMEZONE
BEGIN:VEVENT
DTSTART;TZID=America/New_York:20270907T190000
DTEND;TZID=America/New_York:20270907T190000
DTSTAMP:20260420T014510
CREATED:20260105T003117Z
LAST-MODIFIED:20260105T054922Z
UID:10015430-1820343600-1820343600@epictriviafl.com
SUMMARY:Trivia
DESCRIPTION:
URL:https://epictriviafl.com/event/trivia-winghouse/2027-09-07/
LOCATION:Winghouse Bar & Grill\, 775 W Brandon Blvd\, Brandon\, FL 33511 USA
GEO:27.9372244;-82.2955466
X-APPLE-STRUCTURED-LOCATION;VALUE=URI;X-ADDRESS=Winghouse Bar & Grill 775 W Brandon Blvd Brandon FL 33511 USA;X-APPLE-RADIUS=500;X-TITLE=775 W Brandon Blvd\, Brandon\, FL 33511 USA:geo:-82.2955466,27.9372244
END:VEVENT
BEGIN:VEVENT
DTSTART;TZID=America/New_York:20270914T190000
DTEND;TZID=America/New_York:20270914T190000
DTSTAMP:20260420T014510
CREATED:20260105T003117Z
LAST-MODIFIED:20260105T054922Z
UID:10015431-1820948400-1820948400@epictriviafl.com
SUMMARY:Trivia
DESCRIPTION:
URL:https://epictriviafl.com/event/trivia-winghouse/2027-09-14/
LOCATION:Winghouse Bar & Grill\, 775 W Brandon Blvd\, Brandon\, FL 33511 USA
GEO:27.9372244;-82.2955466
X-APPLE-STRUCTURED-LOCATION;VALUE=URI;X-ADDRESS=Winghouse Bar & Grill 775 W Brandon Blvd Brandon FL 33511 USA;X-APPLE-RADIUS=500;X-TITLE=775 W Brandon Blvd\, Brandon\, FL 33511 USA:geo:-82.2955466,27.9372244
END:VEVENT
BEGIN:VEVENT
DTSTART;TZID=America/New_York:20270921T190000
DTEND;TZID=America/New_York:20270921T190000
DTSTAMP:20260420T014510
CREATED:20260105T003117Z
LAST-MODIFIED:20260105T054922Z
UID:10015432-1821553200-1821553200@epictriviafl.com
SUMMARY:Trivia
DESCRIPTION:
URL:https://epictriviafl.com/event/trivia-winghouse/2027-09-21/
LOCATION:Winghouse Bar & Grill\, 775 W Brandon Blvd\, Brandon\, FL 33511 USA
GEO:27.9372244;-82.2955466
X-APPLE-STRUCTURED-LOCATION;VALUE=URI;X-ADDRESS=Winghouse Bar & Grill 775 W Brandon Blvd Brandon FL 33511 USA;X-APPLE-RADIUS=500;X-TITLE=775 W Brandon Blvd\, Brandon\, FL 33511 USA:geo:-82.2955466,27.9372244
END:VEVENT
BEGIN:VEVENT
DTSTART;TZID=America/New_York:20270928T190000
DTEND;TZID=America/New_York:20270928T190000
DTSTAMP:20260420T014510
CREATED:20260105T003117Z
LAST-MODIFIED:20260105T054922Z
UID:10015433-1822158000-1822158000@epictriviafl.com
SUMMARY:Trivia
DESCRIPTION:
URL:https://epictriviafl.com/event/trivia-winghouse/2027-09-28/
LOCATION:Winghouse Bar & Grill\, 775 W Brandon Blvd\, Brandon\, FL 33511 USA
GEO:27.9372244;-82.2955466
X-APPLE-STRUCTURED-LOCATION;VALUE=URI;X-ADDRESS=Winghouse Bar & Grill 775 W Brandon Blvd Brandon FL 33511 USA;X-APPLE-RADIUS=500;X-TITLE=775 W Brandon Blvd\, Brandon\, FL 33511 USA:geo:-82.2955466,27.9372244
END:VEVENT
BEGIN:VEVENT
DTSTART;TZID=America/New_York:20271005T190000
DTEND;TZID=America/New_York:20271005T190000
DTSTAMP:20260420T014510
CREATED:20260105T003117Z
LAST-MODIFIED:20260105T054922Z
UID:10015434-1822762800-1822762800@epictriviafl.com
SUMMARY:Trivia
DESCRIPTION:
URL:https://epictriviafl.com/event/trivia-winghouse/2027-10-05/
LOCATION:Winghouse Bar & Grill\, 775 W Brandon Blvd\, Brandon\, FL 33511 USA
GEO:27.9372244;-82.2955466
X-APPLE-STRUCTURED-LOCATION;VALUE=URI;X-ADDRESS=Winghouse Bar & Grill 775 W Brandon Blvd Brandon FL 33511 USA;X-APPLE-RADIUS=500;X-TITLE=775 W Brandon Blvd\, Brandon\, FL 33511 USA:geo:-82.2955466,27.9372244
END:VEVENT
BEGIN:VEVENT
DTSTART;TZID=America/New_York:20271012T190000
DTEND;TZID=America/New_York:20271012T190000
DTSTAMP:20260420T014510
CREATED:20260105T003117Z
LAST-MODIFIED:20260105T054922Z
UID:10015435-1823367600-1823367600@epictriviafl.com
SUMMARY:Trivia
DESCRIPTION:
URL:https://epictriviafl.com/event/trivia-winghouse/2027-10-12/
LOCATION:Winghouse Bar & Grill\, 775 W Brandon Blvd\, Brandon\, FL 33511 USA
GEO:27.9372244;-82.2955466
X-APPLE-STRUCTURED-LOCATION;VALUE=URI;X-ADDRESS=Winghouse Bar & Grill 775 W Brandon Blvd Brandon FL 33511 USA;X-APPLE-RADIUS=500;X-TITLE=775 W Brandon Blvd\, Brandon\, FL 33511 USA:geo:-82.2955466,27.9372244
END:VEVENT
BEGIN:VEVENT
DTSTART;TZID=America/New_York:20271019T190000
DTEND;TZID=America/New_York:20271019T190000
DTSTAMP:20260420T014510
CREATED:20260105T003117Z
LAST-MODIFIED:20260105T054922Z
UID:10015436-1823972400-1823972400@epictriviafl.com
SUMMARY:Trivia
DESCRIPTION:
URL:https://epictriviafl.com/event/trivia-winghouse/2027-10-19/
LOCATION:Winghouse Bar & Grill\, 775 W Brandon Blvd\, Brandon\, FL 33511 USA
GEO:27.9372244;-82.2955466
X-APPLE-STRUCTURED-LOCATION;VALUE=URI;X-ADDRESS=Winghouse Bar & Grill 775 W Brandon Blvd Brandon FL 33511 USA;X-APPLE-RADIUS=500;X-TITLE=775 W Brandon Blvd\, Brandon\, FL 33511 USA:geo:-82.2955466,27.9372244
END:VEVENT
BEGIN:VEVENT
DTSTART;TZID=America/New_York:20271026T190000
DTEND;TZID=America/New_York:20271026T190000
DTSTAMP:20260420T014510
CREATED:20260105T003117Z
LAST-MODIFIED:20260105T054922Z
UID:10015437-1824577200-1824577200@epictriviafl.com
SUMMARY:Trivia
DESCRIPTION:
URL:https://epictriviafl.com/event/trivia-winghouse/2027-10-26/
LOCATION:Winghouse Bar & Grill\, 775 W Brandon Blvd\, Brandon\, FL 33511 USA
GEO:27.9372244;-82.2955466
X-APPLE-STRUCTURED-LOCATION;VALUE=URI;X-ADDRESS=Winghouse Bar & Grill 775 W Brandon Blvd Brandon FL 33511 USA;X-APPLE-RADIUS=500;X-TITLE=775 W Brandon Blvd\, Brandon\, FL 33511 USA:geo:-82.2955466,27.9372244
END:VEVENT
BEGIN:VEVENT
DTSTART;TZID=America/New_York:20271102T190000
DTEND;TZID=America/New_York:20271102T190000
DTSTAMP:20260420T014510
CREATED:20260105T003117Z
LAST-MODIFIED:20260105T054922Z
UID:10015438-1825182000-1825182000@epictriviafl.com
SUMMARY:Trivia
DESCRIPTION:
URL:https://epictriviafl.com/event/trivia-winghouse/2027-11-02/
LOCATION:Winghouse Bar & Grill\, 775 W Brandon Blvd\, Brandon\, FL 33511 USA
GEO:27.9372244;-82.2955466
X-APPLE-STRUCTURED-LOCATION;VALUE=URI;X-ADDRESS=Winghouse Bar & Grill 775 W Brandon Blvd Brandon FL 33511 USA;X-APPLE-RADIUS=500;X-TITLE=775 W Brandon Blvd\, Brandon\, FL 33511 USA:geo:-82.2955466,27.9372244
END:VEVENT
BEGIN:VEVENT
DTSTART;TZID=America/New_York:20271109T190000
DTEND;TZID=America/New_York:20271109T190000
DTSTAMP:20260420T014510
CREATED:20260105T003117Z
LAST-MODIFIED:20260105T054922Z
UID:10015439-1825786800-1825786800@epictriviafl.com
SUMMARY:Trivia
DESCRIPTION:
URL:https://epictriviafl.com/event/trivia-winghouse/2027-11-09/
LOCATION:Winghouse Bar & Grill\, 775 W Brandon Blvd\, Brandon\, FL 33511 USA
GEO:27.9372244;-82.2955466
X-APPLE-STRUCTURED-LOCATION;VALUE=URI;X-ADDRESS=Winghouse Bar & Grill 775 W Brandon Blvd Brandon FL 33511 USA;X-APPLE-RADIUS=500;X-TITLE=775 W Brandon Blvd\, Brandon\, FL 33511 USA:geo:-82.2955466,27.9372244
END:VEVENT
BEGIN:VEVENT
DTSTART;TZID=America/New_York:20271116T190000
DTEND;TZID=America/New_York:20271116T190000
DTSTAMP:20260420T014510
CREATED:20260105T003117Z
LAST-MODIFIED:20260105T054922Z
UID:10015440-1826391600-1826391600@epictriviafl.com
SUMMARY:Trivia
DESCRIPTION:
URL:https://epictriviafl.com/event/trivia-winghouse/2027-11-16/
LOCATION:Winghouse Bar & Grill\, 775 W Brandon Blvd\, Brandon\, FL 33511 USA
GEO:27.9372244;-82.2955466
X-APPLE-STRUCTURED-LOCATION;VALUE=URI;X-ADDRESS=Winghouse Bar & Grill 775 W Brandon Blvd Brandon FL 33511 USA;X-APPLE-RADIUS=500;X-TITLE=775 W Brandon Blvd\, Brandon\, FL 33511 USA:geo:-82.2955466,27.9372244
END:VEVENT
BEGIN:VEVENT
DTSTART;TZID=America/New_York:20271123T190000
DTEND;TZID=America/New_York:20271123T190000
DTSTAMP:20260420T014510
CREATED:20260105T003117Z
LAST-MODIFIED:20260105T054922Z
UID:10015441-1826996400-1826996400@epictriviafl.com
SUMMARY:Trivia
DESCRIPTION:
URL:https://epictriviafl.com/event/trivia-winghouse/2027-11-23/
LOCATION:Winghouse Bar & Grill\, 775 W Brandon Blvd\, Brandon\, FL 33511 USA
GEO:27.9372244;-82.2955466
X-APPLE-STRUCTURED-LOCATION;VALUE=URI;X-ADDRESS=Winghouse Bar & Grill 775 W Brandon Blvd Brandon FL 33511 USA;X-APPLE-RADIUS=500;X-TITLE=775 W Brandon Blvd\, Brandon\, FL 33511 USA:geo:-82.2955466,27.9372244
END:VEVENT
BEGIN:VEVENT
DTSTART;TZID=America/New_York:20271130T190000
DTEND;TZID=America/New_York:20271130T190000
DTSTAMP:20260420T014510
CREATED:20260105T003117Z
LAST-MODIFIED:20260105T054922Z
UID:10015442-1827601200-1827601200@epictriviafl.com
SUMMARY:Trivia
DESCRIPTION:
URL:https://epictriviafl.com/event/trivia-winghouse/2027-11-30/
LOCATION:Winghouse Bar & Grill\, 775 W Brandon Blvd\, Brandon\, FL 33511 USA
GEO:27.9372244;-82.2955466
X-APPLE-STRUCTURED-LOCATION;VALUE=URI;X-ADDRESS=Winghouse Bar & Grill 775 W Brandon Blvd Brandon FL 33511 USA;X-APPLE-RADIUS=500;X-TITLE=775 W Brandon Blvd\, Brandon\, FL 33511 USA:geo:-82.2955466,27.9372244
END:VEVENT
BEGIN:VEVENT
DTSTART;TZID=America/New_York:20271207T190000
DTEND;TZID=America/New_York:20271207T190000
DTSTAMP:20260420T014510
CREATED:20260105T003117Z
LAST-MODIFIED:20260105T054922Z
UID:10015443-1828206000-1828206000@epictriviafl.com
SUMMARY:Trivia
DESCRIPTION:
URL:https://epictriviafl.com/event/trivia-winghouse/2027-12-07/
LOCATION:Winghouse Bar & Grill\, 775 W Brandon Blvd\, Brandon\, FL 33511 USA
GEO:27.9372244;-82.2955466
X-APPLE-STRUCTURED-LOCATION;VALUE=URI;X-ADDRESS=Winghouse Bar & Grill 775 W Brandon Blvd Brandon FL 33511 USA;X-APPLE-RADIUS=500;X-TITLE=775 W Brandon Blvd\, Brandon\, FL 33511 USA:geo:-82.2955466,27.9372244
END:VEVENT
BEGIN:VEVENT
DTSTART;TZID=America/New_York:20271214T190000
DTEND;TZID=America/New_York:20271214T190000
DTSTAMP:20260420T014510
CREATED:20260105T003117Z
LAST-MODIFIED:20260105T054922Z
UID:10015444-1828810800-1828810800@epictriviafl.com
SUMMARY:Trivia
DESCRIPTION:
URL:https://epictriviafl.com/event/trivia-winghouse/2027-12-14/
LOCATION:Winghouse Bar & Grill\, 775 W Brandon Blvd\, Brandon\, FL 33511 USA
GEO:27.9372244;-82.2955466
X-APPLE-STRUCTURED-LOCATION;VALUE=URI;X-ADDRESS=Winghouse Bar & Grill 775 W Brandon Blvd Brandon FL 33511 USA;X-APPLE-RADIUS=500;X-TITLE=775 W Brandon Blvd\, Brandon\, FL 33511 USA:geo:-82.2955466,27.9372244
END:VEVENT
BEGIN:VEVENT
DTSTART;TZID=America/New_York:20271221T190000
DTEND;TZID=America/New_York:20271221T190000
DTSTAMP:20260420T014510
CREATED:20260105T003117Z
LAST-MODIFIED:20260105T054922Z
UID:10015445-1829415600-1829415600@epictriviafl.com
SUMMARY:Trivia
DESCRIPTION:
URL:https://epictriviafl.com/event/trivia-winghouse/2027-12-21/
LOCATION:Winghouse Bar & Grill\, 775 W Brandon Blvd\, Brandon\, FL 33511 USA
GEO:27.9372244;-82.2955466
X-APPLE-STRUCTURED-LOCATION;VALUE=URI;X-ADDRESS=Winghouse Bar & Grill 775 W Brandon Blvd Brandon FL 33511 USA;X-APPLE-RADIUS=500;X-TITLE=775 W Brandon Blvd\, Brandon\, FL 33511 USA:geo:-82.2955466,27.9372244
END:VEVENT
BEGIN:VEVENT
DTSTART;TZID=America/New_York:20271228T190000
DTEND;TZID=America/New_York:20271228T190000
DTSTAMP:20260420T014510
CREATED:20260105T003117Z
LAST-MODIFIED:20260105T054922Z
UID:10015446-1830020400-1830020400@epictriviafl.com
SUMMARY:Trivia
DESCRIPTION:
URL:https://epictriviafl.com/event/trivia-winghouse/2027-12-28/
LOCATION:Winghouse Bar & Grill\, 775 W Brandon Blvd\, Brandon\, FL 33511 USA
GEO:27.9372244;-82.2955466
X-APPLE-STRUCTURED-LOCATION;VALUE=URI;X-ADDRESS=Winghouse Bar & Grill 775 W Brandon Blvd Brandon FL 33511 USA;X-APPLE-RADIUS=500;X-TITLE=775 W Brandon Blvd\, Brandon\, FL 33511 USA:geo:-82.2955466,27.9372244
END:VEVENT
BEGIN:VEVENT
DTSTART;TZID=America/New_York:20280104T190000
DTEND;TZID=America/New_York:20280104T190000
DTSTAMP:20260420T014510
CREATED:20260105T003117Z
LAST-MODIFIED:20260105T054922Z
UID:10015447-1830625200-1830625200@epictriviafl.com
SUMMARY:Trivia
DESCRIPTION:
URL:https://epictriviafl.com/event/trivia-winghouse/2028-01-04/
LOCATION:Winghouse Bar & Grill\, 775 W Brandon Blvd\, Brandon\, FL 33511 USA
GEO:27.9372244;-82.2955466
X-APPLE-STRUCTURED-LOCATION;VALUE=URI;X-ADDRESS=Winghouse Bar & Grill 775 W Brandon Blvd Brandon FL 33511 USA;X-APPLE-RADIUS=500;X-TITLE=775 W Brandon Blvd\, Brandon\, FL 33511 USA:geo:-82.2955466,27.9372244
END:VEVENT
BEGIN:VEVENT
DTSTART;TZID=America/New_York:20280111T190000
DTEND;TZID=America/New_York:20280111T190000
DTSTAMP:20260420T014510
CREATED:20260105T003117Z
LAST-MODIFIED:20260105T054922Z
UID:10015448-1831230000-1831230000@epictriviafl.com
SUMMARY:Trivia
DESCRIPTION:
URL:https://epictriviafl.com/event/trivia-winghouse/2028-01-11/
LOCATION:Winghouse Bar & Grill\, 775 W Brandon Blvd\, Brandon\, FL 33511 USA
GEO:27.9372244;-82.2955466
X-APPLE-STRUCTURED-LOCATION;VALUE=URI;X-ADDRESS=Winghouse Bar & Grill 775 W Brandon Blvd Brandon FL 33511 USA;X-APPLE-RADIUS=500;X-TITLE=775 W Brandon Blvd\, Brandon\, FL 33511 USA:geo:-82.2955466,27.9372244
END:VEVENT
BEGIN:VEVENT
DTSTART;TZID=America/New_York:20280118T190000
DTEND;TZID=America/New_York:20280118T190000
DTSTAMP:20260420T014510
CREATED:20260105T003117Z
LAST-MODIFIED:20260105T054922Z
UID:10015449-1831834800-1831834800@epictriviafl.com
SUMMARY:Trivia
DESCRIPTION:
URL:https://epictriviafl.com/event/trivia-winghouse/2028-01-18/
LOCATION:Winghouse Bar & Grill\, 775 W Brandon Blvd\, Brandon\, FL 33511 USA
GEO:27.9372244;-82.2955466
X-APPLE-STRUCTURED-LOCATION;VALUE=URI;X-ADDRESS=Winghouse Bar & Grill 775 W Brandon Blvd Brandon FL 33511 USA;X-APPLE-RADIUS=500;X-TITLE=775 W Brandon Blvd\, Brandon\, FL 33511 USA:geo:-82.2955466,27.9372244
END:VEVENT
BEGIN:VEVENT
DTSTART;TZID=America/New_York:20280125T190000
DTEND;TZID=America/New_York:20280125T190000
DTSTAMP:20260420T014510
CREATED:20260105T003117Z
LAST-MODIFIED:20260105T054922Z
UID:10015450-1832439600-1832439600@epictriviafl.com
SUMMARY:Trivia
DESCRIPTION:
URL:https://epictriviafl.com/event/trivia-winghouse/2028-01-25/
LOCATION:Winghouse Bar & Grill\, 775 W Brandon Blvd\, Brandon\, FL 33511 USA
GEO:27.9372244;-82.2955466
X-APPLE-STRUCTURED-LOCATION;VALUE=URI;X-ADDRESS=Winghouse Bar & Grill 775 W Brandon Blvd Brandon FL 33511 USA;X-APPLE-RADIUS=500;X-TITLE=775 W Brandon Blvd\, Brandon\, FL 33511 USA:geo:-82.2955466,27.9372244
END:VEVENT
BEGIN:VEVENT
DTSTART;TZID=America/New_York:20280201T190000
DTEND;TZID=America/New_York:20280201T190000
DTSTAMP:20260420T014510
CREATED:20260105T003117Z
LAST-MODIFIED:20260105T054922Z
UID:10015451-1833044400-1833044400@epictriviafl.com
SUMMARY:Trivia
DESCRIPTION:
URL:https://epictriviafl.com/event/trivia-winghouse/2028-02-01/
LOCATION:Winghouse Bar & Grill\, 775 W Brandon Blvd\, Brandon\, FL 33511 USA
GEO:27.9372244;-82.2955466
X-APPLE-STRUCTURED-LOCATION;VALUE=URI;X-ADDRESS=Winghouse Bar & Grill 775 W Brandon Blvd Brandon FL 33511 USA;X-APPLE-RADIUS=500;X-TITLE=775 W Brandon Blvd\, Brandon\, FL 33511 USA:geo:-82.2955466,27.9372244
END:VEVENT
BEGIN:VEVENT
DTSTART;TZID=America/New_York:20280208T190000
DTEND;TZID=America/New_York:20280208T190000
DTSTAMP:20260420T014510
CREATED:20260105T003117Z
LAST-MODIFIED:20260105T054922Z
UID:10015452-1833649200-1833649200@epictriviafl.com
SUMMARY:Trivia
DESCRIPTION:
URL:https://epictriviafl.com/event/trivia-winghouse/2028-02-08/
LOCATION:Winghouse Bar & Grill\, 775 W Brandon Blvd\, Brandon\, FL 33511 USA
GEO:27.9372244;-82.2955466
X-APPLE-STRUCTURED-LOCATION;VALUE=URI;X-ADDRESS=Winghouse Bar & Grill 775 W Brandon Blvd Brandon FL 33511 USA;X-APPLE-RADIUS=500;X-TITLE=775 W Brandon Blvd\, Brandon\, FL 33511 USA:geo:-82.2955466,27.9372244
END:VEVENT
BEGIN:VEVENT
DTSTART;TZID=America/New_York:20280215T190000
DTEND;TZID=America/New_York:20280215T190000
DTSTAMP:20260420T014510
CREATED:20260105T003117Z
LAST-MODIFIED:20260105T054922Z
UID:10015453-1834254000-1834254000@epictriviafl.com
SUMMARY:Trivia
DESCRIPTION:
URL:https://epictriviafl.com/event/trivia-winghouse/2028-02-15/
LOCATION:Winghouse Bar & Grill\, 775 W Brandon Blvd\, Brandon\, FL 33511 USA
GEO:27.9372244;-82.2955466
X-APPLE-STRUCTURED-LOCATION;VALUE=URI;X-ADDRESS=Winghouse Bar & Grill 775 W Brandon Blvd Brandon FL 33511 USA;X-APPLE-RADIUS=500;X-TITLE=775 W Brandon Blvd\, Brandon\, FL 33511 USA:geo:-82.2955466,27.9372244
END:VEVENT
BEGIN:VEVENT
DTSTART;TZID=America/New_York:20280222T190000
DTEND;TZID=America/New_York:20280222T190000
DTSTAMP:20260420T014510
CREATED:20260105T003117Z
LAST-MODIFIED:20260105T054922Z
UID:10015454-1834858800-1834858800@epictriviafl.com
SUMMARY:Trivia
DESCRIPTION:
URL:https://epictriviafl.com/event/trivia-winghouse/2028-02-22/
LOCATION:Winghouse Bar & Grill\, 775 W Brandon Blvd\, Brandon\, FL 33511 USA
GEO:27.9372244;-82.2955466
X-APPLE-STRUCTURED-LOCATION;VALUE=URI;X-ADDRESS=Winghouse Bar & Grill 775 W Brandon Blvd Brandon FL 33511 USA;X-APPLE-RADIUS=500;X-TITLE=775 W Brandon Blvd\, Brandon\, FL 33511 USA:geo:-82.2955466,27.9372244
END:VEVENT
BEGIN:VEVENT
DTSTART;TZID=America/New_York:20280229T190000
DTEND;TZID=America/New_York:20280229T190000
DTSTAMP:20260420T014510
CREATED:20260105T003117Z
LAST-MODIFIED:20260105T054922Z
UID:10015455-1835463600-1835463600@epictriviafl.com
SUMMARY:Trivia
DESCRIPTION:
URL:https://epictriviafl.com/event/trivia-winghouse/2028-02-29/
LOCATION:Winghouse Bar & Grill\, 775 W Brandon Blvd\, Brandon\, FL 33511 USA
GEO:27.9372244;-82.2955466
X-APPLE-STRUCTURED-LOCATION;VALUE=URI;X-ADDRESS=Winghouse Bar & Grill 775 W Brandon Blvd Brandon FL 33511 USA;X-APPLE-RADIUS=500;X-TITLE=775 W Brandon Blvd\, Brandon\, FL 33511 USA:geo:-82.2955466,27.9372244
END:VEVENT
BEGIN:VEVENT
DTSTART;TZID=America/New_York:20280307T190000
DTEND;TZID=America/New_York:20280307T190000
DTSTAMP:20260420T014510
CREATED:20260105T003117Z
LAST-MODIFIED:20260105T054922Z
UID:10015456-1836068400-1836068400@epictriviafl.com
SUMMARY:Trivia
DESCRIPTION:
URL:https://epictriviafl.com/event/trivia-winghouse/2028-03-07/
LOCATION:Winghouse Bar & Grill\, 775 W Brandon Blvd\, Brandon\, FL 33511 USA
GEO:27.9372244;-82.2955466
X-APPLE-STRUCTURED-LOCATION;VALUE=URI;X-ADDRESS=Winghouse Bar & Grill 775 W Brandon Blvd Brandon FL 33511 USA;X-APPLE-RADIUS=500;X-TITLE=775 W Brandon Blvd\, Brandon\, FL 33511 USA:geo:-82.2955466,27.9372244
END:VEVENT
BEGIN:VEVENT
DTSTART;TZID=America/New_York:20280314T190000
DTEND;TZID=America/New_York:20280314T190000
DTSTAMP:20260420T014510
CREATED:20260105T003117Z
LAST-MODIFIED:20260105T054922Z
UID:10015457-1836673200-1836673200@epictriviafl.com
SUMMARY:Trivia
DESCRIPTION:
URL:https://epictriviafl.com/event/trivia-winghouse/2028-03-14/
LOCATION:Winghouse Bar & Grill\, 775 W Brandon Blvd\, Brandon\, FL 33511 USA
GEO:27.9372244;-82.2955466
X-APPLE-STRUCTURED-LOCATION;VALUE=URI;X-ADDRESS=Winghouse Bar & Grill 775 W Brandon Blvd Brandon FL 33511 USA;X-APPLE-RADIUS=500;X-TITLE=775 W Brandon Blvd\, Brandon\, FL 33511 USA:geo:-82.2955466,27.9372244
END:VEVENT
BEGIN:VEVENT
DTSTART;TZID=America/New_York:20280321T190000
DTEND;TZID=America/New_York:20280321T190000
DTSTAMP:20260420T014510
CREATED:20260105T003117Z
LAST-MODIFIED:20260105T054922Z
UID:10015458-1837278000-1837278000@epictriviafl.com
SUMMARY:Trivia
DESCRIPTION:
URL:https://epictriviafl.com/event/trivia-winghouse/2028-03-21/
LOCATION:Winghouse Bar & Grill\, 775 W Brandon Blvd\, Brandon\, FL 33511 USA
GEO:27.9372244;-82.2955466
X-APPLE-STRUCTURED-LOCATION;VALUE=URI;X-ADDRESS=Winghouse Bar & Grill 775 W Brandon Blvd Brandon FL 33511 USA;X-APPLE-RADIUS=500;X-TITLE=775 W Brandon Blvd\, Brandon\, FL 33511 USA:geo:-82.2955466,27.9372244
END:VEVENT
BEGIN:VEVENT
DTSTART;TZID=America/New_York:20280328T190000
DTEND;TZID=America/New_York:20280328T190000
DTSTAMP:20260420T014510
CREATED:20260105T003117Z
LAST-MODIFIED:20260105T054922Z
UID:10015459-1837882800-1837882800@epictriviafl.com
SUMMARY:Trivia
DESCRIPTION:
URL:https://epictriviafl.com/event/trivia-winghouse/2028-03-28/
LOCATION:Winghouse Bar & Grill\, 775 W Brandon Blvd\, Brandon\, FL 33511 USA
GEO:27.9372244;-82.2955466
X-APPLE-STRUCTURED-LOCATION;VALUE=URI;X-ADDRESS=Winghouse Bar & Grill 775 W Brandon Blvd Brandon FL 33511 USA;X-APPLE-RADIUS=500;X-TITLE=775 W Brandon Blvd\, Brandon\, FL 33511 USA:geo:-82.2955466,27.9372244
END:VEVENT
END:VCALENDAR