BEGIN:VCALENDAR
VERSION:2.0
PRODID:-//Epic Trivia - ECPv6.15.18//NONSGML v1.0//EN
CALSCALE:GREGORIAN
METHOD:PUBLISH
X-ORIGINAL-URL:https://epictriviafl.com
X-WR-CALDESC:Events for Epic Trivia
REFRESH-INTERVAL;VALUE=DURATION:PT1H
X-Robots-Tag:noindex
X-PUBLISHED-TTL:PT1H
BEGIN:VTIMEZONE
TZID:America/New_York
BEGIN:DAYLIGHT
TZOFFSETFROM:-0500
TZOFFSETTO:-0400
TZNAME:EDT
DTSTART:20290311T070000
END:DAYLIGHT
BEGIN:STANDARD
TZOFFSETFROM:-0400
TZOFFSETTO:-0500
TZNAME:EST
DTSTART:20291104T060000
END:STANDARD
BEGIN:DAYLIGHT
TZOFFSETFROM:-0500
TZOFFSETTO:-0400
TZNAME:EDT
DTSTART:20300310T070000
END:DAYLIGHT
BEGIN:STANDARD
TZOFFSETFROM:-0400
TZOFFSETTO:-0500
TZNAME:EST
DTSTART:20301103T060000
END:STANDARD
BEGIN:DAYLIGHT
TZOFFSETFROM:-0500
TZOFFSETTO:-0400
TZNAME:EDT
DTSTART:20310309T070000
END:DAYLIGHT
BEGIN:STANDARD
TZOFFSETFROM:-0400
TZOFFSETTO:-0500
TZNAME:EST
DTSTART:20311102T060000
END:STANDARD
END:VTIMEZONE
BEGIN:VEVENT
DTSTART;TZID=America/New_York:20300903T190000
DTEND;TZID=America/New_York:20300903T190000
DTSTAMP:20260420T221117
CREATED:20260105T003117Z
LAST-MODIFIED:20260105T054922Z
UID:10015586-1914692400-1914692400@epictriviafl.com
SUMMARY:Trivia
DESCRIPTION:
URL:https://epictriviafl.com/event/trivia-winghouse/2030-09-03/
LOCATION:Winghouse Bar & Grill\, 775 W Brandon Blvd\, Brandon\, FL 33511 USA
GEO:27.9372244;-82.2955466
X-APPLE-STRUCTURED-LOCATION;VALUE=URI;X-ADDRESS=Winghouse Bar & Grill 775 W Brandon Blvd Brandon FL 33511 USA;X-APPLE-RADIUS=500;X-TITLE=775 W Brandon Blvd\, Brandon\, FL 33511 USA:geo:-82.2955466,27.9372244
END:VEVENT
BEGIN:VEVENT
DTSTART;TZID=America/New_York:20300910T190000
DTEND;TZID=America/New_York:20300910T190000
DTSTAMP:20260420T221117
CREATED:20260105T003117Z
LAST-MODIFIED:20260105T054922Z
UID:10015587-1915297200-1915297200@epictriviafl.com
SUMMARY:Trivia
DESCRIPTION:
URL:https://epictriviafl.com/event/trivia-winghouse/2030-09-10/
LOCATION:Winghouse Bar & Grill\, 775 W Brandon Blvd\, Brandon\, FL 33511 USA
GEO:27.9372244;-82.2955466
X-APPLE-STRUCTURED-LOCATION;VALUE=URI;X-ADDRESS=Winghouse Bar & Grill 775 W Brandon Blvd Brandon FL 33511 USA;X-APPLE-RADIUS=500;X-TITLE=775 W Brandon Blvd\, Brandon\, FL 33511 USA:geo:-82.2955466,27.9372244
END:VEVENT
BEGIN:VEVENT
DTSTART;TZID=America/New_York:20300917T190000
DTEND;TZID=America/New_York:20300917T190000
DTSTAMP:20260420T221117
CREATED:20260105T003117Z
LAST-MODIFIED:20260105T054922Z
UID:10015588-1915902000-1915902000@epictriviafl.com
SUMMARY:Trivia
DESCRIPTION:
URL:https://epictriviafl.com/event/trivia-winghouse/2030-09-17/
LOCATION:Winghouse Bar & Grill\, 775 W Brandon Blvd\, Brandon\, FL 33511 USA
GEO:27.9372244;-82.2955466
X-APPLE-STRUCTURED-LOCATION;VALUE=URI;X-ADDRESS=Winghouse Bar & Grill 775 W Brandon Blvd Brandon FL 33511 USA;X-APPLE-RADIUS=500;X-TITLE=775 W Brandon Blvd\, Brandon\, FL 33511 USA:geo:-82.2955466,27.9372244
END:VEVENT
BEGIN:VEVENT
DTSTART;TZID=America/New_York:20300924T190000
DTEND;TZID=America/New_York:20300924T190000
DTSTAMP:20260420T221117
CREATED:20260105T003117Z
LAST-MODIFIED:20260105T054922Z
UID:10015589-1916506800-1916506800@epictriviafl.com
SUMMARY:Trivia
DESCRIPTION:
URL:https://epictriviafl.com/event/trivia-winghouse/2030-09-24/
LOCATION:Winghouse Bar & Grill\, 775 W Brandon Blvd\, Brandon\, FL 33511 USA
GEO:27.9372244;-82.2955466
X-APPLE-STRUCTURED-LOCATION;VALUE=URI;X-ADDRESS=Winghouse Bar & Grill 775 W Brandon Blvd Brandon FL 33511 USA;X-APPLE-RADIUS=500;X-TITLE=775 W Brandon Blvd\, Brandon\, FL 33511 USA:geo:-82.2955466,27.9372244
END:VEVENT
BEGIN:VEVENT
DTSTART;TZID=America/New_York:20301001T190000
DTEND;TZID=America/New_York:20301001T190000
DTSTAMP:20260420T221117
CREATED:20260105T003117Z
LAST-MODIFIED:20260105T054922Z
UID:10015590-1917111600-1917111600@epictriviafl.com
SUMMARY:Trivia
DESCRIPTION:
URL:https://epictriviafl.com/event/trivia-winghouse/2030-10-01/
LOCATION:Winghouse Bar & Grill\, 775 W Brandon Blvd\, Brandon\, FL 33511 USA
GEO:27.9372244;-82.2955466
X-APPLE-STRUCTURED-LOCATION;VALUE=URI;X-ADDRESS=Winghouse Bar & Grill 775 W Brandon Blvd Brandon FL 33511 USA;X-APPLE-RADIUS=500;X-TITLE=775 W Brandon Blvd\, Brandon\, FL 33511 USA:geo:-82.2955466,27.9372244
END:VEVENT
BEGIN:VEVENT
DTSTART;TZID=America/New_York:20301008T190000
DTEND;TZID=America/New_York:20301008T190000
DTSTAMP:20260420T221117
CREATED:20260105T003117Z
LAST-MODIFIED:20260105T054922Z
UID:10015591-1917716400-1917716400@epictriviafl.com
SUMMARY:Trivia
DESCRIPTION:
URL:https://epictriviafl.com/event/trivia-winghouse/2030-10-08/
LOCATION:Winghouse Bar & Grill\, 775 W Brandon Blvd\, Brandon\, FL 33511 USA
GEO:27.9372244;-82.2955466
X-APPLE-STRUCTURED-LOCATION;VALUE=URI;X-ADDRESS=Winghouse Bar & Grill 775 W Brandon Blvd Brandon FL 33511 USA;X-APPLE-RADIUS=500;X-TITLE=775 W Brandon Blvd\, Brandon\, FL 33511 USA:geo:-82.2955466,27.9372244
END:VEVENT
BEGIN:VEVENT
DTSTART;TZID=America/New_York:20301015T190000
DTEND;TZID=America/New_York:20301015T190000
DTSTAMP:20260420T221117
CREATED:20260105T003117Z
LAST-MODIFIED:20260105T054922Z
UID:10015592-1918321200-1918321200@epictriviafl.com
SUMMARY:Trivia
DESCRIPTION:
URL:https://epictriviafl.com/event/trivia-winghouse/2030-10-15/
LOCATION:Winghouse Bar & Grill\, 775 W Brandon Blvd\, Brandon\, FL 33511 USA
GEO:27.9372244;-82.2955466
X-APPLE-STRUCTURED-LOCATION;VALUE=URI;X-ADDRESS=Winghouse Bar & Grill 775 W Brandon Blvd Brandon FL 33511 USA;X-APPLE-RADIUS=500;X-TITLE=775 W Brandon Blvd\, Brandon\, FL 33511 USA:geo:-82.2955466,27.9372244
END:VEVENT
BEGIN:VEVENT
DTSTART;TZID=America/New_York:20301022T190000
DTEND;TZID=America/New_York:20301022T190000
DTSTAMP:20260420T221117
CREATED:20260105T003117Z
LAST-MODIFIED:20260105T054922Z
UID:10015593-1918926000-1918926000@epictriviafl.com
SUMMARY:Trivia
DESCRIPTION:
URL:https://epictriviafl.com/event/trivia-winghouse/2030-10-22/
LOCATION:Winghouse Bar & Grill\, 775 W Brandon Blvd\, Brandon\, FL 33511 USA
GEO:27.9372244;-82.2955466
X-APPLE-STRUCTURED-LOCATION;VALUE=URI;X-ADDRESS=Winghouse Bar & Grill 775 W Brandon Blvd Brandon FL 33511 USA;X-APPLE-RADIUS=500;X-TITLE=775 W Brandon Blvd\, Brandon\, FL 33511 USA:geo:-82.2955466,27.9372244
END:VEVENT
BEGIN:VEVENT
DTSTART;TZID=America/New_York:20301029T190000
DTEND;TZID=America/New_York:20301029T190000
DTSTAMP:20260420T221117
CREATED:20260105T003117Z
LAST-MODIFIED:20260105T054922Z
UID:10015594-1919530800-1919530800@epictriviafl.com
SUMMARY:Trivia
DESCRIPTION:
URL:https://epictriviafl.com/event/trivia-winghouse/2030-10-29/
LOCATION:Winghouse Bar & Grill\, 775 W Brandon Blvd\, Brandon\, FL 33511 USA
GEO:27.9372244;-82.2955466
X-APPLE-STRUCTURED-LOCATION;VALUE=URI;X-ADDRESS=Winghouse Bar & Grill 775 W Brandon Blvd Brandon FL 33511 USA;X-APPLE-RADIUS=500;X-TITLE=775 W Brandon Blvd\, Brandon\, FL 33511 USA:geo:-82.2955466,27.9372244
END:VEVENT
BEGIN:VEVENT
DTSTART;TZID=America/New_York:20301105T190000
DTEND;TZID=America/New_York:20301105T190000
DTSTAMP:20260420T221117
CREATED:20260105T003117Z
LAST-MODIFIED:20260105T054922Z
UID:10015595-1920135600-1920135600@epictriviafl.com
SUMMARY:Trivia
DESCRIPTION:
URL:https://epictriviafl.com/event/trivia-winghouse/2030-11-05/
LOCATION:Winghouse Bar & Grill\, 775 W Brandon Blvd\, Brandon\, FL 33511 USA
GEO:27.9372244;-82.2955466
X-APPLE-STRUCTURED-LOCATION;VALUE=URI;X-ADDRESS=Winghouse Bar & Grill 775 W Brandon Blvd Brandon FL 33511 USA;X-APPLE-RADIUS=500;X-TITLE=775 W Brandon Blvd\, Brandon\, FL 33511 USA:geo:-82.2955466,27.9372244
END:VEVENT
BEGIN:VEVENT
DTSTART;TZID=America/New_York:20301112T190000
DTEND;TZID=America/New_York:20301112T190000
DTSTAMP:20260420T221117
CREATED:20260105T003117Z
LAST-MODIFIED:20260105T054922Z
UID:10015596-1920740400-1920740400@epictriviafl.com
SUMMARY:Trivia
DESCRIPTION:
URL:https://epictriviafl.com/event/trivia-winghouse/2030-11-12/
LOCATION:Winghouse Bar & Grill\, 775 W Brandon Blvd\, Brandon\, FL 33511 USA
GEO:27.9372244;-82.2955466
X-APPLE-STRUCTURED-LOCATION;VALUE=URI;X-ADDRESS=Winghouse Bar & Grill 775 W Brandon Blvd Brandon FL 33511 USA;X-APPLE-RADIUS=500;X-TITLE=775 W Brandon Blvd\, Brandon\, FL 33511 USA:geo:-82.2955466,27.9372244
END:VEVENT
BEGIN:VEVENT
DTSTART;TZID=America/New_York:20301119T190000
DTEND;TZID=America/New_York:20301119T190000
DTSTAMP:20260420T221117
CREATED:20260105T003117Z
LAST-MODIFIED:20260105T054922Z
UID:10015597-1921345200-1921345200@epictriviafl.com
SUMMARY:Trivia
DESCRIPTION:
URL:https://epictriviafl.com/event/trivia-winghouse/2030-11-19/
LOCATION:Winghouse Bar & Grill\, 775 W Brandon Blvd\, Brandon\, FL 33511 USA
GEO:27.9372244;-82.2955466
X-APPLE-STRUCTURED-LOCATION;VALUE=URI;X-ADDRESS=Winghouse Bar & Grill 775 W Brandon Blvd Brandon FL 33511 USA;X-APPLE-RADIUS=500;X-TITLE=775 W Brandon Blvd\, Brandon\, FL 33511 USA:geo:-82.2955466,27.9372244
END:VEVENT
BEGIN:VEVENT
DTSTART;TZID=America/New_York:20301126T190000
DTEND;TZID=America/New_York:20301126T190000
DTSTAMP:20260420T221117
CREATED:20260105T003117Z
LAST-MODIFIED:20260105T054922Z
UID:10015598-1921950000-1921950000@epictriviafl.com
SUMMARY:Trivia
DESCRIPTION:
URL:https://epictriviafl.com/event/trivia-winghouse/2030-11-26/
LOCATION:Winghouse Bar & Grill\, 775 W Brandon Blvd\, Brandon\, FL 33511 USA
GEO:27.9372244;-82.2955466
X-APPLE-STRUCTURED-LOCATION;VALUE=URI;X-ADDRESS=Winghouse Bar & Grill 775 W Brandon Blvd Brandon FL 33511 USA;X-APPLE-RADIUS=500;X-TITLE=775 W Brandon Blvd\, Brandon\, FL 33511 USA:geo:-82.2955466,27.9372244
END:VEVENT
BEGIN:VEVENT
DTSTART;TZID=America/New_York:20301203T190000
DTEND;TZID=America/New_York:20301203T190000
DTSTAMP:20260420T221117
CREATED:20260105T003117Z
LAST-MODIFIED:20260105T054922Z
UID:10015599-1922554800-1922554800@epictriviafl.com
SUMMARY:Trivia
DESCRIPTION:
URL:https://epictriviafl.com/event/trivia-winghouse/2030-12-03/
LOCATION:Winghouse Bar & Grill\, 775 W Brandon Blvd\, Brandon\, FL 33511 USA
GEO:27.9372244;-82.2955466
X-APPLE-STRUCTURED-LOCATION;VALUE=URI;X-ADDRESS=Winghouse Bar & Grill 775 W Brandon Blvd Brandon FL 33511 USA;X-APPLE-RADIUS=500;X-TITLE=775 W Brandon Blvd\, Brandon\, FL 33511 USA:geo:-82.2955466,27.9372244
END:VEVENT
BEGIN:VEVENT
DTSTART;TZID=America/New_York:20301210T190000
DTEND;TZID=America/New_York:20301210T190000
DTSTAMP:20260420T221117
CREATED:20260105T003117Z
LAST-MODIFIED:20260105T054922Z
UID:10015600-1923159600-1923159600@epictriviafl.com
SUMMARY:Trivia
DESCRIPTION:
URL:https://epictriviafl.com/event/trivia-winghouse/2030-12-10/
LOCATION:Winghouse Bar & Grill\, 775 W Brandon Blvd\, Brandon\, FL 33511 USA
GEO:27.9372244;-82.2955466
X-APPLE-STRUCTURED-LOCATION;VALUE=URI;X-ADDRESS=Winghouse Bar & Grill 775 W Brandon Blvd Brandon FL 33511 USA;X-APPLE-RADIUS=500;X-TITLE=775 W Brandon Blvd\, Brandon\, FL 33511 USA:geo:-82.2955466,27.9372244
END:VEVENT
BEGIN:VEVENT
DTSTART;TZID=America/New_York:20301217T190000
DTEND;TZID=America/New_York:20301217T190000
DTSTAMP:20260420T221117
CREATED:20260105T003117Z
LAST-MODIFIED:20260105T054922Z
UID:10015601-1923764400-1923764400@epictriviafl.com
SUMMARY:Trivia
DESCRIPTION:
URL:https://epictriviafl.com/event/trivia-winghouse/2030-12-17/
LOCATION:Winghouse Bar & Grill\, 775 W Brandon Blvd\, Brandon\, FL 33511 USA
GEO:27.9372244;-82.2955466
X-APPLE-STRUCTURED-LOCATION;VALUE=URI;X-ADDRESS=Winghouse Bar & Grill 775 W Brandon Blvd Brandon FL 33511 USA;X-APPLE-RADIUS=500;X-TITLE=775 W Brandon Blvd\, Brandon\, FL 33511 USA:geo:-82.2955466,27.9372244
END:VEVENT
BEGIN:VEVENT
DTSTART;TZID=America/New_York:20301224T190000
DTEND;TZID=America/New_York:20301224T190000
DTSTAMP:20260420T221117
CREATED:20260105T003117Z
LAST-MODIFIED:20260105T054922Z
UID:10015602-1924369200-1924369200@epictriviafl.com
SUMMARY:Trivia
DESCRIPTION:
URL:https://epictriviafl.com/event/trivia-winghouse/2030-12-24/
LOCATION:Winghouse Bar & Grill\, 775 W Brandon Blvd\, Brandon\, FL 33511 USA
GEO:27.9372244;-82.2955466
X-APPLE-STRUCTURED-LOCATION;VALUE=URI;X-ADDRESS=Winghouse Bar & Grill 775 W Brandon Blvd Brandon FL 33511 USA;X-APPLE-RADIUS=500;X-TITLE=775 W Brandon Blvd\, Brandon\, FL 33511 USA:geo:-82.2955466,27.9372244
END:VEVENT
BEGIN:VEVENT
DTSTART;TZID=America/New_York:20301231T190000
DTEND;TZID=America/New_York:20301231T190000
DTSTAMP:20260420T221117
CREATED:20260105T003117Z
LAST-MODIFIED:20260105T054922Z
UID:10015603-1924974000-1924974000@epictriviafl.com
SUMMARY:Trivia
DESCRIPTION:
URL:https://epictriviafl.com/event/trivia-winghouse/2030-12-31/
LOCATION:Winghouse Bar & Grill\, 775 W Brandon Blvd\, Brandon\, FL 33511 USA
GEO:27.9372244;-82.2955466
X-APPLE-STRUCTURED-LOCATION;VALUE=URI;X-ADDRESS=Winghouse Bar & Grill 775 W Brandon Blvd Brandon FL 33511 USA;X-APPLE-RADIUS=500;X-TITLE=775 W Brandon Blvd\, Brandon\, FL 33511 USA:geo:-82.2955466,27.9372244
END:VEVENT
END:VCALENDAR