BEGIN:VCALENDAR
VERSION:2.0
PRODID:-//Epic Trivia - ECPv6.15.18//NONSGML v1.0//EN
CALSCALE:GREGORIAN
METHOD:PUBLISH
X-WR-CALNAME:Epic Trivia
X-ORIGINAL-URL:https://epictriviafl.com
X-WR-CALDESC:Events for Epic Trivia
REFRESH-INTERVAL;VALUE=DURATION:PT1H
X-Robots-Tag:noindex
X-PUBLISHED-TTL:PT1H
BEGIN:VTIMEZONE
TZID:America/New_York
BEGIN:DAYLIGHT
TZOFFSETFROM:-0500
TZOFFSETTO:-0400
TZNAME:EDT
DTSTART:20280312T070000
END:DAYLIGHT
BEGIN:STANDARD
TZOFFSETFROM:-0400
TZOFFSETTO:-0500
TZNAME:EST
DTSTART:20281105T060000
END:STANDARD
BEGIN:DAYLIGHT
TZOFFSETFROM:-0500
TZOFFSETTO:-0400
TZNAME:EDT
DTSTART:20290311T070000
END:DAYLIGHT
BEGIN:STANDARD
TZOFFSETFROM:-0400
TZOFFSETTO:-0500
TZNAME:EST
DTSTART:20291104T060000
END:STANDARD
BEGIN:DAYLIGHT
TZOFFSETFROM:-0500
TZOFFSETTO:-0400
TZNAME:EDT
DTSTART:20300310T070000
END:DAYLIGHT
BEGIN:STANDARD
TZOFFSETFROM:-0400
TZOFFSETTO:-0500
TZNAME:EST
DTSTART:20301103T060000
END:STANDARD
BEGIN:DAYLIGHT
TZOFFSETFROM:-0500
TZOFFSETTO:-0400
TZNAME:EDT
DTSTART:20310309T070000
END:DAYLIGHT
BEGIN:STANDARD
TZOFFSETFROM:-0400
TZOFFSETTO:-0500
TZNAME:EST
DTSTART:20311102T060000
END:STANDARD
END:VTIMEZONE
BEGIN:VEVENT
DTSTART;TZID=America/New_York:20291225T190000
DTEND;TZID=America/New_York:20291225T190000
DTSTAMP:20260420T171210
CREATED:20260105T003117Z
LAST-MODIFIED:20260105T054922Z
UID:10015550-1892919600-1892919600@epictriviafl.com
SUMMARY:Trivia
DESCRIPTION:
URL:https://epictriviafl.com/event/trivia-winghouse/2029-12-25/
LOCATION:Winghouse Bar & Grill\, 775 W Brandon Blvd\, Brandon\, FL 33511 USA
GEO:27.9372244;-82.2955466
X-APPLE-STRUCTURED-LOCATION;VALUE=URI;X-ADDRESS=Winghouse Bar & Grill 775 W Brandon Blvd Brandon FL 33511 USA;X-APPLE-RADIUS=500;X-TITLE=775 W Brandon Blvd\, Brandon\, FL 33511 USA:geo:-82.2955466,27.9372244
END:VEVENT
BEGIN:VEVENT
DTSTART;TZID=America/New_York:20300101T190000
DTEND;TZID=America/New_York:20300101T190000
DTSTAMP:20260420T171210
CREATED:20260105T003117Z
LAST-MODIFIED:20260105T054922Z
UID:10015551-1893524400-1893524400@epictriviafl.com
SUMMARY:Trivia
DESCRIPTION:
URL:https://epictriviafl.com/event/trivia-winghouse/2030-01-01/
LOCATION:Winghouse Bar & Grill\, 775 W Brandon Blvd\, Brandon\, FL 33511 USA
GEO:27.9372244;-82.2955466
X-APPLE-STRUCTURED-LOCATION;VALUE=URI;X-ADDRESS=Winghouse Bar & Grill 775 W Brandon Blvd Brandon FL 33511 USA;X-APPLE-RADIUS=500;X-TITLE=775 W Brandon Blvd\, Brandon\, FL 33511 USA:geo:-82.2955466,27.9372244
END:VEVENT
BEGIN:VEVENT
DTSTART;TZID=America/New_York:20300108T190000
DTEND;TZID=America/New_York:20300108T190000
DTSTAMP:20260420T171210
CREATED:20260105T003117Z
LAST-MODIFIED:20260105T054922Z
UID:10015552-1894129200-1894129200@epictriviafl.com
SUMMARY:Trivia
DESCRIPTION:
URL:https://epictriviafl.com/event/trivia-winghouse/2030-01-08/
LOCATION:Winghouse Bar & Grill\, 775 W Brandon Blvd\, Brandon\, FL 33511 USA
GEO:27.9372244;-82.2955466
X-APPLE-STRUCTURED-LOCATION;VALUE=URI;X-ADDRESS=Winghouse Bar & Grill 775 W Brandon Blvd Brandon FL 33511 USA;X-APPLE-RADIUS=500;X-TITLE=775 W Brandon Blvd\, Brandon\, FL 33511 USA:geo:-82.2955466,27.9372244
END:VEVENT
BEGIN:VEVENT
DTSTART;TZID=America/New_York:20300115T190000
DTEND;TZID=America/New_York:20300115T190000
DTSTAMP:20260420T171210
CREATED:20260105T003117Z
LAST-MODIFIED:20260105T054922Z
UID:10015553-1894734000-1894734000@epictriviafl.com
SUMMARY:Trivia
DESCRIPTION:
URL:https://epictriviafl.com/event/trivia-winghouse/2030-01-15/
LOCATION:Winghouse Bar & Grill\, 775 W Brandon Blvd\, Brandon\, FL 33511 USA
GEO:27.9372244;-82.2955466
X-APPLE-STRUCTURED-LOCATION;VALUE=URI;X-ADDRESS=Winghouse Bar & Grill 775 W Brandon Blvd Brandon FL 33511 USA;X-APPLE-RADIUS=500;X-TITLE=775 W Brandon Blvd\, Brandon\, FL 33511 USA:geo:-82.2955466,27.9372244
END:VEVENT
BEGIN:VEVENT
DTSTART;TZID=America/New_York:20300122T190000
DTEND;TZID=America/New_York:20300122T190000
DTSTAMP:20260420T171210
CREATED:20260105T003117Z
LAST-MODIFIED:20260105T054922Z
UID:10015554-1895338800-1895338800@epictriviafl.com
SUMMARY:Trivia
DESCRIPTION:
URL:https://epictriviafl.com/event/trivia-winghouse/2030-01-22/
LOCATION:Winghouse Bar & Grill\, 775 W Brandon Blvd\, Brandon\, FL 33511 USA
GEO:27.9372244;-82.2955466
X-APPLE-STRUCTURED-LOCATION;VALUE=URI;X-ADDRESS=Winghouse Bar & Grill 775 W Brandon Blvd Brandon FL 33511 USA;X-APPLE-RADIUS=500;X-TITLE=775 W Brandon Blvd\, Brandon\, FL 33511 USA:geo:-82.2955466,27.9372244
END:VEVENT
BEGIN:VEVENT
DTSTART;TZID=America/New_York:20300129T190000
DTEND;TZID=America/New_York:20300129T190000
DTSTAMP:20260420T171210
CREATED:20260105T003117Z
LAST-MODIFIED:20260105T054922Z
UID:10015555-1895943600-1895943600@epictriviafl.com
SUMMARY:Trivia
DESCRIPTION:
URL:https://epictriviafl.com/event/trivia-winghouse/2030-01-29/
LOCATION:Winghouse Bar & Grill\, 775 W Brandon Blvd\, Brandon\, FL 33511 USA
GEO:27.9372244;-82.2955466
X-APPLE-STRUCTURED-LOCATION;VALUE=URI;X-ADDRESS=Winghouse Bar & Grill 775 W Brandon Blvd Brandon FL 33511 USA;X-APPLE-RADIUS=500;X-TITLE=775 W Brandon Blvd\, Brandon\, FL 33511 USA:geo:-82.2955466,27.9372244
END:VEVENT
BEGIN:VEVENT
DTSTART;TZID=America/New_York:20300205T190000
DTEND;TZID=America/New_York:20300205T190000
DTSTAMP:20260420T171210
CREATED:20260105T003117Z
LAST-MODIFIED:20260105T054922Z
UID:10015556-1896548400-1896548400@epictriviafl.com
SUMMARY:Trivia
DESCRIPTION:
URL:https://epictriviafl.com/event/trivia-winghouse/2030-02-05/
LOCATION:Winghouse Bar & Grill\, 775 W Brandon Blvd\, Brandon\, FL 33511 USA
GEO:27.9372244;-82.2955466
X-APPLE-STRUCTURED-LOCATION;VALUE=URI;X-ADDRESS=Winghouse Bar & Grill 775 W Brandon Blvd Brandon FL 33511 USA;X-APPLE-RADIUS=500;X-TITLE=775 W Brandon Blvd\, Brandon\, FL 33511 USA:geo:-82.2955466,27.9372244
END:VEVENT
BEGIN:VEVENT
DTSTART;TZID=America/New_York:20300212T190000
DTEND;TZID=America/New_York:20300212T190000
DTSTAMP:20260420T171210
CREATED:20260105T003117Z
LAST-MODIFIED:20260105T054922Z
UID:10015557-1897153200-1897153200@epictriviafl.com
SUMMARY:Trivia
DESCRIPTION:
URL:https://epictriviafl.com/event/trivia-winghouse/2030-02-12/
LOCATION:Winghouse Bar & Grill\, 775 W Brandon Blvd\, Brandon\, FL 33511 USA
GEO:27.9372244;-82.2955466
X-APPLE-STRUCTURED-LOCATION;VALUE=URI;X-ADDRESS=Winghouse Bar & Grill 775 W Brandon Blvd Brandon FL 33511 USA;X-APPLE-RADIUS=500;X-TITLE=775 W Brandon Blvd\, Brandon\, FL 33511 USA:geo:-82.2955466,27.9372244
END:VEVENT
BEGIN:VEVENT
DTSTART;TZID=America/New_York:20300219T190000
DTEND;TZID=America/New_York:20300219T190000
DTSTAMP:20260420T171210
CREATED:20260105T003117Z
LAST-MODIFIED:20260105T054922Z
UID:10015558-1897758000-1897758000@epictriviafl.com
SUMMARY:Trivia
DESCRIPTION:
URL:https://epictriviafl.com/event/trivia-winghouse/2030-02-19/
LOCATION:Winghouse Bar & Grill\, 775 W Brandon Blvd\, Brandon\, FL 33511 USA
GEO:27.9372244;-82.2955466
X-APPLE-STRUCTURED-LOCATION;VALUE=URI;X-ADDRESS=Winghouse Bar & Grill 775 W Brandon Blvd Brandon FL 33511 USA;X-APPLE-RADIUS=500;X-TITLE=775 W Brandon Blvd\, Brandon\, FL 33511 USA:geo:-82.2955466,27.9372244
END:VEVENT
BEGIN:VEVENT
DTSTART;TZID=America/New_York:20300226T190000
DTEND;TZID=America/New_York:20300226T190000
DTSTAMP:20260420T171210
CREATED:20260105T003117Z
LAST-MODIFIED:20260105T054922Z
UID:10015559-1898362800-1898362800@epictriviafl.com
SUMMARY:Trivia
DESCRIPTION:
URL:https://epictriviafl.com/event/trivia-winghouse/2030-02-26/
LOCATION:Winghouse Bar & Grill\, 775 W Brandon Blvd\, Brandon\, FL 33511 USA
GEO:27.9372244;-82.2955466
X-APPLE-STRUCTURED-LOCATION;VALUE=URI;X-ADDRESS=Winghouse Bar & Grill 775 W Brandon Blvd Brandon FL 33511 USA;X-APPLE-RADIUS=500;X-TITLE=775 W Brandon Blvd\, Brandon\, FL 33511 USA:geo:-82.2955466,27.9372244
END:VEVENT
BEGIN:VEVENT
DTSTART;TZID=America/New_York:20300305T190000
DTEND;TZID=America/New_York:20300305T190000
DTSTAMP:20260420T171210
CREATED:20260105T003117Z
LAST-MODIFIED:20260105T054922Z
UID:10015560-1898967600-1898967600@epictriviafl.com
SUMMARY:Trivia
DESCRIPTION:
URL:https://epictriviafl.com/event/trivia-winghouse/2030-03-05/
LOCATION:Winghouse Bar & Grill\, 775 W Brandon Blvd\, Brandon\, FL 33511 USA
GEO:27.9372244;-82.2955466
X-APPLE-STRUCTURED-LOCATION;VALUE=URI;X-ADDRESS=Winghouse Bar & Grill 775 W Brandon Blvd Brandon FL 33511 USA;X-APPLE-RADIUS=500;X-TITLE=775 W Brandon Blvd\, Brandon\, FL 33511 USA:geo:-82.2955466,27.9372244
END:VEVENT
BEGIN:VEVENT
DTSTART;TZID=America/New_York:20300312T190000
DTEND;TZID=America/New_York:20300312T190000
DTSTAMP:20260420T171210
CREATED:20260105T003117Z
LAST-MODIFIED:20260105T054922Z
UID:10015561-1899572400-1899572400@epictriviafl.com
SUMMARY:Trivia
DESCRIPTION:
URL:https://epictriviafl.com/event/trivia-winghouse/2030-03-12/
LOCATION:Winghouse Bar & Grill\, 775 W Brandon Blvd\, Brandon\, FL 33511 USA
GEO:27.9372244;-82.2955466
X-APPLE-STRUCTURED-LOCATION;VALUE=URI;X-ADDRESS=Winghouse Bar & Grill 775 W Brandon Blvd Brandon FL 33511 USA;X-APPLE-RADIUS=500;X-TITLE=775 W Brandon Blvd\, Brandon\, FL 33511 USA:geo:-82.2955466,27.9372244
END:VEVENT
BEGIN:VEVENT
DTSTART;TZID=America/New_York:20300319T190000
DTEND;TZID=America/New_York:20300319T190000
DTSTAMP:20260420T171210
CREATED:20260105T003117Z
LAST-MODIFIED:20260105T054922Z
UID:10015562-1900177200-1900177200@epictriviafl.com
SUMMARY:Trivia
DESCRIPTION:
URL:https://epictriviafl.com/event/trivia-winghouse/2030-03-19/
LOCATION:Winghouse Bar & Grill\, 775 W Brandon Blvd\, Brandon\, FL 33511 USA
GEO:27.9372244;-82.2955466
X-APPLE-STRUCTURED-LOCATION;VALUE=URI;X-ADDRESS=Winghouse Bar & Grill 775 W Brandon Blvd Brandon FL 33511 USA;X-APPLE-RADIUS=500;X-TITLE=775 W Brandon Blvd\, Brandon\, FL 33511 USA:geo:-82.2955466,27.9372244
END:VEVENT
BEGIN:VEVENT
DTSTART;TZID=America/New_York:20300326T190000
DTEND;TZID=America/New_York:20300326T190000
DTSTAMP:20260420T171210
CREATED:20260105T003117Z
LAST-MODIFIED:20260105T054922Z
UID:10015563-1900782000-1900782000@epictriviafl.com
SUMMARY:Trivia
DESCRIPTION:
URL:https://epictriviafl.com/event/trivia-winghouse/2030-03-26/
LOCATION:Winghouse Bar & Grill\, 775 W Brandon Blvd\, Brandon\, FL 33511 USA
GEO:27.9372244;-82.2955466
X-APPLE-STRUCTURED-LOCATION;VALUE=URI;X-ADDRESS=Winghouse Bar & Grill 775 W Brandon Blvd Brandon FL 33511 USA;X-APPLE-RADIUS=500;X-TITLE=775 W Brandon Blvd\, Brandon\, FL 33511 USA:geo:-82.2955466,27.9372244
END:VEVENT
BEGIN:VEVENT
DTSTART;TZID=America/New_York:20300402T190000
DTEND;TZID=America/New_York:20300402T190000
DTSTAMP:20260420T171210
CREATED:20260105T003117Z
LAST-MODIFIED:20260105T054922Z
UID:10015564-1901386800-1901386800@epictriviafl.com
SUMMARY:Trivia
DESCRIPTION:
URL:https://epictriviafl.com/event/trivia-winghouse/2030-04-02/
LOCATION:Winghouse Bar & Grill\, 775 W Brandon Blvd\, Brandon\, FL 33511 USA
GEO:27.9372244;-82.2955466
X-APPLE-STRUCTURED-LOCATION;VALUE=URI;X-ADDRESS=Winghouse Bar & Grill 775 W Brandon Blvd Brandon FL 33511 USA;X-APPLE-RADIUS=500;X-TITLE=775 W Brandon Blvd\, Brandon\, FL 33511 USA:geo:-82.2955466,27.9372244
END:VEVENT
BEGIN:VEVENT
DTSTART;TZID=America/New_York:20300409T190000
DTEND;TZID=America/New_York:20300409T190000
DTSTAMP:20260420T171210
CREATED:20260105T003117Z
LAST-MODIFIED:20260105T054922Z
UID:10015565-1901991600-1901991600@epictriviafl.com
SUMMARY:Trivia
DESCRIPTION:
URL:https://epictriviafl.com/event/trivia-winghouse/2030-04-09/
LOCATION:Winghouse Bar & Grill\, 775 W Brandon Blvd\, Brandon\, FL 33511 USA
GEO:27.9372244;-82.2955466
X-APPLE-STRUCTURED-LOCATION;VALUE=URI;X-ADDRESS=Winghouse Bar & Grill 775 W Brandon Blvd Brandon FL 33511 USA;X-APPLE-RADIUS=500;X-TITLE=775 W Brandon Blvd\, Brandon\, FL 33511 USA:geo:-82.2955466,27.9372244
END:VEVENT
BEGIN:VEVENT
DTSTART;TZID=America/New_York:20300416T190000
DTEND;TZID=America/New_York:20300416T190000
DTSTAMP:20260420T171210
CREATED:20260105T003117Z
LAST-MODIFIED:20260105T054922Z
UID:10015566-1902596400-1902596400@epictriviafl.com
SUMMARY:Trivia
DESCRIPTION:
URL:https://epictriviafl.com/event/trivia-winghouse/2030-04-16/
LOCATION:Winghouse Bar & Grill\, 775 W Brandon Blvd\, Brandon\, FL 33511 USA
GEO:27.9372244;-82.2955466
X-APPLE-STRUCTURED-LOCATION;VALUE=URI;X-ADDRESS=Winghouse Bar & Grill 775 W Brandon Blvd Brandon FL 33511 USA;X-APPLE-RADIUS=500;X-TITLE=775 W Brandon Blvd\, Brandon\, FL 33511 USA:geo:-82.2955466,27.9372244
END:VEVENT
BEGIN:VEVENT
DTSTART;TZID=America/New_York:20300423T190000
DTEND;TZID=America/New_York:20300423T190000
DTSTAMP:20260420T171210
CREATED:20260105T003117Z
LAST-MODIFIED:20260105T054922Z
UID:10015567-1903201200-1903201200@epictriviafl.com
SUMMARY:Trivia
DESCRIPTION:
URL:https://epictriviafl.com/event/trivia-winghouse/2030-04-23/
LOCATION:Winghouse Bar & Grill\, 775 W Brandon Blvd\, Brandon\, FL 33511 USA
GEO:27.9372244;-82.2955466
X-APPLE-STRUCTURED-LOCATION;VALUE=URI;X-ADDRESS=Winghouse Bar & Grill 775 W Brandon Blvd Brandon FL 33511 USA;X-APPLE-RADIUS=500;X-TITLE=775 W Brandon Blvd\, Brandon\, FL 33511 USA:geo:-82.2955466,27.9372244
END:VEVENT
BEGIN:VEVENT
DTSTART;TZID=America/New_York:20300430T190000
DTEND;TZID=America/New_York:20300430T190000
DTSTAMP:20260420T171210
CREATED:20260105T003117Z
LAST-MODIFIED:20260105T054922Z
UID:10015568-1903806000-1903806000@epictriviafl.com
SUMMARY:Trivia
DESCRIPTION:
URL:https://epictriviafl.com/event/trivia-winghouse/2030-04-30/
LOCATION:Winghouse Bar & Grill\, 775 W Brandon Blvd\, Brandon\, FL 33511 USA
GEO:27.9372244;-82.2955466
X-APPLE-STRUCTURED-LOCATION;VALUE=URI;X-ADDRESS=Winghouse Bar & Grill 775 W Brandon Blvd Brandon FL 33511 USA;X-APPLE-RADIUS=500;X-TITLE=775 W Brandon Blvd\, Brandon\, FL 33511 USA:geo:-82.2955466,27.9372244
END:VEVENT
BEGIN:VEVENT
DTSTART;TZID=America/New_York:20300507T190000
DTEND;TZID=America/New_York:20300507T190000
DTSTAMP:20260420T171210
CREATED:20260105T003117Z
LAST-MODIFIED:20260105T054922Z
UID:10015569-1904410800-1904410800@epictriviafl.com
SUMMARY:Trivia
DESCRIPTION:
URL:https://epictriviafl.com/event/trivia-winghouse/2030-05-07/
LOCATION:Winghouse Bar & Grill\, 775 W Brandon Blvd\, Brandon\, FL 33511 USA
GEO:27.9372244;-82.2955466
X-APPLE-STRUCTURED-LOCATION;VALUE=URI;X-ADDRESS=Winghouse Bar & Grill 775 W Brandon Blvd Brandon FL 33511 USA;X-APPLE-RADIUS=500;X-TITLE=775 W Brandon Blvd\, Brandon\, FL 33511 USA:geo:-82.2955466,27.9372244
END:VEVENT
BEGIN:VEVENT
DTSTART;TZID=America/New_York:20300514T190000
DTEND;TZID=America/New_York:20300514T190000
DTSTAMP:20260420T171210
CREATED:20260105T003117Z
LAST-MODIFIED:20260105T054922Z
UID:10015570-1905015600-1905015600@epictriviafl.com
SUMMARY:Trivia
DESCRIPTION:
URL:https://epictriviafl.com/event/trivia-winghouse/2030-05-14/
LOCATION:Winghouse Bar & Grill\, 775 W Brandon Blvd\, Brandon\, FL 33511 USA
GEO:27.9372244;-82.2955466
X-APPLE-STRUCTURED-LOCATION;VALUE=URI;X-ADDRESS=Winghouse Bar & Grill 775 W Brandon Blvd Brandon FL 33511 USA;X-APPLE-RADIUS=500;X-TITLE=775 W Brandon Blvd\, Brandon\, FL 33511 USA:geo:-82.2955466,27.9372244
END:VEVENT
BEGIN:VEVENT
DTSTART;TZID=America/New_York:20300521T190000
DTEND;TZID=America/New_York:20300521T190000
DTSTAMP:20260420T171210
CREATED:20260105T003117Z
LAST-MODIFIED:20260105T054922Z
UID:10015571-1905620400-1905620400@epictriviafl.com
SUMMARY:Trivia
DESCRIPTION:
URL:https://epictriviafl.com/event/trivia-winghouse/2030-05-21/
LOCATION:Winghouse Bar & Grill\, 775 W Brandon Blvd\, Brandon\, FL 33511 USA
GEO:27.9372244;-82.2955466
X-APPLE-STRUCTURED-LOCATION;VALUE=URI;X-ADDRESS=Winghouse Bar & Grill 775 W Brandon Blvd Brandon FL 33511 USA;X-APPLE-RADIUS=500;X-TITLE=775 W Brandon Blvd\, Brandon\, FL 33511 USA:geo:-82.2955466,27.9372244
END:VEVENT
BEGIN:VEVENT
DTSTART;TZID=America/New_York:20300528T190000
DTEND;TZID=America/New_York:20300528T190000
DTSTAMP:20260420T171210
CREATED:20260105T003117Z
LAST-MODIFIED:20260105T054922Z
UID:10015572-1906225200-1906225200@epictriviafl.com
SUMMARY:Trivia
DESCRIPTION:
URL:https://epictriviafl.com/event/trivia-winghouse/2030-05-28/
LOCATION:Winghouse Bar & Grill\, 775 W Brandon Blvd\, Brandon\, FL 33511 USA
GEO:27.9372244;-82.2955466
X-APPLE-STRUCTURED-LOCATION;VALUE=URI;X-ADDRESS=Winghouse Bar & Grill 775 W Brandon Blvd Brandon FL 33511 USA;X-APPLE-RADIUS=500;X-TITLE=775 W Brandon Blvd\, Brandon\, FL 33511 USA:geo:-82.2955466,27.9372244
END:VEVENT
BEGIN:VEVENT
DTSTART;TZID=America/New_York:20300604T190000
DTEND;TZID=America/New_York:20300604T190000
DTSTAMP:20260420T171210
CREATED:20260105T003117Z
LAST-MODIFIED:20260105T054922Z
UID:10015573-1906830000-1906830000@epictriviafl.com
SUMMARY:Trivia
DESCRIPTION:
URL:https://epictriviafl.com/event/trivia-winghouse/2030-06-04/
LOCATION:Winghouse Bar & Grill\, 775 W Brandon Blvd\, Brandon\, FL 33511 USA
GEO:27.9372244;-82.2955466
X-APPLE-STRUCTURED-LOCATION;VALUE=URI;X-ADDRESS=Winghouse Bar & Grill 775 W Brandon Blvd Brandon FL 33511 USA;X-APPLE-RADIUS=500;X-TITLE=775 W Brandon Blvd\, Brandon\, FL 33511 USA:geo:-82.2955466,27.9372244
END:VEVENT
BEGIN:VEVENT
DTSTART;TZID=America/New_York:20300611T190000
DTEND;TZID=America/New_York:20300611T190000
DTSTAMP:20260420T171210
CREATED:20260105T003117Z
LAST-MODIFIED:20260105T054922Z
UID:10015574-1907434800-1907434800@epictriviafl.com
SUMMARY:Trivia
DESCRIPTION:
URL:https://epictriviafl.com/event/trivia-winghouse/2030-06-11/
LOCATION:Winghouse Bar & Grill\, 775 W Brandon Blvd\, Brandon\, FL 33511 USA
GEO:27.9372244;-82.2955466
X-APPLE-STRUCTURED-LOCATION;VALUE=URI;X-ADDRESS=Winghouse Bar & Grill 775 W Brandon Blvd Brandon FL 33511 USA;X-APPLE-RADIUS=500;X-TITLE=775 W Brandon Blvd\, Brandon\, FL 33511 USA:geo:-82.2955466,27.9372244
END:VEVENT
BEGIN:VEVENT
DTSTART;TZID=America/New_York:20300618T190000
DTEND;TZID=America/New_York:20300618T190000
DTSTAMP:20260420T171210
CREATED:20260105T003117Z
LAST-MODIFIED:20260105T054922Z
UID:10015575-1908039600-1908039600@epictriviafl.com
SUMMARY:Trivia
DESCRIPTION:
URL:https://epictriviafl.com/event/trivia-winghouse/2030-06-18/
LOCATION:Winghouse Bar & Grill\, 775 W Brandon Blvd\, Brandon\, FL 33511 USA
GEO:27.9372244;-82.2955466
X-APPLE-STRUCTURED-LOCATION;VALUE=URI;X-ADDRESS=Winghouse Bar & Grill 775 W Brandon Blvd Brandon FL 33511 USA;X-APPLE-RADIUS=500;X-TITLE=775 W Brandon Blvd\, Brandon\, FL 33511 USA:geo:-82.2955466,27.9372244
END:VEVENT
BEGIN:VEVENT
DTSTART;TZID=America/New_York:20300625T190000
DTEND;TZID=America/New_York:20300625T190000
DTSTAMP:20260420T171210
CREATED:20260105T003117Z
LAST-MODIFIED:20260105T054922Z
UID:10015576-1908644400-1908644400@epictriviafl.com
SUMMARY:Trivia
DESCRIPTION:
URL:https://epictriviafl.com/event/trivia-winghouse/2030-06-25/
LOCATION:Winghouse Bar & Grill\, 775 W Brandon Blvd\, Brandon\, FL 33511 USA
GEO:27.9372244;-82.2955466
X-APPLE-STRUCTURED-LOCATION;VALUE=URI;X-ADDRESS=Winghouse Bar & Grill 775 W Brandon Blvd Brandon FL 33511 USA;X-APPLE-RADIUS=500;X-TITLE=775 W Brandon Blvd\, Brandon\, FL 33511 USA:geo:-82.2955466,27.9372244
END:VEVENT
BEGIN:VEVENT
DTSTART;TZID=America/New_York:20300702T190000
DTEND;TZID=America/New_York:20300702T190000
DTSTAMP:20260420T171210
CREATED:20260105T003117Z
LAST-MODIFIED:20260105T054922Z
UID:10015577-1909249200-1909249200@epictriviafl.com
SUMMARY:Trivia
DESCRIPTION:
URL:https://epictriviafl.com/event/trivia-winghouse/2030-07-02/
LOCATION:Winghouse Bar & Grill\, 775 W Brandon Blvd\, Brandon\, FL 33511 USA
GEO:27.9372244;-82.2955466
X-APPLE-STRUCTURED-LOCATION;VALUE=URI;X-ADDRESS=Winghouse Bar & Grill 775 W Brandon Blvd Brandon FL 33511 USA;X-APPLE-RADIUS=500;X-TITLE=775 W Brandon Blvd\, Brandon\, FL 33511 USA:geo:-82.2955466,27.9372244
END:VEVENT
BEGIN:VEVENT
DTSTART;TZID=America/New_York:20300709T190000
DTEND;TZID=America/New_York:20300709T190000
DTSTAMP:20260420T171210
CREATED:20260105T003117Z
LAST-MODIFIED:20260105T054922Z
UID:10015578-1909854000-1909854000@epictriviafl.com
SUMMARY:Trivia
DESCRIPTION:
URL:https://epictriviafl.com/event/trivia-winghouse/2030-07-09/
LOCATION:Winghouse Bar & Grill\, 775 W Brandon Blvd\, Brandon\, FL 33511 USA
GEO:27.9372244;-82.2955466
X-APPLE-STRUCTURED-LOCATION;VALUE=URI;X-ADDRESS=Winghouse Bar & Grill 775 W Brandon Blvd Brandon FL 33511 USA;X-APPLE-RADIUS=500;X-TITLE=775 W Brandon Blvd\, Brandon\, FL 33511 USA:geo:-82.2955466,27.9372244
END:VEVENT
BEGIN:VEVENT
DTSTART;TZID=America/New_York:20300716T190000
DTEND;TZID=America/New_York:20300716T190000
DTSTAMP:20260420T171210
CREATED:20260105T003117Z
LAST-MODIFIED:20260105T054922Z
UID:10015579-1910458800-1910458800@epictriviafl.com
SUMMARY:Trivia
DESCRIPTION:
URL:https://epictriviafl.com/event/trivia-winghouse/2030-07-16/
LOCATION:Winghouse Bar & Grill\, 775 W Brandon Blvd\, Brandon\, FL 33511 USA
GEO:27.9372244;-82.2955466
X-APPLE-STRUCTURED-LOCATION;VALUE=URI;X-ADDRESS=Winghouse Bar & Grill 775 W Brandon Blvd Brandon FL 33511 USA;X-APPLE-RADIUS=500;X-TITLE=775 W Brandon Blvd\, Brandon\, FL 33511 USA:geo:-82.2955466,27.9372244
END:VEVENT
END:VCALENDAR