BEGIN:VCALENDAR
VERSION:2.0
PRODID:-//Epic Trivia - ECPv6.15.18//NONSGML v1.0//EN
CALSCALE:GREGORIAN
METHOD:PUBLISH
X-WR-CALNAME:Epic Trivia
X-ORIGINAL-URL:https://epictriviafl.com
X-WR-CALDESC:Events for Epic Trivia
REFRESH-INTERVAL;VALUE=DURATION:PT1H
X-Robots-Tag:noindex
X-PUBLISHED-TTL:PT1H
BEGIN:VTIMEZONE
TZID:America/New_York
BEGIN:DAYLIGHT
TZOFFSETFROM:-0500
TZOFFSETTO:-0400
TZNAME:EDT
DTSTART:20260308T070000
END:DAYLIGHT
BEGIN:STANDARD
TZOFFSETFROM:-0400
TZOFFSETTO:-0500
TZNAME:EST
DTSTART:20261101T060000
END:STANDARD
BEGIN:DAYLIGHT
TZOFFSETFROM:-0500
TZOFFSETTO:-0400
TZNAME:EDT
DTSTART:20270314T070000
END:DAYLIGHT
BEGIN:STANDARD
TZOFFSETFROM:-0400
TZOFFSETTO:-0500
TZNAME:EST
DTSTART:20271107T060000
END:STANDARD
BEGIN:DAYLIGHT
TZOFFSETFROM:-0500
TZOFFSETTO:-0400
TZNAME:EDT
DTSTART:20280312T070000
END:DAYLIGHT
BEGIN:STANDARD
TZOFFSETFROM:-0400
TZOFFSETTO:-0500
TZNAME:EST
DTSTART:20281105T060000
END:STANDARD
BEGIN:DAYLIGHT
TZOFFSETFROM:-0500
TZOFFSETTO:-0400
TZNAME:EDT
DTSTART:20290311T070000
END:DAYLIGHT
BEGIN:STANDARD
TZOFFSETFROM:-0400
TZOFFSETTO:-0500
TZNAME:EST
DTSTART:20291104T060000
END:STANDARD
END:VTIMEZONE
BEGIN:VEVENT
DTSTART;TZID=America/New_York:20270912T180000
DTEND;TZID=America/New_York:20270912T180000
DTSTAMP:20260420T015837
CREATED:20260105T003247Z
LAST-MODIFIED:20260105T060043Z
UID:10020111-1820772000-1820772000@epictriviafl.com
SUMMARY:Music Bingo
DESCRIPTION:
URL:https://epictriviafl.com/event/music-bingo-vfw/2027-09-12/
LOCATION:VFW\, 351 S Charles Richard Beall Blvd\, DeBary\, FL 32713 USA
GEO:28.8679224;-81.3156601
X-APPLE-STRUCTURED-LOCATION;VALUE=URI;X-ADDRESS=VFW 351 S Charles Richard Beall Blvd DeBary FL 32713 USA;X-APPLE-RADIUS=500;X-TITLE=351 S Charles Richard Beall Blvd\, DeBary\, FL 32713 USA:geo:-81.3156601,28.8679224
END:VEVENT
BEGIN:VEVENT
DTSTART;TZID=America/New_York:20270919T180000
DTEND;TZID=America/New_York:20270919T180000
DTSTAMP:20260420T015837
CREATED:20260105T003247Z
LAST-MODIFIED:20260105T060043Z
UID:10020112-1821376800-1821376800@epictriviafl.com
SUMMARY:Music Bingo
DESCRIPTION:
URL:https://epictriviafl.com/event/music-bingo-vfw/2027-09-19/
LOCATION:VFW\, 351 S Charles Richard Beall Blvd\, DeBary\, FL 32713 USA
GEO:28.8679224;-81.3156601
X-APPLE-STRUCTURED-LOCATION;VALUE=URI;X-ADDRESS=VFW 351 S Charles Richard Beall Blvd DeBary FL 32713 USA;X-APPLE-RADIUS=500;X-TITLE=351 S Charles Richard Beall Blvd\, DeBary\, FL 32713 USA:geo:-81.3156601,28.8679224
END:VEVENT
BEGIN:VEVENT
DTSTART;TZID=America/New_York:20270926T180000
DTEND;TZID=America/New_York:20270926T180000
DTSTAMP:20260420T015837
CREATED:20260105T003247Z
LAST-MODIFIED:20260105T060043Z
UID:10020113-1821981600-1821981600@epictriviafl.com
SUMMARY:Music Bingo
DESCRIPTION:
URL:https://epictriviafl.com/event/music-bingo-vfw/2027-09-26/
LOCATION:VFW\, 351 S Charles Richard Beall Blvd\, DeBary\, FL 32713 USA
GEO:28.8679224;-81.3156601
X-APPLE-STRUCTURED-LOCATION;VALUE=URI;X-ADDRESS=VFW 351 S Charles Richard Beall Blvd DeBary FL 32713 USA;X-APPLE-RADIUS=500;X-TITLE=351 S Charles Richard Beall Blvd\, DeBary\, FL 32713 USA:geo:-81.3156601,28.8679224
END:VEVENT
BEGIN:VEVENT
DTSTART;TZID=America/New_York:20271003T180000
DTEND;TZID=America/New_York:20271003T180000
DTSTAMP:20260420T015837
CREATED:20260105T003247Z
LAST-MODIFIED:20260105T060043Z
UID:10020114-1822586400-1822586400@epictriviafl.com
SUMMARY:Music Bingo
DESCRIPTION:
URL:https://epictriviafl.com/event/music-bingo-vfw/2027-10-03/
LOCATION:VFW\, 351 S Charles Richard Beall Blvd\, DeBary\, FL 32713 USA
GEO:28.8679224;-81.3156601
X-APPLE-STRUCTURED-LOCATION;VALUE=URI;X-ADDRESS=VFW 351 S Charles Richard Beall Blvd DeBary FL 32713 USA;X-APPLE-RADIUS=500;X-TITLE=351 S Charles Richard Beall Blvd\, DeBary\, FL 32713 USA:geo:-81.3156601,28.8679224
END:VEVENT
BEGIN:VEVENT
DTSTART;TZID=America/New_York:20271010T180000
DTEND;TZID=America/New_York:20271010T180000
DTSTAMP:20260420T015837
CREATED:20260105T003247Z
LAST-MODIFIED:20260105T060043Z
UID:10020115-1823191200-1823191200@epictriviafl.com
SUMMARY:Music Bingo
DESCRIPTION:
URL:https://epictriviafl.com/event/music-bingo-vfw/2027-10-10/
LOCATION:VFW\, 351 S Charles Richard Beall Blvd\, DeBary\, FL 32713 USA
GEO:28.8679224;-81.3156601
X-APPLE-STRUCTURED-LOCATION;VALUE=URI;X-ADDRESS=VFW 351 S Charles Richard Beall Blvd DeBary FL 32713 USA;X-APPLE-RADIUS=500;X-TITLE=351 S Charles Richard Beall Blvd\, DeBary\, FL 32713 USA:geo:-81.3156601,28.8679224
END:VEVENT
BEGIN:VEVENT
DTSTART;TZID=America/New_York:20271017T180000
DTEND;TZID=America/New_York:20271017T180000
DTSTAMP:20260420T015837
CREATED:20260105T003247Z
LAST-MODIFIED:20260105T060043Z
UID:10020116-1823796000-1823796000@epictriviafl.com
SUMMARY:Music Bingo
DESCRIPTION:
URL:https://epictriviafl.com/event/music-bingo-vfw/2027-10-17/
LOCATION:VFW\, 351 S Charles Richard Beall Blvd\, DeBary\, FL 32713 USA
GEO:28.8679224;-81.3156601
X-APPLE-STRUCTURED-LOCATION;VALUE=URI;X-ADDRESS=VFW 351 S Charles Richard Beall Blvd DeBary FL 32713 USA;X-APPLE-RADIUS=500;X-TITLE=351 S Charles Richard Beall Blvd\, DeBary\, FL 32713 USA:geo:-81.3156601,28.8679224
END:VEVENT
BEGIN:VEVENT
DTSTART;TZID=America/New_York:20271024T180000
DTEND;TZID=America/New_York:20271024T180000
DTSTAMP:20260420T015837
CREATED:20260105T003247Z
LAST-MODIFIED:20260105T060043Z
UID:10020117-1824400800-1824400800@epictriviafl.com
SUMMARY:Music Bingo
DESCRIPTION:
URL:https://epictriviafl.com/event/music-bingo-vfw/2027-10-24/
LOCATION:VFW\, 351 S Charles Richard Beall Blvd\, DeBary\, FL 32713 USA
GEO:28.8679224;-81.3156601
X-APPLE-STRUCTURED-LOCATION;VALUE=URI;X-ADDRESS=VFW 351 S Charles Richard Beall Blvd DeBary FL 32713 USA;X-APPLE-RADIUS=500;X-TITLE=351 S Charles Richard Beall Blvd\, DeBary\, FL 32713 USA:geo:-81.3156601,28.8679224
END:VEVENT
BEGIN:VEVENT
DTSTART;TZID=America/New_York:20271031T180000
DTEND;TZID=America/New_York:20271031T180000
DTSTAMP:20260420T015837
CREATED:20260105T003247Z
LAST-MODIFIED:20260105T060043Z
UID:10020118-1825005600-1825005600@epictriviafl.com
SUMMARY:Music Bingo
DESCRIPTION:
URL:https://epictriviafl.com/event/music-bingo-vfw/2027-10-31/
LOCATION:VFW\, 351 S Charles Richard Beall Blvd\, DeBary\, FL 32713 USA
GEO:28.8679224;-81.3156601
X-APPLE-STRUCTURED-LOCATION;VALUE=URI;X-ADDRESS=VFW 351 S Charles Richard Beall Blvd DeBary FL 32713 USA;X-APPLE-RADIUS=500;X-TITLE=351 S Charles Richard Beall Blvd\, DeBary\, FL 32713 USA:geo:-81.3156601,28.8679224
END:VEVENT
BEGIN:VEVENT
DTSTART;TZID=America/New_York:20271107T180000
DTEND;TZID=America/New_York:20271107T180000
DTSTAMP:20260420T015837
CREATED:20260105T003247Z
LAST-MODIFIED:20260105T060043Z
UID:10020119-1825610400-1825610400@epictriviafl.com
SUMMARY:Music Bingo
DESCRIPTION:
URL:https://epictriviafl.com/event/music-bingo-vfw/2027-11-07/
LOCATION:VFW\, 351 S Charles Richard Beall Blvd\, DeBary\, FL 32713 USA
GEO:28.8679224;-81.3156601
X-APPLE-STRUCTURED-LOCATION;VALUE=URI;X-ADDRESS=VFW 351 S Charles Richard Beall Blvd DeBary FL 32713 USA;X-APPLE-RADIUS=500;X-TITLE=351 S Charles Richard Beall Blvd\, DeBary\, FL 32713 USA:geo:-81.3156601,28.8679224
END:VEVENT
BEGIN:VEVENT
DTSTART;TZID=America/New_York:20271114T180000
DTEND;TZID=America/New_York:20271114T180000
DTSTAMP:20260420T015837
CREATED:20260105T003247Z
LAST-MODIFIED:20260105T060043Z
UID:10020120-1826215200-1826215200@epictriviafl.com
SUMMARY:Music Bingo
DESCRIPTION:
URL:https://epictriviafl.com/event/music-bingo-vfw/2027-11-14/
LOCATION:VFW\, 351 S Charles Richard Beall Blvd\, DeBary\, FL 32713 USA
GEO:28.8679224;-81.3156601
X-APPLE-STRUCTURED-LOCATION;VALUE=URI;X-ADDRESS=VFW 351 S Charles Richard Beall Blvd DeBary FL 32713 USA;X-APPLE-RADIUS=500;X-TITLE=351 S Charles Richard Beall Blvd\, DeBary\, FL 32713 USA:geo:-81.3156601,28.8679224
END:VEVENT
BEGIN:VEVENT
DTSTART;TZID=America/New_York:20271121T180000
DTEND;TZID=America/New_York:20271121T180000
DTSTAMP:20260420T015837
CREATED:20260105T003247Z
LAST-MODIFIED:20260105T060043Z
UID:10020121-1826820000-1826820000@epictriviafl.com
SUMMARY:Music Bingo
DESCRIPTION:
URL:https://epictriviafl.com/event/music-bingo-vfw/2027-11-21/
LOCATION:VFW\, 351 S Charles Richard Beall Blvd\, DeBary\, FL 32713 USA
GEO:28.8679224;-81.3156601
X-APPLE-STRUCTURED-LOCATION;VALUE=URI;X-ADDRESS=VFW 351 S Charles Richard Beall Blvd DeBary FL 32713 USA;X-APPLE-RADIUS=500;X-TITLE=351 S Charles Richard Beall Blvd\, DeBary\, FL 32713 USA:geo:-81.3156601,28.8679224
END:VEVENT
BEGIN:VEVENT
DTSTART;TZID=America/New_York:20271128T180000
DTEND;TZID=America/New_York:20271128T180000
DTSTAMP:20260420T015837
CREATED:20260105T003247Z
LAST-MODIFIED:20260105T060043Z
UID:10020122-1827424800-1827424800@epictriviafl.com
SUMMARY:Music Bingo
DESCRIPTION:
URL:https://epictriviafl.com/event/music-bingo-vfw/2027-11-28/
LOCATION:VFW\, 351 S Charles Richard Beall Blvd\, DeBary\, FL 32713 USA
GEO:28.8679224;-81.3156601
X-APPLE-STRUCTURED-LOCATION;VALUE=URI;X-ADDRESS=VFW 351 S Charles Richard Beall Blvd DeBary FL 32713 USA;X-APPLE-RADIUS=500;X-TITLE=351 S Charles Richard Beall Blvd\, DeBary\, FL 32713 USA:geo:-81.3156601,28.8679224
END:VEVENT
BEGIN:VEVENT
DTSTART;TZID=America/New_York:20271205T180000
DTEND;TZID=America/New_York:20271205T180000
DTSTAMP:20260420T015837
CREATED:20260105T003247Z
LAST-MODIFIED:20260105T060043Z
UID:10020123-1828029600-1828029600@epictriviafl.com
SUMMARY:Music Bingo
DESCRIPTION:
URL:https://epictriviafl.com/event/music-bingo-vfw/2027-12-05/
LOCATION:VFW\, 351 S Charles Richard Beall Blvd\, DeBary\, FL 32713 USA
GEO:28.8679224;-81.3156601
X-APPLE-STRUCTURED-LOCATION;VALUE=URI;X-ADDRESS=VFW 351 S Charles Richard Beall Blvd DeBary FL 32713 USA;X-APPLE-RADIUS=500;X-TITLE=351 S Charles Richard Beall Blvd\, DeBary\, FL 32713 USA:geo:-81.3156601,28.8679224
END:VEVENT
BEGIN:VEVENT
DTSTART;TZID=America/New_York:20271212T180000
DTEND;TZID=America/New_York:20271212T180000
DTSTAMP:20260420T015837
CREATED:20260105T003247Z
LAST-MODIFIED:20260105T060043Z
UID:10020124-1828634400-1828634400@epictriviafl.com
SUMMARY:Music Bingo
DESCRIPTION:
URL:https://epictriviafl.com/event/music-bingo-vfw/2027-12-12/
LOCATION:VFW\, 351 S Charles Richard Beall Blvd\, DeBary\, FL 32713 USA
GEO:28.8679224;-81.3156601
X-APPLE-STRUCTURED-LOCATION;VALUE=URI;X-ADDRESS=VFW 351 S Charles Richard Beall Blvd DeBary FL 32713 USA;X-APPLE-RADIUS=500;X-TITLE=351 S Charles Richard Beall Blvd\, DeBary\, FL 32713 USA:geo:-81.3156601,28.8679224
END:VEVENT
BEGIN:VEVENT
DTSTART;TZID=America/New_York:20271219T180000
DTEND;TZID=America/New_York:20271219T180000
DTSTAMP:20260420T015837
CREATED:20260105T003247Z
LAST-MODIFIED:20260105T060043Z
UID:10020125-1829239200-1829239200@epictriviafl.com
SUMMARY:Music Bingo
DESCRIPTION:
URL:https://epictriviafl.com/event/music-bingo-vfw/2027-12-19/
LOCATION:VFW\, 351 S Charles Richard Beall Blvd\, DeBary\, FL 32713 USA
GEO:28.8679224;-81.3156601
X-APPLE-STRUCTURED-LOCATION;VALUE=URI;X-ADDRESS=VFW 351 S Charles Richard Beall Blvd DeBary FL 32713 USA;X-APPLE-RADIUS=500;X-TITLE=351 S Charles Richard Beall Blvd\, DeBary\, FL 32713 USA:geo:-81.3156601,28.8679224
END:VEVENT
BEGIN:VEVENT
DTSTART;TZID=America/New_York:20271226T180000
DTEND;TZID=America/New_York:20271226T180000
DTSTAMP:20260420T015837
CREATED:20260105T003247Z
LAST-MODIFIED:20260105T060043Z
UID:10020126-1829844000-1829844000@epictriviafl.com
SUMMARY:Music Bingo
DESCRIPTION:
URL:https://epictriviafl.com/event/music-bingo-vfw/2027-12-26/
LOCATION:VFW\, 351 S Charles Richard Beall Blvd\, DeBary\, FL 32713 USA
GEO:28.8679224;-81.3156601
X-APPLE-STRUCTURED-LOCATION;VALUE=URI;X-ADDRESS=VFW 351 S Charles Richard Beall Blvd DeBary FL 32713 USA;X-APPLE-RADIUS=500;X-TITLE=351 S Charles Richard Beall Blvd\, DeBary\, FL 32713 USA:geo:-81.3156601,28.8679224
END:VEVENT
BEGIN:VEVENT
DTSTART;TZID=America/New_York:20280102T180000
DTEND;TZID=America/New_York:20280102T180000
DTSTAMP:20260420T015837
CREATED:20260105T003247Z
LAST-MODIFIED:20260105T060043Z
UID:10020127-1830448800-1830448800@epictriviafl.com
SUMMARY:Music Bingo
DESCRIPTION:
URL:https://epictriviafl.com/event/music-bingo-vfw/2028-01-02/
LOCATION:VFW\, 351 S Charles Richard Beall Blvd\, DeBary\, FL 32713 USA
GEO:28.8679224;-81.3156601
X-APPLE-STRUCTURED-LOCATION;VALUE=URI;X-ADDRESS=VFW 351 S Charles Richard Beall Blvd DeBary FL 32713 USA;X-APPLE-RADIUS=500;X-TITLE=351 S Charles Richard Beall Blvd\, DeBary\, FL 32713 USA:geo:-81.3156601,28.8679224
END:VEVENT
BEGIN:VEVENT
DTSTART;TZID=America/New_York:20280109T180000
DTEND;TZID=America/New_York:20280109T180000
DTSTAMP:20260420T015837
CREATED:20260105T003247Z
LAST-MODIFIED:20260105T060043Z
UID:10020128-1831053600-1831053600@epictriviafl.com
SUMMARY:Music Bingo
DESCRIPTION:
URL:https://epictriviafl.com/event/music-bingo-vfw/2028-01-09/
LOCATION:VFW\, 351 S Charles Richard Beall Blvd\, DeBary\, FL 32713 USA
GEO:28.8679224;-81.3156601
X-APPLE-STRUCTURED-LOCATION;VALUE=URI;X-ADDRESS=VFW 351 S Charles Richard Beall Blvd DeBary FL 32713 USA;X-APPLE-RADIUS=500;X-TITLE=351 S Charles Richard Beall Blvd\, DeBary\, FL 32713 USA:geo:-81.3156601,28.8679224
END:VEVENT
BEGIN:VEVENT
DTSTART;TZID=America/New_York:20280116T180000
DTEND;TZID=America/New_York:20280116T180000
DTSTAMP:20260420T015837
CREATED:20260105T003247Z
LAST-MODIFIED:20260105T060043Z
UID:10020129-1831658400-1831658400@epictriviafl.com
SUMMARY:Music Bingo
DESCRIPTION:
URL:https://epictriviafl.com/event/music-bingo-vfw/2028-01-16/
LOCATION:VFW\, 351 S Charles Richard Beall Blvd\, DeBary\, FL 32713 USA
GEO:28.8679224;-81.3156601
X-APPLE-STRUCTURED-LOCATION;VALUE=URI;X-ADDRESS=VFW 351 S Charles Richard Beall Blvd DeBary FL 32713 USA;X-APPLE-RADIUS=500;X-TITLE=351 S Charles Richard Beall Blvd\, DeBary\, FL 32713 USA:geo:-81.3156601,28.8679224
END:VEVENT
BEGIN:VEVENT
DTSTART;TZID=America/New_York:20280123T180000
DTEND;TZID=America/New_York:20280123T180000
DTSTAMP:20260420T015837
CREATED:20260105T003247Z
LAST-MODIFIED:20260105T060043Z
UID:10020130-1832263200-1832263200@epictriviafl.com
SUMMARY:Music Bingo
DESCRIPTION:
URL:https://epictriviafl.com/event/music-bingo-vfw/2028-01-23/
LOCATION:VFW\, 351 S Charles Richard Beall Blvd\, DeBary\, FL 32713 USA
GEO:28.8679224;-81.3156601
X-APPLE-STRUCTURED-LOCATION;VALUE=URI;X-ADDRESS=VFW 351 S Charles Richard Beall Blvd DeBary FL 32713 USA;X-APPLE-RADIUS=500;X-TITLE=351 S Charles Richard Beall Blvd\, DeBary\, FL 32713 USA:geo:-81.3156601,28.8679224
END:VEVENT
BEGIN:VEVENT
DTSTART;TZID=America/New_York:20280130T180000
DTEND;TZID=America/New_York:20280130T180000
DTSTAMP:20260420T015837
CREATED:20260105T003247Z
LAST-MODIFIED:20260105T060043Z
UID:10020131-1832868000-1832868000@epictriviafl.com
SUMMARY:Music Bingo
DESCRIPTION:
URL:https://epictriviafl.com/event/music-bingo-vfw/2028-01-30/
LOCATION:VFW\, 351 S Charles Richard Beall Blvd\, DeBary\, FL 32713 USA
GEO:28.8679224;-81.3156601
X-APPLE-STRUCTURED-LOCATION;VALUE=URI;X-ADDRESS=VFW 351 S Charles Richard Beall Blvd DeBary FL 32713 USA;X-APPLE-RADIUS=500;X-TITLE=351 S Charles Richard Beall Blvd\, DeBary\, FL 32713 USA:geo:-81.3156601,28.8679224
END:VEVENT
BEGIN:VEVENT
DTSTART;TZID=America/New_York:20280206T180000
DTEND;TZID=America/New_York:20280206T180000
DTSTAMP:20260420T015837
CREATED:20260105T003247Z
LAST-MODIFIED:20260105T060043Z
UID:10020132-1833472800-1833472800@epictriviafl.com
SUMMARY:Music Bingo
DESCRIPTION:
URL:https://epictriviafl.com/event/music-bingo-vfw/2028-02-06/
LOCATION:VFW\, 351 S Charles Richard Beall Blvd\, DeBary\, FL 32713 USA
GEO:28.8679224;-81.3156601
X-APPLE-STRUCTURED-LOCATION;VALUE=URI;X-ADDRESS=VFW 351 S Charles Richard Beall Blvd DeBary FL 32713 USA;X-APPLE-RADIUS=500;X-TITLE=351 S Charles Richard Beall Blvd\, DeBary\, FL 32713 USA:geo:-81.3156601,28.8679224
END:VEVENT
BEGIN:VEVENT
DTSTART;TZID=America/New_York:20280213T180000
DTEND;TZID=America/New_York:20280213T180000
DTSTAMP:20260420T015837
CREATED:20260105T003247Z
LAST-MODIFIED:20260105T060043Z
UID:10020133-1834077600-1834077600@epictriviafl.com
SUMMARY:Music Bingo
DESCRIPTION:
URL:https://epictriviafl.com/event/music-bingo-vfw/2028-02-13/
LOCATION:VFW\, 351 S Charles Richard Beall Blvd\, DeBary\, FL 32713 USA
GEO:28.8679224;-81.3156601
X-APPLE-STRUCTURED-LOCATION;VALUE=URI;X-ADDRESS=VFW 351 S Charles Richard Beall Blvd DeBary FL 32713 USA;X-APPLE-RADIUS=500;X-TITLE=351 S Charles Richard Beall Blvd\, DeBary\, FL 32713 USA:geo:-81.3156601,28.8679224
END:VEVENT
BEGIN:VEVENT
DTSTART;TZID=America/New_York:20280220T180000
DTEND;TZID=America/New_York:20280220T180000
DTSTAMP:20260420T015837
CREATED:20260105T003247Z
LAST-MODIFIED:20260105T060043Z
UID:10020134-1834682400-1834682400@epictriviafl.com
SUMMARY:Music Bingo
DESCRIPTION:
URL:https://epictriviafl.com/event/music-bingo-vfw/2028-02-20/
LOCATION:VFW\, 351 S Charles Richard Beall Blvd\, DeBary\, FL 32713 USA
GEO:28.8679224;-81.3156601
X-APPLE-STRUCTURED-LOCATION;VALUE=URI;X-ADDRESS=VFW 351 S Charles Richard Beall Blvd DeBary FL 32713 USA;X-APPLE-RADIUS=500;X-TITLE=351 S Charles Richard Beall Blvd\, DeBary\, FL 32713 USA:geo:-81.3156601,28.8679224
END:VEVENT
BEGIN:VEVENT
DTSTART;TZID=America/New_York:20280227T180000
DTEND;TZID=America/New_York:20280227T180000
DTSTAMP:20260420T015837
CREATED:20260105T003247Z
LAST-MODIFIED:20260105T060043Z
UID:10020135-1835287200-1835287200@epictriviafl.com
SUMMARY:Music Bingo
DESCRIPTION:
URL:https://epictriviafl.com/event/music-bingo-vfw/2028-02-27/
LOCATION:VFW\, 351 S Charles Richard Beall Blvd\, DeBary\, FL 32713 USA
GEO:28.8679224;-81.3156601
X-APPLE-STRUCTURED-LOCATION;VALUE=URI;X-ADDRESS=VFW 351 S Charles Richard Beall Blvd DeBary FL 32713 USA;X-APPLE-RADIUS=500;X-TITLE=351 S Charles Richard Beall Blvd\, DeBary\, FL 32713 USA:geo:-81.3156601,28.8679224
END:VEVENT
BEGIN:VEVENT
DTSTART;TZID=America/New_York:20280305T180000
DTEND;TZID=America/New_York:20280305T180000
DTSTAMP:20260420T015837
CREATED:20260105T003247Z
LAST-MODIFIED:20260105T060043Z
UID:10020136-1835892000-1835892000@epictriviafl.com
SUMMARY:Music Bingo
DESCRIPTION:
URL:https://epictriviafl.com/event/music-bingo-vfw/2028-03-05/
LOCATION:VFW\, 351 S Charles Richard Beall Blvd\, DeBary\, FL 32713 USA
GEO:28.8679224;-81.3156601
X-APPLE-STRUCTURED-LOCATION;VALUE=URI;X-ADDRESS=VFW 351 S Charles Richard Beall Blvd DeBary FL 32713 USA;X-APPLE-RADIUS=500;X-TITLE=351 S Charles Richard Beall Blvd\, DeBary\, FL 32713 USA:geo:-81.3156601,28.8679224
END:VEVENT
BEGIN:VEVENT
DTSTART;TZID=America/New_York:20280312T180000
DTEND;TZID=America/New_York:20280312T180000
DTSTAMP:20260420T015837
CREATED:20260105T003247Z
LAST-MODIFIED:20260105T060043Z
UID:10020137-1836496800-1836496800@epictriviafl.com
SUMMARY:Music Bingo
DESCRIPTION:
URL:https://epictriviafl.com/event/music-bingo-vfw/2028-03-12/
LOCATION:VFW\, 351 S Charles Richard Beall Blvd\, DeBary\, FL 32713 USA
GEO:28.8679224;-81.3156601
X-APPLE-STRUCTURED-LOCATION;VALUE=URI;X-ADDRESS=VFW 351 S Charles Richard Beall Blvd DeBary FL 32713 USA;X-APPLE-RADIUS=500;X-TITLE=351 S Charles Richard Beall Blvd\, DeBary\, FL 32713 USA:geo:-81.3156601,28.8679224
END:VEVENT
BEGIN:VEVENT
DTSTART;TZID=America/New_York:20280319T180000
DTEND;TZID=America/New_York:20280319T180000
DTSTAMP:20260420T015837
CREATED:20260105T003247Z
LAST-MODIFIED:20260105T060043Z
UID:10020138-1837101600-1837101600@epictriviafl.com
SUMMARY:Music Bingo
DESCRIPTION:
URL:https://epictriviafl.com/event/music-bingo-vfw/2028-03-19/
LOCATION:VFW\, 351 S Charles Richard Beall Blvd\, DeBary\, FL 32713 USA
GEO:28.8679224;-81.3156601
X-APPLE-STRUCTURED-LOCATION;VALUE=URI;X-ADDRESS=VFW 351 S Charles Richard Beall Blvd DeBary FL 32713 USA;X-APPLE-RADIUS=500;X-TITLE=351 S Charles Richard Beall Blvd\, DeBary\, FL 32713 USA:geo:-81.3156601,28.8679224
END:VEVENT
BEGIN:VEVENT
DTSTART;TZID=America/New_York:20280326T180000
DTEND;TZID=America/New_York:20280326T180000
DTSTAMP:20260420T015837
CREATED:20260105T003247Z
LAST-MODIFIED:20260105T060043Z
UID:10020139-1837706400-1837706400@epictriviafl.com
SUMMARY:Music Bingo
DESCRIPTION:
URL:https://epictriviafl.com/event/music-bingo-vfw/2028-03-26/
LOCATION:VFW\, 351 S Charles Richard Beall Blvd\, DeBary\, FL 32713 USA
GEO:28.8679224;-81.3156601
X-APPLE-STRUCTURED-LOCATION;VALUE=URI;X-ADDRESS=VFW 351 S Charles Richard Beall Blvd DeBary FL 32713 USA;X-APPLE-RADIUS=500;X-TITLE=351 S Charles Richard Beall Blvd\, DeBary\, FL 32713 USA:geo:-81.3156601,28.8679224
END:VEVENT
BEGIN:VEVENT
DTSTART;TZID=America/New_York:20280402T180000
DTEND;TZID=America/New_York:20280402T180000
DTSTAMP:20260420T015837
CREATED:20260105T003247Z
LAST-MODIFIED:20260105T060043Z
UID:10020140-1838311200-1838311200@epictriviafl.com
SUMMARY:Music Bingo
DESCRIPTION:
URL:https://epictriviafl.com/event/music-bingo-vfw/2028-04-02/
LOCATION:VFW\, 351 S Charles Richard Beall Blvd\, DeBary\, FL 32713 USA
GEO:28.8679224;-81.3156601
X-APPLE-STRUCTURED-LOCATION;VALUE=URI;X-ADDRESS=VFW 351 S Charles Richard Beall Blvd DeBary FL 32713 USA;X-APPLE-RADIUS=500;X-TITLE=351 S Charles Richard Beall Blvd\, DeBary\, FL 32713 USA:geo:-81.3156601,28.8679224
END:VEVENT
END:VCALENDAR