BEGIN:VCALENDAR
VERSION:2.0
PRODID:-//Epic Trivia - ECPv6.15.18//NONSGML v1.0//EN
CALSCALE:GREGORIAN
METHOD:PUBLISH
X-ORIGINAL-URL:https://epictriviafl.com
X-WR-CALDESC:Events for Epic Trivia
REFRESH-INTERVAL;VALUE=DURATION:PT1H
X-Robots-Tag:noindex
X-PUBLISHED-TTL:PT1H
BEGIN:VTIMEZONE
TZID:America/New_York
BEGIN:DAYLIGHT
TZOFFSETFROM:-0500
TZOFFSETTO:-0400
TZNAME:EDT
DTSTART:20290311T070000
END:DAYLIGHT
BEGIN:STANDARD
TZOFFSETFROM:-0400
TZOFFSETTO:-0500
TZNAME:EST
DTSTART:20291104T060000
END:STANDARD
BEGIN:DAYLIGHT
TZOFFSETFROM:-0500
TZOFFSETTO:-0400
TZNAME:EDT
DTSTART:20300310T070000
END:DAYLIGHT
BEGIN:STANDARD
TZOFFSETFROM:-0400
TZOFFSETTO:-0500
TZNAME:EST
DTSTART:20301103T060000
END:STANDARD
BEGIN:DAYLIGHT
TZOFFSETFROM:-0500
TZOFFSETTO:-0400
TZNAME:EDT
DTSTART:20310309T070000
END:DAYLIGHT
BEGIN:STANDARD
TZOFFSETFROM:-0400
TZOFFSETTO:-0500
TZNAME:EST
DTSTART:20311102T060000
END:STANDARD
BEGIN:DAYLIGHT
TZOFFSETFROM:-0500
TZOFFSETTO:-0400
TZNAME:EDT
DTSTART:20320314T070000
END:DAYLIGHT
BEGIN:STANDARD
TZOFFSETFROM:-0400
TZOFFSETTO:-0500
TZNAME:EST
DTSTART:20321107T060000
END:STANDARD
END:VTIMEZONE
BEGIN:VEVENT
DTSTART;TZID=America/New_York:20300908T180000
DTEND;TZID=America/New_York:20300908T180000
DTSTAMP:20260420T220812
CREATED:20260105T003247Z
LAST-MODIFIED:20260105T060043Z
UID:10020267-1915120800-1915120800@epictriviafl.com
SUMMARY:Music Bingo
DESCRIPTION:
URL:https://epictriviafl.com/event/music-bingo-vfw/2030-09-08/
LOCATION:VFW\, 351 S Charles Richard Beall Blvd\, DeBary\, FL 32713 USA
GEO:28.8679224;-81.3156601
X-APPLE-STRUCTURED-LOCATION;VALUE=URI;X-ADDRESS=VFW 351 S Charles Richard Beall Blvd DeBary FL 32713 USA;X-APPLE-RADIUS=500;X-TITLE=351 S Charles Richard Beall Blvd\, DeBary\, FL 32713 USA:geo:-81.3156601,28.8679224
END:VEVENT
BEGIN:VEVENT
DTSTART;TZID=America/New_York:20300915T180000
DTEND;TZID=America/New_York:20300915T180000
DTSTAMP:20260420T220812
CREATED:20260105T003247Z
LAST-MODIFIED:20260105T060043Z
UID:10020268-1915725600-1915725600@epictriviafl.com
SUMMARY:Music Bingo
DESCRIPTION:
URL:https://epictriviafl.com/event/music-bingo-vfw/2030-09-15/
LOCATION:VFW\, 351 S Charles Richard Beall Blvd\, DeBary\, FL 32713 USA
GEO:28.8679224;-81.3156601
X-APPLE-STRUCTURED-LOCATION;VALUE=URI;X-ADDRESS=VFW 351 S Charles Richard Beall Blvd DeBary FL 32713 USA;X-APPLE-RADIUS=500;X-TITLE=351 S Charles Richard Beall Blvd\, DeBary\, FL 32713 USA:geo:-81.3156601,28.8679224
END:VEVENT
BEGIN:VEVENT
DTSTART;TZID=America/New_York:20300922T180000
DTEND;TZID=America/New_York:20300922T180000
DTSTAMP:20260420T220812
CREATED:20260105T003247Z
LAST-MODIFIED:20260105T060043Z
UID:10020269-1916330400-1916330400@epictriviafl.com
SUMMARY:Music Bingo
DESCRIPTION:
URL:https://epictriviafl.com/event/music-bingo-vfw/2030-09-22/
LOCATION:VFW\, 351 S Charles Richard Beall Blvd\, DeBary\, FL 32713 USA
GEO:28.8679224;-81.3156601
X-APPLE-STRUCTURED-LOCATION;VALUE=URI;X-ADDRESS=VFW 351 S Charles Richard Beall Blvd DeBary FL 32713 USA;X-APPLE-RADIUS=500;X-TITLE=351 S Charles Richard Beall Blvd\, DeBary\, FL 32713 USA:geo:-81.3156601,28.8679224
END:VEVENT
BEGIN:VEVENT
DTSTART;TZID=America/New_York:20300929T180000
DTEND;TZID=America/New_York:20300929T180000
DTSTAMP:20260420T220812
CREATED:20260105T003247Z
LAST-MODIFIED:20260105T060043Z
UID:10020270-1916935200-1916935200@epictriviafl.com
SUMMARY:Music Bingo
DESCRIPTION:
URL:https://epictriviafl.com/event/music-bingo-vfw/2030-09-29/
LOCATION:VFW\, 351 S Charles Richard Beall Blvd\, DeBary\, FL 32713 USA
GEO:28.8679224;-81.3156601
X-APPLE-STRUCTURED-LOCATION;VALUE=URI;X-ADDRESS=VFW 351 S Charles Richard Beall Blvd DeBary FL 32713 USA;X-APPLE-RADIUS=500;X-TITLE=351 S Charles Richard Beall Blvd\, DeBary\, FL 32713 USA:geo:-81.3156601,28.8679224
END:VEVENT
BEGIN:VEVENT
DTSTART;TZID=America/New_York:20301006T180000
DTEND;TZID=America/New_York:20301006T180000
DTSTAMP:20260420T220812
CREATED:20260105T003247Z
LAST-MODIFIED:20260105T060043Z
UID:10020271-1917540000-1917540000@epictriviafl.com
SUMMARY:Music Bingo
DESCRIPTION:
URL:https://epictriviafl.com/event/music-bingo-vfw/2030-10-06/
LOCATION:VFW\, 351 S Charles Richard Beall Blvd\, DeBary\, FL 32713 USA
GEO:28.8679224;-81.3156601
X-APPLE-STRUCTURED-LOCATION;VALUE=URI;X-ADDRESS=VFW 351 S Charles Richard Beall Blvd DeBary FL 32713 USA;X-APPLE-RADIUS=500;X-TITLE=351 S Charles Richard Beall Blvd\, DeBary\, FL 32713 USA:geo:-81.3156601,28.8679224
END:VEVENT
BEGIN:VEVENT
DTSTART;TZID=America/New_York:20301013T180000
DTEND;TZID=America/New_York:20301013T180000
DTSTAMP:20260420T220812
CREATED:20260105T003247Z
LAST-MODIFIED:20260105T060043Z
UID:10020272-1918144800-1918144800@epictriviafl.com
SUMMARY:Music Bingo
DESCRIPTION:
URL:https://epictriviafl.com/event/music-bingo-vfw/2030-10-13/
LOCATION:VFW\, 351 S Charles Richard Beall Blvd\, DeBary\, FL 32713 USA
GEO:28.8679224;-81.3156601
X-APPLE-STRUCTURED-LOCATION;VALUE=URI;X-ADDRESS=VFW 351 S Charles Richard Beall Blvd DeBary FL 32713 USA;X-APPLE-RADIUS=500;X-TITLE=351 S Charles Richard Beall Blvd\, DeBary\, FL 32713 USA:geo:-81.3156601,28.8679224
END:VEVENT
BEGIN:VEVENT
DTSTART;TZID=America/New_York:20301020T180000
DTEND;TZID=America/New_York:20301020T180000
DTSTAMP:20260420T220812
CREATED:20260105T003247Z
LAST-MODIFIED:20260105T060043Z
UID:10020273-1918749600-1918749600@epictriviafl.com
SUMMARY:Music Bingo
DESCRIPTION:
URL:https://epictriviafl.com/event/music-bingo-vfw/2030-10-20/
LOCATION:VFW\, 351 S Charles Richard Beall Blvd\, DeBary\, FL 32713 USA
GEO:28.8679224;-81.3156601
X-APPLE-STRUCTURED-LOCATION;VALUE=URI;X-ADDRESS=VFW 351 S Charles Richard Beall Blvd DeBary FL 32713 USA;X-APPLE-RADIUS=500;X-TITLE=351 S Charles Richard Beall Blvd\, DeBary\, FL 32713 USA:geo:-81.3156601,28.8679224
END:VEVENT
BEGIN:VEVENT
DTSTART;TZID=America/New_York:20301027T180000
DTEND;TZID=America/New_York:20301027T180000
DTSTAMP:20260420T220812
CREATED:20260105T003247Z
LAST-MODIFIED:20260105T060043Z
UID:10020274-1919354400-1919354400@epictriviafl.com
SUMMARY:Music Bingo
DESCRIPTION:
URL:https://epictriviafl.com/event/music-bingo-vfw/2030-10-27/
LOCATION:VFW\, 351 S Charles Richard Beall Blvd\, DeBary\, FL 32713 USA
GEO:28.8679224;-81.3156601
X-APPLE-STRUCTURED-LOCATION;VALUE=URI;X-ADDRESS=VFW 351 S Charles Richard Beall Blvd DeBary FL 32713 USA;X-APPLE-RADIUS=500;X-TITLE=351 S Charles Richard Beall Blvd\, DeBary\, FL 32713 USA:geo:-81.3156601,28.8679224
END:VEVENT
BEGIN:VEVENT
DTSTART;TZID=America/New_York:20301103T180000
DTEND;TZID=America/New_York:20301103T180000
DTSTAMP:20260420T220812
CREATED:20260105T003247Z
LAST-MODIFIED:20260105T060043Z
UID:10020275-1919959200-1919959200@epictriviafl.com
SUMMARY:Music Bingo
DESCRIPTION:
URL:https://epictriviafl.com/event/music-bingo-vfw/2030-11-03/
LOCATION:VFW\, 351 S Charles Richard Beall Blvd\, DeBary\, FL 32713 USA
GEO:28.8679224;-81.3156601
X-APPLE-STRUCTURED-LOCATION;VALUE=URI;X-ADDRESS=VFW 351 S Charles Richard Beall Blvd DeBary FL 32713 USA;X-APPLE-RADIUS=500;X-TITLE=351 S Charles Richard Beall Blvd\, DeBary\, FL 32713 USA:geo:-81.3156601,28.8679224
END:VEVENT
BEGIN:VEVENT
DTSTART;TZID=America/New_York:20301110T180000
DTEND;TZID=America/New_York:20301110T180000
DTSTAMP:20260420T220812
CREATED:20260105T003247Z
LAST-MODIFIED:20260105T060043Z
UID:10020276-1920564000-1920564000@epictriviafl.com
SUMMARY:Music Bingo
DESCRIPTION:
URL:https://epictriviafl.com/event/music-bingo-vfw/2030-11-10/
LOCATION:VFW\, 351 S Charles Richard Beall Blvd\, DeBary\, FL 32713 USA
GEO:28.8679224;-81.3156601
X-APPLE-STRUCTURED-LOCATION;VALUE=URI;X-ADDRESS=VFW 351 S Charles Richard Beall Blvd DeBary FL 32713 USA;X-APPLE-RADIUS=500;X-TITLE=351 S Charles Richard Beall Blvd\, DeBary\, FL 32713 USA:geo:-81.3156601,28.8679224
END:VEVENT
BEGIN:VEVENT
DTSTART;TZID=America/New_York:20301117T180000
DTEND;TZID=America/New_York:20301117T180000
DTSTAMP:20260420T220812
CREATED:20260105T003247Z
LAST-MODIFIED:20260105T060043Z
UID:10020277-1921168800-1921168800@epictriviafl.com
SUMMARY:Music Bingo
DESCRIPTION:
URL:https://epictriviafl.com/event/music-bingo-vfw/2030-11-17/
LOCATION:VFW\, 351 S Charles Richard Beall Blvd\, DeBary\, FL 32713 USA
GEO:28.8679224;-81.3156601
X-APPLE-STRUCTURED-LOCATION;VALUE=URI;X-ADDRESS=VFW 351 S Charles Richard Beall Blvd DeBary FL 32713 USA;X-APPLE-RADIUS=500;X-TITLE=351 S Charles Richard Beall Blvd\, DeBary\, FL 32713 USA:geo:-81.3156601,28.8679224
END:VEVENT
BEGIN:VEVENT
DTSTART;TZID=America/New_York:20301124T180000
DTEND;TZID=America/New_York:20301124T180000
DTSTAMP:20260420T220812
CREATED:20260105T003247Z
LAST-MODIFIED:20260105T060043Z
UID:10020278-1921773600-1921773600@epictriviafl.com
SUMMARY:Music Bingo
DESCRIPTION:
URL:https://epictriviafl.com/event/music-bingo-vfw/2030-11-24/
LOCATION:VFW\, 351 S Charles Richard Beall Blvd\, DeBary\, FL 32713 USA
GEO:28.8679224;-81.3156601
X-APPLE-STRUCTURED-LOCATION;VALUE=URI;X-ADDRESS=VFW 351 S Charles Richard Beall Blvd DeBary FL 32713 USA;X-APPLE-RADIUS=500;X-TITLE=351 S Charles Richard Beall Blvd\, DeBary\, FL 32713 USA:geo:-81.3156601,28.8679224
END:VEVENT
BEGIN:VEVENT
DTSTART;TZID=America/New_York:20301201T180000
DTEND;TZID=America/New_York:20301201T180000
DTSTAMP:20260420T220812
CREATED:20260105T003247Z
LAST-MODIFIED:20260105T060043Z
UID:10020279-1922378400-1922378400@epictriviafl.com
SUMMARY:Music Bingo
DESCRIPTION:
URL:https://epictriviafl.com/event/music-bingo-vfw/2030-12-01/
LOCATION:VFW\, 351 S Charles Richard Beall Blvd\, DeBary\, FL 32713 USA
GEO:28.8679224;-81.3156601
X-APPLE-STRUCTURED-LOCATION;VALUE=URI;X-ADDRESS=VFW 351 S Charles Richard Beall Blvd DeBary FL 32713 USA;X-APPLE-RADIUS=500;X-TITLE=351 S Charles Richard Beall Blvd\, DeBary\, FL 32713 USA:geo:-81.3156601,28.8679224
END:VEVENT
BEGIN:VEVENT
DTSTART;TZID=America/New_York:20301208T180000
DTEND;TZID=America/New_York:20301208T180000
DTSTAMP:20260420T220812
CREATED:20260105T003247Z
LAST-MODIFIED:20260105T060043Z
UID:10020280-1922983200-1922983200@epictriviafl.com
SUMMARY:Music Bingo
DESCRIPTION:
URL:https://epictriviafl.com/event/music-bingo-vfw/2030-12-08/
LOCATION:VFW\, 351 S Charles Richard Beall Blvd\, DeBary\, FL 32713 USA
GEO:28.8679224;-81.3156601
X-APPLE-STRUCTURED-LOCATION;VALUE=URI;X-ADDRESS=VFW 351 S Charles Richard Beall Blvd DeBary FL 32713 USA;X-APPLE-RADIUS=500;X-TITLE=351 S Charles Richard Beall Blvd\, DeBary\, FL 32713 USA:geo:-81.3156601,28.8679224
END:VEVENT
BEGIN:VEVENT
DTSTART;TZID=America/New_York:20301215T180000
DTEND;TZID=America/New_York:20301215T180000
DTSTAMP:20260420T220812
CREATED:20260105T003247Z
LAST-MODIFIED:20260105T060043Z
UID:10020281-1923588000-1923588000@epictriviafl.com
SUMMARY:Music Bingo
DESCRIPTION:
URL:https://epictriviafl.com/event/music-bingo-vfw/2030-12-15/
LOCATION:VFW\, 351 S Charles Richard Beall Blvd\, DeBary\, FL 32713 USA
GEO:28.8679224;-81.3156601
X-APPLE-STRUCTURED-LOCATION;VALUE=URI;X-ADDRESS=VFW 351 S Charles Richard Beall Blvd DeBary FL 32713 USA;X-APPLE-RADIUS=500;X-TITLE=351 S Charles Richard Beall Blvd\, DeBary\, FL 32713 USA:geo:-81.3156601,28.8679224
END:VEVENT
BEGIN:VEVENT
DTSTART;TZID=America/New_York:20301222T180000
DTEND;TZID=America/New_York:20301222T180000
DTSTAMP:20260420T220812
CREATED:20260105T003247Z
LAST-MODIFIED:20260105T060043Z
UID:10020282-1924192800-1924192800@epictriviafl.com
SUMMARY:Music Bingo
DESCRIPTION:
URL:https://epictriviafl.com/event/music-bingo-vfw/2030-12-22/
LOCATION:VFW\, 351 S Charles Richard Beall Blvd\, DeBary\, FL 32713 USA
GEO:28.8679224;-81.3156601
X-APPLE-STRUCTURED-LOCATION;VALUE=URI;X-ADDRESS=VFW 351 S Charles Richard Beall Blvd DeBary FL 32713 USA;X-APPLE-RADIUS=500;X-TITLE=351 S Charles Richard Beall Blvd\, DeBary\, FL 32713 USA:geo:-81.3156601,28.8679224
END:VEVENT
BEGIN:VEVENT
DTSTART;TZID=America/New_York:20301229T180000
DTEND;TZID=America/New_York:20301229T180000
DTSTAMP:20260420T220812
CREATED:20260105T003247Z
LAST-MODIFIED:20260105T060043Z
UID:10020283-1924797600-1924797600@epictriviafl.com
SUMMARY:Music Bingo
DESCRIPTION:
URL:https://epictriviafl.com/event/music-bingo-vfw/2030-12-29/
LOCATION:VFW\, 351 S Charles Richard Beall Blvd\, DeBary\, FL 32713 USA
GEO:28.8679224;-81.3156601
X-APPLE-STRUCTURED-LOCATION;VALUE=URI;X-ADDRESS=VFW 351 S Charles Richard Beall Blvd DeBary FL 32713 USA;X-APPLE-RADIUS=500;X-TITLE=351 S Charles Richard Beall Blvd\, DeBary\, FL 32713 USA:geo:-81.3156601,28.8679224
END:VEVENT
BEGIN:VEVENT
DTSTART;TZID=America/New_York:20310105T180000
DTEND;TZID=America/New_York:20310105T180000
DTSTAMP:20260420T220812
CREATED:20260105T003247Z
LAST-MODIFIED:20260105T060043Z
UID:10021589-1925402400-1925402400@epictriviafl.com
SUMMARY:Music Bingo
DESCRIPTION:
URL:https://epictriviafl.com/event/music-bingo-vfw/2031-01-05/
LOCATION:VFW\, 351 S Charles Richard Beall Blvd\, DeBary\, FL 32713 USA
GEO:28.8679224;-81.3156601
X-APPLE-STRUCTURED-LOCATION;VALUE=URI;X-ADDRESS=VFW 351 S Charles Richard Beall Blvd DeBary FL 32713 USA;X-APPLE-RADIUS=500;X-TITLE=351 S Charles Richard Beall Blvd\, DeBary\, FL 32713 USA:geo:-81.3156601,28.8679224
END:VEVENT
END:VCALENDAR