BEGIN:VCALENDAR
VERSION:2.0
PRODID:-//Epic Trivia - ECPv6.15.18//NONSGML v1.0//EN
CALSCALE:GREGORIAN
METHOD:PUBLISH
X-ORIGINAL-URL:https://epictriviafl.com
X-WR-CALDESC:Events for Epic Trivia
REFRESH-INTERVAL;VALUE=DURATION:PT1H
X-Robots-Tag:noindex
X-PUBLISHED-TTL:PT1H
BEGIN:VTIMEZONE
TZID:America/New_York
BEGIN:DAYLIGHT
TZOFFSETFROM:-0500
TZOFFSETTO:-0400
TZNAME:EDT
DTSTART:20250309T070000
END:DAYLIGHT
BEGIN:STANDARD
TZOFFSETFROM:-0400
TZOFFSETTO:-0500
TZNAME:EST
DTSTART:20251102T060000
END:STANDARD
BEGIN:DAYLIGHT
TZOFFSETFROM:-0500
TZOFFSETTO:-0400
TZNAME:EDT
DTSTART:20260308T070000
END:DAYLIGHT
BEGIN:STANDARD
TZOFFSETFROM:-0400
TZOFFSETTO:-0500
TZNAME:EST
DTSTART:20261101T060000
END:STANDARD
BEGIN:DAYLIGHT
TZOFFSETFROM:-0500
TZOFFSETTO:-0400
TZNAME:EDT
DTSTART:20270314T070000
END:DAYLIGHT
BEGIN:STANDARD
TZOFFSETFROM:-0400
TZOFFSETTO:-0500
TZNAME:EST
DTSTART:20271107T060000
END:STANDARD
END:VTIMEZONE
BEGIN:VEVENT
DTSTART;TZID=America/New_York:20260125T180000
DTEND;TZID=America/New_York:20260125T180000
DTSTAMP:20260419T195145
CREATED:20260105T003247Z
LAST-MODIFIED:20260105T060043Z
UID:10020026-1769364000-1769364000@epictriviafl.com
SUMMARY:Music Bingo
DESCRIPTION:
URL:https://epictriviafl.com/event/music-bingo-vfw/2026-01-25/
LOCATION:VFW\, 351 S Charles Richard Beall Blvd\, DeBary\, FL 32713 USA
GEO:28.8679224;-81.3156601
X-APPLE-STRUCTURED-LOCATION;VALUE=URI;X-ADDRESS=VFW 351 S Charles Richard Beall Blvd DeBary FL 32713 USA;X-APPLE-RADIUS=500;X-TITLE=351 S Charles Richard Beall Blvd\, DeBary\, FL 32713 USA:geo:-81.3156601,28.8679224
END:VEVENT
BEGIN:VEVENT
DTSTART;TZID=America/New_York:20260118T180000
DTEND;TZID=America/New_York:20260118T180000
DTSTAMP:20260419T195145
CREATED:20260105T003247Z
LAST-MODIFIED:20260105T060043Z
UID:10020025-1768759200-1768759200@epictriviafl.com
SUMMARY:Music Bingo
DESCRIPTION:
URL:https://epictriviafl.com/event/music-bingo-vfw/2026-01-18/
LOCATION:VFW\, 351 S Charles Richard Beall Blvd\, DeBary\, FL 32713 USA
GEO:28.8679224;-81.3156601
X-APPLE-STRUCTURED-LOCATION;VALUE=URI;X-ADDRESS=VFW 351 S Charles Richard Beall Blvd DeBary FL 32713 USA;X-APPLE-RADIUS=500;X-TITLE=351 S Charles Richard Beall Blvd\, DeBary\, FL 32713 USA:geo:-81.3156601,28.8679224
END:VEVENT
BEGIN:VEVENT
DTSTART;TZID=America/New_York:20260111T180000
DTEND;TZID=America/New_York:20260111T180000
DTSTAMP:20260419T195145
CREATED:20260105T003247Z
LAST-MODIFIED:20260105T060043Z
UID:10020024-1768154400-1768154400@epictriviafl.com
SUMMARY:Music Bingo
DESCRIPTION:
URL:https://epictriviafl.com/event/music-bingo-vfw/2026-01-11/
LOCATION:VFW\, 351 S Charles Richard Beall Blvd\, DeBary\, FL 32713 USA
GEO:28.8679224;-81.3156601
X-APPLE-STRUCTURED-LOCATION;VALUE=URI;X-ADDRESS=VFW 351 S Charles Richard Beall Blvd DeBary FL 32713 USA;X-APPLE-RADIUS=500;X-TITLE=351 S Charles Richard Beall Blvd\, DeBary\, FL 32713 USA:geo:-81.3156601,28.8679224
END:VEVENT
BEGIN:VEVENT
DTSTART;TZID=America/New_York:20260104T180000
DTEND;TZID=America/New_York:20260104T180000
DTSTAMP:20260419T195145
CREATED:20260105T003247Z
LAST-MODIFIED:20260105T060043Z
UID:10008841-1767549600-1767549600@epictriviafl.com
SUMMARY:Music Bingo
DESCRIPTION:
URL:https://epictriviafl.com/event/music-bingo-vfw/2026-01-04/
LOCATION:VFW\, 351 S Charles Richard Beall Blvd\, DeBary\, FL 32713 USA
GEO:28.8679224;-81.3156601
X-APPLE-STRUCTURED-LOCATION;VALUE=URI;X-ADDRESS=VFW 351 S Charles Richard Beall Blvd DeBary FL 32713 USA;X-APPLE-RADIUS=500;X-TITLE=351 S Charles Richard Beall Blvd\, DeBary\, FL 32713 USA:geo:-81.3156601,28.8679224
END:VEVENT
END:VCALENDAR