BEGIN:VCALENDAR
VERSION:2.0
PRODID:-//Epic Trivia - ECPv6.15.18//NONSGML v1.0//EN
CALSCALE:GREGORIAN
METHOD:PUBLISH
X-WR-CALNAME:Epic Trivia
X-ORIGINAL-URL:https://epictriviafl.com
X-WR-CALDESC:Events for Epic Trivia
REFRESH-INTERVAL;VALUE=DURATION:PT1H
X-Robots-Tag:noindex
X-PUBLISHED-TTL:PT1H
BEGIN:VTIMEZONE
TZID:America/New_York
BEGIN:DAYLIGHT
TZOFFSETFROM:-0500
TZOFFSETTO:-0400
TZNAME:EDT
DTSTART:20280312T070000
END:DAYLIGHT
BEGIN:STANDARD
TZOFFSETFROM:-0400
TZOFFSETTO:-0500
TZNAME:EST
DTSTART:20281105T060000
END:STANDARD
BEGIN:DAYLIGHT
TZOFFSETFROM:-0500
TZOFFSETTO:-0400
TZNAME:EDT
DTSTART:20290311T070000
END:DAYLIGHT
BEGIN:STANDARD
TZOFFSETFROM:-0400
TZOFFSETTO:-0500
TZNAME:EST
DTSTART:20291104T060000
END:STANDARD
BEGIN:DAYLIGHT
TZOFFSETFROM:-0500
TZOFFSETTO:-0400
TZNAME:EDT
DTSTART:20300310T070000
END:DAYLIGHT
BEGIN:STANDARD
TZOFFSETFROM:-0400
TZOFFSETTO:-0500
TZNAME:EST
DTSTART:20301103T060000
END:STANDARD
BEGIN:DAYLIGHT
TZOFFSETFROM:-0500
TZOFFSETTO:-0400
TZNAME:EDT
DTSTART:20310309T070000
END:DAYLIGHT
BEGIN:STANDARD
TZOFFSETFROM:-0400
TZOFFSETTO:-0500
TZNAME:EST
DTSTART:20311102T060000
END:STANDARD
END:VTIMEZONE
BEGIN:VEVENT
DTSTART;TZID=America/New_York:20291230T180000
DTEND;TZID=America/New_York:20291230T180000
DTSTAMP:20260420T170918
CREATED:20260105T003247Z
LAST-MODIFIED:20260105T060043Z
UID:10020231-1893348000-1893348000@epictriviafl.com
SUMMARY:Music Bingo
DESCRIPTION:
URL:https://epictriviafl.com/event/music-bingo-vfw/2029-12-30/
LOCATION:VFW\, 351 S Charles Richard Beall Blvd\, DeBary\, FL 32713 USA
GEO:28.8679224;-81.3156601
X-APPLE-STRUCTURED-LOCATION;VALUE=URI;X-ADDRESS=VFW 351 S Charles Richard Beall Blvd DeBary FL 32713 USA;X-APPLE-RADIUS=500;X-TITLE=351 S Charles Richard Beall Blvd\, DeBary\, FL 32713 USA:geo:-81.3156601,28.8679224
END:VEVENT
BEGIN:VEVENT
DTSTART;TZID=America/New_York:20300106T180000
DTEND;TZID=America/New_York:20300106T180000
DTSTAMP:20260420T170918
CREATED:20260105T003247Z
LAST-MODIFIED:20260105T060043Z
UID:10020232-1893952800-1893952800@epictriviafl.com
SUMMARY:Music Bingo
DESCRIPTION:
URL:https://epictriviafl.com/event/music-bingo-vfw/2030-01-06/
LOCATION:VFW\, 351 S Charles Richard Beall Blvd\, DeBary\, FL 32713 USA
GEO:28.8679224;-81.3156601
X-APPLE-STRUCTURED-LOCATION;VALUE=URI;X-ADDRESS=VFW 351 S Charles Richard Beall Blvd DeBary FL 32713 USA;X-APPLE-RADIUS=500;X-TITLE=351 S Charles Richard Beall Blvd\, DeBary\, FL 32713 USA:geo:-81.3156601,28.8679224
END:VEVENT
BEGIN:VEVENT
DTSTART;TZID=America/New_York:20300113T180000
DTEND;TZID=America/New_York:20300113T180000
DTSTAMP:20260420T170919
CREATED:20260105T003247Z
LAST-MODIFIED:20260105T060043Z
UID:10020233-1894557600-1894557600@epictriviafl.com
SUMMARY:Music Bingo
DESCRIPTION:
URL:https://epictriviafl.com/event/music-bingo-vfw/2030-01-13/
LOCATION:VFW\, 351 S Charles Richard Beall Blvd\, DeBary\, FL 32713 USA
GEO:28.8679224;-81.3156601
X-APPLE-STRUCTURED-LOCATION;VALUE=URI;X-ADDRESS=VFW 351 S Charles Richard Beall Blvd DeBary FL 32713 USA;X-APPLE-RADIUS=500;X-TITLE=351 S Charles Richard Beall Blvd\, DeBary\, FL 32713 USA:geo:-81.3156601,28.8679224
END:VEVENT
BEGIN:VEVENT
DTSTART;TZID=America/New_York:20300120T180000
DTEND;TZID=America/New_York:20300120T180000
DTSTAMP:20260420T170919
CREATED:20260105T003247Z
LAST-MODIFIED:20260105T060043Z
UID:10020234-1895162400-1895162400@epictriviafl.com
SUMMARY:Music Bingo
DESCRIPTION:
URL:https://epictriviafl.com/event/music-bingo-vfw/2030-01-20/
LOCATION:VFW\, 351 S Charles Richard Beall Blvd\, DeBary\, FL 32713 USA
GEO:28.8679224;-81.3156601
X-APPLE-STRUCTURED-LOCATION;VALUE=URI;X-ADDRESS=VFW 351 S Charles Richard Beall Blvd DeBary FL 32713 USA;X-APPLE-RADIUS=500;X-TITLE=351 S Charles Richard Beall Blvd\, DeBary\, FL 32713 USA:geo:-81.3156601,28.8679224
END:VEVENT
BEGIN:VEVENT
DTSTART;TZID=America/New_York:20300127T180000
DTEND;TZID=America/New_York:20300127T180000
DTSTAMP:20260420T170919
CREATED:20260105T003247Z
LAST-MODIFIED:20260105T060043Z
UID:10020235-1895767200-1895767200@epictriviafl.com
SUMMARY:Music Bingo
DESCRIPTION:
URL:https://epictriviafl.com/event/music-bingo-vfw/2030-01-27/
LOCATION:VFW\, 351 S Charles Richard Beall Blvd\, DeBary\, FL 32713 USA
GEO:28.8679224;-81.3156601
X-APPLE-STRUCTURED-LOCATION;VALUE=URI;X-ADDRESS=VFW 351 S Charles Richard Beall Blvd DeBary FL 32713 USA;X-APPLE-RADIUS=500;X-TITLE=351 S Charles Richard Beall Blvd\, DeBary\, FL 32713 USA:geo:-81.3156601,28.8679224
END:VEVENT
BEGIN:VEVENT
DTSTART;TZID=America/New_York:20300203T180000
DTEND;TZID=America/New_York:20300203T180000
DTSTAMP:20260420T170919
CREATED:20260105T003247Z
LAST-MODIFIED:20260105T060043Z
UID:10020236-1896372000-1896372000@epictriviafl.com
SUMMARY:Music Bingo
DESCRIPTION:
URL:https://epictriviafl.com/event/music-bingo-vfw/2030-02-03/
LOCATION:VFW\, 351 S Charles Richard Beall Blvd\, DeBary\, FL 32713 USA
GEO:28.8679224;-81.3156601
X-APPLE-STRUCTURED-LOCATION;VALUE=URI;X-ADDRESS=VFW 351 S Charles Richard Beall Blvd DeBary FL 32713 USA;X-APPLE-RADIUS=500;X-TITLE=351 S Charles Richard Beall Blvd\, DeBary\, FL 32713 USA:geo:-81.3156601,28.8679224
END:VEVENT
BEGIN:VEVENT
DTSTART;TZID=America/New_York:20300210T180000
DTEND;TZID=America/New_York:20300210T180000
DTSTAMP:20260420T170919
CREATED:20260105T003247Z
LAST-MODIFIED:20260105T060043Z
UID:10020237-1896976800-1896976800@epictriviafl.com
SUMMARY:Music Bingo
DESCRIPTION:
URL:https://epictriviafl.com/event/music-bingo-vfw/2030-02-10/
LOCATION:VFW\, 351 S Charles Richard Beall Blvd\, DeBary\, FL 32713 USA
GEO:28.8679224;-81.3156601
X-APPLE-STRUCTURED-LOCATION;VALUE=URI;X-ADDRESS=VFW 351 S Charles Richard Beall Blvd DeBary FL 32713 USA;X-APPLE-RADIUS=500;X-TITLE=351 S Charles Richard Beall Blvd\, DeBary\, FL 32713 USA:geo:-81.3156601,28.8679224
END:VEVENT
BEGIN:VEVENT
DTSTART;TZID=America/New_York:20300217T180000
DTEND;TZID=America/New_York:20300217T180000
DTSTAMP:20260420T170919
CREATED:20260105T003247Z
LAST-MODIFIED:20260105T060043Z
UID:10020238-1897581600-1897581600@epictriviafl.com
SUMMARY:Music Bingo
DESCRIPTION:
URL:https://epictriviafl.com/event/music-bingo-vfw/2030-02-17/
LOCATION:VFW\, 351 S Charles Richard Beall Blvd\, DeBary\, FL 32713 USA
GEO:28.8679224;-81.3156601
X-APPLE-STRUCTURED-LOCATION;VALUE=URI;X-ADDRESS=VFW 351 S Charles Richard Beall Blvd DeBary FL 32713 USA;X-APPLE-RADIUS=500;X-TITLE=351 S Charles Richard Beall Blvd\, DeBary\, FL 32713 USA:geo:-81.3156601,28.8679224
END:VEVENT
BEGIN:VEVENT
DTSTART;TZID=America/New_York:20300224T180000
DTEND;TZID=America/New_York:20300224T180000
DTSTAMP:20260420T170919
CREATED:20260105T003247Z
LAST-MODIFIED:20260105T060043Z
UID:10020239-1898186400-1898186400@epictriviafl.com
SUMMARY:Music Bingo
DESCRIPTION:
URL:https://epictriviafl.com/event/music-bingo-vfw/2030-02-24/
LOCATION:VFW\, 351 S Charles Richard Beall Blvd\, DeBary\, FL 32713 USA
GEO:28.8679224;-81.3156601
X-APPLE-STRUCTURED-LOCATION;VALUE=URI;X-ADDRESS=VFW 351 S Charles Richard Beall Blvd DeBary FL 32713 USA;X-APPLE-RADIUS=500;X-TITLE=351 S Charles Richard Beall Blvd\, DeBary\, FL 32713 USA:geo:-81.3156601,28.8679224
END:VEVENT
BEGIN:VEVENT
DTSTART;TZID=America/New_York:20300303T180000
DTEND;TZID=America/New_York:20300303T180000
DTSTAMP:20260420T170919
CREATED:20260105T003247Z
LAST-MODIFIED:20260105T060043Z
UID:10020240-1898791200-1898791200@epictriviafl.com
SUMMARY:Music Bingo
DESCRIPTION:
URL:https://epictriviafl.com/event/music-bingo-vfw/2030-03-03/
LOCATION:VFW\, 351 S Charles Richard Beall Blvd\, DeBary\, FL 32713 USA
GEO:28.8679224;-81.3156601
X-APPLE-STRUCTURED-LOCATION;VALUE=URI;X-ADDRESS=VFW 351 S Charles Richard Beall Blvd DeBary FL 32713 USA;X-APPLE-RADIUS=500;X-TITLE=351 S Charles Richard Beall Blvd\, DeBary\, FL 32713 USA:geo:-81.3156601,28.8679224
END:VEVENT
BEGIN:VEVENT
DTSTART;TZID=America/New_York:20300310T180000
DTEND;TZID=America/New_York:20300310T180000
DTSTAMP:20260420T170919
CREATED:20260105T003247Z
LAST-MODIFIED:20260105T060043Z
UID:10020241-1899396000-1899396000@epictriviafl.com
SUMMARY:Music Bingo
DESCRIPTION:
URL:https://epictriviafl.com/event/music-bingo-vfw/2030-03-10/
LOCATION:VFW\, 351 S Charles Richard Beall Blvd\, DeBary\, FL 32713 USA
GEO:28.8679224;-81.3156601
X-APPLE-STRUCTURED-LOCATION;VALUE=URI;X-ADDRESS=VFW 351 S Charles Richard Beall Blvd DeBary FL 32713 USA;X-APPLE-RADIUS=500;X-TITLE=351 S Charles Richard Beall Blvd\, DeBary\, FL 32713 USA:geo:-81.3156601,28.8679224
END:VEVENT
BEGIN:VEVENT
DTSTART;TZID=America/New_York:20300317T180000
DTEND;TZID=America/New_York:20300317T180000
DTSTAMP:20260420T170919
CREATED:20260105T003247Z
LAST-MODIFIED:20260105T060043Z
UID:10020242-1900000800-1900000800@epictriviafl.com
SUMMARY:Music Bingo
DESCRIPTION:
URL:https://epictriviafl.com/event/music-bingo-vfw/2030-03-17/
LOCATION:VFW\, 351 S Charles Richard Beall Blvd\, DeBary\, FL 32713 USA
GEO:28.8679224;-81.3156601
X-APPLE-STRUCTURED-LOCATION;VALUE=URI;X-ADDRESS=VFW 351 S Charles Richard Beall Blvd DeBary FL 32713 USA;X-APPLE-RADIUS=500;X-TITLE=351 S Charles Richard Beall Blvd\, DeBary\, FL 32713 USA:geo:-81.3156601,28.8679224
END:VEVENT
BEGIN:VEVENT
DTSTART;TZID=America/New_York:20300324T180000
DTEND;TZID=America/New_York:20300324T180000
DTSTAMP:20260420T170919
CREATED:20260105T003247Z
LAST-MODIFIED:20260105T060043Z
UID:10020243-1900605600-1900605600@epictriviafl.com
SUMMARY:Music Bingo
DESCRIPTION:
URL:https://epictriviafl.com/event/music-bingo-vfw/2030-03-24/
LOCATION:VFW\, 351 S Charles Richard Beall Blvd\, DeBary\, FL 32713 USA
GEO:28.8679224;-81.3156601
X-APPLE-STRUCTURED-LOCATION;VALUE=URI;X-ADDRESS=VFW 351 S Charles Richard Beall Blvd DeBary FL 32713 USA;X-APPLE-RADIUS=500;X-TITLE=351 S Charles Richard Beall Blvd\, DeBary\, FL 32713 USA:geo:-81.3156601,28.8679224
END:VEVENT
BEGIN:VEVENT
DTSTART;TZID=America/New_York:20300331T180000
DTEND;TZID=America/New_York:20300331T180000
DTSTAMP:20260420T170919
CREATED:20260105T003247Z
LAST-MODIFIED:20260105T060043Z
UID:10020244-1901210400-1901210400@epictriviafl.com
SUMMARY:Music Bingo
DESCRIPTION:
URL:https://epictriviafl.com/event/music-bingo-vfw/2030-03-31/
LOCATION:VFW\, 351 S Charles Richard Beall Blvd\, DeBary\, FL 32713 USA
GEO:28.8679224;-81.3156601
X-APPLE-STRUCTURED-LOCATION;VALUE=URI;X-ADDRESS=VFW 351 S Charles Richard Beall Blvd DeBary FL 32713 USA;X-APPLE-RADIUS=500;X-TITLE=351 S Charles Richard Beall Blvd\, DeBary\, FL 32713 USA:geo:-81.3156601,28.8679224
END:VEVENT
BEGIN:VEVENT
DTSTART;TZID=America/New_York:20300407T180000
DTEND;TZID=America/New_York:20300407T180000
DTSTAMP:20260420T170919
CREATED:20260105T003247Z
LAST-MODIFIED:20260105T060043Z
UID:10020245-1901815200-1901815200@epictriviafl.com
SUMMARY:Music Bingo
DESCRIPTION:
URL:https://epictriviafl.com/event/music-bingo-vfw/2030-04-07/
LOCATION:VFW\, 351 S Charles Richard Beall Blvd\, DeBary\, FL 32713 USA
GEO:28.8679224;-81.3156601
X-APPLE-STRUCTURED-LOCATION;VALUE=URI;X-ADDRESS=VFW 351 S Charles Richard Beall Blvd DeBary FL 32713 USA;X-APPLE-RADIUS=500;X-TITLE=351 S Charles Richard Beall Blvd\, DeBary\, FL 32713 USA:geo:-81.3156601,28.8679224
END:VEVENT
BEGIN:VEVENT
DTSTART;TZID=America/New_York:20300414T180000
DTEND;TZID=America/New_York:20300414T180000
DTSTAMP:20260420T170919
CREATED:20260105T003247Z
LAST-MODIFIED:20260105T060043Z
UID:10020246-1902420000-1902420000@epictriviafl.com
SUMMARY:Music Bingo
DESCRIPTION:
URL:https://epictriviafl.com/event/music-bingo-vfw/2030-04-14/
LOCATION:VFW\, 351 S Charles Richard Beall Blvd\, DeBary\, FL 32713 USA
GEO:28.8679224;-81.3156601
X-APPLE-STRUCTURED-LOCATION;VALUE=URI;X-ADDRESS=VFW 351 S Charles Richard Beall Blvd DeBary FL 32713 USA;X-APPLE-RADIUS=500;X-TITLE=351 S Charles Richard Beall Blvd\, DeBary\, FL 32713 USA:geo:-81.3156601,28.8679224
END:VEVENT
BEGIN:VEVENT
DTSTART;TZID=America/New_York:20300421T180000
DTEND;TZID=America/New_York:20300421T180000
DTSTAMP:20260420T170919
CREATED:20260105T003247Z
LAST-MODIFIED:20260105T060043Z
UID:10020247-1903024800-1903024800@epictriviafl.com
SUMMARY:Music Bingo
DESCRIPTION:
URL:https://epictriviafl.com/event/music-bingo-vfw/2030-04-21/
LOCATION:VFW\, 351 S Charles Richard Beall Blvd\, DeBary\, FL 32713 USA
GEO:28.8679224;-81.3156601
X-APPLE-STRUCTURED-LOCATION;VALUE=URI;X-ADDRESS=VFW 351 S Charles Richard Beall Blvd DeBary FL 32713 USA;X-APPLE-RADIUS=500;X-TITLE=351 S Charles Richard Beall Blvd\, DeBary\, FL 32713 USA:geo:-81.3156601,28.8679224
END:VEVENT
BEGIN:VEVENT
DTSTART;TZID=America/New_York:20300428T180000
DTEND;TZID=America/New_York:20300428T180000
DTSTAMP:20260420T170919
CREATED:20260105T003247Z
LAST-MODIFIED:20260105T060043Z
UID:10020248-1903629600-1903629600@epictriviafl.com
SUMMARY:Music Bingo
DESCRIPTION:
URL:https://epictriviafl.com/event/music-bingo-vfw/2030-04-28/
LOCATION:VFW\, 351 S Charles Richard Beall Blvd\, DeBary\, FL 32713 USA
GEO:28.8679224;-81.3156601
X-APPLE-STRUCTURED-LOCATION;VALUE=URI;X-ADDRESS=VFW 351 S Charles Richard Beall Blvd DeBary FL 32713 USA;X-APPLE-RADIUS=500;X-TITLE=351 S Charles Richard Beall Blvd\, DeBary\, FL 32713 USA:geo:-81.3156601,28.8679224
END:VEVENT
BEGIN:VEVENT
DTSTART;TZID=America/New_York:20300505T180000
DTEND;TZID=America/New_York:20300505T180000
DTSTAMP:20260420T170919
CREATED:20260105T003247Z
LAST-MODIFIED:20260105T060043Z
UID:10020249-1904234400-1904234400@epictriviafl.com
SUMMARY:Music Bingo
DESCRIPTION:
URL:https://epictriviafl.com/event/music-bingo-vfw/2030-05-05/
LOCATION:VFW\, 351 S Charles Richard Beall Blvd\, DeBary\, FL 32713 USA
GEO:28.8679224;-81.3156601
X-APPLE-STRUCTURED-LOCATION;VALUE=URI;X-ADDRESS=VFW 351 S Charles Richard Beall Blvd DeBary FL 32713 USA;X-APPLE-RADIUS=500;X-TITLE=351 S Charles Richard Beall Blvd\, DeBary\, FL 32713 USA:geo:-81.3156601,28.8679224
END:VEVENT
BEGIN:VEVENT
DTSTART;TZID=America/New_York:20300512T180000
DTEND;TZID=America/New_York:20300512T180000
DTSTAMP:20260420T170919
CREATED:20260105T003247Z
LAST-MODIFIED:20260105T060043Z
UID:10020250-1904839200-1904839200@epictriviafl.com
SUMMARY:Music Bingo
DESCRIPTION:
URL:https://epictriviafl.com/event/music-bingo-vfw/2030-05-12/
LOCATION:VFW\, 351 S Charles Richard Beall Blvd\, DeBary\, FL 32713 USA
GEO:28.8679224;-81.3156601
X-APPLE-STRUCTURED-LOCATION;VALUE=URI;X-ADDRESS=VFW 351 S Charles Richard Beall Blvd DeBary FL 32713 USA;X-APPLE-RADIUS=500;X-TITLE=351 S Charles Richard Beall Blvd\, DeBary\, FL 32713 USA:geo:-81.3156601,28.8679224
END:VEVENT
BEGIN:VEVENT
DTSTART;TZID=America/New_York:20300519T180000
DTEND;TZID=America/New_York:20300519T180000
DTSTAMP:20260420T170919
CREATED:20260105T003247Z
LAST-MODIFIED:20260105T060043Z
UID:10020251-1905444000-1905444000@epictriviafl.com
SUMMARY:Music Bingo
DESCRIPTION:
URL:https://epictriviafl.com/event/music-bingo-vfw/2030-05-19/
LOCATION:VFW\, 351 S Charles Richard Beall Blvd\, DeBary\, FL 32713 USA
GEO:28.8679224;-81.3156601
X-APPLE-STRUCTURED-LOCATION;VALUE=URI;X-ADDRESS=VFW 351 S Charles Richard Beall Blvd DeBary FL 32713 USA;X-APPLE-RADIUS=500;X-TITLE=351 S Charles Richard Beall Blvd\, DeBary\, FL 32713 USA:geo:-81.3156601,28.8679224
END:VEVENT
BEGIN:VEVENT
DTSTART;TZID=America/New_York:20300526T180000
DTEND;TZID=America/New_York:20300526T180000
DTSTAMP:20260420T170919
CREATED:20260105T003247Z
LAST-MODIFIED:20260105T060043Z
UID:10020252-1906048800-1906048800@epictriviafl.com
SUMMARY:Music Bingo
DESCRIPTION:
URL:https://epictriviafl.com/event/music-bingo-vfw/2030-05-26/
LOCATION:VFW\, 351 S Charles Richard Beall Blvd\, DeBary\, FL 32713 USA
GEO:28.8679224;-81.3156601
X-APPLE-STRUCTURED-LOCATION;VALUE=URI;X-ADDRESS=VFW 351 S Charles Richard Beall Blvd DeBary FL 32713 USA;X-APPLE-RADIUS=500;X-TITLE=351 S Charles Richard Beall Blvd\, DeBary\, FL 32713 USA:geo:-81.3156601,28.8679224
END:VEVENT
BEGIN:VEVENT
DTSTART;TZID=America/New_York:20300602T180000
DTEND;TZID=America/New_York:20300602T180000
DTSTAMP:20260420T170919
CREATED:20260105T003247Z
LAST-MODIFIED:20260105T060043Z
UID:10020253-1906653600-1906653600@epictriviafl.com
SUMMARY:Music Bingo
DESCRIPTION:
URL:https://epictriviafl.com/event/music-bingo-vfw/2030-06-02/
LOCATION:VFW\, 351 S Charles Richard Beall Blvd\, DeBary\, FL 32713 USA
GEO:28.8679224;-81.3156601
X-APPLE-STRUCTURED-LOCATION;VALUE=URI;X-ADDRESS=VFW 351 S Charles Richard Beall Blvd DeBary FL 32713 USA;X-APPLE-RADIUS=500;X-TITLE=351 S Charles Richard Beall Blvd\, DeBary\, FL 32713 USA:geo:-81.3156601,28.8679224
END:VEVENT
BEGIN:VEVENT
DTSTART;TZID=America/New_York:20300609T180000
DTEND;TZID=America/New_York:20300609T180000
DTSTAMP:20260420T170919
CREATED:20260105T003247Z
LAST-MODIFIED:20260105T060043Z
UID:10020254-1907258400-1907258400@epictriviafl.com
SUMMARY:Music Bingo
DESCRIPTION:
URL:https://epictriviafl.com/event/music-bingo-vfw/2030-06-09/
LOCATION:VFW\, 351 S Charles Richard Beall Blvd\, DeBary\, FL 32713 USA
GEO:28.8679224;-81.3156601
X-APPLE-STRUCTURED-LOCATION;VALUE=URI;X-ADDRESS=VFW 351 S Charles Richard Beall Blvd DeBary FL 32713 USA;X-APPLE-RADIUS=500;X-TITLE=351 S Charles Richard Beall Blvd\, DeBary\, FL 32713 USA:geo:-81.3156601,28.8679224
END:VEVENT
BEGIN:VEVENT
DTSTART;TZID=America/New_York:20300616T180000
DTEND;TZID=America/New_York:20300616T180000
DTSTAMP:20260420T170919
CREATED:20260105T003247Z
LAST-MODIFIED:20260105T060043Z
UID:10020255-1907863200-1907863200@epictriviafl.com
SUMMARY:Music Bingo
DESCRIPTION:
URL:https://epictriviafl.com/event/music-bingo-vfw/2030-06-16/
LOCATION:VFW\, 351 S Charles Richard Beall Blvd\, DeBary\, FL 32713 USA
GEO:28.8679224;-81.3156601
X-APPLE-STRUCTURED-LOCATION;VALUE=URI;X-ADDRESS=VFW 351 S Charles Richard Beall Blvd DeBary FL 32713 USA;X-APPLE-RADIUS=500;X-TITLE=351 S Charles Richard Beall Blvd\, DeBary\, FL 32713 USA:geo:-81.3156601,28.8679224
END:VEVENT
BEGIN:VEVENT
DTSTART;TZID=America/New_York:20300623T180000
DTEND;TZID=America/New_York:20300623T180000
DTSTAMP:20260420T170919
CREATED:20260105T003247Z
LAST-MODIFIED:20260105T060043Z
UID:10020256-1908468000-1908468000@epictriviafl.com
SUMMARY:Music Bingo
DESCRIPTION:
URL:https://epictriviafl.com/event/music-bingo-vfw/2030-06-23/
LOCATION:VFW\, 351 S Charles Richard Beall Blvd\, DeBary\, FL 32713 USA
GEO:28.8679224;-81.3156601
X-APPLE-STRUCTURED-LOCATION;VALUE=URI;X-ADDRESS=VFW 351 S Charles Richard Beall Blvd DeBary FL 32713 USA;X-APPLE-RADIUS=500;X-TITLE=351 S Charles Richard Beall Blvd\, DeBary\, FL 32713 USA:geo:-81.3156601,28.8679224
END:VEVENT
BEGIN:VEVENT
DTSTART;TZID=America/New_York:20300630T180000
DTEND;TZID=America/New_York:20300630T180000
DTSTAMP:20260420T170919
CREATED:20260105T003247Z
LAST-MODIFIED:20260105T060043Z
UID:10020257-1909072800-1909072800@epictriviafl.com
SUMMARY:Music Bingo
DESCRIPTION:
URL:https://epictriviafl.com/event/music-bingo-vfw/2030-06-30/
LOCATION:VFW\, 351 S Charles Richard Beall Blvd\, DeBary\, FL 32713 USA
GEO:28.8679224;-81.3156601
X-APPLE-STRUCTURED-LOCATION;VALUE=URI;X-ADDRESS=VFW 351 S Charles Richard Beall Blvd DeBary FL 32713 USA;X-APPLE-RADIUS=500;X-TITLE=351 S Charles Richard Beall Blvd\, DeBary\, FL 32713 USA:geo:-81.3156601,28.8679224
END:VEVENT
BEGIN:VEVENT
DTSTART;TZID=America/New_York:20300707T180000
DTEND;TZID=America/New_York:20300707T180000
DTSTAMP:20260420T170919
CREATED:20260105T003247Z
LAST-MODIFIED:20260105T060043Z
UID:10020258-1909677600-1909677600@epictriviafl.com
SUMMARY:Music Bingo
DESCRIPTION:
URL:https://epictriviafl.com/event/music-bingo-vfw/2030-07-07/
LOCATION:VFW\, 351 S Charles Richard Beall Blvd\, DeBary\, FL 32713 USA
GEO:28.8679224;-81.3156601
X-APPLE-STRUCTURED-LOCATION;VALUE=URI;X-ADDRESS=VFW 351 S Charles Richard Beall Blvd DeBary FL 32713 USA;X-APPLE-RADIUS=500;X-TITLE=351 S Charles Richard Beall Blvd\, DeBary\, FL 32713 USA:geo:-81.3156601,28.8679224
END:VEVENT
BEGIN:VEVENT
DTSTART;TZID=America/New_York:20300714T180000
DTEND;TZID=America/New_York:20300714T180000
DTSTAMP:20260420T170919
CREATED:20260105T003247Z
LAST-MODIFIED:20260105T060043Z
UID:10020259-1910282400-1910282400@epictriviafl.com
SUMMARY:Music Bingo
DESCRIPTION:
URL:https://epictriviafl.com/event/music-bingo-vfw/2030-07-14/
LOCATION:VFW\, 351 S Charles Richard Beall Blvd\, DeBary\, FL 32713 USA
GEO:28.8679224;-81.3156601
X-APPLE-STRUCTURED-LOCATION;VALUE=URI;X-ADDRESS=VFW 351 S Charles Richard Beall Blvd DeBary FL 32713 USA;X-APPLE-RADIUS=500;X-TITLE=351 S Charles Richard Beall Blvd\, DeBary\, FL 32713 USA:geo:-81.3156601,28.8679224
END:VEVENT
BEGIN:VEVENT
DTSTART;TZID=America/New_York:20300721T180000
DTEND;TZID=America/New_York:20300721T180000
DTSTAMP:20260420T170919
CREATED:20260105T003247Z
LAST-MODIFIED:20260105T060043Z
UID:10020260-1910887200-1910887200@epictriviafl.com
SUMMARY:Music Bingo
DESCRIPTION:
URL:https://epictriviafl.com/event/music-bingo-vfw/2030-07-21/
LOCATION:VFW\, 351 S Charles Richard Beall Blvd\, DeBary\, FL 32713 USA
GEO:28.8679224;-81.3156601
X-APPLE-STRUCTURED-LOCATION;VALUE=URI;X-ADDRESS=VFW 351 S Charles Richard Beall Blvd DeBary FL 32713 USA;X-APPLE-RADIUS=500;X-TITLE=351 S Charles Richard Beall Blvd\, DeBary\, FL 32713 USA:geo:-81.3156601,28.8679224
END:VEVENT
END:VCALENDAR