BEGIN:VCALENDAR
VERSION:2.0
PRODID:-//Epic Trivia - ECPv6.15.18//NONSGML v1.0//EN
CALSCALE:GREGORIAN
METHOD:PUBLISH
X-WR-CALNAME:Epic Trivia
X-ORIGINAL-URL:https://epictriviafl.com
X-WR-CALDESC:Events for Epic Trivia
REFRESH-INTERVAL;VALUE=DURATION:PT1H
X-Robots-Tag:noindex
X-PUBLISHED-TTL:PT1H
BEGIN:VTIMEZONE
TZID:America/New_York
BEGIN:DAYLIGHT
TZOFFSETFROM:-0500
TZOFFSETTO:-0400
TZNAME:EDT
DTSTART:20280312T070000
END:DAYLIGHT
BEGIN:STANDARD
TZOFFSETFROM:-0400
TZOFFSETTO:-0500
TZNAME:EST
DTSTART:20281105T060000
END:STANDARD
BEGIN:DAYLIGHT
TZOFFSETFROM:-0500
TZOFFSETTO:-0400
TZNAME:EDT
DTSTART:20290311T070000
END:DAYLIGHT
BEGIN:STANDARD
TZOFFSETFROM:-0400
TZOFFSETTO:-0500
TZNAME:EST
DTSTART:20291104T060000
END:STANDARD
BEGIN:DAYLIGHT
TZOFFSETFROM:-0500
TZOFFSETTO:-0400
TZNAME:EDT
DTSTART:20300310T070000
END:DAYLIGHT
BEGIN:STANDARD
TZOFFSETFROM:-0400
TZOFFSETTO:-0500
TZNAME:EST
DTSTART:20301103T060000
END:STANDARD
END:VTIMEZONE
BEGIN:VEVENT
DTSTART;TZID=America/New_York:20290128T180000
DTEND;TZID=America/New_York:20290128T180000
DTSTAMP:20260420T104317
CREATED:20260105T003247Z
LAST-MODIFIED:20260105T060043Z
UID:10020183-1864317600-1864317600@epictriviafl.com
SUMMARY:Music Bingo
DESCRIPTION:
URL:https://epictriviafl.com/event/music-bingo-vfw/2029-01-28/
LOCATION:VFW\, 351 S Charles Richard Beall Blvd\, DeBary\, FL 32713 USA
GEO:28.8679224;-81.3156601
X-APPLE-STRUCTURED-LOCATION;VALUE=URI;X-ADDRESS=VFW 351 S Charles Richard Beall Blvd DeBary FL 32713 USA;X-APPLE-RADIUS=500;X-TITLE=351 S Charles Richard Beall Blvd\, DeBary\, FL 32713 USA:geo:-81.3156601,28.8679224
END:VEVENT
BEGIN:VEVENT
DTSTART;TZID=America/New_York:20290204T180000
DTEND;TZID=America/New_York:20290204T180000
DTSTAMP:20260420T104317
CREATED:20260105T003247Z
LAST-MODIFIED:20260105T060043Z
UID:10020184-1864922400-1864922400@epictriviafl.com
SUMMARY:Music Bingo
DESCRIPTION:
URL:https://epictriviafl.com/event/music-bingo-vfw/2029-02-04/
LOCATION:VFW\, 351 S Charles Richard Beall Blvd\, DeBary\, FL 32713 USA
GEO:28.8679224;-81.3156601
X-APPLE-STRUCTURED-LOCATION;VALUE=URI;X-ADDRESS=VFW 351 S Charles Richard Beall Blvd DeBary FL 32713 USA;X-APPLE-RADIUS=500;X-TITLE=351 S Charles Richard Beall Blvd\, DeBary\, FL 32713 USA:geo:-81.3156601,28.8679224
END:VEVENT
BEGIN:VEVENT
DTSTART;TZID=America/New_York:20290211T180000
DTEND;TZID=America/New_York:20290211T180000
DTSTAMP:20260420T104317
CREATED:20260105T003247Z
LAST-MODIFIED:20260105T060043Z
UID:10020185-1865527200-1865527200@epictriviafl.com
SUMMARY:Music Bingo
DESCRIPTION:
URL:https://epictriviafl.com/event/music-bingo-vfw/2029-02-11/
LOCATION:VFW\, 351 S Charles Richard Beall Blvd\, DeBary\, FL 32713 USA
GEO:28.8679224;-81.3156601
X-APPLE-STRUCTURED-LOCATION;VALUE=URI;X-ADDRESS=VFW 351 S Charles Richard Beall Blvd DeBary FL 32713 USA;X-APPLE-RADIUS=500;X-TITLE=351 S Charles Richard Beall Blvd\, DeBary\, FL 32713 USA:geo:-81.3156601,28.8679224
END:VEVENT
BEGIN:VEVENT
DTSTART;TZID=America/New_York:20290218T180000
DTEND;TZID=America/New_York:20290218T180000
DTSTAMP:20260420T104317
CREATED:20260105T003247Z
LAST-MODIFIED:20260105T060043Z
UID:10020186-1866132000-1866132000@epictriviafl.com
SUMMARY:Music Bingo
DESCRIPTION:
URL:https://epictriviafl.com/event/music-bingo-vfw/2029-02-18/
LOCATION:VFW\, 351 S Charles Richard Beall Blvd\, DeBary\, FL 32713 USA
GEO:28.8679224;-81.3156601
X-APPLE-STRUCTURED-LOCATION;VALUE=URI;X-ADDRESS=VFW 351 S Charles Richard Beall Blvd DeBary FL 32713 USA;X-APPLE-RADIUS=500;X-TITLE=351 S Charles Richard Beall Blvd\, DeBary\, FL 32713 USA:geo:-81.3156601,28.8679224
END:VEVENT
BEGIN:VEVENT
DTSTART;TZID=America/New_York:20290225T180000
DTEND;TZID=America/New_York:20290225T180000
DTSTAMP:20260420T104317
CREATED:20260105T003247Z
LAST-MODIFIED:20260105T060043Z
UID:10020187-1866736800-1866736800@epictriviafl.com
SUMMARY:Music Bingo
DESCRIPTION:
URL:https://epictriviafl.com/event/music-bingo-vfw/2029-02-25/
LOCATION:VFW\, 351 S Charles Richard Beall Blvd\, DeBary\, FL 32713 USA
GEO:28.8679224;-81.3156601
X-APPLE-STRUCTURED-LOCATION;VALUE=URI;X-ADDRESS=VFW 351 S Charles Richard Beall Blvd DeBary FL 32713 USA;X-APPLE-RADIUS=500;X-TITLE=351 S Charles Richard Beall Blvd\, DeBary\, FL 32713 USA:geo:-81.3156601,28.8679224
END:VEVENT
BEGIN:VEVENT
DTSTART;TZID=America/New_York:20290304T180000
DTEND;TZID=America/New_York:20290304T180000
DTSTAMP:20260420T104317
CREATED:20260105T003247Z
LAST-MODIFIED:20260105T060043Z
UID:10020188-1867341600-1867341600@epictriviafl.com
SUMMARY:Music Bingo
DESCRIPTION:
URL:https://epictriviafl.com/event/music-bingo-vfw/2029-03-04/
LOCATION:VFW\, 351 S Charles Richard Beall Blvd\, DeBary\, FL 32713 USA
GEO:28.8679224;-81.3156601
X-APPLE-STRUCTURED-LOCATION;VALUE=URI;X-ADDRESS=VFW 351 S Charles Richard Beall Blvd DeBary FL 32713 USA;X-APPLE-RADIUS=500;X-TITLE=351 S Charles Richard Beall Blvd\, DeBary\, FL 32713 USA:geo:-81.3156601,28.8679224
END:VEVENT
BEGIN:VEVENT
DTSTART;TZID=America/New_York:20290311T180000
DTEND;TZID=America/New_York:20290311T180000
DTSTAMP:20260420T104317
CREATED:20260105T003247Z
LAST-MODIFIED:20260105T060043Z
UID:10020189-1867946400-1867946400@epictriviafl.com
SUMMARY:Music Bingo
DESCRIPTION:
URL:https://epictriviafl.com/event/music-bingo-vfw/2029-03-11/
LOCATION:VFW\, 351 S Charles Richard Beall Blvd\, DeBary\, FL 32713 USA
GEO:28.8679224;-81.3156601
X-APPLE-STRUCTURED-LOCATION;VALUE=URI;X-ADDRESS=VFW 351 S Charles Richard Beall Blvd DeBary FL 32713 USA;X-APPLE-RADIUS=500;X-TITLE=351 S Charles Richard Beall Blvd\, DeBary\, FL 32713 USA:geo:-81.3156601,28.8679224
END:VEVENT
BEGIN:VEVENT
DTSTART;TZID=America/New_York:20290318T180000
DTEND;TZID=America/New_York:20290318T180000
DTSTAMP:20260420T104317
CREATED:20260105T003247Z
LAST-MODIFIED:20260105T060043Z
UID:10020190-1868551200-1868551200@epictriviafl.com
SUMMARY:Music Bingo
DESCRIPTION:
URL:https://epictriviafl.com/event/music-bingo-vfw/2029-03-18/
LOCATION:VFW\, 351 S Charles Richard Beall Blvd\, DeBary\, FL 32713 USA
GEO:28.8679224;-81.3156601
X-APPLE-STRUCTURED-LOCATION;VALUE=URI;X-ADDRESS=VFW 351 S Charles Richard Beall Blvd DeBary FL 32713 USA;X-APPLE-RADIUS=500;X-TITLE=351 S Charles Richard Beall Blvd\, DeBary\, FL 32713 USA:geo:-81.3156601,28.8679224
END:VEVENT
BEGIN:VEVENT
DTSTART;TZID=America/New_York:20290325T180000
DTEND;TZID=America/New_York:20290325T180000
DTSTAMP:20260420T104317
CREATED:20260105T003247Z
LAST-MODIFIED:20260105T060043Z
UID:10020191-1869156000-1869156000@epictriviafl.com
SUMMARY:Music Bingo
DESCRIPTION:
URL:https://epictriviafl.com/event/music-bingo-vfw/2029-03-25/
LOCATION:VFW\, 351 S Charles Richard Beall Blvd\, DeBary\, FL 32713 USA
GEO:28.8679224;-81.3156601
X-APPLE-STRUCTURED-LOCATION;VALUE=URI;X-ADDRESS=VFW 351 S Charles Richard Beall Blvd DeBary FL 32713 USA;X-APPLE-RADIUS=500;X-TITLE=351 S Charles Richard Beall Blvd\, DeBary\, FL 32713 USA:geo:-81.3156601,28.8679224
END:VEVENT
BEGIN:VEVENT
DTSTART;TZID=America/New_York:20290401T180000
DTEND;TZID=America/New_York:20290401T180000
DTSTAMP:20260420T104317
CREATED:20260105T003247Z
LAST-MODIFIED:20260105T060043Z
UID:10020192-1869760800-1869760800@epictriviafl.com
SUMMARY:Music Bingo
DESCRIPTION:
URL:https://epictriviafl.com/event/music-bingo-vfw/2029-04-01/
LOCATION:VFW\, 351 S Charles Richard Beall Blvd\, DeBary\, FL 32713 USA
GEO:28.8679224;-81.3156601
X-APPLE-STRUCTURED-LOCATION;VALUE=URI;X-ADDRESS=VFW 351 S Charles Richard Beall Blvd DeBary FL 32713 USA;X-APPLE-RADIUS=500;X-TITLE=351 S Charles Richard Beall Blvd\, DeBary\, FL 32713 USA:geo:-81.3156601,28.8679224
END:VEVENT
BEGIN:VEVENT
DTSTART;TZID=America/New_York:20290408T180000
DTEND;TZID=America/New_York:20290408T180000
DTSTAMP:20260420T104317
CREATED:20260105T003247Z
LAST-MODIFIED:20260105T060043Z
UID:10020193-1870365600-1870365600@epictriviafl.com
SUMMARY:Music Bingo
DESCRIPTION:
URL:https://epictriviafl.com/event/music-bingo-vfw/2029-04-08/
LOCATION:VFW\, 351 S Charles Richard Beall Blvd\, DeBary\, FL 32713 USA
GEO:28.8679224;-81.3156601
X-APPLE-STRUCTURED-LOCATION;VALUE=URI;X-ADDRESS=VFW 351 S Charles Richard Beall Blvd DeBary FL 32713 USA;X-APPLE-RADIUS=500;X-TITLE=351 S Charles Richard Beall Blvd\, DeBary\, FL 32713 USA:geo:-81.3156601,28.8679224
END:VEVENT
BEGIN:VEVENT
DTSTART;TZID=America/New_York:20290415T180000
DTEND;TZID=America/New_York:20290415T180000
DTSTAMP:20260420T104317
CREATED:20260105T003247Z
LAST-MODIFIED:20260105T060043Z
UID:10020194-1870970400-1870970400@epictriviafl.com
SUMMARY:Music Bingo
DESCRIPTION:
URL:https://epictriviafl.com/event/music-bingo-vfw/2029-04-15/
LOCATION:VFW\, 351 S Charles Richard Beall Blvd\, DeBary\, FL 32713 USA
GEO:28.8679224;-81.3156601
X-APPLE-STRUCTURED-LOCATION;VALUE=URI;X-ADDRESS=VFW 351 S Charles Richard Beall Blvd DeBary FL 32713 USA;X-APPLE-RADIUS=500;X-TITLE=351 S Charles Richard Beall Blvd\, DeBary\, FL 32713 USA:geo:-81.3156601,28.8679224
END:VEVENT
BEGIN:VEVENT
DTSTART;TZID=America/New_York:20290422T180000
DTEND;TZID=America/New_York:20290422T180000
DTSTAMP:20260420T104317
CREATED:20260105T003247Z
LAST-MODIFIED:20260105T060043Z
UID:10020195-1871575200-1871575200@epictriviafl.com
SUMMARY:Music Bingo
DESCRIPTION:
URL:https://epictriviafl.com/event/music-bingo-vfw/2029-04-22/
LOCATION:VFW\, 351 S Charles Richard Beall Blvd\, DeBary\, FL 32713 USA
GEO:28.8679224;-81.3156601
X-APPLE-STRUCTURED-LOCATION;VALUE=URI;X-ADDRESS=VFW 351 S Charles Richard Beall Blvd DeBary FL 32713 USA;X-APPLE-RADIUS=500;X-TITLE=351 S Charles Richard Beall Blvd\, DeBary\, FL 32713 USA:geo:-81.3156601,28.8679224
END:VEVENT
BEGIN:VEVENT
DTSTART;TZID=America/New_York:20290429T180000
DTEND;TZID=America/New_York:20290429T180000
DTSTAMP:20260420T104317
CREATED:20260105T003247Z
LAST-MODIFIED:20260105T060043Z
UID:10020196-1872180000-1872180000@epictriviafl.com
SUMMARY:Music Bingo
DESCRIPTION:
URL:https://epictriviafl.com/event/music-bingo-vfw/2029-04-29/
LOCATION:VFW\, 351 S Charles Richard Beall Blvd\, DeBary\, FL 32713 USA
GEO:28.8679224;-81.3156601
X-APPLE-STRUCTURED-LOCATION;VALUE=URI;X-ADDRESS=VFW 351 S Charles Richard Beall Blvd DeBary FL 32713 USA;X-APPLE-RADIUS=500;X-TITLE=351 S Charles Richard Beall Blvd\, DeBary\, FL 32713 USA:geo:-81.3156601,28.8679224
END:VEVENT
BEGIN:VEVENT
DTSTART;TZID=America/New_York:20290506T180000
DTEND;TZID=America/New_York:20290506T180000
DTSTAMP:20260420T104317
CREATED:20260105T003247Z
LAST-MODIFIED:20260105T060043Z
UID:10020197-1872784800-1872784800@epictriviafl.com
SUMMARY:Music Bingo
DESCRIPTION:
URL:https://epictriviafl.com/event/music-bingo-vfw/2029-05-06/
LOCATION:VFW\, 351 S Charles Richard Beall Blvd\, DeBary\, FL 32713 USA
GEO:28.8679224;-81.3156601
X-APPLE-STRUCTURED-LOCATION;VALUE=URI;X-ADDRESS=VFW 351 S Charles Richard Beall Blvd DeBary FL 32713 USA;X-APPLE-RADIUS=500;X-TITLE=351 S Charles Richard Beall Blvd\, DeBary\, FL 32713 USA:geo:-81.3156601,28.8679224
END:VEVENT
BEGIN:VEVENT
DTSTART;TZID=America/New_York:20290513T180000
DTEND;TZID=America/New_York:20290513T180000
DTSTAMP:20260420T104317
CREATED:20260105T003247Z
LAST-MODIFIED:20260105T060043Z
UID:10020198-1873389600-1873389600@epictriviafl.com
SUMMARY:Music Bingo
DESCRIPTION:
URL:https://epictriviafl.com/event/music-bingo-vfw/2029-05-13/
LOCATION:VFW\, 351 S Charles Richard Beall Blvd\, DeBary\, FL 32713 USA
GEO:28.8679224;-81.3156601
X-APPLE-STRUCTURED-LOCATION;VALUE=URI;X-ADDRESS=VFW 351 S Charles Richard Beall Blvd DeBary FL 32713 USA;X-APPLE-RADIUS=500;X-TITLE=351 S Charles Richard Beall Blvd\, DeBary\, FL 32713 USA:geo:-81.3156601,28.8679224
END:VEVENT
BEGIN:VEVENT
DTSTART;TZID=America/New_York:20290520T180000
DTEND;TZID=America/New_York:20290520T180000
DTSTAMP:20260420T104317
CREATED:20260105T003247Z
LAST-MODIFIED:20260105T060043Z
UID:10020199-1873994400-1873994400@epictriviafl.com
SUMMARY:Music Bingo
DESCRIPTION:
URL:https://epictriviafl.com/event/music-bingo-vfw/2029-05-20/
LOCATION:VFW\, 351 S Charles Richard Beall Blvd\, DeBary\, FL 32713 USA
GEO:28.8679224;-81.3156601
X-APPLE-STRUCTURED-LOCATION;VALUE=URI;X-ADDRESS=VFW 351 S Charles Richard Beall Blvd DeBary FL 32713 USA;X-APPLE-RADIUS=500;X-TITLE=351 S Charles Richard Beall Blvd\, DeBary\, FL 32713 USA:geo:-81.3156601,28.8679224
END:VEVENT
BEGIN:VEVENT
DTSTART;TZID=America/New_York:20290527T180000
DTEND;TZID=America/New_York:20290527T180000
DTSTAMP:20260420T104317
CREATED:20260105T003247Z
LAST-MODIFIED:20260105T060043Z
UID:10020200-1874599200-1874599200@epictriviafl.com
SUMMARY:Music Bingo
DESCRIPTION:
URL:https://epictriviafl.com/event/music-bingo-vfw/2029-05-27/
LOCATION:VFW\, 351 S Charles Richard Beall Blvd\, DeBary\, FL 32713 USA
GEO:28.8679224;-81.3156601
X-APPLE-STRUCTURED-LOCATION;VALUE=URI;X-ADDRESS=VFW 351 S Charles Richard Beall Blvd DeBary FL 32713 USA;X-APPLE-RADIUS=500;X-TITLE=351 S Charles Richard Beall Blvd\, DeBary\, FL 32713 USA:geo:-81.3156601,28.8679224
END:VEVENT
BEGIN:VEVENT
DTSTART;TZID=America/New_York:20290603T180000
DTEND;TZID=America/New_York:20290603T180000
DTSTAMP:20260420T104317
CREATED:20260105T003247Z
LAST-MODIFIED:20260105T060043Z
UID:10020201-1875204000-1875204000@epictriviafl.com
SUMMARY:Music Bingo
DESCRIPTION:
URL:https://epictriviafl.com/event/music-bingo-vfw/2029-06-03/
LOCATION:VFW\, 351 S Charles Richard Beall Blvd\, DeBary\, FL 32713 USA
GEO:28.8679224;-81.3156601
X-APPLE-STRUCTURED-LOCATION;VALUE=URI;X-ADDRESS=VFW 351 S Charles Richard Beall Blvd DeBary FL 32713 USA;X-APPLE-RADIUS=500;X-TITLE=351 S Charles Richard Beall Blvd\, DeBary\, FL 32713 USA:geo:-81.3156601,28.8679224
END:VEVENT
BEGIN:VEVENT
DTSTART;TZID=America/New_York:20290610T180000
DTEND;TZID=America/New_York:20290610T180000
DTSTAMP:20260420T104317
CREATED:20260105T003247Z
LAST-MODIFIED:20260105T060043Z
UID:10020202-1875808800-1875808800@epictriviafl.com
SUMMARY:Music Bingo
DESCRIPTION:
URL:https://epictriviafl.com/event/music-bingo-vfw/2029-06-10/
LOCATION:VFW\, 351 S Charles Richard Beall Blvd\, DeBary\, FL 32713 USA
GEO:28.8679224;-81.3156601
X-APPLE-STRUCTURED-LOCATION;VALUE=URI;X-ADDRESS=VFW 351 S Charles Richard Beall Blvd DeBary FL 32713 USA;X-APPLE-RADIUS=500;X-TITLE=351 S Charles Richard Beall Blvd\, DeBary\, FL 32713 USA:geo:-81.3156601,28.8679224
END:VEVENT
BEGIN:VEVENT
DTSTART;TZID=America/New_York:20290617T180000
DTEND;TZID=America/New_York:20290617T180000
DTSTAMP:20260420T104317
CREATED:20260105T003247Z
LAST-MODIFIED:20260105T060043Z
UID:10020203-1876413600-1876413600@epictriviafl.com
SUMMARY:Music Bingo
DESCRIPTION:
URL:https://epictriviafl.com/event/music-bingo-vfw/2029-06-17/
LOCATION:VFW\, 351 S Charles Richard Beall Blvd\, DeBary\, FL 32713 USA
GEO:28.8679224;-81.3156601
X-APPLE-STRUCTURED-LOCATION;VALUE=URI;X-ADDRESS=VFW 351 S Charles Richard Beall Blvd DeBary FL 32713 USA;X-APPLE-RADIUS=500;X-TITLE=351 S Charles Richard Beall Blvd\, DeBary\, FL 32713 USA:geo:-81.3156601,28.8679224
END:VEVENT
BEGIN:VEVENT
DTSTART;TZID=America/New_York:20290624T180000
DTEND;TZID=America/New_York:20290624T180000
DTSTAMP:20260420T104317
CREATED:20260105T003247Z
LAST-MODIFIED:20260105T060043Z
UID:10020204-1877018400-1877018400@epictriviafl.com
SUMMARY:Music Bingo
DESCRIPTION:
URL:https://epictriviafl.com/event/music-bingo-vfw/2029-06-24/
LOCATION:VFW\, 351 S Charles Richard Beall Blvd\, DeBary\, FL 32713 USA
GEO:28.8679224;-81.3156601
X-APPLE-STRUCTURED-LOCATION;VALUE=URI;X-ADDRESS=VFW 351 S Charles Richard Beall Blvd DeBary FL 32713 USA;X-APPLE-RADIUS=500;X-TITLE=351 S Charles Richard Beall Blvd\, DeBary\, FL 32713 USA:geo:-81.3156601,28.8679224
END:VEVENT
BEGIN:VEVENT
DTSTART;TZID=America/New_York:20290701T180000
DTEND;TZID=America/New_York:20290701T180000
DTSTAMP:20260420T104317
CREATED:20260105T003247Z
LAST-MODIFIED:20260105T060043Z
UID:10020205-1877623200-1877623200@epictriviafl.com
SUMMARY:Music Bingo
DESCRIPTION:
URL:https://epictriviafl.com/event/music-bingo-vfw/2029-07-01/
LOCATION:VFW\, 351 S Charles Richard Beall Blvd\, DeBary\, FL 32713 USA
GEO:28.8679224;-81.3156601
X-APPLE-STRUCTURED-LOCATION;VALUE=URI;X-ADDRESS=VFW 351 S Charles Richard Beall Blvd DeBary FL 32713 USA;X-APPLE-RADIUS=500;X-TITLE=351 S Charles Richard Beall Blvd\, DeBary\, FL 32713 USA:geo:-81.3156601,28.8679224
END:VEVENT
BEGIN:VEVENT
DTSTART;TZID=America/New_York:20290708T180000
DTEND;TZID=America/New_York:20290708T180000
DTSTAMP:20260420T104317
CREATED:20260105T003247Z
LAST-MODIFIED:20260105T060043Z
UID:10020206-1878228000-1878228000@epictriviafl.com
SUMMARY:Music Bingo
DESCRIPTION:
URL:https://epictriviafl.com/event/music-bingo-vfw/2029-07-08/
LOCATION:VFW\, 351 S Charles Richard Beall Blvd\, DeBary\, FL 32713 USA
GEO:28.8679224;-81.3156601
X-APPLE-STRUCTURED-LOCATION;VALUE=URI;X-ADDRESS=VFW 351 S Charles Richard Beall Blvd DeBary FL 32713 USA;X-APPLE-RADIUS=500;X-TITLE=351 S Charles Richard Beall Blvd\, DeBary\, FL 32713 USA:geo:-81.3156601,28.8679224
END:VEVENT
BEGIN:VEVENT
DTSTART;TZID=America/New_York:20290715T180000
DTEND;TZID=America/New_York:20290715T180000
DTSTAMP:20260420T104317
CREATED:20260105T003247Z
LAST-MODIFIED:20260105T060043Z
UID:10020207-1878832800-1878832800@epictriviafl.com
SUMMARY:Music Bingo
DESCRIPTION:
URL:https://epictriviafl.com/event/music-bingo-vfw/2029-07-15/
LOCATION:VFW\, 351 S Charles Richard Beall Blvd\, DeBary\, FL 32713 USA
GEO:28.8679224;-81.3156601
X-APPLE-STRUCTURED-LOCATION;VALUE=URI;X-ADDRESS=VFW 351 S Charles Richard Beall Blvd DeBary FL 32713 USA;X-APPLE-RADIUS=500;X-TITLE=351 S Charles Richard Beall Blvd\, DeBary\, FL 32713 USA:geo:-81.3156601,28.8679224
END:VEVENT
BEGIN:VEVENT
DTSTART;TZID=America/New_York:20290722T180000
DTEND;TZID=America/New_York:20290722T180000
DTSTAMP:20260420T104317
CREATED:20260105T003247Z
LAST-MODIFIED:20260105T060043Z
UID:10020208-1879437600-1879437600@epictriviafl.com
SUMMARY:Music Bingo
DESCRIPTION:
URL:https://epictriviafl.com/event/music-bingo-vfw/2029-07-22/
LOCATION:VFW\, 351 S Charles Richard Beall Blvd\, DeBary\, FL 32713 USA
GEO:28.8679224;-81.3156601
X-APPLE-STRUCTURED-LOCATION;VALUE=URI;X-ADDRESS=VFW 351 S Charles Richard Beall Blvd DeBary FL 32713 USA;X-APPLE-RADIUS=500;X-TITLE=351 S Charles Richard Beall Blvd\, DeBary\, FL 32713 USA:geo:-81.3156601,28.8679224
END:VEVENT
BEGIN:VEVENT
DTSTART;TZID=America/New_York:20290729T180000
DTEND;TZID=America/New_York:20290729T180000
DTSTAMP:20260420T104317
CREATED:20260105T003247Z
LAST-MODIFIED:20260105T060043Z
UID:10020209-1880042400-1880042400@epictriviafl.com
SUMMARY:Music Bingo
DESCRIPTION:
URL:https://epictriviafl.com/event/music-bingo-vfw/2029-07-29/
LOCATION:VFW\, 351 S Charles Richard Beall Blvd\, DeBary\, FL 32713 USA
GEO:28.8679224;-81.3156601
X-APPLE-STRUCTURED-LOCATION;VALUE=URI;X-ADDRESS=VFW 351 S Charles Richard Beall Blvd DeBary FL 32713 USA;X-APPLE-RADIUS=500;X-TITLE=351 S Charles Richard Beall Blvd\, DeBary\, FL 32713 USA:geo:-81.3156601,28.8679224
END:VEVENT
BEGIN:VEVENT
DTSTART;TZID=America/New_York:20290805T180000
DTEND;TZID=America/New_York:20290805T180000
DTSTAMP:20260420T104317
CREATED:20260105T003247Z
LAST-MODIFIED:20260105T060043Z
UID:10020210-1880647200-1880647200@epictriviafl.com
SUMMARY:Music Bingo
DESCRIPTION:
URL:https://epictriviafl.com/event/music-bingo-vfw/2029-08-05/
LOCATION:VFW\, 351 S Charles Richard Beall Blvd\, DeBary\, FL 32713 USA
GEO:28.8679224;-81.3156601
X-APPLE-STRUCTURED-LOCATION;VALUE=URI;X-ADDRESS=VFW 351 S Charles Richard Beall Blvd DeBary FL 32713 USA;X-APPLE-RADIUS=500;X-TITLE=351 S Charles Richard Beall Blvd\, DeBary\, FL 32713 USA:geo:-81.3156601,28.8679224
END:VEVENT
BEGIN:VEVENT
DTSTART;TZID=America/New_York:20290812T180000
DTEND;TZID=America/New_York:20290812T180000
DTSTAMP:20260420T104317
CREATED:20260105T003247Z
LAST-MODIFIED:20260105T060043Z
UID:10020211-1881252000-1881252000@epictriviafl.com
SUMMARY:Music Bingo
DESCRIPTION:
URL:https://epictriviafl.com/event/music-bingo-vfw/2029-08-12/
LOCATION:VFW\, 351 S Charles Richard Beall Blvd\, DeBary\, FL 32713 USA
GEO:28.8679224;-81.3156601
X-APPLE-STRUCTURED-LOCATION;VALUE=URI;X-ADDRESS=VFW 351 S Charles Richard Beall Blvd DeBary FL 32713 USA;X-APPLE-RADIUS=500;X-TITLE=351 S Charles Richard Beall Blvd\, DeBary\, FL 32713 USA:geo:-81.3156601,28.8679224
END:VEVENT
BEGIN:VEVENT
DTSTART;TZID=America/New_York:20290819T180000
DTEND;TZID=America/New_York:20290819T180000
DTSTAMP:20260420T104317
CREATED:20260105T003247Z
LAST-MODIFIED:20260105T060043Z
UID:10020212-1881856800-1881856800@epictriviafl.com
SUMMARY:Music Bingo
DESCRIPTION:
URL:https://epictriviafl.com/event/music-bingo-vfw/2029-08-19/
LOCATION:VFW\, 351 S Charles Richard Beall Blvd\, DeBary\, FL 32713 USA
GEO:28.8679224;-81.3156601
X-APPLE-STRUCTURED-LOCATION;VALUE=URI;X-ADDRESS=VFW 351 S Charles Richard Beall Blvd DeBary FL 32713 USA;X-APPLE-RADIUS=500;X-TITLE=351 S Charles Richard Beall Blvd\, DeBary\, FL 32713 USA:geo:-81.3156601,28.8679224
END:VEVENT
END:VCALENDAR