BEGIN:VCALENDAR
VERSION:2.0
PRODID:-//Epic Trivia - ECPv6.15.18//NONSGML v1.0//EN
CALSCALE:GREGORIAN
METHOD:PUBLISH
X-ORIGINAL-URL:https://epictriviafl.com
X-WR-CALDESC:Events for Epic Trivia
REFRESH-INTERVAL;VALUE=DURATION:PT1H
X-Robots-Tag:noindex
X-PUBLISHED-TTL:PT1H
BEGIN:VTIMEZONE
TZID:America/New_York
BEGIN:DAYLIGHT
TZOFFSETFROM:-0500
TZOFFSETTO:-0400
TZNAME:EDT
DTSTART:20260308T070000
END:DAYLIGHT
BEGIN:STANDARD
TZOFFSETFROM:-0400
TZOFFSETTO:-0500
TZNAME:EST
DTSTART:20261101T060000
END:STANDARD
BEGIN:DAYLIGHT
TZOFFSETFROM:-0500
TZOFFSETTO:-0400
TZNAME:EDT
DTSTART:20270314T070000
END:DAYLIGHT
BEGIN:STANDARD
TZOFFSETFROM:-0400
TZOFFSETTO:-0500
TZNAME:EST
DTSTART:20271107T060000
END:STANDARD
BEGIN:DAYLIGHT
TZOFFSETFROM:-0500
TZOFFSETTO:-0400
TZNAME:EDT
DTSTART:20280312T070000
END:DAYLIGHT
BEGIN:STANDARD
TZOFFSETFROM:-0400
TZOFFSETTO:-0500
TZNAME:EST
DTSTART:20281105T060000
END:STANDARD
BEGIN:DAYLIGHT
TZOFFSETFROM:-0500
TZOFFSETTO:-0400
TZNAME:EDT
DTSTART:20290311T070000
END:DAYLIGHT
BEGIN:STANDARD
TZOFFSETFROM:-0400
TZOFFSETTO:-0500
TZNAME:EST
DTSTART:20291104T060000
END:STANDARD
END:VTIMEZONE
BEGIN:VEVENT
DTSTART;TZID=America/New_York:20271205T150000
DTEND;TZID=America/New_York:20271205T150000
DTSTAMP:20260420T043946
CREATED:20260105T003247Z
LAST-MODIFIED:20260105T060114Z
UID:10020383-1828018800-1828018800@epictriviafl.com
SUMMARY:Music Bingo
DESCRIPTION:
URL:https://epictriviafl.com/event/music-bingo-tuffys/2027-12-05/
LOCATION:Tuffys Music Box\, 200 S Myrtle Ave Sanford\, Florida 32771 USA
GEO:28.8106131;-81.2703753
X-APPLE-STRUCTURED-LOCATION;VALUE=URI;X-ADDRESS=Tuffys Music Box 200 S Myrtle Ave Sanford Florida 32771 USA;X-APPLE-RADIUS=500;X-TITLE=200 S Myrtle Ave Sanford\, Florida 32771 USA:geo:-81.2703753,28.8106131
END:VEVENT
BEGIN:VEVENT
DTSTART;TZID=America/New_York:20271212T150000
DTEND;TZID=America/New_York:20271212T150000
DTSTAMP:20260420T043946
CREATED:20260105T003247Z
LAST-MODIFIED:20260105T060114Z
UID:10020384-1828623600-1828623600@epictriviafl.com
SUMMARY:Music Bingo
DESCRIPTION:
URL:https://epictriviafl.com/event/music-bingo-tuffys/2027-12-12/
LOCATION:Tuffys Music Box\, 200 S Myrtle Ave Sanford\, Florida 32771 USA
GEO:28.8106131;-81.2703753
X-APPLE-STRUCTURED-LOCATION;VALUE=URI;X-ADDRESS=Tuffys Music Box 200 S Myrtle Ave Sanford Florida 32771 USA;X-APPLE-RADIUS=500;X-TITLE=200 S Myrtle Ave Sanford\, Florida 32771 USA:geo:-81.2703753,28.8106131
END:VEVENT
BEGIN:VEVENT
DTSTART;TZID=America/New_York:20271219T150000
DTEND;TZID=America/New_York:20271219T150000
DTSTAMP:20260420T043946
CREATED:20260105T003247Z
LAST-MODIFIED:20260105T060114Z
UID:10020385-1829228400-1829228400@epictriviafl.com
SUMMARY:Music Bingo
DESCRIPTION:
URL:https://epictriviafl.com/event/music-bingo-tuffys/2027-12-19/
LOCATION:Tuffys Music Box\, 200 S Myrtle Ave Sanford\, Florida 32771 USA
GEO:28.8106131;-81.2703753
X-APPLE-STRUCTURED-LOCATION;VALUE=URI;X-ADDRESS=Tuffys Music Box 200 S Myrtle Ave Sanford Florida 32771 USA;X-APPLE-RADIUS=500;X-TITLE=200 S Myrtle Ave Sanford\, Florida 32771 USA:geo:-81.2703753,28.8106131
END:VEVENT
BEGIN:VEVENT
DTSTART;TZID=America/New_York:20271226T150000
DTEND;TZID=America/New_York:20271226T150000
DTSTAMP:20260420T043946
CREATED:20260105T003247Z
LAST-MODIFIED:20260105T060114Z
UID:10020386-1829833200-1829833200@epictriviafl.com
SUMMARY:Music Bingo
DESCRIPTION:
URL:https://epictriviafl.com/event/music-bingo-tuffys/2027-12-26/
LOCATION:Tuffys Music Box\, 200 S Myrtle Ave Sanford\, Florida 32771 USA
GEO:28.8106131;-81.2703753
X-APPLE-STRUCTURED-LOCATION;VALUE=URI;X-ADDRESS=Tuffys Music Box 200 S Myrtle Ave Sanford Florida 32771 USA;X-APPLE-RADIUS=500;X-TITLE=200 S Myrtle Ave Sanford\, Florida 32771 USA:geo:-81.2703753,28.8106131
END:VEVENT
BEGIN:VEVENT
DTSTART;TZID=America/New_York:20280102T150000
DTEND;TZID=America/New_York:20280102T150000
DTSTAMP:20260420T043946
CREATED:20260105T003247Z
LAST-MODIFIED:20260105T060114Z
UID:10020387-1830438000-1830438000@epictriviafl.com
SUMMARY:Music Bingo
DESCRIPTION:
URL:https://epictriviafl.com/event/music-bingo-tuffys/2028-01-02/
LOCATION:Tuffys Music Box\, 200 S Myrtle Ave Sanford\, Florida 32771 USA
GEO:28.8106131;-81.2703753
X-APPLE-STRUCTURED-LOCATION;VALUE=URI;X-ADDRESS=Tuffys Music Box 200 S Myrtle Ave Sanford Florida 32771 USA;X-APPLE-RADIUS=500;X-TITLE=200 S Myrtle Ave Sanford\, Florida 32771 USA:geo:-81.2703753,28.8106131
END:VEVENT
BEGIN:VEVENT
DTSTART;TZID=America/New_York:20280109T150000
DTEND;TZID=America/New_York:20280109T150000
DTSTAMP:20260420T043946
CREATED:20260105T003247Z
LAST-MODIFIED:20260105T060114Z
UID:10020388-1831042800-1831042800@epictriviafl.com
SUMMARY:Music Bingo
DESCRIPTION:
URL:https://epictriviafl.com/event/music-bingo-tuffys/2028-01-09/
LOCATION:Tuffys Music Box\, 200 S Myrtle Ave Sanford\, Florida 32771 USA
GEO:28.8106131;-81.2703753
X-APPLE-STRUCTURED-LOCATION;VALUE=URI;X-ADDRESS=Tuffys Music Box 200 S Myrtle Ave Sanford Florida 32771 USA;X-APPLE-RADIUS=500;X-TITLE=200 S Myrtle Ave Sanford\, Florida 32771 USA:geo:-81.2703753,28.8106131
END:VEVENT
BEGIN:VEVENT
DTSTART;TZID=America/New_York:20280116T150000
DTEND;TZID=America/New_York:20280116T150000
DTSTAMP:20260420T043946
CREATED:20260105T003247Z
LAST-MODIFIED:20260105T060114Z
UID:10020389-1831647600-1831647600@epictriviafl.com
SUMMARY:Music Bingo
DESCRIPTION:
URL:https://epictriviafl.com/event/music-bingo-tuffys/2028-01-16/
LOCATION:Tuffys Music Box\, 200 S Myrtle Ave Sanford\, Florida 32771 USA
GEO:28.8106131;-81.2703753
X-APPLE-STRUCTURED-LOCATION;VALUE=URI;X-ADDRESS=Tuffys Music Box 200 S Myrtle Ave Sanford Florida 32771 USA;X-APPLE-RADIUS=500;X-TITLE=200 S Myrtle Ave Sanford\, Florida 32771 USA:geo:-81.2703753,28.8106131
END:VEVENT
BEGIN:VEVENT
DTSTART;TZID=America/New_York:20280123T150000
DTEND;TZID=America/New_York:20280123T150000
DTSTAMP:20260420T043946
CREATED:20260105T003247Z
LAST-MODIFIED:20260105T060114Z
UID:10020390-1832252400-1832252400@epictriviafl.com
SUMMARY:Music Bingo
DESCRIPTION:
URL:https://epictriviafl.com/event/music-bingo-tuffys/2028-01-23/
LOCATION:Tuffys Music Box\, 200 S Myrtle Ave Sanford\, Florida 32771 USA
GEO:28.8106131;-81.2703753
X-APPLE-STRUCTURED-LOCATION;VALUE=URI;X-ADDRESS=Tuffys Music Box 200 S Myrtle Ave Sanford Florida 32771 USA;X-APPLE-RADIUS=500;X-TITLE=200 S Myrtle Ave Sanford\, Florida 32771 USA:geo:-81.2703753,28.8106131
END:VEVENT
BEGIN:VEVENT
DTSTART;TZID=America/New_York:20280130T150000
DTEND;TZID=America/New_York:20280130T150000
DTSTAMP:20260420T043946
CREATED:20260105T003247Z
LAST-MODIFIED:20260105T060114Z
UID:10020391-1832857200-1832857200@epictriviafl.com
SUMMARY:Music Bingo
DESCRIPTION:
URL:https://epictriviafl.com/event/music-bingo-tuffys/2028-01-30/
LOCATION:Tuffys Music Box\, 200 S Myrtle Ave Sanford\, Florida 32771 USA
GEO:28.8106131;-81.2703753
X-APPLE-STRUCTURED-LOCATION;VALUE=URI;X-ADDRESS=Tuffys Music Box 200 S Myrtle Ave Sanford Florida 32771 USA;X-APPLE-RADIUS=500;X-TITLE=200 S Myrtle Ave Sanford\, Florida 32771 USA:geo:-81.2703753,28.8106131
END:VEVENT
BEGIN:VEVENT
DTSTART;TZID=America/New_York:20280206T150000
DTEND;TZID=America/New_York:20280206T150000
DTSTAMP:20260420T043946
CREATED:20260105T003247Z
LAST-MODIFIED:20260105T060114Z
UID:10020392-1833462000-1833462000@epictriviafl.com
SUMMARY:Music Bingo
DESCRIPTION:
URL:https://epictriviafl.com/event/music-bingo-tuffys/2028-02-06/
LOCATION:Tuffys Music Box\, 200 S Myrtle Ave Sanford\, Florida 32771 USA
GEO:28.8106131;-81.2703753
X-APPLE-STRUCTURED-LOCATION;VALUE=URI;X-ADDRESS=Tuffys Music Box 200 S Myrtle Ave Sanford Florida 32771 USA;X-APPLE-RADIUS=500;X-TITLE=200 S Myrtle Ave Sanford\, Florida 32771 USA:geo:-81.2703753,28.8106131
END:VEVENT
BEGIN:VEVENT
DTSTART;TZID=America/New_York:20280213T150000
DTEND;TZID=America/New_York:20280213T150000
DTSTAMP:20260420T043946
CREATED:20260105T003247Z
LAST-MODIFIED:20260105T060114Z
UID:10020393-1834066800-1834066800@epictriviafl.com
SUMMARY:Music Bingo
DESCRIPTION:
URL:https://epictriviafl.com/event/music-bingo-tuffys/2028-02-13/
LOCATION:Tuffys Music Box\, 200 S Myrtle Ave Sanford\, Florida 32771 USA
GEO:28.8106131;-81.2703753
X-APPLE-STRUCTURED-LOCATION;VALUE=URI;X-ADDRESS=Tuffys Music Box 200 S Myrtle Ave Sanford Florida 32771 USA;X-APPLE-RADIUS=500;X-TITLE=200 S Myrtle Ave Sanford\, Florida 32771 USA:geo:-81.2703753,28.8106131
END:VEVENT
BEGIN:VEVENT
DTSTART;TZID=America/New_York:20280220T150000
DTEND;TZID=America/New_York:20280220T150000
DTSTAMP:20260420T043946
CREATED:20260105T003247Z
LAST-MODIFIED:20260105T060114Z
UID:10020394-1834671600-1834671600@epictriviafl.com
SUMMARY:Music Bingo
DESCRIPTION:
URL:https://epictriviafl.com/event/music-bingo-tuffys/2028-02-20/
LOCATION:Tuffys Music Box\, 200 S Myrtle Ave Sanford\, Florida 32771 USA
GEO:28.8106131;-81.2703753
X-APPLE-STRUCTURED-LOCATION;VALUE=URI;X-ADDRESS=Tuffys Music Box 200 S Myrtle Ave Sanford Florida 32771 USA;X-APPLE-RADIUS=500;X-TITLE=200 S Myrtle Ave Sanford\, Florida 32771 USA:geo:-81.2703753,28.8106131
END:VEVENT
BEGIN:VEVENT
DTSTART;TZID=America/New_York:20280227T150000
DTEND;TZID=America/New_York:20280227T150000
DTSTAMP:20260420T043946
CREATED:20260105T003247Z
LAST-MODIFIED:20260105T060114Z
UID:10020395-1835276400-1835276400@epictriviafl.com
SUMMARY:Music Bingo
DESCRIPTION:
URL:https://epictriviafl.com/event/music-bingo-tuffys/2028-02-27/
LOCATION:Tuffys Music Box\, 200 S Myrtle Ave Sanford\, Florida 32771 USA
GEO:28.8106131;-81.2703753
X-APPLE-STRUCTURED-LOCATION;VALUE=URI;X-ADDRESS=Tuffys Music Box 200 S Myrtle Ave Sanford Florida 32771 USA;X-APPLE-RADIUS=500;X-TITLE=200 S Myrtle Ave Sanford\, Florida 32771 USA:geo:-81.2703753,28.8106131
END:VEVENT
BEGIN:VEVENT
DTSTART;TZID=America/New_York:20280305T150000
DTEND;TZID=America/New_York:20280305T150000
DTSTAMP:20260420T043946
CREATED:20260105T003247Z
LAST-MODIFIED:20260105T060114Z
UID:10020396-1835881200-1835881200@epictriviafl.com
SUMMARY:Music Bingo
DESCRIPTION:
URL:https://epictriviafl.com/event/music-bingo-tuffys/2028-03-05/
LOCATION:Tuffys Music Box\, 200 S Myrtle Ave Sanford\, Florida 32771 USA
GEO:28.8106131;-81.2703753
X-APPLE-STRUCTURED-LOCATION;VALUE=URI;X-ADDRESS=Tuffys Music Box 200 S Myrtle Ave Sanford Florida 32771 USA;X-APPLE-RADIUS=500;X-TITLE=200 S Myrtle Ave Sanford\, Florida 32771 USA:geo:-81.2703753,28.8106131
END:VEVENT
BEGIN:VEVENT
DTSTART;TZID=America/New_York:20280312T150000
DTEND;TZID=America/New_York:20280312T150000
DTSTAMP:20260420T043946
CREATED:20260105T003247Z
LAST-MODIFIED:20260105T060114Z
UID:10020397-1836486000-1836486000@epictriviafl.com
SUMMARY:Music Bingo
DESCRIPTION:
URL:https://epictriviafl.com/event/music-bingo-tuffys/2028-03-12/
LOCATION:Tuffys Music Box\, 200 S Myrtle Ave Sanford\, Florida 32771 USA
GEO:28.8106131;-81.2703753
X-APPLE-STRUCTURED-LOCATION;VALUE=URI;X-ADDRESS=Tuffys Music Box 200 S Myrtle Ave Sanford Florida 32771 USA;X-APPLE-RADIUS=500;X-TITLE=200 S Myrtle Ave Sanford\, Florida 32771 USA:geo:-81.2703753,28.8106131
END:VEVENT
BEGIN:VEVENT
DTSTART;TZID=America/New_York:20280319T150000
DTEND;TZID=America/New_York:20280319T150000
DTSTAMP:20260420T043946
CREATED:20260105T003247Z
LAST-MODIFIED:20260105T060114Z
UID:10020398-1837090800-1837090800@epictriviafl.com
SUMMARY:Music Bingo
DESCRIPTION:
URL:https://epictriviafl.com/event/music-bingo-tuffys/2028-03-19/
LOCATION:Tuffys Music Box\, 200 S Myrtle Ave Sanford\, Florida 32771 USA
GEO:28.8106131;-81.2703753
X-APPLE-STRUCTURED-LOCATION;VALUE=URI;X-ADDRESS=Tuffys Music Box 200 S Myrtle Ave Sanford Florida 32771 USA;X-APPLE-RADIUS=500;X-TITLE=200 S Myrtle Ave Sanford\, Florida 32771 USA:geo:-81.2703753,28.8106131
END:VEVENT
BEGIN:VEVENT
DTSTART;TZID=America/New_York:20280326T150000
DTEND;TZID=America/New_York:20280326T150000
DTSTAMP:20260420T043946
CREATED:20260105T003247Z
LAST-MODIFIED:20260105T060114Z
UID:10020399-1837695600-1837695600@epictriviafl.com
SUMMARY:Music Bingo
DESCRIPTION:
URL:https://epictriviafl.com/event/music-bingo-tuffys/2028-03-26/
LOCATION:Tuffys Music Box\, 200 S Myrtle Ave Sanford\, Florida 32771 USA
GEO:28.8106131;-81.2703753
X-APPLE-STRUCTURED-LOCATION;VALUE=URI;X-ADDRESS=Tuffys Music Box 200 S Myrtle Ave Sanford Florida 32771 USA;X-APPLE-RADIUS=500;X-TITLE=200 S Myrtle Ave Sanford\, Florida 32771 USA:geo:-81.2703753,28.8106131
END:VEVENT
BEGIN:VEVENT
DTSTART;TZID=America/New_York:20280402T150000
DTEND;TZID=America/New_York:20280402T150000
DTSTAMP:20260420T043946
CREATED:20260105T003247Z
LAST-MODIFIED:20260105T060114Z
UID:10020400-1838300400-1838300400@epictriviafl.com
SUMMARY:Music Bingo
DESCRIPTION:
URL:https://epictriviafl.com/event/music-bingo-tuffys/2028-04-02/
LOCATION:Tuffys Music Box\, 200 S Myrtle Ave Sanford\, Florida 32771 USA
GEO:28.8106131;-81.2703753
X-APPLE-STRUCTURED-LOCATION;VALUE=URI;X-ADDRESS=Tuffys Music Box 200 S Myrtle Ave Sanford Florida 32771 USA;X-APPLE-RADIUS=500;X-TITLE=200 S Myrtle Ave Sanford\, Florida 32771 USA:geo:-81.2703753,28.8106131
END:VEVENT
BEGIN:VEVENT
DTSTART;TZID=America/New_York:20280409T150000
DTEND;TZID=America/New_York:20280409T150000
DTSTAMP:20260420T043946
CREATED:20260105T003247Z
LAST-MODIFIED:20260105T060114Z
UID:10020401-1838905200-1838905200@epictriviafl.com
SUMMARY:Music Bingo
DESCRIPTION:
URL:https://epictriviafl.com/event/music-bingo-tuffys/2028-04-09/
LOCATION:Tuffys Music Box\, 200 S Myrtle Ave Sanford\, Florida 32771 USA
GEO:28.8106131;-81.2703753
X-APPLE-STRUCTURED-LOCATION;VALUE=URI;X-ADDRESS=Tuffys Music Box 200 S Myrtle Ave Sanford Florida 32771 USA;X-APPLE-RADIUS=500;X-TITLE=200 S Myrtle Ave Sanford\, Florida 32771 USA:geo:-81.2703753,28.8106131
END:VEVENT
BEGIN:VEVENT
DTSTART;TZID=America/New_York:20280416T150000
DTEND;TZID=America/New_York:20280416T150000
DTSTAMP:20260420T043946
CREATED:20260105T003247Z
LAST-MODIFIED:20260105T060114Z
UID:10020402-1839510000-1839510000@epictriviafl.com
SUMMARY:Music Bingo
DESCRIPTION:
URL:https://epictriviafl.com/event/music-bingo-tuffys/2028-04-16/
LOCATION:Tuffys Music Box\, 200 S Myrtle Ave Sanford\, Florida 32771 USA
GEO:28.8106131;-81.2703753
X-APPLE-STRUCTURED-LOCATION;VALUE=URI;X-ADDRESS=Tuffys Music Box 200 S Myrtle Ave Sanford Florida 32771 USA;X-APPLE-RADIUS=500;X-TITLE=200 S Myrtle Ave Sanford\, Florida 32771 USA:geo:-81.2703753,28.8106131
END:VEVENT
BEGIN:VEVENT
DTSTART;TZID=America/New_York:20280423T150000
DTEND;TZID=America/New_York:20280423T150000
DTSTAMP:20260420T043946
CREATED:20260105T003247Z
LAST-MODIFIED:20260105T060114Z
UID:10020403-1840114800-1840114800@epictriviafl.com
SUMMARY:Music Bingo
DESCRIPTION:
URL:https://epictriviafl.com/event/music-bingo-tuffys/2028-04-23/
LOCATION:Tuffys Music Box\, 200 S Myrtle Ave Sanford\, Florida 32771 USA
GEO:28.8106131;-81.2703753
X-APPLE-STRUCTURED-LOCATION;VALUE=URI;X-ADDRESS=Tuffys Music Box 200 S Myrtle Ave Sanford Florida 32771 USA;X-APPLE-RADIUS=500;X-TITLE=200 S Myrtle Ave Sanford\, Florida 32771 USA:geo:-81.2703753,28.8106131
END:VEVENT
BEGIN:VEVENT
DTSTART;TZID=America/New_York:20280430T150000
DTEND;TZID=America/New_York:20280430T150000
DTSTAMP:20260420T043946
CREATED:20260105T003247Z
LAST-MODIFIED:20260105T060114Z
UID:10020404-1840719600-1840719600@epictriviafl.com
SUMMARY:Music Bingo
DESCRIPTION:
URL:https://epictriviafl.com/event/music-bingo-tuffys/2028-04-30/
LOCATION:Tuffys Music Box\, 200 S Myrtle Ave Sanford\, Florida 32771 USA
GEO:28.8106131;-81.2703753
X-APPLE-STRUCTURED-LOCATION;VALUE=URI;X-ADDRESS=Tuffys Music Box 200 S Myrtle Ave Sanford Florida 32771 USA;X-APPLE-RADIUS=500;X-TITLE=200 S Myrtle Ave Sanford\, Florida 32771 USA:geo:-81.2703753,28.8106131
END:VEVENT
BEGIN:VEVENT
DTSTART;TZID=America/New_York:20280507T150000
DTEND;TZID=America/New_York:20280507T150000
DTSTAMP:20260420T043946
CREATED:20260105T003247Z
LAST-MODIFIED:20260105T060114Z
UID:10020405-1841324400-1841324400@epictriviafl.com
SUMMARY:Music Bingo
DESCRIPTION:
URL:https://epictriviafl.com/event/music-bingo-tuffys/2028-05-07/
LOCATION:Tuffys Music Box\, 200 S Myrtle Ave Sanford\, Florida 32771 USA
GEO:28.8106131;-81.2703753
X-APPLE-STRUCTURED-LOCATION;VALUE=URI;X-ADDRESS=Tuffys Music Box 200 S Myrtle Ave Sanford Florida 32771 USA;X-APPLE-RADIUS=500;X-TITLE=200 S Myrtle Ave Sanford\, Florida 32771 USA:geo:-81.2703753,28.8106131
END:VEVENT
BEGIN:VEVENT
DTSTART;TZID=America/New_York:20280514T150000
DTEND;TZID=America/New_York:20280514T150000
DTSTAMP:20260420T043946
CREATED:20260105T003247Z
LAST-MODIFIED:20260105T060114Z
UID:10020406-1841929200-1841929200@epictriviafl.com
SUMMARY:Music Bingo
DESCRIPTION:
URL:https://epictriviafl.com/event/music-bingo-tuffys/2028-05-14/
LOCATION:Tuffys Music Box\, 200 S Myrtle Ave Sanford\, Florida 32771 USA
GEO:28.8106131;-81.2703753
X-APPLE-STRUCTURED-LOCATION;VALUE=URI;X-ADDRESS=Tuffys Music Box 200 S Myrtle Ave Sanford Florida 32771 USA;X-APPLE-RADIUS=500;X-TITLE=200 S Myrtle Ave Sanford\, Florida 32771 USA:geo:-81.2703753,28.8106131
END:VEVENT
BEGIN:VEVENT
DTSTART;TZID=America/New_York:20280521T150000
DTEND;TZID=America/New_York:20280521T150000
DTSTAMP:20260420T043946
CREATED:20260105T003247Z
LAST-MODIFIED:20260105T060114Z
UID:10020407-1842534000-1842534000@epictriviafl.com
SUMMARY:Music Bingo
DESCRIPTION:
URL:https://epictriviafl.com/event/music-bingo-tuffys/2028-05-21/
LOCATION:Tuffys Music Box\, 200 S Myrtle Ave Sanford\, Florida 32771 USA
GEO:28.8106131;-81.2703753
X-APPLE-STRUCTURED-LOCATION;VALUE=URI;X-ADDRESS=Tuffys Music Box 200 S Myrtle Ave Sanford Florida 32771 USA;X-APPLE-RADIUS=500;X-TITLE=200 S Myrtle Ave Sanford\, Florida 32771 USA:geo:-81.2703753,28.8106131
END:VEVENT
BEGIN:VEVENT
DTSTART;TZID=America/New_York:20280528T150000
DTEND;TZID=America/New_York:20280528T150000
DTSTAMP:20260420T043946
CREATED:20260105T003247Z
LAST-MODIFIED:20260105T060114Z
UID:10020408-1843138800-1843138800@epictriviafl.com
SUMMARY:Music Bingo
DESCRIPTION:
URL:https://epictriviafl.com/event/music-bingo-tuffys/2028-05-28/
LOCATION:Tuffys Music Box\, 200 S Myrtle Ave Sanford\, Florida 32771 USA
GEO:28.8106131;-81.2703753
X-APPLE-STRUCTURED-LOCATION;VALUE=URI;X-ADDRESS=Tuffys Music Box 200 S Myrtle Ave Sanford Florida 32771 USA;X-APPLE-RADIUS=500;X-TITLE=200 S Myrtle Ave Sanford\, Florida 32771 USA:geo:-81.2703753,28.8106131
END:VEVENT
BEGIN:VEVENT
DTSTART;TZID=America/New_York:20280604T150000
DTEND;TZID=America/New_York:20280604T150000
DTSTAMP:20260420T043946
CREATED:20260105T003247Z
LAST-MODIFIED:20260105T060114Z
UID:10020409-1843743600-1843743600@epictriviafl.com
SUMMARY:Music Bingo
DESCRIPTION:
URL:https://epictriviafl.com/event/music-bingo-tuffys/2028-06-04/
LOCATION:Tuffys Music Box\, 200 S Myrtle Ave Sanford\, Florida 32771 USA
GEO:28.8106131;-81.2703753
X-APPLE-STRUCTURED-LOCATION;VALUE=URI;X-ADDRESS=Tuffys Music Box 200 S Myrtle Ave Sanford Florida 32771 USA;X-APPLE-RADIUS=500;X-TITLE=200 S Myrtle Ave Sanford\, Florida 32771 USA:geo:-81.2703753,28.8106131
END:VEVENT
BEGIN:VEVENT
DTSTART;TZID=America/New_York:20280611T150000
DTEND;TZID=America/New_York:20280611T150000
DTSTAMP:20260420T043946
CREATED:20260105T003247Z
LAST-MODIFIED:20260105T060114Z
UID:10020410-1844348400-1844348400@epictriviafl.com
SUMMARY:Music Bingo
DESCRIPTION:
URL:https://epictriviafl.com/event/music-bingo-tuffys/2028-06-11/
LOCATION:Tuffys Music Box\, 200 S Myrtle Ave Sanford\, Florida 32771 USA
GEO:28.8106131;-81.2703753
X-APPLE-STRUCTURED-LOCATION;VALUE=URI;X-ADDRESS=Tuffys Music Box 200 S Myrtle Ave Sanford Florida 32771 USA;X-APPLE-RADIUS=500;X-TITLE=200 S Myrtle Ave Sanford\, Florida 32771 USA:geo:-81.2703753,28.8106131
END:VEVENT
BEGIN:VEVENT
DTSTART;TZID=America/New_York:20280618T150000
DTEND;TZID=America/New_York:20280618T150000
DTSTAMP:20260420T043946
CREATED:20260105T003247Z
LAST-MODIFIED:20260105T060114Z
UID:10020411-1844953200-1844953200@epictriviafl.com
SUMMARY:Music Bingo
DESCRIPTION:
URL:https://epictriviafl.com/event/music-bingo-tuffys/2028-06-18/
LOCATION:Tuffys Music Box\, 200 S Myrtle Ave Sanford\, Florida 32771 USA
GEO:28.8106131;-81.2703753
X-APPLE-STRUCTURED-LOCATION;VALUE=URI;X-ADDRESS=Tuffys Music Box 200 S Myrtle Ave Sanford Florida 32771 USA;X-APPLE-RADIUS=500;X-TITLE=200 S Myrtle Ave Sanford\, Florida 32771 USA:geo:-81.2703753,28.8106131
END:VEVENT
BEGIN:VEVENT
DTSTART;TZID=America/New_York:20280625T150000
DTEND;TZID=America/New_York:20280625T150000
DTSTAMP:20260420T043946
CREATED:20260105T003247Z
LAST-MODIFIED:20260105T060114Z
UID:10020412-1845558000-1845558000@epictriviafl.com
SUMMARY:Music Bingo
DESCRIPTION:
URL:https://epictriviafl.com/event/music-bingo-tuffys/2028-06-25/
LOCATION:Tuffys Music Box\, 200 S Myrtle Ave Sanford\, Florida 32771 USA
GEO:28.8106131;-81.2703753
X-APPLE-STRUCTURED-LOCATION;VALUE=URI;X-ADDRESS=Tuffys Music Box 200 S Myrtle Ave Sanford Florida 32771 USA;X-APPLE-RADIUS=500;X-TITLE=200 S Myrtle Ave Sanford\, Florida 32771 USA:geo:-81.2703753,28.8106131
END:VEVENT
END:VCALENDAR