BEGIN:VCALENDAR
VERSION:2.0
PRODID:-//Epic Trivia - ECPv6.15.18//NONSGML v1.0//EN
CALSCALE:GREGORIAN
METHOD:PUBLISH
X-ORIGINAL-URL:https://epictriviafl.com
X-WR-CALDESC:Events for Epic Trivia
REFRESH-INTERVAL;VALUE=DURATION:PT1H
X-Robots-Tag:noindex
X-PUBLISHED-TTL:PT1H
BEGIN:VTIMEZONE
TZID:America/New_York
BEGIN:DAYLIGHT
TZOFFSETFROM:-0500
TZOFFSETTO:-0400
TZNAME:EDT
DTSTART:20290311T070000
END:DAYLIGHT
BEGIN:STANDARD
TZOFFSETFROM:-0400
TZOFFSETTO:-0500
TZNAME:EST
DTSTART:20291104T060000
END:STANDARD
BEGIN:DAYLIGHT
TZOFFSETFROM:-0500
TZOFFSETTO:-0400
TZNAME:EDT
DTSTART:20300310T070000
END:DAYLIGHT
BEGIN:STANDARD
TZOFFSETFROM:-0400
TZOFFSETTO:-0500
TZNAME:EST
DTSTART:20301103T060000
END:STANDARD
BEGIN:DAYLIGHT
TZOFFSETFROM:-0500
TZOFFSETTO:-0400
TZNAME:EDT
DTSTART:20310309T070000
END:DAYLIGHT
BEGIN:STANDARD
TZOFFSETFROM:-0400
TZOFFSETTO:-0500
TZNAME:EST
DTSTART:20311102T060000
END:STANDARD
END:VTIMEZONE
BEGIN:VEVENT
DTSTART;TZID=America/New_York:20300324T150000
DTEND;TZID=America/New_York:20300324T150000
DTSTAMP:20260420T200358
CREATED:20260105T003247Z
LAST-MODIFIED:20260105T060114Z
UID:10020503-1900594800-1900594800@epictriviafl.com
SUMMARY:Music Bingo
DESCRIPTION:
URL:https://epictriviafl.com/event/music-bingo-tuffys/2030-03-24/
LOCATION:Tuffys Music Box\, 200 S Myrtle Ave Sanford\, Florida 32771 USA
GEO:28.8106131;-81.2703753
X-APPLE-STRUCTURED-LOCATION;VALUE=URI;X-ADDRESS=Tuffys Music Box 200 S Myrtle Ave Sanford Florida 32771 USA;X-APPLE-RADIUS=500;X-TITLE=200 S Myrtle Ave Sanford\, Florida 32771 USA:geo:-81.2703753,28.8106131
END:VEVENT
BEGIN:VEVENT
DTSTART;TZID=America/New_York:20300331T150000
DTEND;TZID=America/New_York:20300331T150000
DTSTAMP:20260420T200358
CREATED:20260105T003247Z
LAST-MODIFIED:20260105T060114Z
UID:10020504-1901199600-1901199600@epictriviafl.com
SUMMARY:Music Bingo
DESCRIPTION:
URL:https://epictriviafl.com/event/music-bingo-tuffys/2030-03-31/
LOCATION:Tuffys Music Box\, 200 S Myrtle Ave Sanford\, Florida 32771 USA
GEO:28.8106131;-81.2703753
X-APPLE-STRUCTURED-LOCATION;VALUE=URI;X-ADDRESS=Tuffys Music Box 200 S Myrtle Ave Sanford Florida 32771 USA;X-APPLE-RADIUS=500;X-TITLE=200 S Myrtle Ave Sanford\, Florida 32771 USA:geo:-81.2703753,28.8106131
END:VEVENT
BEGIN:VEVENT
DTSTART;TZID=America/New_York:20300407T150000
DTEND;TZID=America/New_York:20300407T150000
DTSTAMP:20260420T200358
CREATED:20260105T003247Z
LAST-MODIFIED:20260105T060114Z
UID:10020505-1901804400-1901804400@epictriviafl.com
SUMMARY:Music Bingo
DESCRIPTION:
URL:https://epictriviafl.com/event/music-bingo-tuffys/2030-04-07/
LOCATION:Tuffys Music Box\, 200 S Myrtle Ave Sanford\, Florida 32771 USA
GEO:28.8106131;-81.2703753
X-APPLE-STRUCTURED-LOCATION;VALUE=URI;X-ADDRESS=Tuffys Music Box 200 S Myrtle Ave Sanford Florida 32771 USA;X-APPLE-RADIUS=500;X-TITLE=200 S Myrtle Ave Sanford\, Florida 32771 USA:geo:-81.2703753,28.8106131
END:VEVENT
BEGIN:VEVENT
DTSTART;TZID=America/New_York:20300414T150000
DTEND;TZID=America/New_York:20300414T150000
DTSTAMP:20260420T200358
CREATED:20260105T003247Z
LAST-MODIFIED:20260105T060114Z
UID:10020506-1902409200-1902409200@epictriviafl.com
SUMMARY:Music Bingo
DESCRIPTION:
URL:https://epictriviafl.com/event/music-bingo-tuffys/2030-04-14/
LOCATION:Tuffys Music Box\, 200 S Myrtle Ave Sanford\, Florida 32771 USA
GEO:28.8106131;-81.2703753
X-APPLE-STRUCTURED-LOCATION;VALUE=URI;X-ADDRESS=Tuffys Music Box 200 S Myrtle Ave Sanford Florida 32771 USA;X-APPLE-RADIUS=500;X-TITLE=200 S Myrtle Ave Sanford\, Florida 32771 USA:geo:-81.2703753,28.8106131
END:VEVENT
BEGIN:VEVENT
DTSTART;TZID=America/New_York:20300421T150000
DTEND;TZID=America/New_York:20300421T150000
DTSTAMP:20260420T200358
CREATED:20260105T003247Z
LAST-MODIFIED:20260105T060114Z
UID:10020507-1903014000-1903014000@epictriviafl.com
SUMMARY:Music Bingo
DESCRIPTION:
URL:https://epictriviafl.com/event/music-bingo-tuffys/2030-04-21/
LOCATION:Tuffys Music Box\, 200 S Myrtle Ave Sanford\, Florida 32771 USA
GEO:28.8106131;-81.2703753
X-APPLE-STRUCTURED-LOCATION;VALUE=URI;X-ADDRESS=Tuffys Music Box 200 S Myrtle Ave Sanford Florida 32771 USA;X-APPLE-RADIUS=500;X-TITLE=200 S Myrtle Ave Sanford\, Florida 32771 USA:geo:-81.2703753,28.8106131
END:VEVENT
BEGIN:VEVENT
DTSTART;TZID=America/New_York:20300428T150000
DTEND;TZID=America/New_York:20300428T150000
DTSTAMP:20260420T200358
CREATED:20260105T003247Z
LAST-MODIFIED:20260105T060114Z
UID:10020508-1903618800-1903618800@epictriviafl.com
SUMMARY:Music Bingo
DESCRIPTION:
URL:https://epictriviafl.com/event/music-bingo-tuffys/2030-04-28/
LOCATION:Tuffys Music Box\, 200 S Myrtle Ave Sanford\, Florida 32771 USA
GEO:28.8106131;-81.2703753
X-APPLE-STRUCTURED-LOCATION;VALUE=URI;X-ADDRESS=Tuffys Music Box 200 S Myrtle Ave Sanford Florida 32771 USA;X-APPLE-RADIUS=500;X-TITLE=200 S Myrtle Ave Sanford\, Florida 32771 USA:geo:-81.2703753,28.8106131
END:VEVENT
BEGIN:VEVENT
DTSTART;TZID=America/New_York:20300505T150000
DTEND;TZID=America/New_York:20300505T150000
DTSTAMP:20260420T200358
CREATED:20260105T003247Z
LAST-MODIFIED:20260105T060114Z
UID:10020509-1904223600-1904223600@epictriviafl.com
SUMMARY:Music Bingo
DESCRIPTION:
URL:https://epictriviafl.com/event/music-bingo-tuffys/2030-05-05/
LOCATION:Tuffys Music Box\, 200 S Myrtle Ave Sanford\, Florida 32771 USA
GEO:28.8106131;-81.2703753
X-APPLE-STRUCTURED-LOCATION;VALUE=URI;X-ADDRESS=Tuffys Music Box 200 S Myrtle Ave Sanford Florida 32771 USA;X-APPLE-RADIUS=500;X-TITLE=200 S Myrtle Ave Sanford\, Florida 32771 USA:geo:-81.2703753,28.8106131
END:VEVENT
BEGIN:VEVENT
DTSTART;TZID=America/New_York:20300512T150000
DTEND;TZID=America/New_York:20300512T150000
DTSTAMP:20260420T200358
CREATED:20260105T003247Z
LAST-MODIFIED:20260105T060114Z
UID:10020510-1904828400-1904828400@epictriviafl.com
SUMMARY:Music Bingo
DESCRIPTION:
URL:https://epictriviafl.com/event/music-bingo-tuffys/2030-05-12/
LOCATION:Tuffys Music Box\, 200 S Myrtle Ave Sanford\, Florida 32771 USA
GEO:28.8106131;-81.2703753
X-APPLE-STRUCTURED-LOCATION;VALUE=URI;X-ADDRESS=Tuffys Music Box 200 S Myrtle Ave Sanford Florida 32771 USA;X-APPLE-RADIUS=500;X-TITLE=200 S Myrtle Ave Sanford\, Florida 32771 USA:geo:-81.2703753,28.8106131
END:VEVENT
BEGIN:VEVENT
DTSTART;TZID=America/New_York:20300519T150000
DTEND;TZID=America/New_York:20300519T150000
DTSTAMP:20260420T200358
CREATED:20260105T003247Z
LAST-MODIFIED:20260105T060114Z
UID:10020511-1905433200-1905433200@epictriviafl.com
SUMMARY:Music Bingo
DESCRIPTION:
URL:https://epictriviafl.com/event/music-bingo-tuffys/2030-05-19/
LOCATION:Tuffys Music Box\, 200 S Myrtle Ave Sanford\, Florida 32771 USA
GEO:28.8106131;-81.2703753
X-APPLE-STRUCTURED-LOCATION;VALUE=URI;X-ADDRESS=Tuffys Music Box 200 S Myrtle Ave Sanford Florida 32771 USA;X-APPLE-RADIUS=500;X-TITLE=200 S Myrtle Ave Sanford\, Florida 32771 USA:geo:-81.2703753,28.8106131
END:VEVENT
BEGIN:VEVENT
DTSTART;TZID=America/New_York:20300526T150000
DTEND;TZID=America/New_York:20300526T150000
DTSTAMP:20260420T200358
CREATED:20260105T003247Z
LAST-MODIFIED:20260105T060114Z
UID:10020512-1906038000-1906038000@epictriviafl.com
SUMMARY:Music Bingo
DESCRIPTION:
URL:https://epictriviafl.com/event/music-bingo-tuffys/2030-05-26/
LOCATION:Tuffys Music Box\, 200 S Myrtle Ave Sanford\, Florida 32771 USA
GEO:28.8106131;-81.2703753
X-APPLE-STRUCTURED-LOCATION;VALUE=URI;X-ADDRESS=Tuffys Music Box 200 S Myrtle Ave Sanford Florida 32771 USA;X-APPLE-RADIUS=500;X-TITLE=200 S Myrtle Ave Sanford\, Florida 32771 USA:geo:-81.2703753,28.8106131
END:VEVENT
BEGIN:VEVENT
DTSTART;TZID=America/New_York:20300602T150000
DTEND;TZID=America/New_York:20300602T150000
DTSTAMP:20260420T200358
CREATED:20260105T003247Z
LAST-MODIFIED:20260105T060114Z
UID:10020513-1906642800-1906642800@epictriviafl.com
SUMMARY:Music Bingo
DESCRIPTION:
URL:https://epictriviafl.com/event/music-bingo-tuffys/2030-06-02/
LOCATION:Tuffys Music Box\, 200 S Myrtle Ave Sanford\, Florida 32771 USA
GEO:28.8106131;-81.2703753
X-APPLE-STRUCTURED-LOCATION;VALUE=URI;X-ADDRESS=Tuffys Music Box 200 S Myrtle Ave Sanford Florida 32771 USA;X-APPLE-RADIUS=500;X-TITLE=200 S Myrtle Ave Sanford\, Florida 32771 USA:geo:-81.2703753,28.8106131
END:VEVENT
BEGIN:VEVENT
DTSTART;TZID=America/New_York:20300609T150000
DTEND;TZID=America/New_York:20300609T150000
DTSTAMP:20260420T200358
CREATED:20260105T003247Z
LAST-MODIFIED:20260105T060114Z
UID:10020514-1907247600-1907247600@epictriviafl.com
SUMMARY:Music Bingo
DESCRIPTION:
URL:https://epictriviafl.com/event/music-bingo-tuffys/2030-06-09/
LOCATION:Tuffys Music Box\, 200 S Myrtle Ave Sanford\, Florida 32771 USA
GEO:28.8106131;-81.2703753
X-APPLE-STRUCTURED-LOCATION;VALUE=URI;X-ADDRESS=Tuffys Music Box 200 S Myrtle Ave Sanford Florida 32771 USA;X-APPLE-RADIUS=500;X-TITLE=200 S Myrtle Ave Sanford\, Florida 32771 USA:geo:-81.2703753,28.8106131
END:VEVENT
BEGIN:VEVENT
DTSTART;TZID=America/New_York:20300616T150000
DTEND;TZID=America/New_York:20300616T150000
DTSTAMP:20260420T200358
CREATED:20260105T003247Z
LAST-MODIFIED:20260105T060114Z
UID:10020515-1907852400-1907852400@epictriviafl.com
SUMMARY:Music Bingo
DESCRIPTION:
URL:https://epictriviafl.com/event/music-bingo-tuffys/2030-06-16/
LOCATION:Tuffys Music Box\, 200 S Myrtle Ave Sanford\, Florida 32771 USA
GEO:28.8106131;-81.2703753
X-APPLE-STRUCTURED-LOCATION;VALUE=URI;X-ADDRESS=Tuffys Music Box 200 S Myrtle Ave Sanford Florida 32771 USA;X-APPLE-RADIUS=500;X-TITLE=200 S Myrtle Ave Sanford\, Florida 32771 USA:geo:-81.2703753,28.8106131
END:VEVENT
BEGIN:VEVENT
DTSTART;TZID=America/New_York:20300623T150000
DTEND;TZID=America/New_York:20300623T150000
DTSTAMP:20260420T200358
CREATED:20260105T003247Z
LAST-MODIFIED:20260105T060114Z
UID:10020516-1908457200-1908457200@epictriviafl.com
SUMMARY:Music Bingo
DESCRIPTION:
URL:https://epictriviafl.com/event/music-bingo-tuffys/2030-06-23/
LOCATION:Tuffys Music Box\, 200 S Myrtle Ave Sanford\, Florida 32771 USA
GEO:28.8106131;-81.2703753
X-APPLE-STRUCTURED-LOCATION;VALUE=URI;X-ADDRESS=Tuffys Music Box 200 S Myrtle Ave Sanford Florida 32771 USA;X-APPLE-RADIUS=500;X-TITLE=200 S Myrtle Ave Sanford\, Florida 32771 USA:geo:-81.2703753,28.8106131
END:VEVENT
BEGIN:VEVENT
DTSTART;TZID=America/New_York:20300630T150000
DTEND;TZID=America/New_York:20300630T150000
DTSTAMP:20260420T200358
CREATED:20260105T003247Z
LAST-MODIFIED:20260105T060114Z
UID:10020517-1909062000-1909062000@epictriviafl.com
SUMMARY:Music Bingo
DESCRIPTION:
URL:https://epictriviafl.com/event/music-bingo-tuffys/2030-06-30/
LOCATION:Tuffys Music Box\, 200 S Myrtle Ave Sanford\, Florida 32771 USA
GEO:28.8106131;-81.2703753
X-APPLE-STRUCTURED-LOCATION;VALUE=URI;X-ADDRESS=Tuffys Music Box 200 S Myrtle Ave Sanford Florida 32771 USA;X-APPLE-RADIUS=500;X-TITLE=200 S Myrtle Ave Sanford\, Florida 32771 USA:geo:-81.2703753,28.8106131
END:VEVENT
BEGIN:VEVENT
DTSTART;TZID=America/New_York:20300707T150000
DTEND;TZID=America/New_York:20300707T150000
DTSTAMP:20260420T200358
CREATED:20260105T003247Z
LAST-MODIFIED:20260105T060114Z
UID:10020518-1909666800-1909666800@epictriviafl.com
SUMMARY:Music Bingo
DESCRIPTION:
URL:https://epictriviafl.com/event/music-bingo-tuffys/2030-07-07/
LOCATION:Tuffys Music Box\, 200 S Myrtle Ave Sanford\, Florida 32771 USA
GEO:28.8106131;-81.2703753
X-APPLE-STRUCTURED-LOCATION;VALUE=URI;X-ADDRESS=Tuffys Music Box 200 S Myrtle Ave Sanford Florida 32771 USA;X-APPLE-RADIUS=500;X-TITLE=200 S Myrtle Ave Sanford\, Florida 32771 USA:geo:-81.2703753,28.8106131
END:VEVENT
BEGIN:VEVENT
DTSTART;TZID=America/New_York:20300714T150000
DTEND;TZID=America/New_York:20300714T150000
DTSTAMP:20260420T200358
CREATED:20260105T003247Z
LAST-MODIFIED:20260105T060114Z
UID:10020519-1910271600-1910271600@epictriviafl.com
SUMMARY:Music Bingo
DESCRIPTION:
URL:https://epictriviafl.com/event/music-bingo-tuffys/2030-07-14/
LOCATION:Tuffys Music Box\, 200 S Myrtle Ave Sanford\, Florida 32771 USA
GEO:28.8106131;-81.2703753
X-APPLE-STRUCTURED-LOCATION;VALUE=URI;X-ADDRESS=Tuffys Music Box 200 S Myrtle Ave Sanford Florida 32771 USA;X-APPLE-RADIUS=500;X-TITLE=200 S Myrtle Ave Sanford\, Florida 32771 USA:geo:-81.2703753,28.8106131
END:VEVENT
BEGIN:VEVENT
DTSTART;TZID=America/New_York:20300721T150000
DTEND;TZID=America/New_York:20300721T150000
DTSTAMP:20260420T200358
CREATED:20260105T003247Z
LAST-MODIFIED:20260105T060114Z
UID:10020520-1910876400-1910876400@epictriviafl.com
SUMMARY:Music Bingo
DESCRIPTION:
URL:https://epictriviafl.com/event/music-bingo-tuffys/2030-07-21/
LOCATION:Tuffys Music Box\, 200 S Myrtle Ave Sanford\, Florida 32771 USA
GEO:28.8106131;-81.2703753
X-APPLE-STRUCTURED-LOCATION;VALUE=URI;X-ADDRESS=Tuffys Music Box 200 S Myrtle Ave Sanford Florida 32771 USA;X-APPLE-RADIUS=500;X-TITLE=200 S Myrtle Ave Sanford\, Florida 32771 USA:geo:-81.2703753,28.8106131
END:VEVENT
BEGIN:VEVENT
DTSTART;TZID=America/New_York:20300728T150000
DTEND;TZID=America/New_York:20300728T150000
DTSTAMP:20260420T200358
CREATED:20260105T003247Z
LAST-MODIFIED:20260105T060114Z
UID:10020521-1911481200-1911481200@epictriviafl.com
SUMMARY:Music Bingo
DESCRIPTION:
URL:https://epictriviafl.com/event/music-bingo-tuffys/2030-07-28/
LOCATION:Tuffys Music Box\, 200 S Myrtle Ave Sanford\, Florida 32771 USA
GEO:28.8106131;-81.2703753
X-APPLE-STRUCTURED-LOCATION;VALUE=URI;X-ADDRESS=Tuffys Music Box 200 S Myrtle Ave Sanford Florida 32771 USA;X-APPLE-RADIUS=500;X-TITLE=200 S Myrtle Ave Sanford\, Florida 32771 USA:geo:-81.2703753,28.8106131
END:VEVENT
BEGIN:VEVENT
DTSTART;TZID=America/New_York:20300804T150000
DTEND;TZID=America/New_York:20300804T150000
DTSTAMP:20260420T200358
CREATED:20260105T003247Z
LAST-MODIFIED:20260105T060114Z
UID:10020522-1912086000-1912086000@epictriviafl.com
SUMMARY:Music Bingo
DESCRIPTION:
URL:https://epictriviafl.com/event/music-bingo-tuffys/2030-08-04/
LOCATION:Tuffys Music Box\, 200 S Myrtle Ave Sanford\, Florida 32771 USA
GEO:28.8106131;-81.2703753
X-APPLE-STRUCTURED-LOCATION;VALUE=URI;X-ADDRESS=Tuffys Music Box 200 S Myrtle Ave Sanford Florida 32771 USA;X-APPLE-RADIUS=500;X-TITLE=200 S Myrtle Ave Sanford\, Florida 32771 USA:geo:-81.2703753,28.8106131
END:VEVENT
BEGIN:VEVENT
DTSTART;TZID=America/New_York:20300811T150000
DTEND;TZID=America/New_York:20300811T150000
DTSTAMP:20260420T200358
CREATED:20260105T003247Z
LAST-MODIFIED:20260105T060114Z
UID:10020523-1912690800-1912690800@epictriviafl.com
SUMMARY:Music Bingo
DESCRIPTION:
URL:https://epictriviafl.com/event/music-bingo-tuffys/2030-08-11/
LOCATION:Tuffys Music Box\, 200 S Myrtle Ave Sanford\, Florida 32771 USA
GEO:28.8106131;-81.2703753
X-APPLE-STRUCTURED-LOCATION;VALUE=URI;X-ADDRESS=Tuffys Music Box 200 S Myrtle Ave Sanford Florida 32771 USA;X-APPLE-RADIUS=500;X-TITLE=200 S Myrtle Ave Sanford\, Florida 32771 USA:geo:-81.2703753,28.8106131
END:VEVENT
BEGIN:VEVENT
DTSTART;TZID=America/New_York:20300818T150000
DTEND;TZID=America/New_York:20300818T150000
DTSTAMP:20260420T200358
CREATED:20260105T003247Z
LAST-MODIFIED:20260105T060114Z
UID:10020524-1913295600-1913295600@epictriviafl.com
SUMMARY:Music Bingo
DESCRIPTION:
URL:https://epictriviafl.com/event/music-bingo-tuffys/2030-08-18/
LOCATION:Tuffys Music Box\, 200 S Myrtle Ave Sanford\, Florida 32771 USA
GEO:28.8106131;-81.2703753
X-APPLE-STRUCTURED-LOCATION;VALUE=URI;X-ADDRESS=Tuffys Music Box 200 S Myrtle Ave Sanford Florida 32771 USA;X-APPLE-RADIUS=500;X-TITLE=200 S Myrtle Ave Sanford\, Florida 32771 USA:geo:-81.2703753,28.8106131
END:VEVENT
BEGIN:VEVENT
DTSTART;TZID=America/New_York:20300825T150000
DTEND;TZID=America/New_York:20300825T150000
DTSTAMP:20260420T200358
CREATED:20260105T003247Z
LAST-MODIFIED:20260105T060114Z
UID:10020525-1913900400-1913900400@epictriviafl.com
SUMMARY:Music Bingo
DESCRIPTION:
URL:https://epictriviafl.com/event/music-bingo-tuffys/2030-08-25/
LOCATION:Tuffys Music Box\, 200 S Myrtle Ave Sanford\, Florida 32771 USA
GEO:28.8106131;-81.2703753
X-APPLE-STRUCTURED-LOCATION;VALUE=URI;X-ADDRESS=Tuffys Music Box 200 S Myrtle Ave Sanford Florida 32771 USA;X-APPLE-RADIUS=500;X-TITLE=200 S Myrtle Ave Sanford\, Florida 32771 USA:geo:-81.2703753,28.8106131
END:VEVENT
BEGIN:VEVENT
DTSTART;TZID=America/New_York:20300901T150000
DTEND;TZID=America/New_York:20300901T150000
DTSTAMP:20260420T200358
CREATED:20260105T003247Z
LAST-MODIFIED:20260105T060114Z
UID:10020526-1914505200-1914505200@epictriviafl.com
SUMMARY:Music Bingo
DESCRIPTION:
URL:https://epictriviafl.com/event/music-bingo-tuffys/2030-09-01/
LOCATION:Tuffys Music Box\, 200 S Myrtle Ave Sanford\, Florida 32771 USA
GEO:28.8106131;-81.2703753
X-APPLE-STRUCTURED-LOCATION;VALUE=URI;X-ADDRESS=Tuffys Music Box 200 S Myrtle Ave Sanford Florida 32771 USA;X-APPLE-RADIUS=500;X-TITLE=200 S Myrtle Ave Sanford\, Florida 32771 USA:geo:-81.2703753,28.8106131
END:VEVENT
BEGIN:VEVENT
DTSTART;TZID=America/New_York:20300908T150000
DTEND;TZID=America/New_York:20300908T150000
DTSTAMP:20260420T200358
CREATED:20260105T003247Z
LAST-MODIFIED:20260105T060114Z
UID:10020527-1915110000-1915110000@epictriviafl.com
SUMMARY:Music Bingo
DESCRIPTION:
URL:https://epictriviafl.com/event/music-bingo-tuffys/2030-09-08/
LOCATION:Tuffys Music Box\, 200 S Myrtle Ave Sanford\, Florida 32771 USA
GEO:28.8106131;-81.2703753
X-APPLE-STRUCTURED-LOCATION;VALUE=URI;X-ADDRESS=Tuffys Music Box 200 S Myrtle Ave Sanford Florida 32771 USA;X-APPLE-RADIUS=500;X-TITLE=200 S Myrtle Ave Sanford\, Florida 32771 USA:geo:-81.2703753,28.8106131
END:VEVENT
BEGIN:VEVENT
DTSTART;TZID=America/New_York:20300915T150000
DTEND;TZID=America/New_York:20300915T150000
DTSTAMP:20260420T200358
CREATED:20260105T003247Z
LAST-MODIFIED:20260105T060114Z
UID:10020528-1915714800-1915714800@epictriviafl.com
SUMMARY:Music Bingo
DESCRIPTION:
URL:https://epictriviafl.com/event/music-bingo-tuffys/2030-09-15/
LOCATION:Tuffys Music Box\, 200 S Myrtle Ave Sanford\, Florida 32771 USA
GEO:28.8106131;-81.2703753
X-APPLE-STRUCTURED-LOCATION;VALUE=URI;X-ADDRESS=Tuffys Music Box 200 S Myrtle Ave Sanford Florida 32771 USA;X-APPLE-RADIUS=500;X-TITLE=200 S Myrtle Ave Sanford\, Florida 32771 USA:geo:-81.2703753,28.8106131
END:VEVENT
BEGIN:VEVENT
DTSTART;TZID=America/New_York:20300922T150000
DTEND;TZID=America/New_York:20300922T150000
DTSTAMP:20260420T200358
CREATED:20260105T003247Z
LAST-MODIFIED:20260105T060114Z
UID:10020529-1916319600-1916319600@epictriviafl.com
SUMMARY:Music Bingo
DESCRIPTION:
URL:https://epictriviafl.com/event/music-bingo-tuffys/2030-09-22/
LOCATION:Tuffys Music Box\, 200 S Myrtle Ave Sanford\, Florida 32771 USA
GEO:28.8106131;-81.2703753
X-APPLE-STRUCTURED-LOCATION;VALUE=URI;X-ADDRESS=Tuffys Music Box 200 S Myrtle Ave Sanford Florida 32771 USA;X-APPLE-RADIUS=500;X-TITLE=200 S Myrtle Ave Sanford\, Florida 32771 USA:geo:-81.2703753,28.8106131
END:VEVENT
BEGIN:VEVENT
DTSTART;TZID=America/New_York:20300929T150000
DTEND;TZID=America/New_York:20300929T150000
DTSTAMP:20260420T200358
CREATED:20260105T003247Z
LAST-MODIFIED:20260105T060114Z
UID:10020530-1916924400-1916924400@epictriviafl.com
SUMMARY:Music Bingo
DESCRIPTION:
URL:https://epictriviafl.com/event/music-bingo-tuffys/2030-09-29/
LOCATION:Tuffys Music Box\, 200 S Myrtle Ave Sanford\, Florida 32771 USA
GEO:28.8106131;-81.2703753
X-APPLE-STRUCTURED-LOCATION;VALUE=URI;X-ADDRESS=Tuffys Music Box 200 S Myrtle Ave Sanford Florida 32771 USA;X-APPLE-RADIUS=500;X-TITLE=200 S Myrtle Ave Sanford\, Florida 32771 USA:geo:-81.2703753,28.8106131
END:VEVENT
BEGIN:VEVENT
DTSTART;TZID=America/New_York:20301006T150000
DTEND;TZID=America/New_York:20301006T150000
DTSTAMP:20260420T200358
CREATED:20260105T003247Z
LAST-MODIFIED:20260105T060114Z
UID:10020531-1917529200-1917529200@epictriviafl.com
SUMMARY:Music Bingo
DESCRIPTION:
URL:https://epictriviafl.com/event/music-bingo-tuffys/2030-10-06/
LOCATION:Tuffys Music Box\, 200 S Myrtle Ave Sanford\, Florida 32771 USA
GEO:28.8106131;-81.2703753
X-APPLE-STRUCTURED-LOCATION;VALUE=URI;X-ADDRESS=Tuffys Music Box 200 S Myrtle Ave Sanford Florida 32771 USA;X-APPLE-RADIUS=500;X-TITLE=200 S Myrtle Ave Sanford\, Florida 32771 USA:geo:-81.2703753,28.8106131
END:VEVENT
BEGIN:VEVENT
DTSTART;TZID=America/New_York:20301013T150000
DTEND;TZID=America/New_York:20301013T150000
DTSTAMP:20260420T200358
CREATED:20260105T003247Z
LAST-MODIFIED:20260105T060114Z
UID:10020532-1918134000-1918134000@epictriviafl.com
SUMMARY:Music Bingo
DESCRIPTION:
URL:https://epictriviafl.com/event/music-bingo-tuffys/2030-10-13/
LOCATION:Tuffys Music Box\, 200 S Myrtle Ave Sanford\, Florida 32771 USA
GEO:28.8106131;-81.2703753
X-APPLE-STRUCTURED-LOCATION;VALUE=URI;X-ADDRESS=Tuffys Music Box 200 S Myrtle Ave Sanford Florida 32771 USA;X-APPLE-RADIUS=500;X-TITLE=200 S Myrtle Ave Sanford\, Florida 32771 USA:geo:-81.2703753,28.8106131
END:VEVENT
END:VCALENDAR