BEGIN:VCALENDAR
VERSION:2.0
PRODID:-//Epic Trivia - ECPv6.15.18//NONSGML v1.0//EN
CALSCALE:GREGORIAN
METHOD:PUBLISH
X-ORIGINAL-URL:https://epictriviafl.com
X-WR-CALDESC:Events for Epic Trivia
REFRESH-INTERVAL;VALUE=DURATION:PT1H
X-Robots-Tag:noindex
X-PUBLISHED-TTL:PT1H
BEGIN:VTIMEZONE
TZID:America/New_York
BEGIN:DAYLIGHT
TZOFFSETFROM:-0500
TZOFFSETTO:-0400
TZNAME:EDT
DTSTART:20280312T070000
END:DAYLIGHT
BEGIN:STANDARD
TZOFFSETFROM:-0400
TZOFFSETTO:-0500
TZNAME:EST
DTSTART:20281105T060000
END:STANDARD
BEGIN:DAYLIGHT
TZOFFSETFROM:-0500
TZOFFSETTO:-0400
TZNAME:EDT
DTSTART:20290311T070000
END:DAYLIGHT
BEGIN:STANDARD
TZOFFSETFROM:-0400
TZOFFSETTO:-0500
TZNAME:EST
DTSTART:20291104T060000
END:STANDARD
BEGIN:DAYLIGHT
TZOFFSETFROM:-0500
TZOFFSETTO:-0400
TZNAME:EDT
DTSTART:20300310T070000
END:DAYLIGHT
BEGIN:STANDARD
TZOFFSETFROM:-0400
TZOFFSETTO:-0500
TZNAME:EST
DTSTART:20301103T060000
END:STANDARD
END:VTIMEZONE
BEGIN:VEVENT
DTSTART;TZID=America/New_York:20290422T150000
DTEND;TZID=America/New_York:20290422T150000
DTSTAMP:20260420T134702
CREATED:20260105T003247Z
LAST-MODIFIED:20260105T060114Z
UID:10020455-1871564400-1871564400@epictriviafl.com
SUMMARY:Music Bingo
DESCRIPTION:
URL:https://epictriviafl.com/event/music-bingo-tuffys/2029-04-22/
LOCATION:Tuffys Music Box\, 200 S Myrtle Ave Sanford\, Florida 32771 USA
GEO:28.8106131;-81.2703753
X-APPLE-STRUCTURED-LOCATION;VALUE=URI;X-ADDRESS=Tuffys Music Box 200 S Myrtle Ave Sanford Florida 32771 USA;X-APPLE-RADIUS=500;X-TITLE=200 S Myrtle Ave Sanford\, Florida 32771 USA:geo:-81.2703753,28.8106131
END:VEVENT
BEGIN:VEVENT
DTSTART;TZID=America/New_York:20290429T150000
DTEND;TZID=America/New_York:20290429T150000
DTSTAMP:20260420T134702
CREATED:20260105T003247Z
LAST-MODIFIED:20260105T060114Z
UID:10020456-1872169200-1872169200@epictriviafl.com
SUMMARY:Music Bingo
DESCRIPTION:
URL:https://epictriviafl.com/event/music-bingo-tuffys/2029-04-29/
LOCATION:Tuffys Music Box\, 200 S Myrtle Ave Sanford\, Florida 32771 USA
GEO:28.8106131;-81.2703753
X-APPLE-STRUCTURED-LOCATION;VALUE=URI;X-ADDRESS=Tuffys Music Box 200 S Myrtle Ave Sanford Florida 32771 USA;X-APPLE-RADIUS=500;X-TITLE=200 S Myrtle Ave Sanford\, Florida 32771 USA:geo:-81.2703753,28.8106131
END:VEVENT
BEGIN:VEVENT
DTSTART;TZID=America/New_York:20290506T150000
DTEND;TZID=America/New_York:20290506T150000
DTSTAMP:20260420T134703
CREATED:20260105T003247Z
LAST-MODIFIED:20260105T060114Z
UID:10020457-1872774000-1872774000@epictriviafl.com
SUMMARY:Music Bingo
DESCRIPTION:
URL:https://epictriviafl.com/event/music-bingo-tuffys/2029-05-06/
LOCATION:Tuffys Music Box\, 200 S Myrtle Ave Sanford\, Florida 32771 USA
GEO:28.8106131;-81.2703753
X-APPLE-STRUCTURED-LOCATION;VALUE=URI;X-ADDRESS=Tuffys Music Box 200 S Myrtle Ave Sanford Florida 32771 USA;X-APPLE-RADIUS=500;X-TITLE=200 S Myrtle Ave Sanford\, Florida 32771 USA:geo:-81.2703753,28.8106131
END:VEVENT
BEGIN:VEVENT
DTSTART;TZID=America/New_York:20290513T150000
DTEND;TZID=America/New_York:20290513T150000
DTSTAMP:20260420T134703
CREATED:20260105T003247Z
LAST-MODIFIED:20260105T060114Z
UID:10020458-1873378800-1873378800@epictriviafl.com
SUMMARY:Music Bingo
DESCRIPTION:
URL:https://epictriviafl.com/event/music-bingo-tuffys/2029-05-13/
LOCATION:Tuffys Music Box\, 200 S Myrtle Ave Sanford\, Florida 32771 USA
GEO:28.8106131;-81.2703753
X-APPLE-STRUCTURED-LOCATION;VALUE=URI;X-ADDRESS=Tuffys Music Box 200 S Myrtle Ave Sanford Florida 32771 USA;X-APPLE-RADIUS=500;X-TITLE=200 S Myrtle Ave Sanford\, Florida 32771 USA:geo:-81.2703753,28.8106131
END:VEVENT
BEGIN:VEVENT
DTSTART;TZID=America/New_York:20290520T150000
DTEND;TZID=America/New_York:20290520T150000
DTSTAMP:20260420T134703
CREATED:20260105T003247Z
LAST-MODIFIED:20260105T060114Z
UID:10020459-1873983600-1873983600@epictriviafl.com
SUMMARY:Music Bingo
DESCRIPTION:
URL:https://epictriviafl.com/event/music-bingo-tuffys/2029-05-20/
LOCATION:Tuffys Music Box\, 200 S Myrtle Ave Sanford\, Florida 32771 USA
GEO:28.8106131;-81.2703753
X-APPLE-STRUCTURED-LOCATION;VALUE=URI;X-ADDRESS=Tuffys Music Box 200 S Myrtle Ave Sanford Florida 32771 USA;X-APPLE-RADIUS=500;X-TITLE=200 S Myrtle Ave Sanford\, Florida 32771 USA:geo:-81.2703753,28.8106131
END:VEVENT
BEGIN:VEVENT
DTSTART;TZID=America/New_York:20290527T150000
DTEND;TZID=America/New_York:20290527T150000
DTSTAMP:20260420T134703
CREATED:20260105T003247Z
LAST-MODIFIED:20260105T060114Z
UID:10020460-1874588400-1874588400@epictriviafl.com
SUMMARY:Music Bingo
DESCRIPTION:
URL:https://epictriviafl.com/event/music-bingo-tuffys/2029-05-27/
LOCATION:Tuffys Music Box\, 200 S Myrtle Ave Sanford\, Florida 32771 USA
GEO:28.8106131;-81.2703753
X-APPLE-STRUCTURED-LOCATION;VALUE=URI;X-ADDRESS=Tuffys Music Box 200 S Myrtle Ave Sanford Florida 32771 USA;X-APPLE-RADIUS=500;X-TITLE=200 S Myrtle Ave Sanford\, Florida 32771 USA:geo:-81.2703753,28.8106131
END:VEVENT
BEGIN:VEVENT
DTSTART;TZID=America/New_York:20290603T150000
DTEND;TZID=America/New_York:20290603T150000
DTSTAMP:20260420T134703
CREATED:20260105T003247Z
LAST-MODIFIED:20260105T060114Z
UID:10020461-1875193200-1875193200@epictriviafl.com
SUMMARY:Music Bingo
DESCRIPTION:
URL:https://epictriviafl.com/event/music-bingo-tuffys/2029-06-03/
LOCATION:Tuffys Music Box\, 200 S Myrtle Ave Sanford\, Florida 32771 USA
GEO:28.8106131;-81.2703753
X-APPLE-STRUCTURED-LOCATION;VALUE=URI;X-ADDRESS=Tuffys Music Box 200 S Myrtle Ave Sanford Florida 32771 USA;X-APPLE-RADIUS=500;X-TITLE=200 S Myrtle Ave Sanford\, Florida 32771 USA:geo:-81.2703753,28.8106131
END:VEVENT
BEGIN:VEVENT
DTSTART;TZID=America/New_York:20290610T150000
DTEND;TZID=America/New_York:20290610T150000
DTSTAMP:20260420T134703
CREATED:20260105T003247Z
LAST-MODIFIED:20260105T060114Z
UID:10020462-1875798000-1875798000@epictriviafl.com
SUMMARY:Music Bingo
DESCRIPTION:
URL:https://epictriviafl.com/event/music-bingo-tuffys/2029-06-10/
LOCATION:Tuffys Music Box\, 200 S Myrtle Ave Sanford\, Florida 32771 USA
GEO:28.8106131;-81.2703753
X-APPLE-STRUCTURED-LOCATION;VALUE=URI;X-ADDRESS=Tuffys Music Box 200 S Myrtle Ave Sanford Florida 32771 USA;X-APPLE-RADIUS=500;X-TITLE=200 S Myrtle Ave Sanford\, Florida 32771 USA:geo:-81.2703753,28.8106131
END:VEVENT
BEGIN:VEVENT
DTSTART;TZID=America/New_York:20290617T150000
DTEND;TZID=America/New_York:20290617T150000
DTSTAMP:20260420T134703
CREATED:20260105T003247Z
LAST-MODIFIED:20260105T060114Z
UID:10020463-1876402800-1876402800@epictriviafl.com
SUMMARY:Music Bingo
DESCRIPTION:
URL:https://epictriviafl.com/event/music-bingo-tuffys/2029-06-17/
LOCATION:Tuffys Music Box\, 200 S Myrtle Ave Sanford\, Florida 32771 USA
GEO:28.8106131;-81.2703753
X-APPLE-STRUCTURED-LOCATION;VALUE=URI;X-ADDRESS=Tuffys Music Box 200 S Myrtle Ave Sanford Florida 32771 USA;X-APPLE-RADIUS=500;X-TITLE=200 S Myrtle Ave Sanford\, Florida 32771 USA:geo:-81.2703753,28.8106131
END:VEVENT
BEGIN:VEVENT
DTSTART;TZID=America/New_York:20290624T150000
DTEND;TZID=America/New_York:20290624T150000
DTSTAMP:20260420T134703
CREATED:20260105T003247Z
LAST-MODIFIED:20260105T060114Z
UID:10020464-1877007600-1877007600@epictriviafl.com
SUMMARY:Music Bingo
DESCRIPTION:
URL:https://epictriviafl.com/event/music-bingo-tuffys/2029-06-24/
LOCATION:Tuffys Music Box\, 200 S Myrtle Ave Sanford\, Florida 32771 USA
GEO:28.8106131;-81.2703753
X-APPLE-STRUCTURED-LOCATION;VALUE=URI;X-ADDRESS=Tuffys Music Box 200 S Myrtle Ave Sanford Florida 32771 USA;X-APPLE-RADIUS=500;X-TITLE=200 S Myrtle Ave Sanford\, Florida 32771 USA:geo:-81.2703753,28.8106131
END:VEVENT
BEGIN:VEVENT
DTSTART;TZID=America/New_York:20290701T150000
DTEND;TZID=America/New_York:20290701T150000
DTSTAMP:20260420T134703
CREATED:20260105T003247Z
LAST-MODIFIED:20260105T060114Z
UID:10020465-1877612400-1877612400@epictriviafl.com
SUMMARY:Music Bingo
DESCRIPTION:
URL:https://epictriviafl.com/event/music-bingo-tuffys/2029-07-01/
LOCATION:Tuffys Music Box\, 200 S Myrtle Ave Sanford\, Florida 32771 USA
GEO:28.8106131;-81.2703753
X-APPLE-STRUCTURED-LOCATION;VALUE=URI;X-ADDRESS=Tuffys Music Box 200 S Myrtle Ave Sanford Florida 32771 USA;X-APPLE-RADIUS=500;X-TITLE=200 S Myrtle Ave Sanford\, Florida 32771 USA:geo:-81.2703753,28.8106131
END:VEVENT
BEGIN:VEVENT
DTSTART;TZID=America/New_York:20290708T150000
DTEND;TZID=America/New_York:20290708T150000
DTSTAMP:20260420T134703
CREATED:20260105T003247Z
LAST-MODIFIED:20260105T060114Z
UID:10020466-1878217200-1878217200@epictriviafl.com
SUMMARY:Music Bingo
DESCRIPTION:
URL:https://epictriviafl.com/event/music-bingo-tuffys/2029-07-08/
LOCATION:Tuffys Music Box\, 200 S Myrtle Ave Sanford\, Florida 32771 USA
GEO:28.8106131;-81.2703753
X-APPLE-STRUCTURED-LOCATION;VALUE=URI;X-ADDRESS=Tuffys Music Box 200 S Myrtle Ave Sanford Florida 32771 USA;X-APPLE-RADIUS=500;X-TITLE=200 S Myrtle Ave Sanford\, Florida 32771 USA:geo:-81.2703753,28.8106131
END:VEVENT
BEGIN:VEVENT
DTSTART;TZID=America/New_York:20290715T150000
DTEND;TZID=America/New_York:20290715T150000
DTSTAMP:20260420T134703
CREATED:20260105T003247Z
LAST-MODIFIED:20260105T060114Z
UID:10020467-1878822000-1878822000@epictriviafl.com
SUMMARY:Music Bingo
DESCRIPTION:
URL:https://epictriviafl.com/event/music-bingo-tuffys/2029-07-15/
LOCATION:Tuffys Music Box\, 200 S Myrtle Ave Sanford\, Florida 32771 USA
GEO:28.8106131;-81.2703753
X-APPLE-STRUCTURED-LOCATION;VALUE=URI;X-ADDRESS=Tuffys Music Box 200 S Myrtle Ave Sanford Florida 32771 USA;X-APPLE-RADIUS=500;X-TITLE=200 S Myrtle Ave Sanford\, Florida 32771 USA:geo:-81.2703753,28.8106131
END:VEVENT
BEGIN:VEVENT
DTSTART;TZID=America/New_York:20290722T150000
DTEND;TZID=America/New_York:20290722T150000
DTSTAMP:20260420T134703
CREATED:20260105T003247Z
LAST-MODIFIED:20260105T060114Z
UID:10020468-1879426800-1879426800@epictriviafl.com
SUMMARY:Music Bingo
DESCRIPTION:
URL:https://epictriviafl.com/event/music-bingo-tuffys/2029-07-22/
LOCATION:Tuffys Music Box\, 200 S Myrtle Ave Sanford\, Florida 32771 USA
GEO:28.8106131;-81.2703753
X-APPLE-STRUCTURED-LOCATION;VALUE=URI;X-ADDRESS=Tuffys Music Box 200 S Myrtle Ave Sanford Florida 32771 USA;X-APPLE-RADIUS=500;X-TITLE=200 S Myrtle Ave Sanford\, Florida 32771 USA:geo:-81.2703753,28.8106131
END:VEVENT
BEGIN:VEVENT
DTSTART;TZID=America/New_York:20290729T150000
DTEND;TZID=America/New_York:20290729T150000
DTSTAMP:20260420T134703
CREATED:20260105T003247Z
LAST-MODIFIED:20260105T060114Z
UID:10020469-1880031600-1880031600@epictriviafl.com
SUMMARY:Music Bingo
DESCRIPTION:
URL:https://epictriviafl.com/event/music-bingo-tuffys/2029-07-29/
LOCATION:Tuffys Music Box\, 200 S Myrtle Ave Sanford\, Florida 32771 USA
GEO:28.8106131;-81.2703753
X-APPLE-STRUCTURED-LOCATION;VALUE=URI;X-ADDRESS=Tuffys Music Box 200 S Myrtle Ave Sanford Florida 32771 USA;X-APPLE-RADIUS=500;X-TITLE=200 S Myrtle Ave Sanford\, Florida 32771 USA:geo:-81.2703753,28.8106131
END:VEVENT
BEGIN:VEVENT
DTSTART;TZID=America/New_York:20290805T150000
DTEND;TZID=America/New_York:20290805T150000
DTSTAMP:20260420T134703
CREATED:20260105T003247Z
LAST-MODIFIED:20260105T060114Z
UID:10020470-1880636400-1880636400@epictriviafl.com
SUMMARY:Music Bingo
DESCRIPTION:
URL:https://epictriviafl.com/event/music-bingo-tuffys/2029-08-05/
LOCATION:Tuffys Music Box\, 200 S Myrtle Ave Sanford\, Florida 32771 USA
GEO:28.8106131;-81.2703753
X-APPLE-STRUCTURED-LOCATION;VALUE=URI;X-ADDRESS=Tuffys Music Box 200 S Myrtle Ave Sanford Florida 32771 USA;X-APPLE-RADIUS=500;X-TITLE=200 S Myrtle Ave Sanford\, Florida 32771 USA:geo:-81.2703753,28.8106131
END:VEVENT
BEGIN:VEVENT
DTSTART;TZID=America/New_York:20290812T150000
DTEND;TZID=America/New_York:20290812T150000
DTSTAMP:20260420T134703
CREATED:20260105T003247Z
LAST-MODIFIED:20260105T060114Z
UID:10020471-1881241200-1881241200@epictriviafl.com
SUMMARY:Music Bingo
DESCRIPTION:
URL:https://epictriviafl.com/event/music-bingo-tuffys/2029-08-12/
LOCATION:Tuffys Music Box\, 200 S Myrtle Ave Sanford\, Florida 32771 USA
GEO:28.8106131;-81.2703753
X-APPLE-STRUCTURED-LOCATION;VALUE=URI;X-ADDRESS=Tuffys Music Box 200 S Myrtle Ave Sanford Florida 32771 USA;X-APPLE-RADIUS=500;X-TITLE=200 S Myrtle Ave Sanford\, Florida 32771 USA:geo:-81.2703753,28.8106131
END:VEVENT
BEGIN:VEVENT
DTSTART;TZID=America/New_York:20290819T150000
DTEND;TZID=America/New_York:20290819T150000
DTSTAMP:20260420T134703
CREATED:20260105T003247Z
LAST-MODIFIED:20260105T060114Z
UID:10020472-1881846000-1881846000@epictriviafl.com
SUMMARY:Music Bingo
DESCRIPTION:
URL:https://epictriviafl.com/event/music-bingo-tuffys/2029-08-19/
LOCATION:Tuffys Music Box\, 200 S Myrtle Ave Sanford\, Florida 32771 USA
GEO:28.8106131;-81.2703753
X-APPLE-STRUCTURED-LOCATION;VALUE=URI;X-ADDRESS=Tuffys Music Box 200 S Myrtle Ave Sanford Florida 32771 USA;X-APPLE-RADIUS=500;X-TITLE=200 S Myrtle Ave Sanford\, Florida 32771 USA:geo:-81.2703753,28.8106131
END:VEVENT
BEGIN:VEVENT
DTSTART;TZID=America/New_York:20290826T150000
DTEND;TZID=America/New_York:20290826T150000
DTSTAMP:20260420T134703
CREATED:20260105T003247Z
LAST-MODIFIED:20260105T060114Z
UID:10020473-1882450800-1882450800@epictriviafl.com
SUMMARY:Music Bingo
DESCRIPTION:
URL:https://epictriviafl.com/event/music-bingo-tuffys/2029-08-26/
LOCATION:Tuffys Music Box\, 200 S Myrtle Ave Sanford\, Florida 32771 USA
GEO:28.8106131;-81.2703753
X-APPLE-STRUCTURED-LOCATION;VALUE=URI;X-ADDRESS=Tuffys Music Box 200 S Myrtle Ave Sanford Florida 32771 USA;X-APPLE-RADIUS=500;X-TITLE=200 S Myrtle Ave Sanford\, Florida 32771 USA:geo:-81.2703753,28.8106131
END:VEVENT
BEGIN:VEVENT
DTSTART;TZID=America/New_York:20290902T150000
DTEND;TZID=America/New_York:20290902T150000
DTSTAMP:20260420T134703
CREATED:20260105T003247Z
LAST-MODIFIED:20260105T060114Z
UID:10020474-1883055600-1883055600@epictriviafl.com
SUMMARY:Music Bingo
DESCRIPTION:
URL:https://epictriviafl.com/event/music-bingo-tuffys/2029-09-02/
LOCATION:Tuffys Music Box\, 200 S Myrtle Ave Sanford\, Florida 32771 USA
GEO:28.8106131;-81.2703753
X-APPLE-STRUCTURED-LOCATION;VALUE=URI;X-ADDRESS=Tuffys Music Box 200 S Myrtle Ave Sanford Florida 32771 USA;X-APPLE-RADIUS=500;X-TITLE=200 S Myrtle Ave Sanford\, Florida 32771 USA:geo:-81.2703753,28.8106131
END:VEVENT
BEGIN:VEVENT
DTSTART;TZID=America/New_York:20290909T150000
DTEND;TZID=America/New_York:20290909T150000
DTSTAMP:20260420T134703
CREATED:20260105T003247Z
LAST-MODIFIED:20260105T060114Z
UID:10020475-1883660400-1883660400@epictriviafl.com
SUMMARY:Music Bingo
DESCRIPTION:
URL:https://epictriviafl.com/event/music-bingo-tuffys/2029-09-09/
LOCATION:Tuffys Music Box\, 200 S Myrtle Ave Sanford\, Florida 32771 USA
GEO:28.8106131;-81.2703753
X-APPLE-STRUCTURED-LOCATION;VALUE=URI;X-ADDRESS=Tuffys Music Box 200 S Myrtle Ave Sanford Florida 32771 USA;X-APPLE-RADIUS=500;X-TITLE=200 S Myrtle Ave Sanford\, Florida 32771 USA:geo:-81.2703753,28.8106131
END:VEVENT
BEGIN:VEVENT
DTSTART;TZID=America/New_York:20290916T150000
DTEND;TZID=America/New_York:20290916T150000
DTSTAMP:20260420T134703
CREATED:20260105T003247Z
LAST-MODIFIED:20260105T060114Z
UID:10020476-1884265200-1884265200@epictriviafl.com
SUMMARY:Music Bingo
DESCRIPTION:
URL:https://epictriviafl.com/event/music-bingo-tuffys/2029-09-16/
LOCATION:Tuffys Music Box\, 200 S Myrtle Ave Sanford\, Florida 32771 USA
GEO:28.8106131;-81.2703753
X-APPLE-STRUCTURED-LOCATION;VALUE=URI;X-ADDRESS=Tuffys Music Box 200 S Myrtle Ave Sanford Florida 32771 USA;X-APPLE-RADIUS=500;X-TITLE=200 S Myrtle Ave Sanford\, Florida 32771 USA:geo:-81.2703753,28.8106131
END:VEVENT
BEGIN:VEVENT
DTSTART;TZID=America/New_York:20290923T150000
DTEND;TZID=America/New_York:20290923T150000
DTSTAMP:20260420T134703
CREATED:20260105T003247Z
LAST-MODIFIED:20260105T060114Z
UID:10020477-1884870000-1884870000@epictriviafl.com
SUMMARY:Music Bingo
DESCRIPTION:
URL:https://epictriviafl.com/event/music-bingo-tuffys/2029-09-23/
LOCATION:Tuffys Music Box\, 200 S Myrtle Ave Sanford\, Florida 32771 USA
GEO:28.8106131;-81.2703753
X-APPLE-STRUCTURED-LOCATION;VALUE=URI;X-ADDRESS=Tuffys Music Box 200 S Myrtle Ave Sanford Florida 32771 USA;X-APPLE-RADIUS=500;X-TITLE=200 S Myrtle Ave Sanford\, Florida 32771 USA:geo:-81.2703753,28.8106131
END:VEVENT
BEGIN:VEVENT
DTSTART;TZID=America/New_York:20290930T150000
DTEND;TZID=America/New_York:20290930T150000
DTSTAMP:20260420T134703
CREATED:20260105T003247Z
LAST-MODIFIED:20260105T060114Z
UID:10020478-1885474800-1885474800@epictriviafl.com
SUMMARY:Music Bingo
DESCRIPTION:
URL:https://epictriviafl.com/event/music-bingo-tuffys/2029-09-30/
LOCATION:Tuffys Music Box\, 200 S Myrtle Ave Sanford\, Florida 32771 USA
GEO:28.8106131;-81.2703753
X-APPLE-STRUCTURED-LOCATION;VALUE=URI;X-ADDRESS=Tuffys Music Box 200 S Myrtle Ave Sanford Florida 32771 USA;X-APPLE-RADIUS=500;X-TITLE=200 S Myrtle Ave Sanford\, Florida 32771 USA:geo:-81.2703753,28.8106131
END:VEVENT
BEGIN:VEVENT
DTSTART;TZID=America/New_York:20291007T150000
DTEND;TZID=America/New_York:20291007T150000
DTSTAMP:20260420T134703
CREATED:20260105T003247Z
LAST-MODIFIED:20260105T060114Z
UID:10020479-1886079600-1886079600@epictriviafl.com
SUMMARY:Music Bingo
DESCRIPTION:
URL:https://epictriviafl.com/event/music-bingo-tuffys/2029-10-07/
LOCATION:Tuffys Music Box\, 200 S Myrtle Ave Sanford\, Florida 32771 USA
GEO:28.8106131;-81.2703753
X-APPLE-STRUCTURED-LOCATION;VALUE=URI;X-ADDRESS=Tuffys Music Box 200 S Myrtle Ave Sanford Florida 32771 USA;X-APPLE-RADIUS=500;X-TITLE=200 S Myrtle Ave Sanford\, Florida 32771 USA:geo:-81.2703753,28.8106131
END:VEVENT
BEGIN:VEVENT
DTSTART;TZID=America/New_York:20291014T150000
DTEND;TZID=America/New_York:20291014T150000
DTSTAMP:20260420T134703
CREATED:20260105T003247Z
LAST-MODIFIED:20260105T060114Z
UID:10020480-1886684400-1886684400@epictriviafl.com
SUMMARY:Music Bingo
DESCRIPTION:
URL:https://epictriviafl.com/event/music-bingo-tuffys/2029-10-14/
LOCATION:Tuffys Music Box\, 200 S Myrtle Ave Sanford\, Florida 32771 USA
GEO:28.8106131;-81.2703753
X-APPLE-STRUCTURED-LOCATION;VALUE=URI;X-ADDRESS=Tuffys Music Box 200 S Myrtle Ave Sanford Florida 32771 USA;X-APPLE-RADIUS=500;X-TITLE=200 S Myrtle Ave Sanford\, Florida 32771 USA:geo:-81.2703753,28.8106131
END:VEVENT
BEGIN:VEVENT
DTSTART;TZID=America/New_York:20291021T150000
DTEND;TZID=America/New_York:20291021T150000
DTSTAMP:20260420T134703
CREATED:20260105T003247Z
LAST-MODIFIED:20260105T060114Z
UID:10020481-1887289200-1887289200@epictriviafl.com
SUMMARY:Music Bingo
DESCRIPTION:
URL:https://epictriviafl.com/event/music-bingo-tuffys/2029-10-21/
LOCATION:Tuffys Music Box\, 200 S Myrtle Ave Sanford\, Florida 32771 USA
GEO:28.8106131;-81.2703753
X-APPLE-STRUCTURED-LOCATION;VALUE=URI;X-ADDRESS=Tuffys Music Box 200 S Myrtle Ave Sanford Florida 32771 USA;X-APPLE-RADIUS=500;X-TITLE=200 S Myrtle Ave Sanford\, Florida 32771 USA:geo:-81.2703753,28.8106131
END:VEVENT
BEGIN:VEVENT
DTSTART;TZID=America/New_York:20291028T150000
DTEND;TZID=America/New_York:20291028T150000
DTSTAMP:20260420T134703
CREATED:20260105T003247Z
LAST-MODIFIED:20260105T060114Z
UID:10020482-1887894000-1887894000@epictriviafl.com
SUMMARY:Music Bingo
DESCRIPTION:
URL:https://epictriviafl.com/event/music-bingo-tuffys/2029-10-28/
LOCATION:Tuffys Music Box\, 200 S Myrtle Ave Sanford\, Florida 32771 USA
GEO:28.8106131;-81.2703753
X-APPLE-STRUCTURED-LOCATION;VALUE=URI;X-ADDRESS=Tuffys Music Box 200 S Myrtle Ave Sanford Florida 32771 USA;X-APPLE-RADIUS=500;X-TITLE=200 S Myrtle Ave Sanford\, Florida 32771 USA:geo:-81.2703753,28.8106131
END:VEVENT
BEGIN:VEVENT
DTSTART;TZID=America/New_York:20291104T150000
DTEND;TZID=America/New_York:20291104T150000
DTSTAMP:20260420T134703
CREATED:20260105T003247Z
LAST-MODIFIED:20260105T060114Z
UID:10020483-1888498800-1888498800@epictriviafl.com
SUMMARY:Music Bingo
DESCRIPTION:
URL:https://epictriviafl.com/event/music-bingo-tuffys/2029-11-04/
LOCATION:Tuffys Music Box\, 200 S Myrtle Ave Sanford\, Florida 32771 USA
GEO:28.8106131;-81.2703753
X-APPLE-STRUCTURED-LOCATION;VALUE=URI;X-ADDRESS=Tuffys Music Box 200 S Myrtle Ave Sanford Florida 32771 USA;X-APPLE-RADIUS=500;X-TITLE=200 S Myrtle Ave Sanford\, Florida 32771 USA:geo:-81.2703753,28.8106131
END:VEVENT
BEGIN:VEVENT
DTSTART;TZID=America/New_York:20291111T150000
DTEND;TZID=America/New_York:20291111T150000
DTSTAMP:20260420T134703
CREATED:20260105T003247Z
LAST-MODIFIED:20260105T060114Z
UID:10020484-1889103600-1889103600@epictriviafl.com
SUMMARY:Music Bingo
DESCRIPTION:
URL:https://epictriviafl.com/event/music-bingo-tuffys/2029-11-11/
LOCATION:Tuffys Music Box\, 200 S Myrtle Ave Sanford\, Florida 32771 USA
GEO:28.8106131;-81.2703753
X-APPLE-STRUCTURED-LOCATION;VALUE=URI;X-ADDRESS=Tuffys Music Box 200 S Myrtle Ave Sanford Florida 32771 USA;X-APPLE-RADIUS=500;X-TITLE=200 S Myrtle Ave Sanford\, Florida 32771 USA:geo:-81.2703753,28.8106131
END:VEVENT
END:VCALENDAR