BEGIN:VCALENDAR
VERSION:2.0
PRODID:-//Epic Trivia - ECPv6.15.18//NONSGML v1.0//EN
CALSCALE:GREGORIAN
METHOD:PUBLISH
X-ORIGINAL-URL:https://epictriviafl.com
X-WR-CALDESC:Events for Epic Trivia
REFRESH-INTERVAL;VALUE=DURATION:PT1H
X-Robots-Tag:noindex
X-PUBLISHED-TTL:PT1H
BEGIN:VTIMEZONE
TZID:America/New_York
BEGIN:DAYLIGHT
TZOFFSETFROM:-0500
TZOFFSETTO:-0400
TZNAME:EDT
DTSTART:20270314T070000
END:DAYLIGHT
BEGIN:STANDARD
TZOFFSETFROM:-0400
TZOFFSETTO:-0500
TZNAME:EST
DTSTART:20271107T060000
END:STANDARD
BEGIN:DAYLIGHT
TZOFFSETFROM:-0500
TZOFFSETTO:-0400
TZNAME:EDT
DTSTART:20280312T070000
END:DAYLIGHT
BEGIN:STANDARD
TZOFFSETFROM:-0400
TZOFFSETTO:-0500
TZNAME:EST
DTSTART:20281105T060000
END:STANDARD
BEGIN:DAYLIGHT
TZOFFSETFROM:-0500
TZOFFSETTO:-0400
TZNAME:EDT
DTSTART:20290311T070000
END:DAYLIGHT
BEGIN:STANDARD
TZOFFSETFROM:-0400
TZOFFSETTO:-0500
TZNAME:EST
DTSTART:20291104T060000
END:STANDARD
END:VTIMEZONE
BEGIN:VEVENT
DTSTART;TZID=America/New_York:20280521T150000
DTEND;TZID=America/New_York:20280521T150000
DTSTAMP:20260420T073923
CREATED:20260105T003247Z
LAST-MODIFIED:20260105T060114Z
UID:10020407-1842534000-1842534000@epictriviafl.com
SUMMARY:Music Bingo
DESCRIPTION:
URL:https://epictriviafl.com/event/music-bingo-tuffys/2028-05-21/
LOCATION:Tuffys Music Box\, 200 S Myrtle Ave Sanford\, Florida 32771 USA
GEO:28.8106131;-81.2703753
X-APPLE-STRUCTURED-LOCATION;VALUE=URI;X-ADDRESS=Tuffys Music Box 200 S Myrtle Ave Sanford Florida 32771 USA;X-APPLE-RADIUS=500;X-TITLE=200 S Myrtle Ave Sanford\, Florida 32771 USA:geo:-81.2703753,28.8106131
END:VEVENT
BEGIN:VEVENT
DTSTART;TZID=America/New_York:20280528T150000
DTEND;TZID=America/New_York:20280528T150000
DTSTAMP:20260420T073923
CREATED:20260105T003247Z
LAST-MODIFIED:20260105T060114Z
UID:10020408-1843138800-1843138800@epictriviafl.com
SUMMARY:Music Bingo
DESCRIPTION:
URL:https://epictriviafl.com/event/music-bingo-tuffys/2028-05-28/
LOCATION:Tuffys Music Box\, 200 S Myrtle Ave Sanford\, Florida 32771 USA
GEO:28.8106131;-81.2703753
X-APPLE-STRUCTURED-LOCATION;VALUE=URI;X-ADDRESS=Tuffys Music Box 200 S Myrtle Ave Sanford Florida 32771 USA;X-APPLE-RADIUS=500;X-TITLE=200 S Myrtle Ave Sanford\, Florida 32771 USA:geo:-81.2703753,28.8106131
END:VEVENT
BEGIN:VEVENT
DTSTART;TZID=America/New_York:20280604T150000
DTEND;TZID=America/New_York:20280604T150000
DTSTAMP:20260420T073923
CREATED:20260105T003247Z
LAST-MODIFIED:20260105T060114Z
UID:10020409-1843743600-1843743600@epictriviafl.com
SUMMARY:Music Bingo
DESCRIPTION:
URL:https://epictriviafl.com/event/music-bingo-tuffys/2028-06-04/
LOCATION:Tuffys Music Box\, 200 S Myrtle Ave Sanford\, Florida 32771 USA
GEO:28.8106131;-81.2703753
X-APPLE-STRUCTURED-LOCATION;VALUE=URI;X-ADDRESS=Tuffys Music Box 200 S Myrtle Ave Sanford Florida 32771 USA;X-APPLE-RADIUS=500;X-TITLE=200 S Myrtle Ave Sanford\, Florida 32771 USA:geo:-81.2703753,28.8106131
END:VEVENT
BEGIN:VEVENT
DTSTART;TZID=America/New_York:20280611T150000
DTEND;TZID=America/New_York:20280611T150000
DTSTAMP:20260420T073923
CREATED:20260105T003247Z
LAST-MODIFIED:20260105T060114Z
UID:10020410-1844348400-1844348400@epictriviafl.com
SUMMARY:Music Bingo
DESCRIPTION:
URL:https://epictriviafl.com/event/music-bingo-tuffys/2028-06-11/
LOCATION:Tuffys Music Box\, 200 S Myrtle Ave Sanford\, Florida 32771 USA
GEO:28.8106131;-81.2703753
X-APPLE-STRUCTURED-LOCATION;VALUE=URI;X-ADDRESS=Tuffys Music Box 200 S Myrtle Ave Sanford Florida 32771 USA;X-APPLE-RADIUS=500;X-TITLE=200 S Myrtle Ave Sanford\, Florida 32771 USA:geo:-81.2703753,28.8106131
END:VEVENT
BEGIN:VEVENT
DTSTART;TZID=America/New_York:20280618T150000
DTEND;TZID=America/New_York:20280618T150000
DTSTAMP:20260420T073923
CREATED:20260105T003247Z
LAST-MODIFIED:20260105T060114Z
UID:10020411-1844953200-1844953200@epictriviafl.com
SUMMARY:Music Bingo
DESCRIPTION:
URL:https://epictriviafl.com/event/music-bingo-tuffys/2028-06-18/
LOCATION:Tuffys Music Box\, 200 S Myrtle Ave Sanford\, Florida 32771 USA
GEO:28.8106131;-81.2703753
X-APPLE-STRUCTURED-LOCATION;VALUE=URI;X-ADDRESS=Tuffys Music Box 200 S Myrtle Ave Sanford Florida 32771 USA;X-APPLE-RADIUS=500;X-TITLE=200 S Myrtle Ave Sanford\, Florida 32771 USA:geo:-81.2703753,28.8106131
END:VEVENT
BEGIN:VEVENT
DTSTART;TZID=America/New_York:20280625T150000
DTEND;TZID=America/New_York:20280625T150000
DTSTAMP:20260420T073923
CREATED:20260105T003247Z
LAST-MODIFIED:20260105T060114Z
UID:10020412-1845558000-1845558000@epictriviafl.com
SUMMARY:Music Bingo
DESCRIPTION:
URL:https://epictriviafl.com/event/music-bingo-tuffys/2028-06-25/
LOCATION:Tuffys Music Box\, 200 S Myrtle Ave Sanford\, Florida 32771 USA
GEO:28.8106131;-81.2703753
X-APPLE-STRUCTURED-LOCATION;VALUE=URI;X-ADDRESS=Tuffys Music Box 200 S Myrtle Ave Sanford Florida 32771 USA;X-APPLE-RADIUS=500;X-TITLE=200 S Myrtle Ave Sanford\, Florida 32771 USA:geo:-81.2703753,28.8106131
END:VEVENT
BEGIN:VEVENT
DTSTART;TZID=America/New_York:20280702T150000
DTEND;TZID=America/New_York:20280702T150000
DTSTAMP:20260420T073923
CREATED:20260105T003247Z
LAST-MODIFIED:20260105T060114Z
UID:10020413-1846162800-1846162800@epictriviafl.com
SUMMARY:Music Bingo
DESCRIPTION:
URL:https://epictriviafl.com/event/music-bingo-tuffys/2028-07-02/
LOCATION:Tuffys Music Box\, 200 S Myrtle Ave Sanford\, Florida 32771 USA
GEO:28.8106131;-81.2703753
X-APPLE-STRUCTURED-LOCATION;VALUE=URI;X-ADDRESS=Tuffys Music Box 200 S Myrtle Ave Sanford Florida 32771 USA;X-APPLE-RADIUS=500;X-TITLE=200 S Myrtle Ave Sanford\, Florida 32771 USA:geo:-81.2703753,28.8106131
END:VEVENT
BEGIN:VEVENT
DTSTART;TZID=America/New_York:20280709T150000
DTEND;TZID=America/New_York:20280709T150000
DTSTAMP:20260420T073923
CREATED:20260105T003247Z
LAST-MODIFIED:20260105T060114Z
UID:10020414-1846767600-1846767600@epictriviafl.com
SUMMARY:Music Bingo
DESCRIPTION:
URL:https://epictriviafl.com/event/music-bingo-tuffys/2028-07-09/
LOCATION:Tuffys Music Box\, 200 S Myrtle Ave Sanford\, Florida 32771 USA
GEO:28.8106131;-81.2703753
X-APPLE-STRUCTURED-LOCATION;VALUE=URI;X-ADDRESS=Tuffys Music Box 200 S Myrtle Ave Sanford Florida 32771 USA;X-APPLE-RADIUS=500;X-TITLE=200 S Myrtle Ave Sanford\, Florida 32771 USA:geo:-81.2703753,28.8106131
END:VEVENT
BEGIN:VEVENT
DTSTART;TZID=America/New_York:20280716T150000
DTEND;TZID=America/New_York:20280716T150000
DTSTAMP:20260420T073923
CREATED:20260105T003247Z
LAST-MODIFIED:20260105T060114Z
UID:10020415-1847372400-1847372400@epictriviafl.com
SUMMARY:Music Bingo
DESCRIPTION:
URL:https://epictriviafl.com/event/music-bingo-tuffys/2028-07-16/
LOCATION:Tuffys Music Box\, 200 S Myrtle Ave Sanford\, Florida 32771 USA
GEO:28.8106131;-81.2703753
X-APPLE-STRUCTURED-LOCATION;VALUE=URI;X-ADDRESS=Tuffys Music Box 200 S Myrtle Ave Sanford Florida 32771 USA;X-APPLE-RADIUS=500;X-TITLE=200 S Myrtle Ave Sanford\, Florida 32771 USA:geo:-81.2703753,28.8106131
END:VEVENT
BEGIN:VEVENT
DTSTART;TZID=America/New_York:20280723T150000
DTEND;TZID=America/New_York:20280723T150000
DTSTAMP:20260420T073923
CREATED:20260105T003247Z
LAST-MODIFIED:20260105T060114Z
UID:10020416-1847977200-1847977200@epictriviafl.com
SUMMARY:Music Bingo
DESCRIPTION:
URL:https://epictriviafl.com/event/music-bingo-tuffys/2028-07-23/
LOCATION:Tuffys Music Box\, 200 S Myrtle Ave Sanford\, Florida 32771 USA
GEO:28.8106131;-81.2703753
X-APPLE-STRUCTURED-LOCATION;VALUE=URI;X-ADDRESS=Tuffys Music Box 200 S Myrtle Ave Sanford Florida 32771 USA;X-APPLE-RADIUS=500;X-TITLE=200 S Myrtle Ave Sanford\, Florida 32771 USA:geo:-81.2703753,28.8106131
END:VEVENT
BEGIN:VEVENT
DTSTART;TZID=America/New_York:20280730T150000
DTEND;TZID=America/New_York:20280730T150000
DTSTAMP:20260420T073923
CREATED:20260105T003247Z
LAST-MODIFIED:20260105T060114Z
UID:10020417-1848582000-1848582000@epictriviafl.com
SUMMARY:Music Bingo
DESCRIPTION:
URL:https://epictriviafl.com/event/music-bingo-tuffys/2028-07-30/
LOCATION:Tuffys Music Box\, 200 S Myrtle Ave Sanford\, Florida 32771 USA
GEO:28.8106131;-81.2703753
X-APPLE-STRUCTURED-LOCATION;VALUE=URI;X-ADDRESS=Tuffys Music Box 200 S Myrtle Ave Sanford Florida 32771 USA;X-APPLE-RADIUS=500;X-TITLE=200 S Myrtle Ave Sanford\, Florida 32771 USA:geo:-81.2703753,28.8106131
END:VEVENT
BEGIN:VEVENT
DTSTART;TZID=America/New_York:20280806T150000
DTEND;TZID=America/New_York:20280806T150000
DTSTAMP:20260420T073923
CREATED:20260105T003247Z
LAST-MODIFIED:20260105T060114Z
UID:10020418-1849186800-1849186800@epictriviafl.com
SUMMARY:Music Bingo
DESCRIPTION:
URL:https://epictriviafl.com/event/music-bingo-tuffys/2028-08-06/
LOCATION:Tuffys Music Box\, 200 S Myrtle Ave Sanford\, Florida 32771 USA
GEO:28.8106131;-81.2703753
X-APPLE-STRUCTURED-LOCATION;VALUE=URI;X-ADDRESS=Tuffys Music Box 200 S Myrtle Ave Sanford Florida 32771 USA;X-APPLE-RADIUS=500;X-TITLE=200 S Myrtle Ave Sanford\, Florida 32771 USA:geo:-81.2703753,28.8106131
END:VEVENT
BEGIN:VEVENT
DTSTART;TZID=America/New_York:20280813T150000
DTEND;TZID=America/New_York:20280813T150000
DTSTAMP:20260420T073923
CREATED:20260105T003247Z
LAST-MODIFIED:20260105T060114Z
UID:10020419-1849791600-1849791600@epictriviafl.com
SUMMARY:Music Bingo
DESCRIPTION:
URL:https://epictriviafl.com/event/music-bingo-tuffys/2028-08-13/
LOCATION:Tuffys Music Box\, 200 S Myrtle Ave Sanford\, Florida 32771 USA
GEO:28.8106131;-81.2703753
X-APPLE-STRUCTURED-LOCATION;VALUE=URI;X-ADDRESS=Tuffys Music Box 200 S Myrtle Ave Sanford Florida 32771 USA;X-APPLE-RADIUS=500;X-TITLE=200 S Myrtle Ave Sanford\, Florida 32771 USA:geo:-81.2703753,28.8106131
END:VEVENT
BEGIN:VEVENT
DTSTART;TZID=America/New_York:20280820T150000
DTEND;TZID=America/New_York:20280820T150000
DTSTAMP:20260420T073923
CREATED:20260105T003247Z
LAST-MODIFIED:20260105T060114Z
UID:10020420-1850396400-1850396400@epictriviafl.com
SUMMARY:Music Bingo
DESCRIPTION:
URL:https://epictriviafl.com/event/music-bingo-tuffys/2028-08-20/
LOCATION:Tuffys Music Box\, 200 S Myrtle Ave Sanford\, Florida 32771 USA
GEO:28.8106131;-81.2703753
X-APPLE-STRUCTURED-LOCATION;VALUE=URI;X-ADDRESS=Tuffys Music Box 200 S Myrtle Ave Sanford Florida 32771 USA;X-APPLE-RADIUS=500;X-TITLE=200 S Myrtle Ave Sanford\, Florida 32771 USA:geo:-81.2703753,28.8106131
END:VEVENT
BEGIN:VEVENT
DTSTART;TZID=America/New_York:20280827T150000
DTEND;TZID=America/New_York:20280827T150000
DTSTAMP:20260420T073923
CREATED:20260105T003247Z
LAST-MODIFIED:20260105T060114Z
UID:10020421-1851001200-1851001200@epictriviafl.com
SUMMARY:Music Bingo
DESCRIPTION:
URL:https://epictriviafl.com/event/music-bingo-tuffys/2028-08-27/
LOCATION:Tuffys Music Box\, 200 S Myrtle Ave Sanford\, Florida 32771 USA
GEO:28.8106131;-81.2703753
X-APPLE-STRUCTURED-LOCATION;VALUE=URI;X-ADDRESS=Tuffys Music Box 200 S Myrtle Ave Sanford Florida 32771 USA;X-APPLE-RADIUS=500;X-TITLE=200 S Myrtle Ave Sanford\, Florida 32771 USA:geo:-81.2703753,28.8106131
END:VEVENT
BEGIN:VEVENT
DTSTART;TZID=America/New_York:20280903T150000
DTEND;TZID=America/New_York:20280903T150000
DTSTAMP:20260420T073923
CREATED:20260105T003247Z
LAST-MODIFIED:20260105T060114Z
UID:10020422-1851606000-1851606000@epictriviafl.com
SUMMARY:Music Bingo
DESCRIPTION:
URL:https://epictriviafl.com/event/music-bingo-tuffys/2028-09-03/
LOCATION:Tuffys Music Box\, 200 S Myrtle Ave Sanford\, Florida 32771 USA
GEO:28.8106131;-81.2703753
X-APPLE-STRUCTURED-LOCATION;VALUE=URI;X-ADDRESS=Tuffys Music Box 200 S Myrtle Ave Sanford Florida 32771 USA;X-APPLE-RADIUS=500;X-TITLE=200 S Myrtle Ave Sanford\, Florida 32771 USA:geo:-81.2703753,28.8106131
END:VEVENT
BEGIN:VEVENT
DTSTART;TZID=America/New_York:20280910T150000
DTEND;TZID=America/New_York:20280910T150000
DTSTAMP:20260420T073923
CREATED:20260105T003247Z
LAST-MODIFIED:20260105T060114Z
UID:10020423-1852210800-1852210800@epictriviafl.com
SUMMARY:Music Bingo
DESCRIPTION:
URL:https://epictriviafl.com/event/music-bingo-tuffys/2028-09-10/
LOCATION:Tuffys Music Box\, 200 S Myrtle Ave Sanford\, Florida 32771 USA
GEO:28.8106131;-81.2703753
X-APPLE-STRUCTURED-LOCATION;VALUE=URI;X-ADDRESS=Tuffys Music Box 200 S Myrtle Ave Sanford Florida 32771 USA;X-APPLE-RADIUS=500;X-TITLE=200 S Myrtle Ave Sanford\, Florida 32771 USA:geo:-81.2703753,28.8106131
END:VEVENT
BEGIN:VEVENT
DTSTART;TZID=America/New_York:20280917T150000
DTEND;TZID=America/New_York:20280917T150000
DTSTAMP:20260420T073923
CREATED:20260105T003247Z
LAST-MODIFIED:20260105T060114Z
UID:10020424-1852815600-1852815600@epictriviafl.com
SUMMARY:Music Bingo
DESCRIPTION:
URL:https://epictriviafl.com/event/music-bingo-tuffys/2028-09-17/
LOCATION:Tuffys Music Box\, 200 S Myrtle Ave Sanford\, Florida 32771 USA
GEO:28.8106131;-81.2703753
X-APPLE-STRUCTURED-LOCATION;VALUE=URI;X-ADDRESS=Tuffys Music Box 200 S Myrtle Ave Sanford Florida 32771 USA;X-APPLE-RADIUS=500;X-TITLE=200 S Myrtle Ave Sanford\, Florida 32771 USA:geo:-81.2703753,28.8106131
END:VEVENT
BEGIN:VEVENT
DTSTART;TZID=America/New_York:20280924T150000
DTEND;TZID=America/New_York:20280924T150000
DTSTAMP:20260420T073923
CREATED:20260105T003247Z
LAST-MODIFIED:20260105T060114Z
UID:10020425-1853420400-1853420400@epictriviafl.com
SUMMARY:Music Bingo
DESCRIPTION:
URL:https://epictriviafl.com/event/music-bingo-tuffys/2028-09-24/
LOCATION:Tuffys Music Box\, 200 S Myrtle Ave Sanford\, Florida 32771 USA
GEO:28.8106131;-81.2703753
X-APPLE-STRUCTURED-LOCATION;VALUE=URI;X-ADDRESS=Tuffys Music Box 200 S Myrtle Ave Sanford Florida 32771 USA;X-APPLE-RADIUS=500;X-TITLE=200 S Myrtle Ave Sanford\, Florida 32771 USA:geo:-81.2703753,28.8106131
END:VEVENT
BEGIN:VEVENT
DTSTART;TZID=America/New_York:20281001T150000
DTEND;TZID=America/New_York:20281001T150000
DTSTAMP:20260420T073923
CREATED:20260105T003247Z
LAST-MODIFIED:20260105T060114Z
UID:10020426-1854025200-1854025200@epictriviafl.com
SUMMARY:Music Bingo
DESCRIPTION:
URL:https://epictriviafl.com/event/music-bingo-tuffys/2028-10-01/
LOCATION:Tuffys Music Box\, 200 S Myrtle Ave Sanford\, Florida 32771 USA
GEO:28.8106131;-81.2703753
X-APPLE-STRUCTURED-LOCATION;VALUE=URI;X-ADDRESS=Tuffys Music Box 200 S Myrtle Ave Sanford Florida 32771 USA;X-APPLE-RADIUS=500;X-TITLE=200 S Myrtle Ave Sanford\, Florida 32771 USA:geo:-81.2703753,28.8106131
END:VEVENT
BEGIN:VEVENT
DTSTART;TZID=America/New_York:20281008T150000
DTEND;TZID=America/New_York:20281008T150000
DTSTAMP:20260420T073923
CREATED:20260105T003247Z
LAST-MODIFIED:20260105T060114Z
UID:10020427-1854630000-1854630000@epictriviafl.com
SUMMARY:Music Bingo
DESCRIPTION:
URL:https://epictriviafl.com/event/music-bingo-tuffys/2028-10-08/
LOCATION:Tuffys Music Box\, 200 S Myrtle Ave Sanford\, Florida 32771 USA
GEO:28.8106131;-81.2703753
X-APPLE-STRUCTURED-LOCATION;VALUE=URI;X-ADDRESS=Tuffys Music Box 200 S Myrtle Ave Sanford Florida 32771 USA;X-APPLE-RADIUS=500;X-TITLE=200 S Myrtle Ave Sanford\, Florida 32771 USA:geo:-81.2703753,28.8106131
END:VEVENT
BEGIN:VEVENT
DTSTART;TZID=America/New_York:20281015T150000
DTEND;TZID=America/New_York:20281015T150000
DTSTAMP:20260420T073924
CREATED:20260105T003247Z
LAST-MODIFIED:20260105T060114Z
UID:10020428-1855234800-1855234800@epictriviafl.com
SUMMARY:Music Bingo
DESCRIPTION:
URL:https://epictriviafl.com/event/music-bingo-tuffys/2028-10-15/
LOCATION:Tuffys Music Box\, 200 S Myrtle Ave Sanford\, Florida 32771 USA
GEO:28.8106131;-81.2703753
X-APPLE-STRUCTURED-LOCATION;VALUE=URI;X-ADDRESS=Tuffys Music Box 200 S Myrtle Ave Sanford Florida 32771 USA;X-APPLE-RADIUS=500;X-TITLE=200 S Myrtle Ave Sanford\, Florida 32771 USA:geo:-81.2703753,28.8106131
END:VEVENT
BEGIN:VEVENT
DTSTART;TZID=America/New_York:20281022T150000
DTEND;TZID=America/New_York:20281022T150000
DTSTAMP:20260420T073924
CREATED:20260105T003247Z
LAST-MODIFIED:20260105T060114Z
UID:10020429-1855839600-1855839600@epictriviafl.com
SUMMARY:Music Bingo
DESCRIPTION:
URL:https://epictriviafl.com/event/music-bingo-tuffys/2028-10-22/
LOCATION:Tuffys Music Box\, 200 S Myrtle Ave Sanford\, Florida 32771 USA
GEO:28.8106131;-81.2703753
X-APPLE-STRUCTURED-LOCATION;VALUE=URI;X-ADDRESS=Tuffys Music Box 200 S Myrtle Ave Sanford Florida 32771 USA;X-APPLE-RADIUS=500;X-TITLE=200 S Myrtle Ave Sanford\, Florida 32771 USA:geo:-81.2703753,28.8106131
END:VEVENT
BEGIN:VEVENT
DTSTART;TZID=America/New_York:20281029T150000
DTEND;TZID=America/New_York:20281029T150000
DTSTAMP:20260420T073924
CREATED:20260105T003247Z
LAST-MODIFIED:20260105T060114Z
UID:10020430-1856444400-1856444400@epictriviafl.com
SUMMARY:Music Bingo
DESCRIPTION:
URL:https://epictriviafl.com/event/music-bingo-tuffys/2028-10-29/
LOCATION:Tuffys Music Box\, 200 S Myrtle Ave Sanford\, Florida 32771 USA
GEO:28.8106131;-81.2703753
X-APPLE-STRUCTURED-LOCATION;VALUE=URI;X-ADDRESS=Tuffys Music Box 200 S Myrtle Ave Sanford Florida 32771 USA;X-APPLE-RADIUS=500;X-TITLE=200 S Myrtle Ave Sanford\, Florida 32771 USA:geo:-81.2703753,28.8106131
END:VEVENT
BEGIN:VEVENT
DTSTART;TZID=America/New_York:20281105T150000
DTEND;TZID=America/New_York:20281105T150000
DTSTAMP:20260420T073924
CREATED:20260105T003247Z
LAST-MODIFIED:20260105T060114Z
UID:10020431-1857049200-1857049200@epictriviafl.com
SUMMARY:Music Bingo
DESCRIPTION:
URL:https://epictriviafl.com/event/music-bingo-tuffys/2028-11-05/
LOCATION:Tuffys Music Box\, 200 S Myrtle Ave Sanford\, Florida 32771 USA
GEO:28.8106131;-81.2703753
X-APPLE-STRUCTURED-LOCATION;VALUE=URI;X-ADDRESS=Tuffys Music Box 200 S Myrtle Ave Sanford Florida 32771 USA;X-APPLE-RADIUS=500;X-TITLE=200 S Myrtle Ave Sanford\, Florida 32771 USA:geo:-81.2703753,28.8106131
END:VEVENT
BEGIN:VEVENT
DTSTART;TZID=America/New_York:20281112T150000
DTEND;TZID=America/New_York:20281112T150000
DTSTAMP:20260420T073924
CREATED:20260105T003247Z
LAST-MODIFIED:20260105T060114Z
UID:10020432-1857654000-1857654000@epictriviafl.com
SUMMARY:Music Bingo
DESCRIPTION:
URL:https://epictriviafl.com/event/music-bingo-tuffys/2028-11-12/
LOCATION:Tuffys Music Box\, 200 S Myrtle Ave Sanford\, Florida 32771 USA
GEO:28.8106131;-81.2703753
X-APPLE-STRUCTURED-LOCATION;VALUE=URI;X-ADDRESS=Tuffys Music Box 200 S Myrtle Ave Sanford Florida 32771 USA;X-APPLE-RADIUS=500;X-TITLE=200 S Myrtle Ave Sanford\, Florida 32771 USA:geo:-81.2703753,28.8106131
END:VEVENT
BEGIN:VEVENT
DTSTART;TZID=America/New_York:20281119T150000
DTEND;TZID=America/New_York:20281119T150000
DTSTAMP:20260420T073924
CREATED:20260105T003247Z
LAST-MODIFIED:20260105T060114Z
UID:10020433-1858258800-1858258800@epictriviafl.com
SUMMARY:Music Bingo
DESCRIPTION:
URL:https://epictriviafl.com/event/music-bingo-tuffys/2028-11-19/
LOCATION:Tuffys Music Box\, 200 S Myrtle Ave Sanford\, Florida 32771 USA
GEO:28.8106131;-81.2703753
X-APPLE-STRUCTURED-LOCATION;VALUE=URI;X-ADDRESS=Tuffys Music Box 200 S Myrtle Ave Sanford Florida 32771 USA;X-APPLE-RADIUS=500;X-TITLE=200 S Myrtle Ave Sanford\, Florida 32771 USA:geo:-81.2703753,28.8106131
END:VEVENT
BEGIN:VEVENT
DTSTART;TZID=America/New_York:20281126T150000
DTEND;TZID=America/New_York:20281126T150000
DTSTAMP:20260420T073924
CREATED:20260105T003247Z
LAST-MODIFIED:20260105T060114Z
UID:10020434-1858863600-1858863600@epictriviafl.com
SUMMARY:Music Bingo
DESCRIPTION:
URL:https://epictriviafl.com/event/music-bingo-tuffys/2028-11-26/
LOCATION:Tuffys Music Box\, 200 S Myrtle Ave Sanford\, Florida 32771 USA
GEO:28.8106131;-81.2703753
X-APPLE-STRUCTURED-LOCATION;VALUE=URI;X-ADDRESS=Tuffys Music Box 200 S Myrtle Ave Sanford Florida 32771 USA;X-APPLE-RADIUS=500;X-TITLE=200 S Myrtle Ave Sanford\, Florida 32771 USA:geo:-81.2703753,28.8106131
END:VEVENT
BEGIN:VEVENT
DTSTART;TZID=America/New_York:20281203T150000
DTEND;TZID=America/New_York:20281203T150000
DTSTAMP:20260420T073924
CREATED:20260105T003247Z
LAST-MODIFIED:20260105T060114Z
UID:10020435-1859468400-1859468400@epictriviafl.com
SUMMARY:Music Bingo
DESCRIPTION:
URL:https://epictriviafl.com/event/music-bingo-tuffys/2028-12-03/
LOCATION:Tuffys Music Box\, 200 S Myrtle Ave Sanford\, Florida 32771 USA
GEO:28.8106131;-81.2703753
X-APPLE-STRUCTURED-LOCATION;VALUE=URI;X-ADDRESS=Tuffys Music Box 200 S Myrtle Ave Sanford Florida 32771 USA;X-APPLE-RADIUS=500;X-TITLE=200 S Myrtle Ave Sanford\, Florida 32771 USA:geo:-81.2703753,28.8106131
END:VEVENT
BEGIN:VEVENT
DTSTART;TZID=America/New_York:20281210T150000
DTEND;TZID=America/New_York:20281210T150000
DTSTAMP:20260420T073924
CREATED:20260105T003247Z
LAST-MODIFIED:20260105T060114Z
UID:10020436-1860073200-1860073200@epictriviafl.com
SUMMARY:Music Bingo
DESCRIPTION:
URL:https://epictriviafl.com/event/music-bingo-tuffys/2028-12-10/
LOCATION:Tuffys Music Box\, 200 S Myrtle Ave Sanford\, Florida 32771 USA
GEO:28.8106131;-81.2703753
X-APPLE-STRUCTURED-LOCATION;VALUE=URI;X-ADDRESS=Tuffys Music Box 200 S Myrtle Ave Sanford Florida 32771 USA;X-APPLE-RADIUS=500;X-TITLE=200 S Myrtle Ave Sanford\, Florida 32771 USA:geo:-81.2703753,28.8106131
END:VEVENT
END:VCALENDAR