BEGIN:VCALENDAR
VERSION:2.0
PRODID:-//Epic Trivia - ECPv6.15.18//NONSGML v1.0//EN
CALSCALE:GREGORIAN
METHOD:PUBLISH
X-ORIGINAL-URL:https://epictriviafl.com
X-WR-CALDESC:Events for Epic Trivia
REFRESH-INTERVAL;VALUE=DURATION:PT1H
X-Robots-Tag:noindex
X-PUBLISHED-TTL:PT1H
BEGIN:VTIMEZONE
TZID:America/New_York
BEGIN:DAYLIGHT
TZOFFSETFROM:-0500
TZOFFSETTO:-0400
TZNAME:EDT
DTSTART:20280312T070000
END:DAYLIGHT
BEGIN:STANDARD
TZOFFSETFROM:-0400
TZOFFSETTO:-0500
TZNAME:EST
DTSTART:20281105T060000
END:STANDARD
BEGIN:DAYLIGHT
TZOFFSETFROM:-0500
TZOFFSETTO:-0400
TZNAME:EDT
DTSTART:20290311T070000
END:DAYLIGHT
BEGIN:STANDARD
TZOFFSETFROM:-0400
TZOFFSETTO:-0500
TZNAME:EST
DTSTART:20291104T060000
END:STANDARD
BEGIN:DAYLIGHT
TZOFFSETFROM:-0500
TZOFFSETTO:-0400
TZNAME:EDT
DTSTART:20300310T070000
END:DAYLIGHT
BEGIN:STANDARD
TZOFFSETFROM:-0400
TZOFFSETTO:-0500
TZNAME:EST
DTSTART:20301103T060000
END:STANDARD
END:VTIMEZONE
BEGIN:VEVENT
DTSTART;TZID=America/New_York:20290905T190000
DTEND;TZID=America/New_York:20290905T190000
DTSTAMP:20260422T120332
CREATED:20260105T003117Z
LAST-MODIFIED:20260105T054751Z
UID:10014754-1883329200-1883329200@epictriviafl.com
SUMMARY:Trivia
DESCRIPTION:
URL:https://epictriviafl.com/event/trivia-mellow/2029-09-05/
LOCATION:The Mellow Mushroom\, 1831 Rinehart Rd.\, Sanford\, FL 32771 USA
GEO:28.8088457;-81.3305077
X-APPLE-STRUCTURED-LOCATION;VALUE=URI;X-ADDRESS=The Mellow Mushroom 1831 Rinehart Rd. Sanford FL 32771 USA;X-APPLE-RADIUS=500;X-TITLE=1831 Rinehart Rd.\, Sanford\, FL 32771 USA:geo:-81.3305077,28.8088457
END:VEVENT
BEGIN:VEVENT
DTSTART;TZID=America/New_York:20290906T190000
DTEND;TZID=America/New_York:20290906T190000
DTSTAMP:20260422T120332
CREATED:20260105T003203Z
LAST-MODIFIED:20260105T054011Z
UID:10011114-1883415600-1883415600@epictriviafl.com
SUMMARY:Music Bingo
DESCRIPTION:
URL:https://epictriviafl.com/event/music-bingo-mellow/2029-09-06/
LOCATION:The Mellow Mushroom\, 1831 Rinehart Rd.\, Sanford\, FL 32771 USA
GEO:28.8088457;-81.3305077
X-APPLE-STRUCTURED-LOCATION;VALUE=URI;X-ADDRESS=The Mellow Mushroom 1831 Rinehart Rd. Sanford FL 32771 USA;X-APPLE-RADIUS=500;X-TITLE=1831 Rinehart Rd.\, Sanford\, FL 32771 USA:geo:-81.3305077,28.8088457
END:VEVENT
BEGIN:VEVENT
DTSTART;TZID=America/New_York:20290908T183000
DTEND;TZID=America/New_York:20290908T183000
DTSTAMP:20260422T120332
CREATED:20260105T003233Z
LAST-MODIFIED:20260105T060212Z
UID:10020995-1883586600-1883586600@epictriviafl.com
SUMMARY:Mario Kart
DESCRIPTION:
URL:https://epictriviafl.com/event/mario-kart-mellow/2029-09-08/
LOCATION:The Mellow Mushroom\, 1831 Rinehart Rd.\, Sanford\, FL 32771 USA
GEO:28.8088457;-81.3305077
X-APPLE-STRUCTURED-LOCATION;VALUE=URI;X-ADDRESS=The Mellow Mushroom 1831 Rinehart Rd. Sanford FL 32771 USA;X-APPLE-RADIUS=500;X-TITLE=1831 Rinehart Rd.\, Sanford\, FL 32771 USA:geo:-81.3305077,28.8088457
END:VEVENT
BEGIN:VEVENT
DTSTART;TZID=America/New_York:20290912T190000
DTEND;TZID=America/New_York:20290912T190000
DTSTAMP:20260422T120332
CREATED:20260105T003117Z
LAST-MODIFIED:20260105T054751Z
UID:10014755-1883934000-1883934000@epictriviafl.com
SUMMARY:Trivia
DESCRIPTION:
URL:https://epictriviafl.com/event/trivia-mellow/2029-09-12/
LOCATION:The Mellow Mushroom\, 1831 Rinehart Rd.\, Sanford\, FL 32771 USA
GEO:28.8088457;-81.3305077
X-APPLE-STRUCTURED-LOCATION;VALUE=URI;X-ADDRESS=The Mellow Mushroom 1831 Rinehart Rd. Sanford FL 32771 USA;X-APPLE-RADIUS=500;X-TITLE=1831 Rinehart Rd.\, Sanford\, FL 32771 USA:geo:-81.3305077,28.8088457
END:VEVENT
BEGIN:VEVENT
DTSTART;TZID=America/New_York:20290913T190000
DTEND;TZID=America/New_York:20290913T190000
DTSTAMP:20260422T120332
CREATED:20260105T003203Z
LAST-MODIFIED:20260105T054011Z
UID:10011115-1884020400-1884020400@epictriviafl.com
SUMMARY:Music Bingo
DESCRIPTION:
URL:https://epictriviafl.com/event/music-bingo-mellow/2029-09-13/
LOCATION:The Mellow Mushroom\, 1831 Rinehart Rd.\, Sanford\, FL 32771 USA
GEO:28.8088457;-81.3305077
X-APPLE-STRUCTURED-LOCATION;VALUE=URI;X-ADDRESS=The Mellow Mushroom 1831 Rinehart Rd. Sanford FL 32771 USA;X-APPLE-RADIUS=500;X-TITLE=1831 Rinehart Rd.\, Sanford\, FL 32771 USA:geo:-81.3305077,28.8088457
END:VEVENT
BEGIN:VEVENT
DTSTART;TZID=America/New_York:20290915T183000
DTEND;TZID=America/New_York:20290915T183000
DTSTAMP:20260422T120332
CREATED:20260105T003233Z
LAST-MODIFIED:20260105T060212Z
UID:10020996-1884191400-1884191400@epictriviafl.com
SUMMARY:Mario Kart
DESCRIPTION:
URL:https://epictriviafl.com/event/mario-kart-mellow/2029-09-15/
LOCATION:The Mellow Mushroom\, 1831 Rinehart Rd.\, Sanford\, FL 32771 USA
GEO:28.8088457;-81.3305077
X-APPLE-STRUCTURED-LOCATION;VALUE=URI;X-ADDRESS=The Mellow Mushroom 1831 Rinehart Rd. Sanford FL 32771 USA;X-APPLE-RADIUS=500;X-TITLE=1831 Rinehart Rd.\, Sanford\, FL 32771 USA:geo:-81.3305077,28.8088457
END:VEVENT
BEGIN:VEVENT
DTSTART;TZID=America/New_York:20290919T190000
DTEND;TZID=America/New_York:20290919T190000
DTSTAMP:20260422T120332
CREATED:20260105T003117Z
LAST-MODIFIED:20260105T054751Z
UID:10014756-1884538800-1884538800@epictriviafl.com
SUMMARY:Trivia
DESCRIPTION:
URL:https://epictriviafl.com/event/trivia-mellow/2029-09-19/
LOCATION:The Mellow Mushroom\, 1831 Rinehart Rd.\, Sanford\, FL 32771 USA
GEO:28.8088457;-81.3305077
X-APPLE-STRUCTURED-LOCATION;VALUE=URI;X-ADDRESS=The Mellow Mushroom 1831 Rinehart Rd. Sanford FL 32771 USA;X-APPLE-RADIUS=500;X-TITLE=1831 Rinehart Rd.\, Sanford\, FL 32771 USA:geo:-81.3305077,28.8088457
END:VEVENT
BEGIN:VEVENT
DTSTART;TZID=America/New_York:20290920T190000
DTEND;TZID=America/New_York:20290920T190000
DTSTAMP:20260422T120332
CREATED:20260105T003203Z
LAST-MODIFIED:20260105T054011Z
UID:10011116-1884625200-1884625200@epictriviafl.com
SUMMARY:Music Bingo
DESCRIPTION:
URL:https://epictriviafl.com/event/music-bingo-mellow/2029-09-20/
LOCATION:The Mellow Mushroom\, 1831 Rinehart Rd.\, Sanford\, FL 32771 USA
GEO:28.8088457;-81.3305077
X-APPLE-STRUCTURED-LOCATION;VALUE=URI;X-ADDRESS=The Mellow Mushroom 1831 Rinehart Rd. Sanford FL 32771 USA;X-APPLE-RADIUS=500;X-TITLE=1831 Rinehart Rd.\, Sanford\, FL 32771 USA:geo:-81.3305077,28.8088457
END:VEVENT
BEGIN:VEVENT
DTSTART;TZID=America/New_York:20290922T183000
DTEND;TZID=America/New_York:20290922T183000
DTSTAMP:20260422T120332
CREATED:20260105T003233Z
LAST-MODIFIED:20260105T060212Z
UID:10020997-1884796200-1884796200@epictriviafl.com
SUMMARY:Mario Kart
DESCRIPTION:
URL:https://epictriviafl.com/event/mario-kart-mellow/2029-09-22/
LOCATION:The Mellow Mushroom\, 1831 Rinehart Rd.\, Sanford\, FL 32771 USA
GEO:28.8088457;-81.3305077
X-APPLE-STRUCTURED-LOCATION;VALUE=URI;X-ADDRESS=The Mellow Mushroom 1831 Rinehart Rd. Sanford FL 32771 USA;X-APPLE-RADIUS=500;X-TITLE=1831 Rinehart Rd.\, Sanford\, FL 32771 USA:geo:-81.3305077,28.8088457
END:VEVENT
BEGIN:VEVENT
DTSTART;TZID=America/New_York:20290926T190000
DTEND;TZID=America/New_York:20290926T190000
DTSTAMP:20260422T120332
CREATED:20260105T003117Z
LAST-MODIFIED:20260105T054751Z
UID:10014757-1885143600-1885143600@epictriviafl.com
SUMMARY:Trivia
DESCRIPTION:
URL:https://epictriviafl.com/event/trivia-mellow/2029-09-26/
LOCATION:The Mellow Mushroom\, 1831 Rinehart Rd.\, Sanford\, FL 32771 USA
GEO:28.8088457;-81.3305077
X-APPLE-STRUCTURED-LOCATION;VALUE=URI;X-ADDRESS=The Mellow Mushroom 1831 Rinehart Rd. Sanford FL 32771 USA;X-APPLE-RADIUS=500;X-TITLE=1831 Rinehart Rd.\, Sanford\, FL 32771 USA:geo:-81.3305077,28.8088457
END:VEVENT
BEGIN:VEVENT
DTSTART;TZID=America/New_York:20290927T190000
DTEND;TZID=America/New_York:20290927T190000
DTSTAMP:20260422T120332
CREATED:20260105T003203Z
LAST-MODIFIED:20260105T054011Z
UID:10011117-1885230000-1885230000@epictriviafl.com
SUMMARY:Music Bingo
DESCRIPTION:
URL:https://epictriviafl.com/event/music-bingo-mellow/2029-09-27/
LOCATION:The Mellow Mushroom\, 1831 Rinehart Rd.\, Sanford\, FL 32771 USA
GEO:28.8088457;-81.3305077
X-APPLE-STRUCTURED-LOCATION;VALUE=URI;X-ADDRESS=The Mellow Mushroom 1831 Rinehart Rd. Sanford FL 32771 USA;X-APPLE-RADIUS=500;X-TITLE=1831 Rinehart Rd.\, Sanford\, FL 32771 USA:geo:-81.3305077,28.8088457
END:VEVENT
BEGIN:VEVENT
DTSTART;TZID=America/New_York:20290929T183000
DTEND;TZID=America/New_York:20290929T183000
DTSTAMP:20260422T120332
CREATED:20260105T003233Z
LAST-MODIFIED:20260105T060212Z
UID:10020998-1885401000-1885401000@epictriviafl.com
SUMMARY:Mario Kart
DESCRIPTION:
URL:https://epictriviafl.com/event/mario-kart-mellow/2029-09-29/
LOCATION:The Mellow Mushroom\, 1831 Rinehart Rd.\, Sanford\, FL 32771 USA
GEO:28.8088457;-81.3305077
X-APPLE-STRUCTURED-LOCATION;VALUE=URI;X-ADDRESS=The Mellow Mushroom 1831 Rinehart Rd. Sanford FL 32771 USA;X-APPLE-RADIUS=500;X-TITLE=1831 Rinehart Rd.\, Sanford\, FL 32771 USA:geo:-81.3305077,28.8088457
END:VEVENT
BEGIN:VEVENT
DTSTART;TZID=America/New_York:20291003T190000
DTEND;TZID=America/New_York:20291003T190000
DTSTAMP:20260422T120332
CREATED:20260105T003117Z
LAST-MODIFIED:20260105T054751Z
UID:10014758-1885748400-1885748400@epictriviafl.com
SUMMARY:Trivia
DESCRIPTION:
URL:https://epictriviafl.com/event/trivia-mellow/2029-10-03/
LOCATION:The Mellow Mushroom\, 1831 Rinehart Rd.\, Sanford\, FL 32771 USA
GEO:28.8088457;-81.3305077
X-APPLE-STRUCTURED-LOCATION;VALUE=URI;X-ADDRESS=The Mellow Mushroom 1831 Rinehart Rd. Sanford FL 32771 USA;X-APPLE-RADIUS=500;X-TITLE=1831 Rinehart Rd.\, Sanford\, FL 32771 USA:geo:-81.3305077,28.8088457
END:VEVENT
BEGIN:VEVENT
DTSTART;TZID=America/New_York:20291004T190000
DTEND;TZID=America/New_York:20291004T190000
DTSTAMP:20260422T120332
CREATED:20260105T003203Z
LAST-MODIFIED:20260105T054011Z
UID:10011118-1885834800-1885834800@epictriviafl.com
SUMMARY:Music Bingo
DESCRIPTION:
URL:https://epictriviafl.com/event/music-bingo-mellow/2029-10-04/
LOCATION:The Mellow Mushroom\, 1831 Rinehart Rd.\, Sanford\, FL 32771 USA
GEO:28.8088457;-81.3305077
X-APPLE-STRUCTURED-LOCATION;VALUE=URI;X-ADDRESS=The Mellow Mushroom 1831 Rinehart Rd. Sanford FL 32771 USA;X-APPLE-RADIUS=500;X-TITLE=1831 Rinehart Rd.\, Sanford\, FL 32771 USA:geo:-81.3305077,28.8088457
END:VEVENT
BEGIN:VEVENT
DTSTART;TZID=America/New_York:20291006T183000
DTEND;TZID=America/New_York:20291006T183000
DTSTAMP:20260422T120332
CREATED:20260105T003233Z
LAST-MODIFIED:20260105T060212Z
UID:10020999-1886005800-1886005800@epictriviafl.com
SUMMARY:Mario Kart
DESCRIPTION:
URL:https://epictriviafl.com/event/mario-kart-mellow/2029-10-06/
LOCATION:The Mellow Mushroom\, 1831 Rinehart Rd.\, Sanford\, FL 32771 USA
GEO:28.8088457;-81.3305077
X-APPLE-STRUCTURED-LOCATION;VALUE=URI;X-ADDRESS=The Mellow Mushroom 1831 Rinehart Rd. Sanford FL 32771 USA;X-APPLE-RADIUS=500;X-TITLE=1831 Rinehart Rd.\, Sanford\, FL 32771 USA:geo:-81.3305077,28.8088457
END:VEVENT
BEGIN:VEVENT
DTSTART;TZID=America/New_York:20291010T190000
DTEND;TZID=America/New_York:20291010T190000
DTSTAMP:20260422T120332
CREATED:20260105T003117Z
LAST-MODIFIED:20260105T054751Z
UID:10014759-1886353200-1886353200@epictriviafl.com
SUMMARY:Trivia
DESCRIPTION:
URL:https://epictriviafl.com/event/trivia-mellow/2029-10-10/
LOCATION:The Mellow Mushroom\, 1831 Rinehart Rd.\, Sanford\, FL 32771 USA
GEO:28.8088457;-81.3305077
X-APPLE-STRUCTURED-LOCATION;VALUE=URI;X-ADDRESS=The Mellow Mushroom 1831 Rinehart Rd. Sanford FL 32771 USA;X-APPLE-RADIUS=500;X-TITLE=1831 Rinehart Rd.\, Sanford\, FL 32771 USA:geo:-81.3305077,28.8088457
END:VEVENT
BEGIN:VEVENT
DTSTART;TZID=America/New_York:20291011T190000
DTEND;TZID=America/New_York:20291011T190000
DTSTAMP:20260422T120332
CREATED:20260105T003203Z
LAST-MODIFIED:20260105T054011Z
UID:10011119-1886439600-1886439600@epictriviafl.com
SUMMARY:Music Bingo
DESCRIPTION:
URL:https://epictriviafl.com/event/music-bingo-mellow/2029-10-11/
LOCATION:The Mellow Mushroom\, 1831 Rinehart Rd.\, Sanford\, FL 32771 USA
GEO:28.8088457;-81.3305077
X-APPLE-STRUCTURED-LOCATION;VALUE=URI;X-ADDRESS=The Mellow Mushroom 1831 Rinehart Rd. Sanford FL 32771 USA;X-APPLE-RADIUS=500;X-TITLE=1831 Rinehart Rd.\, Sanford\, FL 32771 USA:geo:-81.3305077,28.8088457
END:VEVENT
BEGIN:VEVENT
DTSTART;TZID=America/New_York:20291013T183000
DTEND;TZID=America/New_York:20291013T183000
DTSTAMP:20260422T120332
CREATED:20260105T003233Z
LAST-MODIFIED:20260105T060212Z
UID:10021000-1886610600-1886610600@epictriviafl.com
SUMMARY:Mario Kart
DESCRIPTION:
URL:https://epictriviafl.com/event/mario-kart-mellow/2029-10-13/
LOCATION:The Mellow Mushroom\, 1831 Rinehart Rd.\, Sanford\, FL 32771 USA
GEO:28.8088457;-81.3305077
X-APPLE-STRUCTURED-LOCATION;VALUE=URI;X-ADDRESS=The Mellow Mushroom 1831 Rinehart Rd. Sanford FL 32771 USA;X-APPLE-RADIUS=500;X-TITLE=1831 Rinehart Rd.\, Sanford\, FL 32771 USA:geo:-81.3305077,28.8088457
END:VEVENT
BEGIN:VEVENT
DTSTART;TZID=America/New_York:20291017T190000
DTEND;TZID=America/New_York:20291017T190000
DTSTAMP:20260422T120332
CREATED:20260105T003117Z
LAST-MODIFIED:20260105T054751Z
UID:10014760-1886958000-1886958000@epictriviafl.com
SUMMARY:Trivia
DESCRIPTION:
URL:https://epictriviafl.com/event/trivia-mellow/2029-10-17/
LOCATION:The Mellow Mushroom\, 1831 Rinehart Rd.\, Sanford\, FL 32771 USA
GEO:28.8088457;-81.3305077
X-APPLE-STRUCTURED-LOCATION;VALUE=URI;X-ADDRESS=The Mellow Mushroom 1831 Rinehart Rd. Sanford FL 32771 USA;X-APPLE-RADIUS=500;X-TITLE=1831 Rinehart Rd.\, Sanford\, FL 32771 USA:geo:-81.3305077,28.8088457
END:VEVENT
BEGIN:VEVENT
DTSTART;TZID=America/New_York:20291018T190000
DTEND;TZID=America/New_York:20291018T190000
DTSTAMP:20260422T120332
CREATED:20260105T003203Z
LAST-MODIFIED:20260105T054011Z
UID:10011120-1887044400-1887044400@epictriviafl.com
SUMMARY:Music Bingo
DESCRIPTION:
URL:https://epictriviafl.com/event/music-bingo-mellow/2029-10-18/
LOCATION:The Mellow Mushroom\, 1831 Rinehart Rd.\, Sanford\, FL 32771 USA
GEO:28.8088457;-81.3305077
X-APPLE-STRUCTURED-LOCATION;VALUE=URI;X-ADDRESS=The Mellow Mushroom 1831 Rinehart Rd. Sanford FL 32771 USA;X-APPLE-RADIUS=500;X-TITLE=1831 Rinehart Rd.\, Sanford\, FL 32771 USA:geo:-81.3305077,28.8088457
END:VEVENT
BEGIN:VEVENT
DTSTART;TZID=America/New_York:20291020T183000
DTEND;TZID=America/New_York:20291020T183000
DTSTAMP:20260422T120332
CREATED:20260105T003233Z
LAST-MODIFIED:20260105T060212Z
UID:10021001-1887215400-1887215400@epictriviafl.com
SUMMARY:Mario Kart
DESCRIPTION:
URL:https://epictriviafl.com/event/mario-kart-mellow/2029-10-20/
LOCATION:The Mellow Mushroom\, 1831 Rinehart Rd.\, Sanford\, FL 32771 USA
GEO:28.8088457;-81.3305077
X-APPLE-STRUCTURED-LOCATION;VALUE=URI;X-ADDRESS=The Mellow Mushroom 1831 Rinehart Rd. Sanford FL 32771 USA;X-APPLE-RADIUS=500;X-TITLE=1831 Rinehart Rd.\, Sanford\, FL 32771 USA:geo:-81.3305077,28.8088457
END:VEVENT
BEGIN:VEVENT
DTSTART;TZID=America/New_York:20291024T190000
DTEND;TZID=America/New_York:20291024T190000
DTSTAMP:20260422T120332
CREATED:20260105T003117Z
LAST-MODIFIED:20260105T054751Z
UID:10014761-1887562800-1887562800@epictriviafl.com
SUMMARY:Trivia
DESCRIPTION:
URL:https://epictriviafl.com/event/trivia-mellow/2029-10-24/
LOCATION:The Mellow Mushroom\, 1831 Rinehart Rd.\, Sanford\, FL 32771 USA
GEO:28.8088457;-81.3305077
X-APPLE-STRUCTURED-LOCATION;VALUE=URI;X-ADDRESS=The Mellow Mushroom 1831 Rinehart Rd. Sanford FL 32771 USA;X-APPLE-RADIUS=500;X-TITLE=1831 Rinehart Rd.\, Sanford\, FL 32771 USA:geo:-81.3305077,28.8088457
END:VEVENT
BEGIN:VEVENT
DTSTART;TZID=America/New_York:20291025T190000
DTEND;TZID=America/New_York:20291025T190000
DTSTAMP:20260422T120332
CREATED:20260105T003203Z
LAST-MODIFIED:20260105T054011Z
UID:10011121-1887649200-1887649200@epictriviafl.com
SUMMARY:Music Bingo
DESCRIPTION:
URL:https://epictriviafl.com/event/music-bingo-mellow/2029-10-25/
LOCATION:The Mellow Mushroom\, 1831 Rinehart Rd.\, Sanford\, FL 32771 USA
GEO:28.8088457;-81.3305077
X-APPLE-STRUCTURED-LOCATION;VALUE=URI;X-ADDRESS=The Mellow Mushroom 1831 Rinehart Rd. Sanford FL 32771 USA;X-APPLE-RADIUS=500;X-TITLE=1831 Rinehart Rd.\, Sanford\, FL 32771 USA:geo:-81.3305077,28.8088457
END:VEVENT
BEGIN:VEVENT
DTSTART;TZID=America/New_York:20291027T183000
DTEND;TZID=America/New_York:20291027T183000
DTSTAMP:20260422T120332
CREATED:20260105T003233Z
LAST-MODIFIED:20260105T060212Z
UID:10021002-1887820200-1887820200@epictriviafl.com
SUMMARY:Mario Kart
DESCRIPTION:
URL:https://epictriviafl.com/event/mario-kart-mellow/2029-10-27/
LOCATION:The Mellow Mushroom\, 1831 Rinehart Rd.\, Sanford\, FL 32771 USA
GEO:28.8088457;-81.3305077
X-APPLE-STRUCTURED-LOCATION;VALUE=URI;X-ADDRESS=The Mellow Mushroom 1831 Rinehart Rd. Sanford FL 32771 USA;X-APPLE-RADIUS=500;X-TITLE=1831 Rinehart Rd.\, Sanford\, FL 32771 USA:geo:-81.3305077,28.8088457
END:VEVENT
BEGIN:VEVENT
DTSTART;TZID=America/New_York:20291031T190000
DTEND;TZID=America/New_York:20291031T190000
DTSTAMP:20260422T120332
CREATED:20260105T003117Z
LAST-MODIFIED:20260105T054751Z
UID:10014762-1888167600-1888167600@epictriviafl.com
SUMMARY:Trivia
DESCRIPTION:
URL:https://epictriviafl.com/event/trivia-mellow/2029-10-31/
LOCATION:The Mellow Mushroom\, 1831 Rinehart Rd.\, Sanford\, FL 32771 USA
GEO:28.8088457;-81.3305077
X-APPLE-STRUCTURED-LOCATION;VALUE=URI;X-ADDRESS=The Mellow Mushroom 1831 Rinehart Rd. Sanford FL 32771 USA;X-APPLE-RADIUS=500;X-TITLE=1831 Rinehart Rd.\, Sanford\, FL 32771 USA:geo:-81.3305077,28.8088457
END:VEVENT
BEGIN:VEVENT
DTSTART;TZID=America/New_York:20291101T190000
DTEND;TZID=America/New_York:20291101T190000
DTSTAMP:20260422T120332
CREATED:20260105T003203Z
LAST-MODIFIED:20260105T054011Z
UID:10011122-1888254000-1888254000@epictriviafl.com
SUMMARY:Music Bingo
DESCRIPTION:
URL:https://epictriviafl.com/event/music-bingo-mellow/2029-11-01/
LOCATION:The Mellow Mushroom\, 1831 Rinehart Rd.\, Sanford\, FL 32771 USA
GEO:28.8088457;-81.3305077
X-APPLE-STRUCTURED-LOCATION;VALUE=URI;X-ADDRESS=The Mellow Mushroom 1831 Rinehart Rd. Sanford FL 32771 USA;X-APPLE-RADIUS=500;X-TITLE=1831 Rinehart Rd.\, Sanford\, FL 32771 USA:geo:-81.3305077,28.8088457
END:VEVENT
BEGIN:VEVENT
DTSTART;TZID=America/New_York:20291103T183000
DTEND;TZID=America/New_York:20291103T183000
DTSTAMP:20260422T120332
CREATED:20260105T003233Z
LAST-MODIFIED:20260105T060212Z
UID:10021003-1888425000-1888425000@epictriviafl.com
SUMMARY:Mario Kart
DESCRIPTION:
URL:https://epictriviafl.com/event/mario-kart-mellow/2029-11-03/
LOCATION:The Mellow Mushroom\, 1831 Rinehart Rd.\, Sanford\, FL 32771 USA
GEO:28.8088457;-81.3305077
X-APPLE-STRUCTURED-LOCATION;VALUE=URI;X-ADDRESS=The Mellow Mushroom 1831 Rinehart Rd. Sanford FL 32771 USA;X-APPLE-RADIUS=500;X-TITLE=1831 Rinehart Rd.\, Sanford\, FL 32771 USA:geo:-81.3305077,28.8088457
END:VEVENT
BEGIN:VEVENT
DTSTART;TZID=America/New_York:20291107T190000
DTEND;TZID=America/New_York:20291107T190000
DTSTAMP:20260422T120332
CREATED:20260105T003117Z
LAST-MODIFIED:20260105T054751Z
UID:10014763-1888772400-1888772400@epictriviafl.com
SUMMARY:Trivia
DESCRIPTION:
URL:https://epictriviafl.com/event/trivia-mellow/2029-11-07/
LOCATION:The Mellow Mushroom\, 1831 Rinehart Rd.\, Sanford\, FL 32771 USA
GEO:28.8088457;-81.3305077
X-APPLE-STRUCTURED-LOCATION;VALUE=URI;X-ADDRESS=The Mellow Mushroom 1831 Rinehart Rd. Sanford FL 32771 USA;X-APPLE-RADIUS=500;X-TITLE=1831 Rinehart Rd.\, Sanford\, FL 32771 USA:geo:-81.3305077,28.8088457
END:VEVENT
BEGIN:VEVENT
DTSTART;TZID=America/New_York:20291108T190000
DTEND;TZID=America/New_York:20291108T190000
DTSTAMP:20260422T120332
CREATED:20260105T003203Z
LAST-MODIFIED:20260105T054011Z
UID:10011123-1888858800-1888858800@epictriviafl.com
SUMMARY:Music Bingo
DESCRIPTION:
URL:https://epictriviafl.com/event/music-bingo-mellow/2029-11-08/
LOCATION:The Mellow Mushroom\, 1831 Rinehart Rd.\, Sanford\, FL 32771 USA
GEO:28.8088457;-81.3305077
X-APPLE-STRUCTURED-LOCATION;VALUE=URI;X-ADDRESS=The Mellow Mushroom 1831 Rinehart Rd. Sanford FL 32771 USA;X-APPLE-RADIUS=500;X-TITLE=1831 Rinehart Rd.\, Sanford\, FL 32771 USA:geo:-81.3305077,28.8088457
END:VEVENT
BEGIN:VEVENT
DTSTART;TZID=America/New_York:20291110T183000
DTEND;TZID=America/New_York:20291110T183000
DTSTAMP:20260422T120332
CREATED:20260105T003233Z
LAST-MODIFIED:20260105T060212Z
UID:10021004-1889029800-1889029800@epictriviafl.com
SUMMARY:Mario Kart
DESCRIPTION:
URL:https://epictriviafl.com/event/mario-kart-mellow/2029-11-10/
LOCATION:The Mellow Mushroom\, 1831 Rinehart Rd.\, Sanford\, FL 32771 USA
GEO:28.8088457;-81.3305077
X-APPLE-STRUCTURED-LOCATION;VALUE=URI;X-ADDRESS=The Mellow Mushroom 1831 Rinehart Rd. Sanford FL 32771 USA;X-APPLE-RADIUS=500;X-TITLE=1831 Rinehart Rd.\, Sanford\, FL 32771 USA:geo:-81.3305077,28.8088457
END:VEVENT
END:VCALENDAR