BEGIN:VCALENDAR
VERSION:2.0
PRODID:-//Epic Trivia - ECPv6.15.18//NONSGML v1.0//EN
CALSCALE:GREGORIAN
METHOD:PUBLISH
X-ORIGINAL-URL:https://epictriviafl.com
X-WR-CALDESC:Events for Epic Trivia
REFRESH-INTERVAL;VALUE=DURATION:PT1H
X-Robots-Tag:noindex
X-PUBLISHED-TTL:PT1H
BEGIN:VTIMEZONE
TZID:America/New_York
BEGIN:DAYLIGHT
TZOFFSETFROM:-0500
TZOFFSETTO:-0400
TZNAME:EDT
DTSTART:20270314T070000
END:DAYLIGHT
BEGIN:STANDARD
TZOFFSETFROM:-0400
TZOFFSETTO:-0500
TZNAME:EST
DTSTART:20271107T060000
END:STANDARD
BEGIN:DAYLIGHT
TZOFFSETFROM:-0500
TZOFFSETTO:-0400
TZNAME:EDT
DTSTART:20280312T070000
END:DAYLIGHT
BEGIN:STANDARD
TZOFFSETFROM:-0400
TZOFFSETTO:-0500
TZNAME:EST
DTSTART:20281105T060000
END:STANDARD
BEGIN:DAYLIGHT
TZOFFSETFROM:-0500
TZOFFSETTO:-0400
TZNAME:EDT
DTSTART:20290311T070000
END:DAYLIGHT
BEGIN:STANDARD
TZOFFSETFROM:-0400
TZOFFSETTO:-0500
TZNAME:EST
DTSTART:20291104T060000
END:STANDARD
BEGIN:DAYLIGHT
TZOFFSETFROM:-0500
TZOFFSETTO:-0400
TZNAME:EDT
DTSTART:20300310T070000
END:DAYLIGHT
BEGIN:STANDARD
TZOFFSETFROM:-0400
TZOFFSETTO:-0500
TZNAME:EST
DTSTART:20301103T060000
END:STANDARD
END:VTIMEZONE
BEGIN:VEVENT
DTSTART;TZID=America/New_York:20281129T190000
DTEND;TZID=America/New_York:20281129T190000
DTSTAMP:20260421T194201
CREATED:20260105T003117Z
LAST-MODIFIED:20260105T054751Z
UID:10014714-1859137200-1859137200@epictriviafl.com
SUMMARY:Trivia
DESCRIPTION:
URL:https://epictriviafl.com/event/trivia-mellow/2028-11-29/
LOCATION:The Mellow Mushroom\, 1831 Rinehart Rd.\, Sanford\, FL 32771 USA
GEO:28.8088457;-81.3305077
X-APPLE-STRUCTURED-LOCATION;VALUE=URI;X-ADDRESS=The Mellow Mushroom 1831 Rinehart Rd. Sanford FL 32771 USA;X-APPLE-RADIUS=500;X-TITLE=1831 Rinehart Rd.\, Sanford\, FL 32771 USA:geo:-81.3305077,28.8088457
END:VEVENT
BEGIN:VEVENT
DTSTART;TZID=America/New_York:20281130T190000
DTEND;TZID=America/New_York:20281130T190000
DTSTAMP:20260421T194201
CREATED:20260105T003203Z
LAST-MODIFIED:20260105T054011Z
UID:10011074-1859223600-1859223600@epictriviafl.com
SUMMARY:Music Bingo
DESCRIPTION:
URL:https://epictriviafl.com/event/music-bingo-mellow/2028-11-30/
LOCATION:The Mellow Mushroom\, 1831 Rinehart Rd.\, Sanford\, FL 32771 USA
GEO:28.8088457;-81.3305077
X-APPLE-STRUCTURED-LOCATION;VALUE=URI;X-ADDRESS=The Mellow Mushroom 1831 Rinehart Rd. Sanford FL 32771 USA;X-APPLE-RADIUS=500;X-TITLE=1831 Rinehart Rd.\, Sanford\, FL 32771 USA:geo:-81.3305077,28.8088457
END:VEVENT
BEGIN:VEVENT
DTSTART;TZID=America/New_York:20281202T183000
DTEND;TZID=America/New_York:20281202T183000
DTSTAMP:20260421T194201
CREATED:20260105T003233Z
LAST-MODIFIED:20260105T060212Z
UID:10020955-1859394600-1859394600@epictriviafl.com
SUMMARY:Mario Kart
DESCRIPTION:
URL:https://epictriviafl.com/event/mario-kart-mellow/2028-12-02/
LOCATION:The Mellow Mushroom\, 1831 Rinehart Rd.\, Sanford\, FL 32771 USA
GEO:28.8088457;-81.3305077
X-APPLE-STRUCTURED-LOCATION;VALUE=URI;X-ADDRESS=The Mellow Mushroom 1831 Rinehart Rd. Sanford FL 32771 USA;X-APPLE-RADIUS=500;X-TITLE=1831 Rinehart Rd.\, Sanford\, FL 32771 USA:geo:-81.3305077,28.8088457
END:VEVENT
BEGIN:VEVENT
DTSTART;TZID=America/New_York:20281206T190000
DTEND;TZID=America/New_York:20281206T190000
DTSTAMP:20260421T194201
CREATED:20260105T003117Z
LAST-MODIFIED:20260105T054751Z
UID:10014715-1859742000-1859742000@epictriviafl.com
SUMMARY:Trivia
DESCRIPTION:
URL:https://epictriviafl.com/event/trivia-mellow/2028-12-06/
LOCATION:The Mellow Mushroom\, 1831 Rinehart Rd.\, Sanford\, FL 32771 USA
GEO:28.8088457;-81.3305077
X-APPLE-STRUCTURED-LOCATION;VALUE=URI;X-ADDRESS=The Mellow Mushroom 1831 Rinehart Rd. Sanford FL 32771 USA;X-APPLE-RADIUS=500;X-TITLE=1831 Rinehart Rd.\, Sanford\, FL 32771 USA:geo:-81.3305077,28.8088457
END:VEVENT
BEGIN:VEVENT
DTSTART;TZID=America/New_York:20281207T190000
DTEND;TZID=America/New_York:20281207T190000
DTSTAMP:20260421T194201
CREATED:20260105T003203Z
LAST-MODIFIED:20260105T054011Z
UID:10011075-1859828400-1859828400@epictriviafl.com
SUMMARY:Music Bingo
DESCRIPTION:
URL:https://epictriviafl.com/event/music-bingo-mellow/2028-12-07/
LOCATION:The Mellow Mushroom\, 1831 Rinehart Rd.\, Sanford\, FL 32771 USA
GEO:28.8088457;-81.3305077
X-APPLE-STRUCTURED-LOCATION;VALUE=URI;X-ADDRESS=The Mellow Mushroom 1831 Rinehart Rd. Sanford FL 32771 USA;X-APPLE-RADIUS=500;X-TITLE=1831 Rinehart Rd.\, Sanford\, FL 32771 USA:geo:-81.3305077,28.8088457
END:VEVENT
BEGIN:VEVENT
DTSTART;TZID=America/New_York:20281209T183000
DTEND;TZID=America/New_York:20281209T183000
DTSTAMP:20260421T194201
CREATED:20260105T003233Z
LAST-MODIFIED:20260105T060212Z
UID:10020956-1859999400-1859999400@epictriviafl.com
SUMMARY:Mario Kart
DESCRIPTION:
URL:https://epictriviafl.com/event/mario-kart-mellow/2028-12-09/
LOCATION:The Mellow Mushroom\, 1831 Rinehart Rd.\, Sanford\, FL 32771 USA
GEO:28.8088457;-81.3305077
X-APPLE-STRUCTURED-LOCATION;VALUE=URI;X-ADDRESS=The Mellow Mushroom 1831 Rinehart Rd. Sanford FL 32771 USA;X-APPLE-RADIUS=500;X-TITLE=1831 Rinehart Rd.\, Sanford\, FL 32771 USA:geo:-81.3305077,28.8088457
END:VEVENT
BEGIN:VEVENT
DTSTART;TZID=America/New_York:20281213T190000
DTEND;TZID=America/New_York:20281213T190000
DTSTAMP:20260421T194201
CREATED:20260105T003117Z
LAST-MODIFIED:20260105T054751Z
UID:10014716-1860346800-1860346800@epictriviafl.com
SUMMARY:Trivia
DESCRIPTION:
URL:https://epictriviafl.com/event/trivia-mellow/2028-12-13/
LOCATION:The Mellow Mushroom\, 1831 Rinehart Rd.\, Sanford\, FL 32771 USA
GEO:28.8088457;-81.3305077
X-APPLE-STRUCTURED-LOCATION;VALUE=URI;X-ADDRESS=The Mellow Mushroom 1831 Rinehart Rd. Sanford FL 32771 USA;X-APPLE-RADIUS=500;X-TITLE=1831 Rinehart Rd.\, Sanford\, FL 32771 USA:geo:-81.3305077,28.8088457
END:VEVENT
BEGIN:VEVENT
DTSTART;TZID=America/New_York:20281214T190000
DTEND;TZID=America/New_York:20281214T190000
DTSTAMP:20260421T194201
CREATED:20260105T003203Z
LAST-MODIFIED:20260105T054011Z
UID:10011076-1860433200-1860433200@epictriviafl.com
SUMMARY:Music Bingo
DESCRIPTION:
URL:https://epictriviafl.com/event/music-bingo-mellow/2028-12-14/
LOCATION:The Mellow Mushroom\, 1831 Rinehart Rd.\, Sanford\, FL 32771 USA
GEO:28.8088457;-81.3305077
X-APPLE-STRUCTURED-LOCATION;VALUE=URI;X-ADDRESS=The Mellow Mushroom 1831 Rinehart Rd. Sanford FL 32771 USA;X-APPLE-RADIUS=500;X-TITLE=1831 Rinehart Rd.\, Sanford\, FL 32771 USA:geo:-81.3305077,28.8088457
END:VEVENT
BEGIN:VEVENT
DTSTART;TZID=America/New_York:20281216T183000
DTEND;TZID=America/New_York:20281216T183000
DTSTAMP:20260421T194201
CREATED:20260105T003233Z
LAST-MODIFIED:20260105T060212Z
UID:10020957-1860604200-1860604200@epictriviafl.com
SUMMARY:Mario Kart
DESCRIPTION:
URL:https://epictriviafl.com/event/mario-kart-mellow/2028-12-16/
LOCATION:The Mellow Mushroom\, 1831 Rinehart Rd.\, Sanford\, FL 32771 USA
GEO:28.8088457;-81.3305077
X-APPLE-STRUCTURED-LOCATION;VALUE=URI;X-ADDRESS=The Mellow Mushroom 1831 Rinehart Rd. Sanford FL 32771 USA;X-APPLE-RADIUS=500;X-TITLE=1831 Rinehart Rd.\, Sanford\, FL 32771 USA:geo:-81.3305077,28.8088457
END:VEVENT
BEGIN:VEVENT
DTSTART;TZID=America/New_York:20281220T190000
DTEND;TZID=America/New_York:20281220T190000
DTSTAMP:20260421T194201
CREATED:20260105T003117Z
LAST-MODIFIED:20260105T054751Z
UID:10014717-1860951600-1860951600@epictriviafl.com
SUMMARY:Trivia
DESCRIPTION:
URL:https://epictriviafl.com/event/trivia-mellow/2028-12-20/
LOCATION:The Mellow Mushroom\, 1831 Rinehart Rd.\, Sanford\, FL 32771 USA
GEO:28.8088457;-81.3305077
X-APPLE-STRUCTURED-LOCATION;VALUE=URI;X-ADDRESS=The Mellow Mushroom 1831 Rinehart Rd. Sanford FL 32771 USA;X-APPLE-RADIUS=500;X-TITLE=1831 Rinehart Rd.\, Sanford\, FL 32771 USA:geo:-81.3305077,28.8088457
END:VEVENT
BEGIN:VEVENT
DTSTART;TZID=America/New_York:20281221T190000
DTEND;TZID=America/New_York:20281221T190000
DTSTAMP:20260421T194201
CREATED:20260105T003203Z
LAST-MODIFIED:20260105T054011Z
UID:10011077-1861038000-1861038000@epictriviafl.com
SUMMARY:Music Bingo
DESCRIPTION:
URL:https://epictriviafl.com/event/music-bingo-mellow/2028-12-21/
LOCATION:The Mellow Mushroom\, 1831 Rinehart Rd.\, Sanford\, FL 32771 USA
GEO:28.8088457;-81.3305077
X-APPLE-STRUCTURED-LOCATION;VALUE=URI;X-ADDRESS=The Mellow Mushroom 1831 Rinehart Rd. Sanford FL 32771 USA;X-APPLE-RADIUS=500;X-TITLE=1831 Rinehart Rd.\, Sanford\, FL 32771 USA:geo:-81.3305077,28.8088457
END:VEVENT
BEGIN:VEVENT
DTSTART;TZID=America/New_York:20281223T183000
DTEND;TZID=America/New_York:20281223T183000
DTSTAMP:20260421T194201
CREATED:20260105T003233Z
LAST-MODIFIED:20260105T060212Z
UID:10020958-1861209000-1861209000@epictriviafl.com
SUMMARY:Mario Kart
DESCRIPTION:
URL:https://epictriviafl.com/event/mario-kart-mellow/2028-12-23/
LOCATION:The Mellow Mushroom\, 1831 Rinehart Rd.\, Sanford\, FL 32771 USA
GEO:28.8088457;-81.3305077
X-APPLE-STRUCTURED-LOCATION;VALUE=URI;X-ADDRESS=The Mellow Mushroom 1831 Rinehart Rd. Sanford FL 32771 USA;X-APPLE-RADIUS=500;X-TITLE=1831 Rinehart Rd.\, Sanford\, FL 32771 USA:geo:-81.3305077,28.8088457
END:VEVENT
BEGIN:VEVENT
DTSTART;TZID=America/New_York:20281227T190000
DTEND;TZID=America/New_York:20281227T190000
DTSTAMP:20260421T194201
CREATED:20260105T003117Z
LAST-MODIFIED:20260105T054751Z
UID:10014718-1861556400-1861556400@epictriviafl.com
SUMMARY:Trivia
DESCRIPTION:
URL:https://epictriviafl.com/event/trivia-mellow/2028-12-27/
LOCATION:The Mellow Mushroom\, 1831 Rinehart Rd.\, Sanford\, FL 32771 USA
GEO:28.8088457;-81.3305077
X-APPLE-STRUCTURED-LOCATION;VALUE=URI;X-ADDRESS=The Mellow Mushroom 1831 Rinehart Rd. Sanford FL 32771 USA;X-APPLE-RADIUS=500;X-TITLE=1831 Rinehart Rd.\, Sanford\, FL 32771 USA:geo:-81.3305077,28.8088457
END:VEVENT
BEGIN:VEVENT
DTSTART;TZID=America/New_York:20281228T190000
DTEND;TZID=America/New_York:20281228T190000
DTSTAMP:20260421T194201
CREATED:20260105T003203Z
LAST-MODIFIED:20260105T054011Z
UID:10011078-1861642800-1861642800@epictriviafl.com
SUMMARY:Music Bingo
DESCRIPTION:
URL:https://epictriviafl.com/event/music-bingo-mellow/2028-12-28/
LOCATION:The Mellow Mushroom\, 1831 Rinehart Rd.\, Sanford\, FL 32771 USA
GEO:28.8088457;-81.3305077
X-APPLE-STRUCTURED-LOCATION;VALUE=URI;X-ADDRESS=The Mellow Mushroom 1831 Rinehart Rd. Sanford FL 32771 USA;X-APPLE-RADIUS=500;X-TITLE=1831 Rinehart Rd.\, Sanford\, FL 32771 USA:geo:-81.3305077,28.8088457
END:VEVENT
BEGIN:VEVENT
DTSTART;TZID=America/New_York:20281230T183000
DTEND;TZID=America/New_York:20281230T183000
DTSTAMP:20260421T194201
CREATED:20260105T003233Z
LAST-MODIFIED:20260105T060212Z
UID:10020959-1861813800-1861813800@epictriviafl.com
SUMMARY:Mario Kart
DESCRIPTION:
URL:https://epictriviafl.com/event/mario-kart-mellow/2028-12-30/
LOCATION:The Mellow Mushroom\, 1831 Rinehart Rd.\, Sanford\, FL 32771 USA
GEO:28.8088457;-81.3305077
X-APPLE-STRUCTURED-LOCATION;VALUE=URI;X-ADDRESS=The Mellow Mushroom 1831 Rinehart Rd. Sanford FL 32771 USA;X-APPLE-RADIUS=500;X-TITLE=1831 Rinehart Rd.\, Sanford\, FL 32771 USA:geo:-81.3305077,28.8088457
END:VEVENT
BEGIN:VEVENT
DTSTART;TZID=America/New_York:20290103T190000
DTEND;TZID=America/New_York:20290103T190000
DTSTAMP:20260421T194201
CREATED:20260105T003117Z
LAST-MODIFIED:20260105T054751Z
UID:10014719-1862161200-1862161200@epictriviafl.com
SUMMARY:Trivia
DESCRIPTION:
URL:https://epictriviafl.com/event/trivia-mellow/2029-01-03/
LOCATION:The Mellow Mushroom\, 1831 Rinehart Rd.\, Sanford\, FL 32771 USA
GEO:28.8088457;-81.3305077
X-APPLE-STRUCTURED-LOCATION;VALUE=URI;X-ADDRESS=The Mellow Mushroom 1831 Rinehart Rd. Sanford FL 32771 USA;X-APPLE-RADIUS=500;X-TITLE=1831 Rinehart Rd.\, Sanford\, FL 32771 USA:geo:-81.3305077,28.8088457
END:VEVENT
BEGIN:VEVENT
DTSTART;TZID=America/New_York:20290104T190000
DTEND;TZID=America/New_York:20290104T190000
DTSTAMP:20260421T194201
CREATED:20260105T003203Z
LAST-MODIFIED:20260105T054011Z
UID:10011079-1862247600-1862247600@epictriviafl.com
SUMMARY:Music Bingo
DESCRIPTION:
URL:https://epictriviafl.com/event/music-bingo-mellow/2029-01-04/
LOCATION:The Mellow Mushroom\, 1831 Rinehart Rd.\, Sanford\, FL 32771 USA
GEO:28.8088457;-81.3305077
X-APPLE-STRUCTURED-LOCATION;VALUE=URI;X-ADDRESS=The Mellow Mushroom 1831 Rinehart Rd. Sanford FL 32771 USA;X-APPLE-RADIUS=500;X-TITLE=1831 Rinehart Rd.\, Sanford\, FL 32771 USA:geo:-81.3305077,28.8088457
END:VEVENT
BEGIN:VEVENT
DTSTART;TZID=America/New_York:20290106T183000
DTEND;TZID=America/New_York:20290106T183000
DTSTAMP:20260421T194201
CREATED:20260105T003233Z
LAST-MODIFIED:20260105T060212Z
UID:10020960-1862418600-1862418600@epictriviafl.com
SUMMARY:Mario Kart
DESCRIPTION:
URL:https://epictriviafl.com/event/mario-kart-mellow/2029-01-06/
LOCATION:The Mellow Mushroom\, 1831 Rinehart Rd.\, Sanford\, FL 32771 USA
GEO:28.8088457;-81.3305077
X-APPLE-STRUCTURED-LOCATION;VALUE=URI;X-ADDRESS=The Mellow Mushroom 1831 Rinehart Rd. Sanford FL 32771 USA;X-APPLE-RADIUS=500;X-TITLE=1831 Rinehart Rd.\, Sanford\, FL 32771 USA:geo:-81.3305077,28.8088457
END:VEVENT
BEGIN:VEVENT
DTSTART;TZID=America/New_York:20290110T190000
DTEND;TZID=America/New_York:20290110T190000
DTSTAMP:20260421T194201
CREATED:20260105T003117Z
LAST-MODIFIED:20260105T054751Z
UID:10014720-1862766000-1862766000@epictriviafl.com
SUMMARY:Trivia
DESCRIPTION:
URL:https://epictriviafl.com/event/trivia-mellow/2029-01-10/
LOCATION:The Mellow Mushroom\, 1831 Rinehart Rd.\, Sanford\, FL 32771 USA
GEO:28.8088457;-81.3305077
X-APPLE-STRUCTURED-LOCATION;VALUE=URI;X-ADDRESS=The Mellow Mushroom 1831 Rinehart Rd. Sanford FL 32771 USA;X-APPLE-RADIUS=500;X-TITLE=1831 Rinehart Rd.\, Sanford\, FL 32771 USA:geo:-81.3305077,28.8088457
END:VEVENT
BEGIN:VEVENT
DTSTART;TZID=America/New_York:20290111T190000
DTEND;TZID=America/New_York:20290111T190000
DTSTAMP:20260421T194201
CREATED:20260105T003203Z
LAST-MODIFIED:20260105T054011Z
UID:10011080-1862852400-1862852400@epictriviafl.com
SUMMARY:Music Bingo
DESCRIPTION:
URL:https://epictriviafl.com/event/music-bingo-mellow/2029-01-11/
LOCATION:The Mellow Mushroom\, 1831 Rinehart Rd.\, Sanford\, FL 32771 USA
GEO:28.8088457;-81.3305077
X-APPLE-STRUCTURED-LOCATION;VALUE=URI;X-ADDRESS=The Mellow Mushroom 1831 Rinehart Rd. Sanford FL 32771 USA;X-APPLE-RADIUS=500;X-TITLE=1831 Rinehart Rd.\, Sanford\, FL 32771 USA:geo:-81.3305077,28.8088457
END:VEVENT
BEGIN:VEVENT
DTSTART;TZID=America/New_York:20290113T183000
DTEND;TZID=America/New_York:20290113T183000
DTSTAMP:20260421T194201
CREATED:20260105T003233Z
LAST-MODIFIED:20260105T060212Z
UID:10020961-1863023400-1863023400@epictriviafl.com
SUMMARY:Mario Kart
DESCRIPTION:
URL:https://epictriviafl.com/event/mario-kart-mellow/2029-01-13/
LOCATION:The Mellow Mushroom\, 1831 Rinehart Rd.\, Sanford\, FL 32771 USA
GEO:28.8088457;-81.3305077
X-APPLE-STRUCTURED-LOCATION;VALUE=URI;X-ADDRESS=The Mellow Mushroom 1831 Rinehart Rd. Sanford FL 32771 USA;X-APPLE-RADIUS=500;X-TITLE=1831 Rinehart Rd.\, Sanford\, FL 32771 USA:geo:-81.3305077,28.8088457
END:VEVENT
BEGIN:VEVENT
DTSTART;TZID=America/New_York:20290117T190000
DTEND;TZID=America/New_York:20290117T190000
DTSTAMP:20260421T194201
CREATED:20260105T003117Z
LAST-MODIFIED:20260105T054751Z
UID:10014721-1863370800-1863370800@epictriviafl.com
SUMMARY:Trivia
DESCRIPTION:
URL:https://epictriviafl.com/event/trivia-mellow/2029-01-17/
LOCATION:The Mellow Mushroom\, 1831 Rinehart Rd.\, Sanford\, FL 32771 USA
GEO:28.8088457;-81.3305077
X-APPLE-STRUCTURED-LOCATION;VALUE=URI;X-ADDRESS=The Mellow Mushroom 1831 Rinehart Rd. Sanford FL 32771 USA;X-APPLE-RADIUS=500;X-TITLE=1831 Rinehart Rd.\, Sanford\, FL 32771 USA:geo:-81.3305077,28.8088457
END:VEVENT
BEGIN:VEVENT
DTSTART;TZID=America/New_York:20290118T190000
DTEND;TZID=America/New_York:20290118T190000
DTSTAMP:20260421T194201
CREATED:20260105T003203Z
LAST-MODIFIED:20260105T054011Z
UID:10011081-1863457200-1863457200@epictriviafl.com
SUMMARY:Music Bingo
DESCRIPTION:
URL:https://epictriviafl.com/event/music-bingo-mellow/2029-01-18/
LOCATION:The Mellow Mushroom\, 1831 Rinehart Rd.\, Sanford\, FL 32771 USA
GEO:28.8088457;-81.3305077
X-APPLE-STRUCTURED-LOCATION;VALUE=URI;X-ADDRESS=The Mellow Mushroom 1831 Rinehart Rd. Sanford FL 32771 USA;X-APPLE-RADIUS=500;X-TITLE=1831 Rinehart Rd.\, Sanford\, FL 32771 USA:geo:-81.3305077,28.8088457
END:VEVENT
BEGIN:VEVENT
DTSTART;TZID=America/New_York:20290120T183000
DTEND;TZID=America/New_York:20290120T183000
DTSTAMP:20260421T194201
CREATED:20260105T003233Z
LAST-MODIFIED:20260105T060212Z
UID:10020962-1863628200-1863628200@epictriviafl.com
SUMMARY:Mario Kart
DESCRIPTION:
URL:https://epictriviafl.com/event/mario-kart-mellow/2029-01-20/
LOCATION:The Mellow Mushroom\, 1831 Rinehart Rd.\, Sanford\, FL 32771 USA
GEO:28.8088457;-81.3305077
X-APPLE-STRUCTURED-LOCATION;VALUE=URI;X-ADDRESS=The Mellow Mushroom 1831 Rinehart Rd. Sanford FL 32771 USA;X-APPLE-RADIUS=500;X-TITLE=1831 Rinehart Rd.\, Sanford\, FL 32771 USA:geo:-81.3305077,28.8088457
END:VEVENT
BEGIN:VEVENT
DTSTART;TZID=America/New_York:20290124T190000
DTEND;TZID=America/New_York:20290124T190000
DTSTAMP:20260421T194201
CREATED:20260105T003117Z
LAST-MODIFIED:20260105T054751Z
UID:10014722-1863975600-1863975600@epictriviafl.com
SUMMARY:Trivia
DESCRIPTION:
URL:https://epictriviafl.com/event/trivia-mellow/2029-01-24/
LOCATION:The Mellow Mushroom\, 1831 Rinehart Rd.\, Sanford\, FL 32771 USA
GEO:28.8088457;-81.3305077
X-APPLE-STRUCTURED-LOCATION;VALUE=URI;X-ADDRESS=The Mellow Mushroom 1831 Rinehart Rd. Sanford FL 32771 USA;X-APPLE-RADIUS=500;X-TITLE=1831 Rinehart Rd.\, Sanford\, FL 32771 USA:geo:-81.3305077,28.8088457
END:VEVENT
BEGIN:VEVENT
DTSTART;TZID=America/New_York:20290125T190000
DTEND;TZID=America/New_York:20290125T190000
DTSTAMP:20260421T194201
CREATED:20260105T003203Z
LAST-MODIFIED:20260105T054011Z
UID:10011082-1864062000-1864062000@epictriviafl.com
SUMMARY:Music Bingo
DESCRIPTION:
URL:https://epictriviafl.com/event/music-bingo-mellow/2029-01-25/
LOCATION:The Mellow Mushroom\, 1831 Rinehart Rd.\, Sanford\, FL 32771 USA
GEO:28.8088457;-81.3305077
X-APPLE-STRUCTURED-LOCATION;VALUE=URI;X-ADDRESS=The Mellow Mushroom 1831 Rinehart Rd. Sanford FL 32771 USA;X-APPLE-RADIUS=500;X-TITLE=1831 Rinehart Rd.\, Sanford\, FL 32771 USA:geo:-81.3305077,28.8088457
END:VEVENT
BEGIN:VEVENT
DTSTART;TZID=America/New_York:20290127T183000
DTEND;TZID=America/New_York:20290127T183000
DTSTAMP:20260421T194201
CREATED:20260105T003233Z
LAST-MODIFIED:20260105T060212Z
UID:10020963-1864233000-1864233000@epictriviafl.com
SUMMARY:Mario Kart
DESCRIPTION:
URL:https://epictriviafl.com/event/mario-kart-mellow/2029-01-27/
LOCATION:The Mellow Mushroom\, 1831 Rinehart Rd.\, Sanford\, FL 32771 USA
GEO:28.8088457;-81.3305077
X-APPLE-STRUCTURED-LOCATION;VALUE=URI;X-ADDRESS=The Mellow Mushroom 1831 Rinehart Rd. Sanford FL 32771 USA;X-APPLE-RADIUS=500;X-TITLE=1831 Rinehart Rd.\, Sanford\, FL 32771 USA:geo:-81.3305077,28.8088457
END:VEVENT
BEGIN:VEVENT
DTSTART;TZID=America/New_York:20290131T190000
DTEND;TZID=America/New_York:20290131T190000
DTSTAMP:20260421T194201
CREATED:20260105T003117Z
LAST-MODIFIED:20260105T054751Z
UID:10014723-1864580400-1864580400@epictriviafl.com
SUMMARY:Trivia
DESCRIPTION:
URL:https://epictriviafl.com/event/trivia-mellow/2029-01-31/
LOCATION:The Mellow Mushroom\, 1831 Rinehart Rd.\, Sanford\, FL 32771 USA
GEO:28.8088457;-81.3305077
X-APPLE-STRUCTURED-LOCATION;VALUE=URI;X-ADDRESS=The Mellow Mushroom 1831 Rinehart Rd. Sanford FL 32771 USA;X-APPLE-RADIUS=500;X-TITLE=1831 Rinehart Rd.\, Sanford\, FL 32771 USA:geo:-81.3305077,28.8088457
END:VEVENT
BEGIN:VEVENT
DTSTART;TZID=America/New_York:20290201T190000
DTEND;TZID=America/New_York:20290201T190000
DTSTAMP:20260421T194201
CREATED:20260105T003203Z
LAST-MODIFIED:20260105T054011Z
UID:10011083-1864666800-1864666800@epictriviafl.com
SUMMARY:Music Bingo
DESCRIPTION:
URL:https://epictriviafl.com/event/music-bingo-mellow/2029-02-01/
LOCATION:The Mellow Mushroom\, 1831 Rinehart Rd.\, Sanford\, FL 32771 USA
GEO:28.8088457;-81.3305077
X-APPLE-STRUCTURED-LOCATION;VALUE=URI;X-ADDRESS=The Mellow Mushroom 1831 Rinehart Rd. Sanford FL 32771 USA;X-APPLE-RADIUS=500;X-TITLE=1831 Rinehart Rd.\, Sanford\, FL 32771 USA:geo:-81.3305077,28.8088457
END:VEVENT
BEGIN:VEVENT
DTSTART;TZID=America/New_York:20290203T183000
DTEND;TZID=America/New_York:20290203T183000
DTSTAMP:20260421T194201
CREATED:20260105T003233Z
LAST-MODIFIED:20260105T060212Z
UID:10020964-1864837800-1864837800@epictriviafl.com
SUMMARY:Mario Kart
DESCRIPTION:
URL:https://epictriviafl.com/event/mario-kart-mellow/2029-02-03/
LOCATION:The Mellow Mushroom\, 1831 Rinehart Rd.\, Sanford\, FL 32771 USA
GEO:28.8088457;-81.3305077
X-APPLE-STRUCTURED-LOCATION;VALUE=URI;X-ADDRESS=The Mellow Mushroom 1831 Rinehart Rd. Sanford FL 32771 USA;X-APPLE-RADIUS=500;X-TITLE=1831 Rinehart Rd.\, Sanford\, FL 32771 USA:geo:-81.3305077,28.8088457
END:VEVENT
END:VCALENDAR