BEGIN:VCALENDAR
VERSION:2.0
PRODID:-//Epic Trivia - ECPv6.15.18//NONSGML v1.0//EN
CALSCALE:GREGORIAN
METHOD:PUBLISH
X-WR-CALNAME:Epic Trivia
X-ORIGINAL-URL:https://epictriviafl.com
X-WR-CALDESC:Events for Epic Trivia
REFRESH-INTERVAL;VALUE=DURATION:PT1H
X-Robots-Tag:noindex
X-PUBLISHED-TTL:PT1H
BEGIN:VTIMEZONE
TZID:America/New_York
BEGIN:DAYLIGHT
TZOFFSETFROM:-0500
TZOFFSETTO:-0400
TZNAME:EDT
DTSTART:20260308T070000
END:DAYLIGHT
BEGIN:STANDARD
TZOFFSETFROM:-0400
TZOFFSETTO:-0500
TZNAME:EST
DTSTART:20261101T060000
END:STANDARD
BEGIN:DAYLIGHT
TZOFFSETFROM:-0500
TZOFFSETTO:-0400
TZNAME:EDT
DTSTART:20270314T070000
END:DAYLIGHT
BEGIN:STANDARD
TZOFFSETFROM:-0400
TZOFFSETTO:-0500
TZNAME:EST
DTSTART:20271107T060000
END:STANDARD
BEGIN:DAYLIGHT
TZOFFSETFROM:-0500
TZOFFSETTO:-0400
TZNAME:EDT
DTSTART:20280312T070000
END:DAYLIGHT
BEGIN:STANDARD
TZOFFSETFROM:-0400
TZOFFSETTO:-0500
TZNAME:EST
DTSTART:20281105T060000
END:STANDARD
BEGIN:DAYLIGHT
TZOFFSETFROM:-0500
TZOFFSETTO:-0400
TZNAME:EDT
DTSTART:20290311T070000
END:DAYLIGHT
BEGIN:STANDARD
TZOFFSETFROM:-0400
TZOFFSETTO:-0500
TZNAME:EST
DTSTART:20291104T060000
END:STANDARD
END:VTIMEZONE
BEGIN:VEVENT
DTSTART;TZID=America/New_York:20271229T190000
DTEND;TZID=America/New_York:20271229T190000
DTSTAMP:20260421T005034
CREATED:20260105T003117Z
LAST-MODIFIED:20260105T054751Z
UID:10014666-1830106800-1830106800@epictriviafl.com
SUMMARY:Trivia
DESCRIPTION:
URL:https://epictriviafl.com/event/trivia-mellow/2027-12-29/
LOCATION:The Mellow Mushroom\, 1831 Rinehart Rd.\, Sanford\, FL 32771 USA
GEO:28.8088457;-81.3305077
X-APPLE-STRUCTURED-LOCATION;VALUE=URI;X-ADDRESS=The Mellow Mushroom 1831 Rinehart Rd. Sanford FL 32771 USA;X-APPLE-RADIUS=500;X-TITLE=1831 Rinehart Rd.\, Sanford\, FL 32771 USA:geo:-81.3305077,28.8088457
END:VEVENT
BEGIN:VEVENT
DTSTART;TZID=America/New_York:20271230T190000
DTEND;TZID=America/New_York:20271230T190000
DTSTAMP:20260421T005034
CREATED:20260105T003203Z
LAST-MODIFIED:20260105T054011Z
UID:10011026-1830193200-1830193200@epictriviafl.com
SUMMARY:Music Bingo
DESCRIPTION:
URL:https://epictriviafl.com/event/music-bingo-mellow/2027-12-30/
LOCATION:The Mellow Mushroom\, 1831 Rinehart Rd.\, Sanford\, FL 32771 USA
GEO:28.8088457;-81.3305077
X-APPLE-STRUCTURED-LOCATION;VALUE=URI;X-ADDRESS=The Mellow Mushroom 1831 Rinehart Rd. Sanford FL 32771 USA;X-APPLE-RADIUS=500;X-TITLE=1831 Rinehart Rd.\, Sanford\, FL 32771 USA:geo:-81.3305077,28.8088457
END:VEVENT
BEGIN:VEVENT
DTSTART;TZID=America/New_York:20280101T183000
DTEND;TZID=America/New_York:20280101T183000
DTSTAMP:20260421T005034
CREATED:20260105T003233Z
LAST-MODIFIED:20260105T060212Z
UID:10020907-1830364200-1830364200@epictriviafl.com
SUMMARY:Mario Kart
DESCRIPTION:
URL:https://epictriviafl.com/event/mario-kart-mellow/2028-01-01/
LOCATION:The Mellow Mushroom\, 1831 Rinehart Rd.\, Sanford\, FL 32771 USA
GEO:28.8088457;-81.3305077
X-APPLE-STRUCTURED-LOCATION;VALUE=URI;X-ADDRESS=The Mellow Mushroom 1831 Rinehart Rd. Sanford FL 32771 USA;X-APPLE-RADIUS=500;X-TITLE=1831 Rinehart Rd.\, Sanford\, FL 32771 USA:geo:-81.3305077,28.8088457
END:VEVENT
BEGIN:VEVENT
DTSTART;TZID=America/New_York:20280105T190000
DTEND;TZID=America/New_York:20280105T190000
DTSTAMP:20260421T005034
CREATED:20260105T003117Z
LAST-MODIFIED:20260105T054751Z
UID:10014667-1830711600-1830711600@epictriviafl.com
SUMMARY:Trivia
DESCRIPTION:
URL:https://epictriviafl.com/event/trivia-mellow/2028-01-05/
LOCATION:The Mellow Mushroom\, 1831 Rinehart Rd.\, Sanford\, FL 32771 USA
GEO:28.8088457;-81.3305077
X-APPLE-STRUCTURED-LOCATION;VALUE=URI;X-ADDRESS=The Mellow Mushroom 1831 Rinehart Rd. Sanford FL 32771 USA;X-APPLE-RADIUS=500;X-TITLE=1831 Rinehart Rd.\, Sanford\, FL 32771 USA:geo:-81.3305077,28.8088457
END:VEVENT
BEGIN:VEVENT
DTSTART;TZID=America/New_York:20280106T190000
DTEND;TZID=America/New_York:20280106T190000
DTSTAMP:20260421T005034
CREATED:20260105T003203Z
LAST-MODIFIED:20260105T054011Z
UID:10011027-1830798000-1830798000@epictriviafl.com
SUMMARY:Music Bingo
DESCRIPTION:
URL:https://epictriviafl.com/event/music-bingo-mellow/2028-01-06/
LOCATION:The Mellow Mushroom\, 1831 Rinehart Rd.\, Sanford\, FL 32771 USA
GEO:28.8088457;-81.3305077
X-APPLE-STRUCTURED-LOCATION;VALUE=URI;X-ADDRESS=The Mellow Mushroom 1831 Rinehart Rd. Sanford FL 32771 USA;X-APPLE-RADIUS=500;X-TITLE=1831 Rinehart Rd.\, Sanford\, FL 32771 USA:geo:-81.3305077,28.8088457
END:VEVENT
BEGIN:VEVENT
DTSTART;TZID=America/New_York:20280108T183000
DTEND;TZID=America/New_York:20280108T183000
DTSTAMP:20260421T005034
CREATED:20260105T003233Z
LAST-MODIFIED:20260105T060212Z
UID:10020908-1830969000-1830969000@epictriviafl.com
SUMMARY:Mario Kart
DESCRIPTION:
URL:https://epictriviafl.com/event/mario-kart-mellow/2028-01-08/
LOCATION:The Mellow Mushroom\, 1831 Rinehart Rd.\, Sanford\, FL 32771 USA
GEO:28.8088457;-81.3305077
X-APPLE-STRUCTURED-LOCATION;VALUE=URI;X-ADDRESS=The Mellow Mushroom 1831 Rinehart Rd. Sanford FL 32771 USA;X-APPLE-RADIUS=500;X-TITLE=1831 Rinehart Rd.\, Sanford\, FL 32771 USA:geo:-81.3305077,28.8088457
END:VEVENT
BEGIN:VEVENT
DTSTART;TZID=America/New_York:20280112T190000
DTEND;TZID=America/New_York:20280112T190000
DTSTAMP:20260421T005034
CREATED:20260105T003117Z
LAST-MODIFIED:20260105T054751Z
UID:10014668-1831316400-1831316400@epictriviafl.com
SUMMARY:Trivia
DESCRIPTION:
URL:https://epictriviafl.com/event/trivia-mellow/2028-01-12/
LOCATION:The Mellow Mushroom\, 1831 Rinehart Rd.\, Sanford\, FL 32771 USA
GEO:28.8088457;-81.3305077
X-APPLE-STRUCTURED-LOCATION;VALUE=URI;X-ADDRESS=The Mellow Mushroom 1831 Rinehart Rd. Sanford FL 32771 USA;X-APPLE-RADIUS=500;X-TITLE=1831 Rinehart Rd.\, Sanford\, FL 32771 USA:geo:-81.3305077,28.8088457
END:VEVENT
BEGIN:VEVENT
DTSTART;TZID=America/New_York:20280113T190000
DTEND;TZID=America/New_York:20280113T190000
DTSTAMP:20260421T005034
CREATED:20260105T003203Z
LAST-MODIFIED:20260105T054011Z
UID:10011028-1831402800-1831402800@epictriviafl.com
SUMMARY:Music Bingo
DESCRIPTION:
URL:https://epictriviafl.com/event/music-bingo-mellow/2028-01-13/
LOCATION:The Mellow Mushroom\, 1831 Rinehart Rd.\, Sanford\, FL 32771 USA
GEO:28.8088457;-81.3305077
X-APPLE-STRUCTURED-LOCATION;VALUE=URI;X-ADDRESS=The Mellow Mushroom 1831 Rinehart Rd. Sanford FL 32771 USA;X-APPLE-RADIUS=500;X-TITLE=1831 Rinehart Rd.\, Sanford\, FL 32771 USA:geo:-81.3305077,28.8088457
END:VEVENT
BEGIN:VEVENT
DTSTART;TZID=America/New_York:20280115T183000
DTEND;TZID=America/New_York:20280115T183000
DTSTAMP:20260421T005034
CREATED:20260105T003233Z
LAST-MODIFIED:20260105T060212Z
UID:10020909-1831573800-1831573800@epictriviafl.com
SUMMARY:Mario Kart
DESCRIPTION:
URL:https://epictriviafl.com/event/mario-kart-mellow/2028-01-15/
LOCATION:The Mellow Mushroom\, 1831 Rinehart Rd.\, Sanford\, FL 32771 USA
GEO:28.8088457;-81.3305077
X-APPLE-STRUCTURED-LOCATION;VALUE=URI;X-ADDRESS=The Mellow Mushroom 1831 Rinehart Rd. Sanford FL 32771 USA;X-APPLE-RADIUS=500;X-TITLE=1831 Rinehart Rd.\, Sanford\, FL 32771 USA:geo:-81.3305077,28.8088457
END:VEVENT
BEGIN:VEVENT
DTSTART;TZID=America/New_York:20280119T190000
DTEND;TZID=America/New_York:20280119T190000
DTSTAMP:20260421T005034
CREATED:20260105T003117Z
LAST-MODIFIED:20260105T054751Z
UID:10014669-1831921200-1831921200@epictriviafl.com
SUMMARY:Trivia
DESCRIPTION:
URL:https://epictriviafl.com/event/trivia-mellow/2028-01-19/
LOCATION:The Mellow Mushroom\, 1831 Rinehart Rd.\, Sanford\, FL 32771 USA
GEO:28.8088457;-81.3305077
X-APPLE-STRUCTURED-LOCATION;VALUE=URI;X-ADDRESS=The Mellow Mushroom 1831 Rinehart Rd. Sanford FL 32771 USA;X-APPLE-RADIUS=500;X-TITLE=1831 Rinehart Rd.\, Sanford\, FL 32771 USA:geo:-81.3305077,28.8088457
END:VEVENT
BEGIN:VEVENT
DTSTART;TZID=America/New_York:20280120T190000
DTEND;TZID=America/New_York:20280120T190000
DTSTAMP:20260421T005034
CREATED:20260105T003203Z
LAST-MODIFIED:20260105T054011Z
UID:10011029-1832007600-1832007600@epictriviafl.com
SUMMARY:Music Bingo
DESCRIPTION:
URL:https://epictriviafl.com/event/music-bingo-mellow/2028-01-20/
LOCATION:The Mellow Mushroom\, 1831 Rinehart Rd.\, Sanford\, FL 32771 USA
GEO:28.8088457;-81.3305077
X-APPLE-STRUCTURED-LOCATION;VALUE=URI;X-ADDRESS=The Mellow Mushroom 1831 Rinehart Rd. Sanford FL 32771 USA;X-APPLE-RADIUS=500;X-TITLE=1831 Rinehart Rd.\, Sanford\, FL 32771 USA:geo:-81.3305077,28.8088457
END:VEVENT
BEGIN:VEVENT
DTSTART;TZID=America/New_York:20280122T183000
DTEND;TZID=America/New_York:20280122T183000
DTSTAMP:20260421T005034
CREATED:20260105T003233Z
LAST-MODIFIED:20260105T060212Z
UID:10020910-1832178600-1832178600@epictriviafl.com
SUMMARY:Mario Kart
DESCRIPTION:
URL:https://epictriviafl.com/event/mario-kart-mellow/2028-01-22/
LOCATION:The Mellow Mushroom\, 1831 Rinehart Rd.\, Sanford\, FL 32771 USA
GEO:28.8088457;-81.3305077
X-APPLE-STRUCTURED-LOCATION;VALUE=URI;X-ADDRESS=The Mellow Mushroom 1831 Rinehart Rd. Sanford FL 32771 USA;X-APPLE-RADIUS=500;X-TITLE=1831 Rinehart Rd.\, Sanford\, FL 32771 USA:geo:-81.3305077,28.8088457
END:VEVENT
BEGIN:VEVENT
DTSTART;TZID=America/New_York:20280126T190000
DTEND;TZID=America/New_York:20280126T190000
DTSTAMP:20260421T005034
CREATED:20260105T003117Z
LAST-MODIFIED:20260105T054751Z
UID:10014670-1832526000-1832526000@epictriviafl.com
SUMMARY:Trivia
DESCRIPTION:
URL:https://epictriviafl.com/event/trivia-mellow/2028-01-26/
LOCATION:The Mellow Mushroom\, 1831 Rinehart Rd.\, Sanford\, FL 32771 USA
GEO:28.8088457;-81.3305077
X-APPLE-STRUCTURED-LOCATION;VALUE=URI;X-ADDRESS=The Mellow Mushroom 1831 Rinehart Rd. Sanford FL 32771 USA;X-APPLE-RADIUS=500;X-TITLE=1831 Rinehart Rd.\, Sanford\, FL 32771 USA:geo:-81.3305077,28.8088457
END:VEVENT
BEGIN:VEVENT
DTSTART;TZID=America/New_York:20280127T190000
DTEND;TZID=America/New_York:20280127T190000
DTSTAMP:20260421T005034
CREATED:20260105T003203Z
LAST-MODIFIED:20260105T054011Z
UID:10011030-1832612400-1832612400@epictriviafl.com
SUMMARY:Music Bingo
DESCRIPTION:
URL:https://epictriviafl.com/event/music-bingo-mellow/2028-01-27/
LOCATION:The Mellow Mushroom\, 1831 Rinehart Rd.\, Sanford\, FL 32771 USA
GEO:28.8088457;-81.3305077
X-APPLE-STRUCTURED-LOCATION;VALUE=URI;X-ADDRESS=The Mellow Mushroom 1831 Rinehart Rd. Sanford FL 32771 USA;X-APPLE-RADIUS=500;X-TITLE=1831 Rinehart Rd.\, Sanford\, FL 32771 USA:geo:-81.3305077,28.8088457
END:VEVENT
BEGIN:VEVENT
DTSTART;TZID=America/New_York:20280129T183000
DTEND;TZID=America/New_York:20280129T183000
DTSTAMP:20260421T005034
CREATED:20260105T003233Z
LAST-MODIFIED:20260105T060212Z
UID:10020911-1832783400-1832783400@epictriviafl.com
SUMMARY:Mario Kart
DESCRIPTION:
URL:https://epictriviafl.com/event/mario-kart-mellow/2028-01-29/
LOCATION:The Mellow Mushroom\, 1831 Rinehart Rd.\, Sanford\, FL 32771 USA
GEO:28.8088457;-81.3305077
X-APPLE-STRUCTURED-LOCATION;VALUE=URI;X-ADDRESS=The Mellow Mushroom 1831 Rinehart Rd. Sanford FL 32771 USA;X-APPLE-RADIUS=500;X-TITLE=1831 Rinehart Rd.\, Sanford\, FL 32771 USA:geo:-81.3305077,28.8088457
END:VEVENT
BEGIN:VEVENT
DTSTART;TZID=America/New_York:20280202T190000
DTEND;TZID=America/New_York:20280202T190000
DTSTAMP:20260421T005034
CREATED:20260105T003117Z
LAST-MODIFIED:20260105T054751Z
UID:10014671-1833130800-1833130800@epictriviafl.com
SUMMARY:Trivia
DESCRIPTION:
URL:https://epictriviafl.com/event/trivia-mellow/2028-02-02/
LOCATION:The Mellow Mushroom\, 1831 Rinehart Rd.\, Sanford\, FL 32771 USA
GEO:28.8088457;-81.3305077
X-APPLE-STRUCTURED-LOCATION;VALUE=URI;X-ADDRESS=The Mellow Mushroom 1831 Rinehart Rd. Sanford FL 32771 USA;X-APPLE-RADIUS=500;X-TITLE=1831 Rinehart Rd.\, Sanford\, FL 32771 USA:geo:-81.3305077,28.8088457
END:VEVENT
BEGIN:VEVENT
DTSTART;TZID=America/New_York:20280203T190000
DTEND;TZID=America/New_York:20280203T190000
DTSTAMP:20260421T005034
CREATED:20260105T003203Z
LAST-MODIFIED:20260105T054011Z
UID:10011031-1833217200-1833217200@epictriviafl.com
SUMMARY:Music Bingo
DESCRIPTION:
URL:https://epictriviafl.com/event/music-bingo-mellow/2028-02-03/
LOCATION:The Mellow Mushroom\, 1831 Rinehart Rd.\, Sanford\, FL 32771 USA
GEO:28.8088457;-81.3305077
X-APPLE-STRUCTURED-LOCATION;VALUE=URI;X-ADDRESS=The Mellow Mushroom 1831 Rinehart Rd. Sanford FL 32771 USA;X-APPLE-RADIUS=500;X-TITLE=1831 Rinehart Rd.\, Sanford\, FL 32771 USA:geo:-81.3305077,28.8088457
END:VEVENT
BEGIN:VEVENT
DTSTART;TZID=America/New_York:20280205T183000
DTEND;TZID=America/New_York:20280205T183000
DTSTAMP:20260421T005034
CREATED:20260105T003233Z
LAST-MODIFIED:20260105T060212Z
UID:10020912-1833388200-1833388200@epictriviafl.com
SUMMARY:Mario Kart
DESCRIPTION:
URL:https://epictriviafl.com/event/mario-kart-mellow/2028-02-05/
LOCATION:The Mellow Mushroom\, 1831 Rinehart Rd.\, Sanford\, FL 32771 USA
GEO:28.8088457;-81.3305077
X-APPLE-STRUCTURED-LOCATION;VALUE=URI;X-ADDRESS=The Mellow Mushroom 1831 Rinehart Rd. Sanford FL 32771 USA;X-APPLE-RADIUS=500;X-TITLE=1831 Rinehart Rd.\, Sanford\, FL 32771 USA:geo:-81.3305077,28.8088457
END:VEVENT
BEGIN:VEVENT
DTSTART;TZID=America/New_York:20280209T190000
DTEND;TZID=America/New_York:20280209T190000
DTSTAMP:20260421T005034
CREATED:20260105T003117Z
LAST-MODIFIED:20260105T054751Z
UID:10014672-1833735600-1833735600@epictriviafl.com
SUMMARY:Trivia
DESCRIPTION:
URL:https://epictriviafl.com/event/trivia-mellow/2028-02-09/
LOCATION:The Mellow Mushroom\, 1831 Rinehart Rd.\, Sanford\, FL 32771 USA
GEO:28.8088457;-81.3305077
X-APPLE-STRUCTURED-LOCATION;VALUE=URI;X-ADDRESS=The Mellow Mushroom 1831 Rinehart Rd. Sanford FL 32771 USA;X-APPLE-RADIUS=500;X-TITLE=1831 Rinehart Rd.\, Sanford\, FL 32771 USA:geo:-81.3305077,28.8088457
END:VEVENT
BEGIN:VEVENT
DTSTART;TZID=America/New_York:20280210T190000
DTEND;TZID=America/New_York:20280210T190000
DTSTAMP:20260421T005034
CREATED:20260105T003203Z
LAST-MODIFIED:20260105T054011Z
UID:10011032-1833822000-1833822000@epictriviafl.com
SUMMARY:Music Bingo
DESCRIPTION:
URL:https://epictriviafl.com/event/music-bingo-mellow/2028-02-10/
LOCATION:The Mellow Mushroom\, 1831 Rinehart Rd.\, Sanford\, FL 32771 USA
GEO:28.8088457;-81.3305077
X-APPLE-STRUCTURED-LOCATION;VALUE=URI;X-ADDRESS=The Mellow Mushroom 1831 Rinehart Rd. Sanford FL 32771 USA;X-APPLE-RADIUS=500;X-TITLE=1831 Rinehart Rd.\, Sanford\, FL 32771 USA:geo:-81.3305077,28.8088457
END:VEVENT
BEGIN:VEVENT
DTSTART;TZID=America/New_York:20280212T183000
DTEND;TZID=America/New_York:20280212T183000
DTSTAMP:20260421T005034
CREATED:20260105T003233Z
LAST-MODIFIED:20260105T060212Z
UID:10020913-1833993000-1833993000@epictriviafl.com
SUMMARY:Mario Kart
DESCRIPTION:
URL:https://epictriviafl.com/event/mario-kart-mellow/2028-02-12/
LOCATION:The Mellow Mushroom\, 1831 Rinehart Rd.\, Sanford\, FL 32771 USA
GEO:28.8088457;-81.3305077
X-APPLE-STRUCTURED-LOCATION;VALUE=URI;X-ADDRESS=The Mellow Mushroom 1831 Rinehart Rd. Sanford FL 32771 USA;X-APPLE-RADIUS=500;X-TITLE=1831 Rinehart Rd.\, Sanford\, FL 32771 USA:geo:-81.3305077,28.8088457
END:VEVENT
BEGIN:VEVENT
DTSTART;TZID=America/New_York:20280216T190000
DTEND;TZID=America/New_York:20280216T190000
DTSTAMP:20260421T005034
CREATED:20260105T003117Z
LAST-MODIFIED:20260105T054751Z
UID:10014673-1834340400-1834340400@epictriviafl.com
SUMMARY:Trivia
DESCRIPTION:
URL:https://epictriviafl.com/event/trivia-mellow/2028-02-16/
LOCATION:The Mellow Mushroom\, 1831 Rinehart Rd.\, Sanford\, FL 32771 USA
GEO:28.8088457;-81.3305077
X-APPLE-STRUCTURED-LOCATION;VALUE=URI;X-ADDRESS=The Mellow Mushroom 1831 Rinehart Rd. Sanford FL 32771 USA;X-APPLE-RADIUS=500;X-TITLE=1831 Rinehart Rd.\, Sanford\, FL 32771 USA:geo:-81.3305077,28.8088457
END:VEVENT
BEGIN:VEVENT
DTSTART;TZID=America/New_York:20280217T190000
DTEND;TZID=America/New_York:20280217T190000
DTSTAMP:20260421T005034
CREATED:20260105T003203Z
LAST-MODIFIED:20260105T054011Z
UID:10011033-1834426800-1834426800@epictriviafl.com
SUMMARY:Music Bingo
DESCRIPTION:
URL:https://epictriviafl.com/event/music-bingo-mellow/2028-02-17/
LOCATION:The Mellow Mushroom\, 1831 Rinehart Rd.\, Sanford\, FL 32771 USA
GEO:28.8088457;-81.3305077
X-APPLE-STRUCTURED-LOCATION;VALUE=URI;X-ADDRESS=The Mellow Mushroom 1831 Rinehart Rd. Sanford FL 32771 USA;X-APPLE-RADIUS=500;X-TITLE=1831 Rinehart Rd.\, Sanford\, FL 32771 USA:geo:-81.3305077,28.8088457
END:VEVENT
BEGIN:VEVENT
DTSTART;TZID=America/New_York:20280219T183000
DTEND;TZID=America/New_York:20280219T183000
DTSTAMP:20260421T005034
CREATED:20260105T003233Z
LAST-MODIFIED:20260105T060212Z
UID:10020914-1834597800-1834597800@epictriviafl.com
SUMMARY:Mario Kart
DESCRIPTION:
URL:https://epictriviafl.com/event/mario-kart-mellow/2028-02-19/
LOCATION:The Mellow Mushroom\, 1831 Rinehart Rd.\, Sanford\, FL 32771 USA
GEO:28.8088457;-81.3305077
X-APPLE-STRUCTURED-LOCATION;VALUE=URI;X-ADDRESS=The Mellow Mushroom 1831 Rinehart Rd. Sanford FL 32771 USA;X-APPLE-RADIUS=500;X-TITLE=1831 Rinehart Rd.\, Sanford\, FL 32771 USA:geo:-81.3305077,28.8088457
END:VEVENT
BEGIN:VEVENT
DTSTART;TZID=America/New_York:20280223T190000
DTEND;TZID=America/New_York:20280223T190000
DTSTAMP:20260421T005034
CREATED:20260105T003117Z
LAST-MODIFIED:20260105T054751Z
UID:10014674-1834945200-1834945200@epictriviafl.com
SUMMARY:Trivia
DESCRIPTION:
URL:https://epictriviafl.com/event/trivia-mellow/2028-02-23/
LOCATION:The Mellow Mushroom\, 1831 Rinehart Rd.\, Sanford\, FL 32771 USA
GEO:28.8088457;-81.3305077
X-APPLE-STRUCTURED-LOCATION;VALUE=URI;X-ADDRESS=The Mellow Mushroom 1831 Rinehart Rd. Sanford FL 32771 USA;X-APPLE-RADIUS=500;X-TITLE=1831 Rinehart Rd.\, Sanford\, FL 32771 USA:geo:-81.3305077,28.8088457
END:VEVENT
BEGIN:VEVENT
DTSTART;TZID=America/New_York:20280224T190000
DTEND;TZID=America/New_York:20280224T190000
DTSTAMP:20260421T005034
CREATED:20260105T003203Z
LAST-MODIFIED:20260105T054011Z
UID:10011034-1835031600-1835031600@epictriviafl.com
SUMMARY:Music Bingo
DESCRIPTION:
URL:https://epictriviafl.com/event/music-bingo-mellow/2028-02-24/
LOCATION:The Mellow Mushroom\, 1831 Rinehart Rd.\, Sanford\, FL 32771 USA
GEO:28.8088457;-81.3305077
X-APPLE-STRUCTURED-LOCATION;VALUE=URI;X-ADDRESS=The Mellow Mushroom 1831 Rinehart Rd. Sanford FL 32771 USA;X-APPLE-RADIUS=500;X-TITLE=1831 Rinehart Rd.\, Sanford\, FL 32771 USA:geo:-81.3305077,28.8088457
END:VEVENT
BEGIN:VEVENT
DTSTART;TZID=America/New_York:20280226T183000
DTEND;TZID=America/New_York:20280226T183000
DTSTAMP:20260421T005034
CREATED:20260105T003233Z
LAST-MODIFIED:20260105T060212Z
UID:10020915-1835202600-1835202600@epictriviafl.com
SUMMARY:Mario Kart
DESCRIPTION:
URL:https://epictriviafl.com/event/mario-kart-mellow/2028-02-26/
LOCATION:The Mellow Mushroom\, 1831 Rinehart Rd.\, Sanford\, FL 32771 USA
GEO:28.8088457;-81.3305077
X-APPLE-STRUCTURED-LOCATION;VALUE=URI;X-ADDRESS=The Mellow Mushroom 1831 Rinehart Rd. Sanford FL 32771 USA;X-APPLE-RADIUS=500;X-TITLE=1831 Rinehart Rd.\, Sanford\, FL 32771 USA:geo:-81.3305077,28.8088457
END:VEVENT
BEGIN:VEVENT
DTSTART;TZID=America/New_York:20280301T190000
DTEND;TZID=America/New_York:20280301T190000
DTSTAMP:20260421T005034
CREATED:20260105T003117Z
LAST-MODIFIED:20260105T054751Z
UID:10014675-1835550000-1835550000@epictriviafl.com
SUMMARY:Trivia
DESCRIPTION:
URL:https://epictriviafl.com/event/trivia-mellow/2028-03-01/
LOCATION:The Mellow Mushroom\, 1831 Rinehart Rd.\, Sanford\, FL 32771 USA
GEO:28.8088457;-81.3305077
X-APPLE-STRUCTURED-LOCATION;VALUE=URI;X-ADDRESS=The Mellow Mushroom 1831 Rinehart Rd. Sanford FL 32771 USA;X-APPLE-RADIUS=500;X-TITLE=1831 Rinehart Rd.\, Sanford\, FL 32771 USA:geo:-81.3305077,28.8088457
END:VEVENT
BEGIN:VEVENT
DTSTART;TZID=America/New_York:20280302T190000
DTEND;TZID=America/New_York:20280302T190000
DTSTAMP:20260421T005034
CREATED:20260105T003203Z
LAST-MODIFIED:20260105T054011Z
UID:10011035-1835636400-1835636400@epictriviafl.com
SUMMARY:Music Bingo
DESCRIPTION:
URL:https://epictriviafl.com/event/music-bingo-mellow/2028-03-02/
LOCATION:The Mellow Mushroom\, 1831 Rinehart Rd.\, Sanford\, FL 32771 USA
GEO:28.8088457;-81.3305077
X-APPLE-STRUCTURED-LOCATION;VALUE=URI;X-ADDRESS=The Mellow Mushroom 1831 Rinehart Rd. Sanford FL 32771 USA;X-APPLE-RADIUS=500;X-TITLE=1831 Rinehart Rd.\, Sanford\, FL 32771 USA:geo:-81.3305077,28.8088457
END:VEVENT
BEGIN:VEVENT
DTSTART;TZID=America/New_York:20280304T183000
DTEND;TZID=America/New_York:20280304T183000
DTSTAMP:20260421T005034
CREATED:20260105T003233Z
LAST-MODIFIED:20260105T060212Z
UID:10020916-1835807400-1835807400@epictriviafl.com
SUMMARY:Mario Kart
DESCRIPTION:
URL:https://epictriviafl.com/event/mario-kart-mellow/2028-03-04/
LOCATION:The Mellow Mushroom\, 1831 Rinehart Rd.\, Sanford\, FL 32771 USA
GEO:28.8088457;-81.3305077
X-APPLE-STRUCTURED-LOCATION;VALUE=URI;X-ADDRESS=The Mellow Mushroom 1831 Rinehart Rd. Sanford FL 32771 USA;X-APPLE-RADIUS=500;X-TITLE=1831 Rinehart Rd.\, Sanford\, FL 32771 USA:geo:-81.3305077,28.8088457
END:VEVENT
END:VCALENDAR