BEGIN:VCALENDAR
VERSION:2.0
PRODID:-//Epic Trivia - ECPv6.15.18//NONSGML v1.0//EN
CALSCALE:GREGORIAN
METHOD:PUBLISH
X-WR-CALNAME:Epic Trivia
X-ORIGINAL-URL:https://epictriviafl.com
X-WR-CALDESC:Events for Epic Trivia
REFRESH-INTERVAL;VALUE=DURATION:PT1H
X-Robots-Tag:noindex
X-PUBLISHED-TTL:PT1H
BEGIN:VTIMEZONE
TZID:America/New_York
BEGIN:DAYLIGHT
TZOFFSETFROM:-0500
TZOFFSETTO:-0400
TZNAME:EDT
DTSTART:20250309T070000
END:DAYLIGHT
BEGIN:STANDARD
TZOFFSETFROM:-0400
TZOFFSETTO:-0500
TZNAME:EST
DTSTART:20251102T060000
END:STANDARD
BEGIN:DAYLIGHT
TZOFFSETFROM:-0500
TZOFFSETTO:-0400
TZNAME:EDT
DTSTART:20260308T070000
END:DAYLIGHT
BEGIN:STANDARD
TZOFFSETFROM:-0400
TZOFFSETTO:-0500
TZNAME:EST
DTSTART:20261101T060000
END:STANDARD
BEGIN:DAYLIGHT
TZOFFSETFROM:-0500
TZOFFSETTO:-0400
TZNAME:EDT
DTSTART:20270314T070000
END:DAYLIGHT
BEGIN:STANDARD
TZOFFSETFROM:-0400
TZOFFSETTO:-0500
TZNAME:EST
DTSTART:20271107T060000
END:STANDARD
END:VTIMEZONE
BEGIN:VEVENT
DTSTART;TZID=America/New_York:20260321T183000
DTEND;TZID=America/New_York:20260321T183000
DTSTAMP:20260419T174329
CREATED:20260105T003233Z
LAST-MODIFIED:20260105T060212Z
UID:10020814-1774117800-1774117800@epictriviafl.com
SUMMARY:Mario Kart
DESCRIPTION:
URL:https://epictriviafl.com/event/mario-kart-mellow/2026-03-21/
LOCATION:The Mellow Mushroom\, 1831 Rinehart Rd.\, Sanford\, FL 32771 USA
GEO:28.8088457;-81.3305077
X-APPLE-STRUCTURED-LOCATION;VALUE=URI;X-ADDRESS=The Mellow Mushroom 1831 Rinehart Rd. Sanford FL 32771 USA;X-APPLE-RADIUS=500;X-TITLE=1831 Rinehart Rd.\, Sanford\, FL 32771 USA:geo:-81.3305077,28.8088457
END:VEVENT
BEGIN:VEVENT
DTSTART;TZID=America/New_York:20260319T190000
DTEND;TZID=America/New_York:20260319T190000
DTSTAMP:20260419T174329
CREATED:20260105T003203Z
LAST-MODIFIED:20260105T054011Z
UID:10010933-1773946800-1773946800@epictriviafl.com
SUMMARY:Music Bingo
DESCRIPTION:
URL:https://epictriviafl.com/event/music-bingo-mellow/2026-03-19/
LOCATION:The Mellow Mushroom\, 1831 Rinehart Rd.\, Sanford\, FL 32771 USA
GEO:28.8088457;-81.3305077
X-APPLE-STRUCTURED-LOCATION;VALUE=URI;X-ADDRESS=The Mellow Mushroom 1831 Rinehart Rd. Sanford FL 32771 USA;X-APPLE-RADIUS=500;X-TITLE=1831 Rinehart Rd.\, Sanford\, FL 32771 USA:geo:-81.3305077,28.8088457
END:VEVENT
BEGIN:VEVENT
DTSTART;TZID=America/New_York:20260318T190000
DTEND;TZID=America/New_York:20260318T190000
DTSTAMP:20260419T174329
CREATED:20260105T003117Z
LAST-MODIFIED:20260105T054751Z
UID:10014573-1773860400-1773860400@epictriviafl.com
SUMMARY:Trivia
DESCRIPTION:
URL:https://epictriviafl.com/event/trivia-mellow/2026-03-18/
LOCATION:The Mellow Mushroom\, 1831 Rinehart Rd.\, Sanford\, FL 32771 USA
GEO:28.8088457;-81.3305077
X-APPLE-STRUCTURED-LOCATION;VALUE=URI;X-ADDRESS=The Mellow Mushroom 1831 Rinehart Rd. Sanford FL 32771 USA;X-APPLE-RADIUS=500;X-TITLE=1831 Rinehart Rd.\, Sanford\, FL 32771 USA:geo:-81.3305077,28.8088457
END:VEVENT
BEGIN:VEVENT
DTSTART;TZID=America/New_York:20260314T183000
DTEND;TZID=America/New_York:20260314T183000
DTSTAMP:20260419T174329
CREATED:20260105T003233Z
LAST-MODIFIED:20260105T060212Z
UID:10020813-1773513000-1773513000@epictriviafl.com
SUMMARY:Mario Kart
DESCRIPTION:
URL:https://epictriviafl.com/event/mario-kart-mellow/2026-03-14/
LOCATION:The Mellow Mushroom\, 1831 Rinehart Rd.\, Sanford\, FL 32771 USA
GEO:28.8088457;-81.3305077
X-APPLE-STRUCTURED-LOCATION;VALUE=URI;X-ADDRESS=The Mellow Mushroom 1831 Rinehart Rd. Sanford FL 32771 USA;X-APPLE-RADIUS=500;X-TITLE=1831 Rinehart Rd.\, Sanford\, FL 32771 USA:geo:-81.3305077,28.8088457
END:VEVENT
BEGIN:VEVENT
DTSTART;TZID=America/New_York:20260312T190000
DTEND;TZID=America/New_York:20260312T190000
DTSTAMP:20260419T174329
CREATED:20260105T003203Z
LAST-MODIFIED:20260105T054011Z
UID:10010932-1773342000-1773342000@epictriviafl.com
SUMMARY:Music Bingo
DESCRIPTION:
URL:https://epictriviafl.com/event/music-bingo-mellow/2026-03-12/
LOCATION:The Mellow Mushroom\, 1831 Rinehart Rd.\, Sanford\, FL 32771 USA
GEO:28.8088457;-81.3305077
X-APPLE-STRUCTURED-LOCATION;VALUE=URI;X-ADDRESS=The Mellow Mushroom 1831 Rinehart Rd. Sanford FL 32771 USA;X-APPLE-RADIUS=500;X-TITLE=1831 Rinehart Rd.\, Sanford\, FL 32771 USA:geo:-81.3305077,28.8088457
END:VEVENT
BEGIN:VEVENT
DTSTART;TZID=America/New_York:20260311T190000
DTEND;TZID=America/New_York:20260311T190000
DTSTAMP:20260419T174329
CREATED:20260105T003117Z
LAST-MODIFIED:20260105T054751Z
UID:10014572-1773255600-1773255600@epictriviafl.com
SUMMARY:Trivia
DESCRIPTION:
URL:https://epictriviafl.com/event/trivia-mellow/2026-03-11/
LOCATION:The Mellow Mushroom\, 1831 Rinehart Rd.\, Sanford\, FL 32771 USA
GEO:28.8088457;-81.3305077
X-APPLE-STRUCTURED-LOCATION;VALUE=URI;X-ADDRESS=The Mellow Mushroom 1831 Rinehart Rd. Sanford FL 32771 USA;X-APPLE-RADIUS=500;X-TITLE=1831 Rinehart Rd.\, Sanford\, FL 32771 USA:geo:-81.3305077,28.8088457
END:VEVENT
BEGIN:VEVENT
DTSTART;TZID=America/New_York:20260307T183000
DTEND;TZID=America/New_York:20260307T183000
DTSTAMP:20260419T174329
CREATED:20260105T003233Z
LAST-MODIFIED:20260105T060212Z
UID:10020812-1772908200-1772908200@epictriviafl.com
SUMMARY:Mario Kart
DESCRIPTION:
URL:https://epictriviafl.com/event/mario-kart-mellow/2026-03-07/
LOCATION:The Mellow Mushroom\, 1831 Rinehart Rd.\, Sanford\, FL 32771 USA
GEO:28.8088457;-81.3305077
X-APPLE-STRUCTURED-LOCATION;VALUE=URI;X-ADDRESS=The Mellow Mushroom 1831 Rinehart Rd. Sanford FL 32771 USA;X-APPLE-RADIUS=500;X-TITLE=1831 Rinehart Rd.\, Sanford\, FL 32771 USA:geo:-81.3305077,28.8088457
END:VEVENT
BEGIN:VEVENT
DTSTART;TZID=America/New_York:20260305T190000
DTEND;TZID=America/New_York:20260305T190000
DTSTAMP:20260419T174329
CREATED:20260105T003203Z
LAST-MODIFIED:20260105T054011Z
UID:10010931-1772737200-1772737200@epictriviafl.com
SUMMARY:Music Bingo
DESCRIPTION:
URL:https://epictriviafl.com/event/music-bingo-mellow/2026-03-05/
LOCATION:The Mellow Mushroom\, 1831 Rinehart Rd.\, Sanford\, FL 32771 USA
GEO:28.8088457;-81.3305077
X-APPLE-STRUCTURED-LOCATION;VALUE=URI;X-ADDRESS=The Mellow Mushroom 1831 Rinehart Rd. Sanford FL 32771 USA;X-APPLE-RADIUS=500;X-TITLE=1831 Rinehart Rd.\, Sanford\, FL 32771 USA:geo:-81.3305077,28.8088457
END:VEVENT
BEGIN:VEVENT
DTSTART;TZID=America/New_York:20260304T190000
DTEND;TZID=America/New_York:20260304T190000
DTSTAMP:20260419T174329
CREATED:20260105T003117Z
LAST-MODIFIED:20260105T054751Z
UID:10014571-1772650800-1772650800@epictriviafl.com
SUMMARY:Trivia
DESCRIPTION:
URL:https://epictriviafl.com/event/trivia-mellow/2026-03-04/
LOCATION:The Mellow Mushroom\, 1831 Rinehart Rd.\, Sanford\, FL 32771 USA
GEO:28.8088457;-81.3305077
X-APPLE-STRUCTURED-LOCATION;VALUE=URI;X-ADDRESS=The Mellow Mushroom 1831 Rinehart Rd. Sanford FL 32771 USA;X-APPLE-RADIUS=500;X-TITLE=1831 Rinehart Rd.\, Sanford\, FL 32771 USA:geo:-81.3305077,28.8088457
END:VEVENT
BEGIN:VEVENT
DTSTART;TZID=America/New_York:20260228T183000
DTEND;TZID=America/New_York:20260228T183000
DTSTAMP:20260419T174329
CREATED:20260105T003233Z
LAST-MODIFIED:20260105T060212Z
UID:10020811-1772303400-1772303400@epictriviafl.com
SUMMARY:Mario Kart
DESCRIPTION:
URL:https://epictriviafl.com/event/mario-kart-mellow/2026-02-28/
LOCATION:The Mellow Mushroom\, 1831 Rinehart Rd.\, Sanford\, FL 32771 USA
GEO:28.8088457;-81.3305077
X-APPLE-STRUCTURED-LOCATION;VALUE=URI;X-ADDRESS=The Mellow Mushroom 1831 Rinehart Rd. Sanford FL 32771 USA;X-APPLE-RADIUS=500;X-TITLE=1831 Rinehart Rd.\, Sanford\, FL 32771 USA:geo:-81.3305077,28.8088457
END:VEVENT
BEGIN:VEVENT
DTSTART;TZID=America/New_York:20260226T190000
DTEND;TZID=America/New_York:20260226T190000
DTSTAMP:20260419T174329
CREATED:20260105T003203Z
LAST-MODIFIED:20260105T054011Z
UID:10010930-1772132400-1772132400@epictriviafl.com
SUMMARY:Music Bingo
DESCRIPTION:
URL:https://epictriviafl.com/event/music-bingo-mellow/2026-02-26/
LOCATION:The Mellow Mushroom\, 1831 Rinehart Rd.\, Sanford\, FL 32771 USA
GEO:28.8088457;-81.3305077
X-APPLE-STRUCTURED-LOCATION;VALUE=URI;X-ADDRESS=The Mellow Mushroom 1831 Rinehart Rd. Sanford FL 32771 USA;X-APPLE-RADIUS=500;X-TITLE=1831 Rinehart Rd.\, Sanford\, FL 32771 USA:geo:-81.3305077,28.8088457
END:VEVENT
BEGIN:VEVENT
DTSTART;TZID=America/New_York:20260225T190000
DTEND;TZID=America/New_York:20260225T190000
DTSTAMP:20260419T174329
CREATED:20260105T003117Z
LAST-MODIFIED:20260105T054751Z
UID:10014570-1772046000-1772046000@epictriviafl.com
SUMMARY:Trivia
DESCRIPTION:
URL:https://epictriviafl.com/event/trivia-mellow/2026-02-25/
LOCATION:The Mellow Mushroom\, 1831 Rinehart Rd.\, Sanford\, FL 32771 USA
GEO:28.8088457;-81.3305077
X-APPLE-STRUCTURED-LOCATION;VALUE=URI;X-ADDRESS=The Mellow Mushroom 1831 Rinehart Rd. Sanford FL 32771 USA;X-APPLE-RADIUS=500;X-TITLE=1831 Rinehart Rd.\, Sanford\, FL 32771 USA:geo:-81.3305077,28.8088457
END:VEVENT
BEGIN:VEVENT
DTSTART;TZID=America/New_York:20260221T183000
DTEND;TZID=America/New_York:20260221T183000
DTSTAMP:20260419T174329
CREATED:20260105T003233Z
LAST-MODIFIED:20260105T060212Z
UID:10020810-1771698600-1771698600@epictriviafl.com
SUMMARY:Mario Kart
DESCRIPTION:
URL:https://epictriviafl.com/event/mario-kart-mellow/2026-02-21/
LOCATION:The Mellow Mushroom\, 1831 Rinehart Rd.\, Sanford\, FL 32771 USA
GEO:28.8088457;-81.3305077
X-APPLE-STRUCTURED-LOCATION;VALUE=URI;X-ADDRESS=The Mellow Mushroom 1831 Rinehart Rd. Sanford FL 32771 USA;X-APPLE-RADIUS=500;X-TITLE=1831 Rinehart Rd.\, Sanford\, FL 32771 USA:geo:-81.3305077,28.8088457
END:VEVENT
BEGIN:VEVENT
DTSTART;TZID=America/New_York:20260219T190000
DTEND;TZID=America/New_York:20260219T190000
DTSTAMP:20260419T174329
CREATED:20260105T003203Z
LAST-MODIFIED:20260105T054011Z
UID:10010929-1771527600-1771527600@epictriviafl.com
SUMMARY:Music Bingo
DESCRIPTION:
URL:https://epictriviafl.com/event/music-bingo-mellow/2026-02-19/
LOCATION:The Mellow Mushroom\, 1831 Rinehart Rd.\, Sanford\, FL 32771 USA
GEO:28.8088457;-81.3305077
X-APPLE-STRUCTURED-LOCATION;VALUE=URI;X-ADDRESS=The Mellow Mushroom 1831 Rinehart Rd. Sanford FL 32771 USA;X-APPLE-RADIUS=500;X-TITLE=1831 Rinehart Rd.\, Sanford\, FL 32771 USA:geo:-81.3305077,28.8088457
END:VEVENT
BEGIN:VEVENT
DTSTART;TZID=America/New_York:20260218T190000
DTEND;TZID=America/New_York:20260218T190000
DTSTAMP:20260419T174329
CREATED:20260105T003117Z
LAST-MODIFIED:20260105T054751Z
UID:10014569-1771441200-1771441200@epictriviafl.com
SUMMARY:Trivia
DESCRIPTION:
URL:https://epictriviafl.com/event/trivia-mellow/2026-02-18/
LOCATION:The Mellow Mushroom\, 1831 Rinehart Rd.\, Sanford\, FL 32771 USA
GEO:28.8088457;-81.3305077
X-APPLE-STRUCTURED-LOCATION;VALUE=URI;X-ADDRESS=The Mellow Mushroom 1831 Rinehart Rd. Sanford FL 32771 USA;X-APPLE-RADIUS=500;X-TITLE=1831 Rinehart Rd.\, Sanford\, FL 32771 USA:geo:-81.3305077,28.8088457
END:VEVENT
BEGIN:VEVENT
DTSTART;TZID=America/New_York:20260214T183000
DTEND;TZID=America/New_York:20260214T183000
DTSTAMP:20260419T174329
CREATED:20260105T003233Z
LAST-MODIFIED:20260105T060212Z
UID:10020809-1771093800-1771093800@epictriviafl.com
SUMMARY:Mario Kart
DESCRIPTION:
URL:https://epictriviafl.com/event/mario-kart-mellow/2026-02-14/
LOCATION:The Mellow Mushroom\, 1831 Rinehart Rd.\, Sanford\, FL 32771 USA
GEO:28.8088457;-81.3305077
X-APPLE-STRUCTURED-LOCATION;VALUE=URI;X-ADDRESS=The Mellow Mushroom 1831 Rinehart Rd. Sanford FL 32771 USA;X-APPLE-RADIUS=500;X-TITLE=1831 Rinehart Rd.\, Sanford\, FL 32771 USA:geo:-81.3305077,28.8088457
END:VEVENT
BEGIN:VEVENT
DTSTART;TZID=America/New_York:20260212T190000
DTEND;TZID=America/New_York:20260212T190000
DTSTAMP:20260419T174329
CREATED:20260105T003203Z
LAST-MODIFIED:20260105T054011Z
UID:10010928-1770922800-1770922800@epictriviafl.com
SUMMARY:Music Bingo
DESCRIPTION:
URL:https://epictriviafl.com/event/music-bingo-mellow/2026-02-12/
LOCATION:The Mellow Mushroom\, 1831 Rinehart Rd.\, Sanford\, FL 32771 USA
GEO:28.8088457;-81.3305077
X-APPLE-STRUCTURED-LOCATION;VALUE=URI;X-ADDRESS=The Mellow Mushroom 1831 Rinehart Rd. Sanford FL 32771 USA;X-APPLE-RADIUS=500;X-TITLE=1831 Rinehart Rd.\, Sanford\, FL 32771 USA:geo:-81.3305077,28.8088457
END:VEVENT
BEGIN:VEVENT
DTSTART;TZID=America/New_York:20260211T190000
DTEND;TZID=America/New_York:20260211T190000
DTSTAMP:20260419T174329
CREATED:20260105T003117Z
LAST-MODIFIED:20260105T054751Z
UID:10014568-1770836400-1770836400@epictriviafl.com
SUMMARY:Trivia
DESCRIPTION:
URL:https://epictriviafl.com/event/trivia-mellow/2026-02-11/
LOCATION:The Mellow Mushroom\, 1831 Rinehart Rd.\, Sanford\, FL 32771 USA
GEO:28.8088457;-81.3305077
X-APPLE-STRUCTURED-LOCATION;VALUE=URI;X-ADDRESS=The Mellow Mushroom 1831 Rinehart Rd. Sanford FL 32771 USA;X-APPLE-RADIUS=500;X-TITLE=1831 Rinehart Rd.\, Sanford\, FL 32771 USA:geo:-81.3305077,28.8088457
END:VEVENT
BEGIN:VEVENT
DTSTART;TZID=America/New_York:20260207T183000
DTEND;TZID=America/New_York:20260207T183000
DTSTAMP:20260419T174330
CREATED:20260105T003233Z
LAST-MODIFIED:20260105T060212Z
UID:10020808-1770489000-1770489000@epictriviafl.com
SUMMARY:Mario Kart
DESCRIPTION:
URL:https://epictriviafl.com/event/mario-kart-mellow/2026-02-07/
LOCATION:The Mellow Mushroom\, 1831 Rinehart Rd.\, Sanford\, FL 32771 USA
GEO:28.8088457;-81.3305077
X-APPLE-STRUCTURED-LOCATION;VALUE=URI;X-ADDRESS=The Mellow Mushroom 1831 Rinehart Rd. Sanford FL 32771 USA;X-APPLE-RADIUS=500;X-TITLE=1831 Rinehart Rd.\, Sanford\, FL 32771 USA:geo:-81.3305077,28.8088457
END:VEVENT
BEGIN:VEVENT
DTSTART;TZID=America/New_York:20260205T190000
DTEND;TZID=America/New_York:20260205T190000
DTSTAMP:20260419T174330
CREATED:20260105T003203Z
LAST-MODIFIED:20260105T054011Z
UID:10010927-1770318000-1770318000@epictriviafl.com
SUMMARY:Music Bingo
DESCRIPTION:
URL:https://epictriviafl.com/event/music-bingo-mellow/2026-02-05/
LOCATION:The Mellow Mushroom\, 1831 Rinehart Rd.\, Sanford\, FL 32771 USA
GEO:28.8088457;-81.3305077
X-APPLE-STRUCTURED-LOCATION;VALUE=URI;X-ADDRESS=The Mellow Mushroom 1831 Rinehart Rd. Sanford FL 32771 USA;X-APPLE-RADIUS=500;X-TITLE=1831 Rinehart Rd.\, Sanford\, FL 32771 USA:geo:-81.3305077,28.8088457
END:VEVENT
BEGIN:VEVENT
DTSTART;TZID=America/New_York:20260204T190000
DTEND;TZID=America/New_York:20260204T190000
DTSTAMP:20260419T174330
CREATED:20260105T003117Z
LAST-MODIFIED:20260105T054751Z
UID:10014567-1770231600-1770231600@epictriviafl.com
SUMMARY:Trivia
DESCRIPTION:
URL:https://epictriviafl.com/event/trivia-mellow/2026-02-04/
LOCATION:The Mellow Mushroom\, 1831 Rinehart Rd.\, Sanford\, FL 32771 USA
GEO:28.8088457;-81.3305077
X-APPLE-STRUCTURED-LOCATION;VALUE=URI;X-ADDRESS=The Mellow Mushroom 1831 Rinehart Rd. Sanford FL 32771 USA;X-APPLE-RADIUS=500;X-TITLE=1831 Rinehart Rd.\, Sanford\, FL 32771 USA:geo:-81.3305077,28.8088457
END:VEVENT
BEGIN:VEVENT
DTSTART;TZID=America/New_York:20260131T183000
DTEND;TZID=America/New_York:20260131T183000
DTSTAMP:20260419T174330
CREATED:20260105T003233Z
LAST-MODIFIED:20260105T060212Z
UID:10020807-1769884200-1769884200@epictriviafl.com
SUMMARY:Mario Kart
DESCRIPTION:
URL:https://epictriviafl.com/event/mario-kart-mellow/2026-01-31/
LOCATION:The Mellow Mushroom\, 1831 Rinehart Rd.\, Sanford\, FL 32771 USA
GEO:28.8088457;-81.3305077
X-APPLE-STRUCTURED-LOCATION;VALUE=URI;X-ADDRESS=The Mellow Mushroom 1831 Rinehart Rd. Sanford FL 32771 USA;X-APPLE-RADIUS=500;X-TITLE=1831 Rinehart Rd.\, Sanford\, FL 32771 USA:geo:-81.3305077,28.8088457
END:VEVENT
BEGIN:VEVENT
DTSTART;TZID=America/New_York:20260129T190000
DTEND;TZID=America/New_York:20260129T190000
DTSTAMP:20260419T174330
CREATED:20260105T003203Z
LAST-MODIFIED:20260105T054011Z
UID:10010926-1769713200-1769713200@epictriviafl.com
SUMMARY:Music Bingo
DESCRIPTION:
URL:https://epictriviafl.com/event/music-bingo-mellow/2026-01-29/
LOCATION:The Mellow Mushroom\, 1831 Rinehart Rd.\, Sanford\, FL 32771 USA
GEO:28.8088457;-81.3305077
X-APPLE-STRUCTURED-LOCATION;VALUE=URI;X-ADDRESS=The Mellow Mushroom 1831 Rinehart Rd. Sanford FL 32771 USA;X-APPLE-RADIUS=500;X-TITLE=1831 Rinehart Rd.\, Sanford\, FL 32771 USA:geo:-81.3305077,28.8088457
END:VEVENT
BEGIN:VEVENT
DTSTART;TZID=America/New_York:20260128T190000
DTEND;TZID=America/New_York:20260128T190000
DTSTAMP:20260419T174330
CREATED:20260105T003117Z
LAST-MODIFIED:20260105T054751Z
UID:10014566-1769626800-1769626800@epictriviafl.com
SUMMARY:Trivia
DESCRIPTION:
URL:https://epictriviafl.com/event/trivia-mellow/2026-01-28/
LOCATION:The Mellow Mushroom\, 1831 Rinehart Rd.\, Sanford\, FL 32771 USA
GEO:28.8088457;-81.3305077
X-APPLE-STRUCTURED-LOCATION;VALUE=URI;X-ADDRESS=The Mellow Mushroom 1831 Rinehart Rd. Sanford FL 32771 USA;X-APPLE-RADIUS=500;X-TITLE=1831 Rinehart Rd.\, Sanford\, FL 32771 USA:geo:-81.3305077,28.8088457
END:VEVENT
BEGIN:VEVENT
DTSTART;TZID=America/New_York:20260124T183000
DTEND;TZID=America/New_York:20260124T183000
DTSTAMP:20260419T174330
CREATED:20260105T003233Z
LAST-MODIFIED:20260105T060212Z
UID:10020806-1769279400-1769279400@epictriviafl.com
SUMMARY:Mario Kart
DESCRIPTION:
URL:https://epictriviafl.com/event/mario-kart-mellow/2026-01-24/
LOCATION:The Mellow Mushroom\, 1831 Rinehart Rd.\, Sanford\, FL 32771 USA
GEO:28.8088457;-81.3305077
X-APPLE-STRUCTURED-LOCATION;VALUE=URI;X-ADDRESS=The Mellow Mushroom 1831 Rinehart Rd. Sanford FL 32771 USA;X-APPLE-RADIUS=500;X-TITLE=1831 Rinehart Rd.\, Sanford\, FL 32771 USA:geo:-81.3305077,28.8088457
END:VEVENT
BEGIN:VEVENT
DTSTART;TZID=America/New_York:20260122T190000
DTEND;TZID=America/New_York:20260122T190000
DTSTAMP:20260419T174330
CREATED:20260105T003203Z
LAST-MODIFIED:20260105T054011Z
UID:10010925-1769108400-1769108400@epictriviafl.com
SUMMARY:Music Bingo
DESCRIPTION:
URL:https://epictriviafl.com/event/music-bingo-mellow/2026-01-22/
LOCATION:The Mellow Mushroom\, 1831 Rinehart Rd.\, Sanford\, FL 32771 USA
GEO:28.8088457;-81.3305077
X-APPLE-STRUCTURED-LOCATION;VALUE=URI;X-ADDRESS=The Mellow Mushroom 1831 Rinehart Rd. Sanford FL 32771 USA;X-APPLE-RADIUS=500;X-TITLE=1831 Rinehart Rd.\, Sanford\, FL 32771 USA:geo:-81.3305077,28.8088457
END:VEVENT
BEGIN:VEVENT
DTSTART;TZID=America/New_York:20260121T190000
DTEND;TZID=America/New_York:20260121T190000
DTSTAMP:20260419T174330
CREATED:20260105T003117Z
LAST-MODIFIED:20260105T054751Z
UID:10014565-1769022000-1769022000@epictriviafl.com
SUMMARY:Trivia
DESCRIPTION:
URL:https://epictriviafl.com/event/trivia-mellow/2026-01-21/
LOCATION:The Mellow Mushroom\, 1831 Rinehart Rd.\, Sanford\, FL 32771 USA
GEO:28.8088457;-81.3305077
X-APPLE-STRUCTURED-LOCATION;VALUE=URI;X-ADDRESS=The Mellow Mushroom 1831 Rinehart Rd. Sanford FL 32771 USA;X-APPLE-RADIUS=500;X-TITLE=1831 Rinehart Rd.\, Sanford\, FL 32771 USA:geo:-81.3305077,28.8088457
END:VEVENT
BEGIN:VEVENT
DTSTART;TZID=America/New_York:20260117T183000
DTEND;TZID=America/New_York:20260117T183000
DTSTAMP:20260419T174330
CREATED:20260105T003233Z
LAST-MODIFIED:20260105T060212Z
UID:10020805-1768674600-1768674600@epictriviafl.com
SUMMARY:Mario Kart
DESCRIPTION:
URL:https://epictriviafl.com/event/mario-kart-mellow/2026-01-17/
LOCATION:The Mellow Mushroom\, 1831 Rinehart Rd.\, Sanford\, FL 32771 USA
GEO:28.8088457;-81.3305077
X-APPLE-STRUCTURED-LOCATION;VALUE=URI;X-ADDRESS=The Mellow Mushroom 1831 Rinehart Rd. Sanford FL 32771 USA;X-APPLE-RADIUS=500;X-TITLE=1831 Rinehart Rd.\, Sanford\, FL 32771 USA:geo:-81.3305077,28.8088457
END:VEVENT
BEGIN:VEVENT
DTSTART;TZID=America/New_York:20260115T190000
DTEND;TZID=America/New_York:20260115T190000
DTSTAMP:20260419T174330
CREATED:20260105T003203Z
LAST-MODIFIED:20260105T054011Z
UID:10010924-1768503600-1768503600@epictriviafl.com
SUMMARY:Music Bingo
DESCRIPTION:
URL:https://epictriviafl.com/event/music-bingo-mellow/2026-01-15/
LOCATION:The Mellow Mushroom\, 1831 Rinehart Rd.\, Sanford\, FL 32771 USA
GEO:28.8088457;-81.3305077
X-APPLE-STRUCTURED-LOCATION;VALUE=URI;X-ADDRESS=The Mellow Mushroom 1831 Rinehart Rd. Sanford FL 32771 USA;X-APPLE-RADIUS=500;X-TITLE=1831 Rinehart Rd.\, Sanford\, FL 32771 USA:geo:-81.3305077,28.8088457
END:VEVENT
BEGIN:VEVENT
DTSTART;TZID=America/New_York:20260114T190000
DTEND;TZID=America/New_York:20260114T190000
DTSTAMP:20260419T174330
CREATED:20260105T003117Z
LAST-MODIFIED:20260105T054751Z
UID:10014564-1768417200-1768417200@epictriviafl.com
SUMMARY:Trivia
DESCRIPTION:
URL:https://epictriviafl.com/event/trivia-mellow/2026-01-14/
LOCATION:The Mellow Mushroom\, 1831 Rinehart Rd.\, Sanford\, FL 32771 USA
GEO:28.8088457;-81.3305077
X-APPLE-STRUCTURED-LOCATION;VALUE=URI;X-ADDRESS=The Mellow Mushroom 1831 Rinehart Rd. Sanford FL 32771 USA;X-APPLE-RADIUS=500;X-TITLE=1831 Rinehart Rd.\, Sanford\, FL 32771 USA:geo:-81.3305077,28.8088457
END:VEVENT
END:VCALENDAR