BEGIN:VCALENDAR
VERSION:2.0
PRODID:-//Epic Trivia - ECPv6.15.18//NONSGML v1.0//EN
CALSCALE:GREGORIAN
METHOD:PUBLISH
X-ORIGINAL-URL:https://epictriviafl.com
X-WR-CALDESC:Events for Epic Trivia
REFRESH-INTERVAL;VALUE=DURATION:PT1H
X-Robots-Tag:noindex
X-PUBLISHED-TTL:PT1H
BEGIN:VTIMEZONE
TZID:America/New_York
BEGIN:DAYLIGHT
TZOFFSETFROM:-0500
TZOFFSETTO:-0400
TZNAME:EDT
DTSTART:20260308T070000
END:DAYLIGHT
BEGIN:STANDARD
TZOFFSETFROM:-0400
TZOFFSETTO:-0500
TZNAME:EST
DTSTART:20261101T060000
END:STANDARD
BEGIN:DAYLIGHT
TZOFFSETFROM:-0500
TZOFFSETTO:-0400
TZNAME:EDT
DTSTART:20270314T070000
END:DAYLIGHT
BEGIN:STANDARD
TZOFFSETFROM:-0400
TZOFFSETTO:-0500
TZNAME:EST
DTSTART:20271107T060000
END:STANDARD
BEGIN:DAYLIGHT
TZOFFSETFROM:-0500
TZOFFSETTO:-0400
TZNAME:EDT
DTSTART:20280312T070000
END:DAYLIGHT
BEGIN:STANDARD
TZOFFSETFROM:-0400
TZOFFSETTO:-0500
TZNAME:EST
DTSTART:20281105T060000
END:STANDARD
END:VTIMEZONE
BEGIN:VEVENT
DTSTART;TZID=America/New_York:20270519T190000
DTEND;TZID=America/New_York:20270519T190000
DTSTAMP:20260420T112401
CREATED:20260105T003117Z
LAST-MODIFIED:20260105T054751Z
UID:10014634-1810753200-1810753200@epictriviafl.com
SUMMARY:Trivia
DESCRIPTION:
URL:https://epictriviafl.com/event/trivia-mellow/2027-05-19/
LOCATION:The Mellow Mushroom\, 1831 Rinehart Rd.\, Sanford\, FL 32771 USA
GEO:28.8088457;-81.3305077
X-APPLE-STRUCTURED-LOCATION;VALUE=URI;X-ADDRESS=The Mellow Mushroom 1831 Rinehart Rd. Sanford FL 32771 USA;X-APPLE-RADIUS=500;X-TITLE=1831 Rinehart Rd.\, Sanford\, FL 32771 USA:geo:-81.3305077,28.8088457
END:VEVENT
BEGIN:VEVENT
DTSTART;TZID=America/New_York:20270520T190000
DTEND;TZID=America/New_York:20270520T190000
DTSTAMP:20260420T112401
CREATED:20260105T003203Z
LAST-MODIFIED:20260105T054011Z
UID:10010994-1810839600-1810839600@epictriviafl.com
SUMMARY:Music Bingo
DESCRIPTION:
URL:https://epictriviafl.com/event/music-bingo-mellow/2027-05-20/
LOCATION:The Mellow Mushroom\, 1831 Rinehart Rd.\, Sanford\, FL 32771 USA
GEO:28.8088457;-81.3305077
X-APPLE-STRUCTURED-LOCATION;VALUE=URI;X-ADDRESS=The Mellow Mushroom 1831 Rinehart Rd. Sanford FL 32771 USA;X-APPLE-RADIUS=500;X-TITLE=1831 Rinehart Rd.\, Sanford\, FL 32771 USA:geo:-81.3305077,28.8088457
END:VEVENT
BEGIN:VEVENT
DTSTART;TZID=America/New_York:20270522T183000
DTEND;TZID=America/New_York:20270522T183000
DTSTAMP:20260420T112401
CREATED:20260105T003233Z
LAST-MODIFIED:20260105T060212Z
UID:10020875-1811010600-1811010600@epictriviafl.com
SUMMARY:Mario Kart
DESCRIPTION:
URL:https://epictriviafl.com/event/mario-kart-mellow/2027-05-22/
LOCATION:The Mellow Mushroom\, 1831 Rinehart Rd.\, Sanford\, FL 32771 USA
GEO:28.8088457;-81.3305077
X-APPLE-STRUCTURED-LOCATION;VALUE=URI;X-ADDRESS=The Mellow Mushroom 1831 Rinehart Rd. Sanford FL 32771 USA;X-APPLE-RADIUS=500;X-TITLE=1831 Rinehart Rd.\, Sanford\, FL 32771 USA:geo:-81.3305077,28.8088457
END:VEVENT
BEGIN:VEVENT
DTSTART;TZID=America/New_York:20270526T190000
DTEND;TZID=America/New_York:20270526T190000
DTSTAMP:20260420T112401
CREATED:20260105T003117Z
LAST-MODIFIED:20260105T054751Z
UID:10014635-1811358000-1811358000@epictriviafl.com
SUMMARY:Trivia
DESCRIPTION:
URL:https://epictriviafl.com/event/trivia-mellow/2027-05-26/
LOCATION:The Mellow Mushroom\, 1831 Rinehart Rd.\, Sanford\, FL 32771 USA
GEO:28.8088457;-81.3305077
X-APPLE-STRUCTURED-LOCATION;VALUE=URI;X-ADDRESS=The Mellow Mushroom 1831 Rinehart Rd. Sanford FL 32771 USA;X-APPLE-RADIUS=500;X-TITLE=1831 Rinehart Rd.\, Sanford\, FL 32771 USA:geo:-81.3305077,28.8088457
END:VEVENT
BEGIN:VEVENT
DTSTART;TZID=America/New_York:20270527T190000
DTEND;TZID=America/New_York:20270527T190000
DTSTAMP:20260420T112401
CREATED:20260105T003203Z
LAST-MODIFIED:20260105T054011Z
UID:10010995-1811444400-1811444400@epictriviafl.com
SUMMARY:Music Bingo
DESCRIPTION:
URL:https://epictriviafl.com/event/music-bingo-mellow/2027-05-27/
LOCATION:The Mellow Mushroom\, 1831 Rinehart Rd.\, Sanford\, FL 32771 USA
GEO:28.8088457;-81.3305077
X-APPLE-STRUCTURED-LOCATION;VALUE=URI;X-ADDRESS=The Mellow Mushroom 1831 Rinehart Rd. Sanford FL 32771 USA;X-APPLE-RADIUS=500;X-TITLE=1831 Rinehart Rd.\, Sanford\, FL 32771 USA:geo:-81.3305077,28.8088457
END:VEVENT
BEGIN:VEVENT
DTSTART;TZID=America/New_York:20270529T183000
DTEND;TZID=America/New_York:20270529T183000
DTSTAMP:20260420T112401
CREATED:20260105T003233Z
LAST-MODIFIED:20260105T060212Z
UID:10020876-1811615400-1811615400@epictriviafl.com
SUMMARY:Mario Kart
DESCRIPTION:
URL:https://epictriviafl.com/event/mario-kart-mellow/2027-05-29/
LOCATION:The Mellow Mushroom\, 1831 Rinehart Rd.\, Sanford\, FL 32771 USA
GEO:28.8088457;-81.3305077
X-APPLE-STRUCTURED-LOCATION;VALUE=URI;X-ADDRESS=The Mellow Mushroom 1831 Rinehart Rd. Sanford FL 32771 USA;X-APPLE-RADIUS=500;X-TITLE=1831 Rinehart Rd.\, Sanford\, FL 32771 USA:geo:-81.3305077,28.8088457
END:VEVENT
BEGIN:VEVENT
DTSTART;TZID=America/New_York:20270602T190000
DTEND;TZID=America/New_York:20270602T190000
DTSTAMP:20260420T112401
CREATED:20260105T003117Z
LAST-MODIFIED:20260105T054751Z
UID:10014636-1811962800-1811962800@epictriviafl.com
SUMMARY:Trivia
DESCRIPTION:
URL:https://epictriviafl.com/event/trivia-mellow/2027-06-02/
LOCATION:The Mellow Mushroom\, 1831 Rinehart Rd.\, Sanford\, FL 32771 USA
GEO:28.8088457;-81.3305077
X-APPLE-STRUCTURED-LOCATION;VALUE=URI;X-ADDRESS=The Mellow Mushroom 1831 Rinehart Rd. Sanford FL 32771 USA;X-APPLE-RADIUS=500;X-TITLE=1831 Rinehart Rd.\, Sanford\, FL 32771 USA:geo:-81.3305077,28.8088457
END:VEVENT
BEGIN:VEVENT
DTSTART;TZID=America/New_York:20270603T190000
DTEND;TZID=America/New_York:20270603T190000
DTSTAMP:20260420T112401
CREATED:20260105T003203Z
LAST-MODIFIED:20260105T054011Z
UID:10010996-1812049200-1812049200@epictriviafl.com
SUMMARY:Music Bingo
DESCRIPTION:
URL:https://epictriviafl.com/event/music-bingo-mellow/2027-06-03/
LOCATION:The Mellow Mushroom\, 1831 Rinehart Rd.\, Sanford\, FL 32771 USA
GEO:28.8088457;-81.3305077
X-APPLE-STRUCTURED-LOCATION;VALUE=URI;X-ADDRESS=The Mellow Mushroom 1831 Rinehart Rd. Sanford FL 32771 USA;X-APPLE-RADIUS=500;X-TITLE=1831 Rinehart Rd.\, Sanford\, FL 32771 USA:geo:-81.3305077,28.8088457
END:VEVENT
BEGIN:VEVENT
DTSTART;TZID=America/New_York:20270605T183000
DTEND;TZID=America/New_York:20270605T183000
DTSTAMP:20260420T112401
CREATED:20260105T003233Z
LAST-MODIFIED:20260105T060212Z
UID:10020877-1812220200-1812220200@epictriviafl.com
SUMMARY:Mario Kart
DESCRIPTION:
URL:https://epictriviafl.com/event/mario-kart-mellow/2027-06-05/
LOCATION:The Mellow Mushroom\, 1831 Rinehart Rd.\, Sanford\, FL 32771 USA
GEO:28.8088457;-81.3305077
X-APPLE-STRUCTURED-LOCATION;VALUE=URI;X-ADDRESS=The Mellow Mushroom 1831 Rinehart Rd. Sanford FL 32771 USA;X-APPLE-RADIUS=500;X-TITLE=1831 Rinehart Rd.\, Sanford\, FL 32771 USA:geo:-81.3305077,28.8088457
END:VEVENT
BEGIN:VEVENT
DTSTART;TZID=America/New_York:20270609T190000
DTEND;TZID=America/New_York:20270609T190000
DTSTAMP:20260420T112401
CREATED:20260105T003117Z
LAST-MODIFIED:20260105T054751Z
UID:10014637-1812567600-1812567600@epictriviafl.com
SUMMARY:Trivia
DESCRIPTION:
URL:https://epictriviafl.com/event/trivia-mellow/2027-06-09/
LOCATION:The Mellow Mushroom\, 1831 Rinehart Rd.\, Sanford\, FL 32771 USA
GEO:28.8088457;-81.3305077
X-APPLE-STRUCTURED-LOCATION;VALUE=URI;X-ADDRESS=The Mellow Mushroom 1831 Rinehart Rd. Sanford FL 32771 USA;X-APPLE-RADIUS=500;X-TITLE=1831 Rinehart Rd.\, Sanford\, FL 32771 USA:geo:-81.3305077,28.8088457
END:VEVENT
BEGIN:VEVENT
DTSTART;TZID=America/New_York:20270610T190000
DTEND;TZID=America/New_York:20270610T190000
DTSTAMP:20260420T112401
CREATED:20260105T003203Z
LAST-MODIFIED:20260105T054011Z
UID:10010997-1812654000-1812654000@epictriviafl.com
SUMMARY:Music Bingo
DESCRIPTION:
URL:https://epictriviafl.com/event/music-bingo-mellow/2027-06-10/
LOCATION:The Mellow Mushroom\, 1831 Rinehart Rd.\, Sanford\, FL 32771 USA
GEO:28.8088457;-81.3305077
X-APPLE-STRUCTURED-LOCATION;VALUE=URI;X-ADDRESS=The Mellow Mushroom 1831 Rinehart Rd. Sanford FL 32771 USA;X-APPLE-RADIUS=500;X-TITLE=1831 Rinehart Rd.\, Sanford\, FL 32771 USA:geo:-81.3305077,28.8088457
END:VEVENT
BEGIN:VEVENT
DTSTART;TZID=America/New_York:20270612T183000
DTEND;TZID=America/New_York:20270612T183000
DTSTAMP:20260420T112401
CREATED:20260105T003233Z
LAST-MODIFIED:20260105T060212Z
UID:10020878-1812825000-1812825000@epictriviafl.com
SUMMARY:Mario Kart
DESCRIPTION:
URL:https://epictriviafl.com/event/mario-kart-mellow/2027-06-12/
LOCATION:The Mellow Mushroom\, 1831 Rinehart Rd.\, Sanford\, FL 32771 USA
GEO:28.8088457;-81.3305077
X-APPLE-STRUCTURED-LOCATION;VALUE=URI;X-ADDRESS=The Mellow Mushroom 1831 Rinehart Rd. Sanford FL 32771 USA;X-APPLE-RADIUS=500;X-TITLE=1831 Rinehart Rd.\, Sanford\, FL 32771 USA:geo:-81.3305077,28.8088457
END:VEVENT
BEGIN:VEVENT
DTSTART;TZID=America/New_York:20270616T190000
DTEND;TZID=America/New_York:20270616T190000
DTSTAMP:20260420T112401
CREATED:20260105T003117Z
LAST-MODIFIED:20260105T054751Z
UID:10014638-1813172400-1813172400@epictriviafl.com
SUMMARY:Trivia
DESCRIPTION:
URL:https://epictriviafl.com/event/trivia-mellow/2027-06-16/
LOCATION:The Mellow Mushroom\, 1831 Rinehart Rd.\, Sanford\, FL 32771 USA
GEO:28.8088457;-81.3305077
X-APPLE-STRUCTURED-LOCATION;VALUE=URI;X-ADDRESS=The Mellow Mushroom 1831 Rinehart Rd. Sanford FL 32771 USA;X-APPLE-RADIUS=500;X-TITLE=1831 Rinehart Rd.\, Sanford\, FL 32771 USA:geo:-81.3305077,28.8088457
END:VEVENT
BEGIN:VEVENT
DTSTART;TZID=America/New_York:20270617T190000
DTEND;TZID=America/New_York:20270617T190000
DTSTAMP:20260420T112401
CREATED:20260105T003203Z
LAST-MODIFIED:20260105T054011Z
UID:10010998-1813258800-1813258800@epictriviafl.com
SUMMARY:Music Bingo
DESCRIPTION:
URL:https://epictriviafl.com/event/music-bingo-mellow/2027-06-17/
LOCATION:The Mellow Mushroom\, 1831 Rinehart Rd.\, Sanford\, FL 32771 USA
GEO:28.8088457;-81.3305077
X-APPLE-STRUCTURED-LOCATION;VALUE=URI;X-ADDRESS=The Mellow Mushroom 1831 Rinehart Rd. Sanford FL 32771 USA;X-APPLE-RADIUS=500;X-TITLE=1831 Rinehart Rd.\, Sanford\, FL 32771 USA:geo:-81.3305077,28.8088457
END:VEVENT
BEGIN:VEVENT
DTSTART;TZID=America/New_York:20270619T183000
DTEND;TZID=America/New_York:20270619T183000
DTSTAMP:20260420T112401
CREATED:20260105T003233Z
LAST-MODIFIED:20260105T060212Z
UID:10020879-1813429800-1813429800@epictriviafl.com
SUMMARY:Mario Kart
DESCRIPTION:
URL:https://epictriviafl.com/event/mario-kart-mellow/2027-06-19/
LOCATION:The Mellow Mushroom\, 1831 Rinehart Rd.\, Sanford\, FL 32771 USA
GEO:28.8088457;-81.3305077
X-APPLE-STRUCTURED-LOCATION;VALUE=URI;X-ADDRESS=The Mellow Mushroom 1831 Rinehart Rd. Sanford FL 32771 USA;X-APPLE-RADIUS=500;X-TITLE=1831 Rinehart Rd.\, Sanford\, FL 32771 USA:geo:-81.3305077,28.8088457
END:VEVENT
BEGIN:VEVENT
DTSTART;TZID=America/New_York:20270623T190000
DTEND;TZID=America/New_York:20270623T190000
DTSTAMP:20260420T112401
CREATED:20260105T003117Z
LAST-MODIFIED:20260105T054751Z
UID:10014639-1813777200-1813777200@epictriviafl.com
SUMMARY:Trivia
DESCRIPTION:
URL:https://epictriviafl.com/event/trivia-mellow/2027-06-23/
LOCATION:The Mellow Mushroom\, 1831 Rinehart Rd.\, Sanford\, FL 32771 USA
GEO:28.8088457;-81.3305077
X-APPLE-STRUCTURED-LOCATION;VALUE=URI;X-ADDRESS=The Mellow Mushroom 1831 Rinehart Rd. Sanford FL 32771 USA;X-APPLE-RADIUS=500;X-TITLE=1831 Rinehart Rd.\, Sanford\, FL 32771 USA:geo:-81.3305077,28.8088457
END:VEVENT
BEGIN:VEVENT
DTSTART;TZID=America/New_York:20270624T190000
DTEND;TZID=America/New_York:20270624T190000
DTSTAMP:20260420T112401
CREATED:20260105T003203Z
LAST-MODIFIED:20260105T054011Z
UID:10010999-1813863600-1813863600@epictriviafl.com
SUMMARY:Music Bingo
DESCRIPTION:
URL:https://epictriviafl.com/event/music-bingo-mellow/2027-06-24/
LOCATION:The Mellow Mushroom\, 1831 Rinehart Rd.\, Sanford\, FL 32771 USA
GEO:28.8088457;-81.3305077
X-APPLE-STRUCTURED-LOCATION;VALUE=URI;X-ADDRESS=The Mellow Mushroom 1831 Rinehart Rd. Sanford FL 32771 USA;X-APPLE-RADIUS=500;X-TITLE=1831 Rinehart Rd.\, Sanford\, FL 32771 USA:geo:-81.3305077,28.8088457
END:VEVENT
BEGIN:VEVENT
DTSTART;TZID=America/New_York:20270626T183000
DTEND;TZID=America/New_York:20270626T183000
DTSTAMP:20260420T112401
CREATED:20260105T003233Z
LAST-MODIFIED:20260105T060212Z
UID:10020880-1814034600-1814034600@epictriviafl.com
SUMMARY:Mario Kart
DESCRIPTION:
URL:https://epictriviafl.com/event/mario-kart-mellow/2027-06-26/
LOCATION:The Mellow Mushroom\, 1831 Rinehart Rd.\, Sanford\, FL 32771 USA
GEO:28.8088457;-81.3305077
X-APPLE-STRUCTURED-LOCATION;VALUE=URI;X-ADDRESS=The Mellow Mushroom 1831 Rinehart Rd. Sanford FL 32771 USA;X-APPLE-RADIUS=500;X-TITLE=1831 Rinehart Rd.\, Sanford\, FL 32771 USA:geo:-81.3305077,28.8088457
END:VEVENT
BEGIN:VEVENT
DTSTART;TZID=America/New_York:20270630T190000
DTEND;TZID=America/New_York:20270630T190000
DTSTAMP:20260420T112401
CREATED:20260105T003117Z
LAST-MODIFIED:20260105T054751Z
UID:10014640-1814382000-1814382000@epictriviafl.com
SUMMARY:Trivia
DESCRIPTION:
URL:https://epictriviafl.com/event/trivia-mellow/2027-06-30/
LOCATION:The Mellow Mushroom\, 1831 Rinehart Rd.\, Sanford\, FL 32771 USA
GEO:28.8088457;-81.3305077
X-APPLE-STRUCTURED-LOCATION;VALUE=URI;X-ADDRESS=The Mellow Mushroom 1831 Rinehart Rd. Sanford FL 32771 USA;X-APPLE-RADIUS=500;X-TITLE=1831 Rinehart Rd.\, Sanford\, FL 32771 USA:geo:-81.3305077,28.8088457
END:VEVENT
BEGIN:VEVENT
DTSTART;TZID=America/New_York:20270701T190000
DTEND;TZID=America/New_York:20270701T190000
DTSTAMP:20260420T112401
CREATED:20260105T003203Z
LAST-MODIFIED:20260105T054011Z
UID:10011000-1814468400-1814468400@epictriviafl.com
SUMMARY:Music Bingo
DESCRIPTION:
URL:https://epictriviafl.com/event/music-bingo-mellow/2027-07-01/
LOCATION:The Mellow Mushroom\, 1831 Rinehart Rd.\, Sanford\, FL 32771 USA
GEO:28.8088457;-81.3305077
X-APPLE-STRUCTURED-LOCATION;VALUE=URI;X-ADDRESS=The Mellow Mushroom 1831 Rinehart Rd. Sanford FL 32771 USA;X-APPLE-RADIUS=500;X-TITLE=1831 Rinehart Rd.\, Sanford\, FL 32771 USA:geo:-81.3305077,28.8088457
END:VEVENT
BEGIN:VEVENT
DTSTART;TZID=America/New_York:20270703T183000
DTEND;TZID=America/New_York:20270703T183000
DTSTAMP:20260420T112401
CREATED:20260105T003233Z
LAST-MODIFIED:20260105T060212Z
UID:10020881-1814639400-1814639400@epictriviafl.com
SUMMARY:Mario Kart
DESCRIPTION:
URL:https://epictriviafl.com/event/mario-kart-mellow/2027-07-03/
LOCATION:The Mellow Mushroom\, 1831 Rinehart Rd.\, Sanford\, FL 32771 USA
GEO:28.8088457;-81.3305077
X-APPLE-STRUCTURED-LOCATION;VALUE=URI;X-ADDRESS=The Mellow Mushroom 1831 Rinehart Rd. Sanford FL 32771 USA;X-APPLE-RADIUS=500;X-TITLE=1831 Rinehart Rd.\, Sanford\, FL 32771 USA:geo:-81.3305077,28.8088457
END:VEVENT
BEGIN:VEVENT
DTSTART;TZID=America/New_York:20270707T190000
DTEND;TZID=America/New_York:20270707T190000
DTSTAMP:20260420T112401
CREATED:20260105T003117Z
LAST-MODIFIED:20260105T054751Z
UID:10014641-1814986800-1814986800@epictriviafl.com
SUMMARY:Trivia
DESCRIPTION:
URL:https://epictriviafl.com/event/trivia-mellow/2027-07-07/
LOCATION:The Mellow Mushroom\, 1831 Rinehart Rd.\, Sanford\, FL 32771 USA
GEO:28.8088457;-81.3305077
X-APPLE-STRUCTURED-LOCATION;VALUE=URI;X-ADDRESS=The Mellow Mushroom 1831 Rinehart Rd. Sanford FL 32771 USA;X-APPLE-RADIUS=500;X-TITLE=1831 Rinehart Rd.\, Sanford\, FL 32771 USA:geo:-81.3305077,28.8088457
END:VEVENT
BEGIN:VEVENT
DTSTART;TZID=America/New_York:20270708T190000
DTEND;TZID=America/New_York:20270708T190000
DTSTAMP:20260420T112401
CREATED:20260105T003203Z
LAST-MODIFIED:20260105T054011Z
UID:10011001-1815073200-1815073200@epictriviafl.com
SUMMARY:Music Bingo
DESCRIPTION:
URL:https://epictriviafl.com/event/music-bingo-mellow/2027-07-08/
LOCATION:The Mellow Mushroom\, 1831 Rinehart Rd.\, Sanford\, FL 32771 USA
GEO:28.8088457;-81.3305077
X-APPLE-STRUCTURED-LOCATION;VALUE=URI;X-ADDRESS=The Mellow Mushroom 1831 Rinehart Rd. Sanford FL 32771 USA;X-APPLE-RADIUS=500;X-TITLE=1831 Rinehart Rd.\, Sanford\, FL 32771 USA:geo:-81.3305077,28.8088457
END:VEVENT
BEGIN:VEVENT
DTSTART;TZID=America/New_York:20270710T183000
DTEND;TZID=America/New_York:20270710T183000
DTSTAMP:20260420T112401
CREATED:20260105T003233Z
LAST-MODIFIED:20260105T060212Z
UID:10020882-1815244200-1815244200@epictriviafl.com
SUMMARY:Mario Kart
DESCRIPTION:
URL:https://epictriviafl.com/event/mario-kart-mellow/2027-07-10/
LOCATION:The Mellow Mushroom\, 1831 Rinehart Rd.\, Sanford\, FL 32771 USA
GEO:28.8088457;-81.3305077
X-APPLE-STRUCTURED-LOCATION;VALUE=URI;X-ADDRESS=The Mellow Mushroom 1831 Rinehart Rd. Sanford FL 32771 USA;X-APPLE-RADIUS=500;X-TITLE=1831 Rinehart Rd.\, Sanford\, FL 32771 USA:geo:-81.3305077,28.8088457
END:VEVENT
BEGIN:VEVENT
DTSTART;TZID=America/New_York:20270714T190000
DTEND;TZID=America/New_York:20270714T190000
DTSTAMP:20260420T112401
CREATED:20260105T003117Z
LAST-MODIFIED:20260105T054751Z
UID:10014642-1815591600-1815591600@epictriviafl.com
SUMMARY:Trivia
DESCRIPTION:
URL:https://epictriviafl.com/event/trivia-mellow/2027-07-14/
LOCATION:The Mellow Mushroom\, 1831 Rinehart Rd.\, Sanford\, FL 32771 USA
GEO:28.8088457;-81.3305077
X-APPLE-STRUCTURED-LOCATION;VALUE=URI;X-ADDRESS=The Mellow Mushroom 1831 Rinehart Rd. Sanford FL 32771 USA;X-APPLE-RADIUS=500;X-TITLE=1831 Rinehart Rd.\, Sanford\, FL 32771 USA:geo:-81.3305077,28.8088457
END:VEVENT
BEGIN:VEVENT
DTSTART;TZID=America/New_York:20270715T190000
DTEND;TZID=America/New_York:20270715T190000
DTSTAMP:20260420T112401
CREATED:20260105T003203Z
LAST-MODIFIED:20260105T054011Z
UID:10011002-1815678000-1815678000@epictriviafl.com
SUMMARY:Music Bingo
DESCRIPTION:
URL:https://epictriviafl.com/event/music-bingo-mellow/2027-07-15/
LOCATION:The Mellow Mushroom\, 1831 Rinehart Rd.\, Sanford\, FL 32771 USA
GEO:28.8088457;-81.3305077
X-APPLE-STRUCTURED-LOCATION;VALUE=URI;X-ADDRESS=The Mellow Mushroom 1831 Rinehart Rd. Sanford FL 32771 USA;X-APPLE-RADIUS=500;X-TITLE=1831 Rinehart Rd.\, Sanford\, FL 32771 USA:geo:-81.3305077,28.8088457
END:VEVENT
BEGIN:VEVENT
DTSTART;TZID=America/New_York:20270717T183000
DTEND;TZID=America/New_York:20270717T183000
DTSTAMP:20260420T112401
CREATED:20260105T003233Z
LAST-MODIFIED:20260105T060212Z
UID:10020883-1815849000-1815849000@epictriviafl.com
SUMMARY:Mario Kart
DESCRIPTION:
URL:https://epictriviafl.com/event/mario-kart-mellow/2027-07-17/
LOCATION:The Mellow Mushroom\, 1831 Rinehart Rd.\, Sanford\, FL 32771 USA
GEO:28.8088457;-81.3305077
X-APPLE-STRUCTURED-LOCATION;VALUE=URI;X-ADDRESS=The Mellow Mushroom 1831 Rinehart Rd. Sanford FL 32771 USA;X-APPLE-RADIUS=500;X-TITLE=1831 Rinehart Rd.\, Sanford\, FL 32771 USA:geo:-81.3305077,28.8088457
END:VEVENT
BEGIN:VEVENT
DTSTART;TZID=America/New_York:20270721T190000
DTEND;TZID=America/New_York:20270721T190000
DTSTAMP:20260420T112401
CREATED:20260105T003117Z
LAST-MODIFIED:20260105T054751Z
UID:10014643-1816196400-1816196400@epictriviafl.com
SUMMARY:Trivia
DESCRIPTION:
URL:https://epictriviafl.com/event/trivia-mellow/2027-07-21/
LOCATION:The Mellow Mushroom\, 1831 Rinehart Rd.\, Sanford\, FL 32771 USA
GEO:28.8088457;-81.3305077
X-APPLE-STRUCTURED-LOCATION;VALUE=URI;X-ADDRESS=The Mellow Mushroom 1831 Rinehart Rd. Sanford FL 32771 USA;X-APPLE-RADIUS=500;X-TITLE=1831 Rinehart Rd.\, Sanford\, FL 32771 USA:geo:-81.3305077,28.8088457
END:VEVENT
BEGIN:VEVENT
DTSTART;TZID=America/New_York:20270722T190000
DTEND;TZID=America/New_York:20270722T190000
DTSTAMP:20260420T112401
CREATED:20260105T003203Z
LAST-MODIFIED:20260105T054011Z
UID:10011003-1816282800-1816282800@epictriviafl.com
SUMMARY:Music Bingo
DESCRIPTION:
URL:https://epictriviafl.com/event/music-bingo-mellow/2027-07-22/
LOCATION:The Mellow Mushroom\, 1831 Rinehart Rd.\, Sanford\, FL 32771 USA
GEO:28.8088457;-81.3305077
X-APPLE-STRUCTURED-LOCATION;VALUE=URI;X-ADDRESS=The Mellow Mushroom 1831 Rinehart Rd. Sanford FL 32771 USA;X-APPLE-RADIUS=500;X-TITLE=1831 Rinehart Rd.\, Sanford\, FL 32771 USA:geo:-81.3305077,28.8088457
END:VEVENT
BEGIN:VEVENT
DTSTART;TZID=America/New_York:20270724T183000
DTEND;TZID=America/New_York:20270724T183000
DTSTAMP:20260420T112401
CREATED:20260105T003233Z
LAST-MODIFIED:20260105T060212Z
UID:10020884-1816453800-1816453800@epictriviafl.com
SUMMARY:Mario Kart
DESCRIPTION:
URL:https://epictriviafl.com/event/mario-kart-mellow/2027-07-24/
LOCATION:The Mellow Mushroom\, 1831 Rinehart Rd.\, Sanford\, FL 32771 USA
GEO:28.8088457;-81.3305077
X-APPLE-STRUCTURED-LOCATION;VALUE=URI;X-ADDRESS=The Mellow Mushroom 1831 Rinehart Rd. Sanford FL 32771 USA;X-APPLE-RADIUS=500;X-TITLE=1831 Rinehart Rd.\, Sanford\, FL 32771 USA:geo:-81.3305077,28.8088457
END:VEVENT
END:VCALENDAR