BEGIN:VCALENDAR
VERSION:2.0
PRODID:-//Epic Trivia - ECPv6.15.18//NONSGML v1.0//EN
CALSCALE:GREGORIAN
METHOD:PUBLISH
X-ORIGINAL-URL:https://epictriviafl.com
X-WR-CALDESC:Events for Epic Trivia
REFRESH-INTERVAL;VALUE=DURATION:PT1H
X-Robots-Tag:noindex
X-PUBLISHED-TTL:PT1H
BEGIN:VTIMEZONE
TZID:America/New_York
BEGIN:DAYLIGHT
TZOFFSETFROM:-0500
TZOFFSETTO:-0400
TZNAME:EDT
DTSTART:20250309T070000
END:DAYLIGHT
BEGIN:STANDARD
TZOFFSETFROM:-0400
TZOFFSETTO:-0500
TZNAME:EST
DTSTART:20251102T060000
END:STANDARD
BEGIN:DAYLIGHT
TZOFFSETFROM:-0500
TZOFFSETTO:-0400
TZNAME:EDT
DTSTART:20260308T070000
END:DAYLIGHT
BEGIN:STANDARD
TZOFFSETFROM:-0400
TZOFFSETTO:-0500
TZNAME:EST
DTSTART:20261101T060000
END:STANDARD
BEGIN:DAYLIGHT
TZOFFSETFROM:-0500
TZOFFSETTO:-0400
TZNAME:EDT
DTSTART:20270314T070000
END:DAYLIGHT
BEGIN:STANDARD
TZOFFSETFROM:-0400
TZOFFSETTO:-0500
TZNAME:EST
DTSTART:20271107T060000
END:STANDARD
BEGIN:DAYLIGHT
TZOFFSETFROM:-0500
TZOFFSETTO:-0400
TZNAME:EDT
DTSTART:20280312T070000
END:DAYLIGHT
BEGIN:STANDARD
TZOFFSETFROM:-0400
TZOFFSETTO:-0500
TZNAME:EST
DTSTART:20281105T060000
END:STANDARD
END:VTIMEZONE
BEGIN:VEVENT
DTSTART;TZID=America/New_York:20261230T190000
DTEND;TZID=America/New_York:20261230T190000
DTSTAMP:20260419T160653
CREATED:20260105T003248Z
LAST-MODIFIED:20260105T053634Z
UID:10008894-1798657200-1798657200@epictriviafl.com
SUMMARY:Music Bingo
DESCRIPTION:
URL:https://epictriviafl.com/event/music-bingo-hideaway/2026-12-30/
LOCATION:The Hideaway Bar\, 523 Virginia Dr\, Orlando\, 32803\, United States
GEO:28.5642673;-81.3709554
X-APPLE-STRUCTURED-LOCATION;VALUE=URI;X-ADDRESS=The Hideaway Bar 523 Virginia Dr Orlando 32803 United States;X-APPLE-RADIUS=500;X-TITLE=523 Virginia Dr:geo:-81.3709554,28.5642673
END:VEVENT
BEGIN:VEVENT
DTSTART;TZID=America/New_York:20270106T190000
DTEND;TZID=America/New_York:20270106T190000
DTSTAMP:20260419T160653
CREATED:20260105T003248Z
LAST-MODIFIED:20260105T053634Z
UID:10008895-1799262000-1799262000@epictriviafl.com
SUMMARY:Music Bingo
DESCRIPTION:
URL:https://epictriviafl.com/event/music-bingo-hideaway/2027-01-06/
LOCATION:The Hideaway Bar\, 523 Virginia Dr\, Orlando\, 32803\, United States
GEO:28.5642673;-81.3709554
X-APPLE-STRUCTURED-LOCATION;VALUE=URI;X-ADDRESS=The Hideaway Bar 523 Virginia Dr Orlando 32803 United States;X-APPLE-RADIUS=500;X-TITLE=523 Virginia Dr:geo:-81.3709554,28.5642673
END:VEVENT
BEGIN:VEVENT
DTSTART;TZID=America/New_York:20270113T190000
DTEND;TZID=America/New_York:20270113T190000
DTSTAMP:20260419T160653
CREATED:20260105T003248Z
LAST-MODIFIED:20260105T053634Z
UID:10008896-1799866800-1799866800@epictriviafl.com
SUMMARY:Music Bingo
DESCRIPTION:
URL:https://epictriviafl.com/event/music-bingo-hideaway/2027-01-13/
LOCATION:The Hideaway Bar\, 523 Virginia Dr\, Orlando\, 32803\, United States
GEO:28.5642673;-81.3709554
X-APPLE-STRUCTURED-LOCATION;VALUE=URI;X-ADDRESS=The Hideaway Bar 523 Virginia Dr Orlando 32803 United States;X-APPLE-RADIUS=500;X-TITLE=523 Virginia Dr:geo:-81.3709554,28.5642673
END:VEVENT
BEGIN:VEVENT
DTSTART;TZID=America/New_York:20270120T190000
DTEND;TZID=America/New_York:20270120T190000
DTSTAMP:20260419T160653
CREATED:20260105T003248Z
LAST-MODIFIED:20260105T053634Z
UID:10008897-1800471600-1800471600@epictriviafl.com
SUMMARY:Music Bingo
DESCRIPTION:
URL:https://epictriviafl.com/event/music-bingo-hideaway/2027-01-20/
LOCATION:The Hideaway Bar\, 523 Virginia Dr\, Orlando\, 32803\, United States
GEO:28.5642673;-81.3709554
X-APPLE-STRUCTURED-LOCATION;VALUE=URI;X-ADDRESS=The Hideaway Bar 523 Virginia Dr Orlando 32803 United States;X-APPLE-RADIUS=500;X-TITLE=523 Virginia Dr:geo:-81.3709554,28.5642673
END:VEVENT
BEGIN:VEVENT
DTSTART;TZID=America/New_York:20270127T190000
DTEND;TZID=America/New_York:20270127T190000
DTSTAMP:20260419T160653
CREATED:20260105T003248Z
LAST-MODIFIED:20260105T053634Z
UID:10008898-1801076400-1801076400@epictriviafl.com
SUMMARY:Music Bingo
DESCRIPTION:
URL:https://epictriviafl.com/event/music-bingo-hideaway/2027-01-27/
LOCATION:The Hideaway Bar\, 523 Virginia Dr\, Orlando\, 32803\, United States
GEO:28.5642673;-81.3709554
X-APPLE-STRUCTURED-LOCATION;VALUE=URI;X-ADDRESS=The Hideaway Bar 523 Virginia Dr Orlando 32803 United States;X-APPLE-RADIUS=500;X-TITLE=523 Virginia Dr:geo:-81.3709554,28.5642673
END:VEVENT
BEGIN:VEVENT
DTSTART;TZID=America/New_York:20270203T190000
DTEND;TZID=America/New_York:20270203T190000
DTSTAMP:20260419T160653
CREATED:20260105T003248Z
LAST-MODIFIED:20260105T053634Z
UID:10008899-1801681200-1801681200@epictriviafl.com
SUMMARY:Music Bingo
DESCRIPTION:
URL:https://epictriviafl.com/event/music-bingo-hideaway/2027-02-03/
LOCATION:The Hideaway Bar\, 523 Virginia Dr\, Orlando\, 32803\, United States
GEO:28.5642673;-81.3709554
X-APPLE-STRUCTURED-LOCATION;VALUE=URI;X-ADDRESS=The Hideaway Bar 523 Virginia Dr Orlando 32803 United States;X-APPLE-RADIUS=500;X-TITLE=523 Virginia Dr:geo:-81.3709554,28.5642673
END:VEVENT
BEGIN:VEVENT
DTSTART;TZID=America/New_York:20270210T190000
DTEND;TZID=America/New_York:20270210T190000
DTSTAMP:20260419T160653
CREATED:20260105T003248Z
LAST-MODIFIED:20260105T053634Z
UID:10008900-1802286000-1802286000@epictriviafl.com
SUMMARY:Music Bingo
DESCRIPTION:
URL:https://epictriviafl.com/event/music-bingo-hideaway/2027-02-10/
LOCATION:The Hideaway Bar\, 523 Virginia Dr\, Orlando\, 32803\, United States
GEO:28.5642673;-81.3709554
X-APPLE-STRUCTURED-LOCATION;VALUE=URI;X-ADDRESS=The Hideaway Bar 523 Virginia Dr Orlando 32803 United States;X-APPLE-RADIUS=500;X-TITLE=523 Virginia Dr:geo:-81.3709554,28.5642673
END:VEVENT
BEGIN:VEVENT
DTSTART;TZID=America/New_York:20270217T190000
DTEND;TZID=America/New_York:20270217T190000
DTSTAMP:20260419T160653
CREATED:20260105T003248Z
LAST-MODIFIED:20260105T053634Z
UID:10008901-1802890800-1802890800@epictriviafl.com
SUMMARY:Music Bingo
DESCRIPTION:
URL:https://epictriviafl.com/event/music-bingo-hideaway/2027-02-17/
LOCATION:The Hideaway Bar\, 523 Virginia Dr\, Orlando\, 32803\, United States
GEO:28.5642673;-81.3709554
X-APPLE-STRUCTURED-LOCATION;VALUE=URI;X-ADDRESS=The Hideaway Bar 523 Virginia Dr Orlando 32803 United States;X-APPLE-RADIUS=500;X-TITLE=523 Virginia Dr:geo:-81.3709554,28.5642673
END:VEVENT
BEGIN:VEVENT
DTSTART;TZID=America/New_York:20270224T190000
DTEND;TZID=America/New_York:20270224T190000
DTSTAMP:20260419T160653
CREATED:20260105T003248Z
LAST-MODIFIED:20260105T053634Z
UID:10008902-1803495600-1803495600@epictriviafl.com
SUMMARY:Music Bingo
DESCRIPTION:
URL:https://epictriviafl.com/event/music-bingo-hideaway/2027-02-24/
LOCATION:The Hideaway Bar\, 523 Virginia Dr\, Orlando\, 32803\, United States
GEO:28.5642673;-81.3709554
X-APPLE-STRUCTURED-LOCATION;VALUE=URI;X-ADDRESS=The Hideaway Bar 523 Virginia Dr Orlando 32803 United States;X-APPLE-RADIUS=500;X-TITLE=523 Virginia Dr:geo:-81.3709554,28.5642673
END:VEVENT
BEGIN:VEVENT
DTSTART;TZID=America/New_York:20270303T190000
DTEND;TZID=America/New_York:20270303T190000
DTSTAMP:20260419T160653
CREATED:20260105T003248Z
LAST-MODIFIED:20260105T053634Z
UID:10008903-1804100400-1804100400@epictriviafl.com
SUMMARY:Music Bingo
DESCRIPTION:
URL:https://epictriviafl.com/event/music-bingo-hideaway/2027-03-03/
LOCATION:The Hideaway Bar\, 523 Virginia Dr\, Orlando\, 32803\, United States
GEO:28.5642673;-81.3709554
X-APPLE-STRUCTURED-LOCATION;VALUE=URI;X-ADDRESS=The Hideaway Bar 523 Virginia Dr Orlando 32803 United States;X-APPLE-RADIUS=500;X-TITLE=523 Virginia Dr:geo:-81.3709554,28.5642673
END:VEVENT
BEGIN:VEVENT
DTSTART;TZID=America/New_York:20270310T190000
DTEND;TZID=America/New_York:20270310T190000
DTSTAMP:20260419T160653
CREATED:20260105T003248Z
LAST-MODIFIED:20260105T053634Z
UID:10008904-1804705200-1804705200@epictriviafl.com
SUMMARY:Music Bingo
DESCRIPTION:
URL:https://epictriviafl.com/event/music-bingo-hideaway/2027-03-10/
LOCATION:The Hideaway Bar\, 523 Virginia Dr\, Orlando\, 32803\, United States
GEO:28.5642673;-81.3709554
X-APPLE-STRUCTURED-LOCATION;VALUE=URI;X-ADDRESS=The Hideaway Bar 523 Virginia Dr Orlando 32803 United States;X-APPLE-RADIUS=500;X-TITLE=523 Virginia Dr:geo:-81.3709554,28.5642673
END:VEVENT
BEGIN:VEVENT
DTSTART;TZID=America/New_York:20270317T190000
DTEND;TZID=America/New_York:20270317T190000
DTSTAMP:20260419T160653
CREATED:20260105T003248Z
LAST-MODIFIED:20260105T053634Z
UID:10008905-1805310000-1805310000@epictriviafl.com
SUMMARY:Music Bingo
DESCRIPTION:
URL:https://epictriviafl.com/event/music-bingo-hideaway/2027-03-17/
LOCATION:The Hideaway Bar\, 523 Virginia Dr\, Orlando\, 32803\, United States
GEO:28.5642673;-81.3709554
X-APPLE-STRUCTURED-LOCATION;VALUE=URI;X-ADDRESS=The Hideaway Bar 523 Virginia Dr Orlando 32803 United States;X-APPLE-RADIUS=500;X-TITLE=523 Virginia Dr:geo:-81.3709554,28.5642673
END:VEVENT
BEGIN:VEVENT
DTSTART;TZID=America/New_York:20270324T190000
DTEND;TZID=America/New_York:20270324T190000
DTSTAMP:20260419T160653
CREATED:20260105T003248Z
LAST-MODIFIED:20260105T053634Z
UID:10008906-1805914800-1805914800@epictriviafl.com
SUMMARY:Music Bingo
DESCRIPTION:
URL:https://epictriviafl.com/event/music-bingo-hideaway/2027-03-24/
LOCATION:The Hideaway Bar\, 523 Virginia Dr\, Orlando\, 32803\, United States
GEO:28.5642673;-81.3709554
X-APPLE-STRUCTURED-LOCATION;VALUE=URI;X-ADDRESS=The Hideaway Bar 523 Virginia Dr Orlando 32803 United States;X-APPLE-RADIUS=500;X-TITLE=523 Virginia Dr:geo:-81.3709554,28.5642673
END:VEVENT
BEGIN:VEVENT
DTSTART;TZID=America/New_York:20270331T190000
DTEND;TZID=America/New_York:20270331T190000
DTSTAMP:20260419T160653
CREATED:20260105T003248Z
LAST-MODIFIED:20260105T053634Z
UID:10008907-1806519600-1806519600@epictriviafl.com
SUMMARY:Music Bingo
DESCRIPTION:
URL:https://epictriviafl.com/event/music-bingo-hideaway/2027-03-31/
LOCATION:The Hideaway Bar\, 523 Virginia Dr\, Orlando\, 32803\, United States
GEO:28.5642673;-81.3709554
X-APPLE-STRUCTURED-LOCATION;VALUE=URI;X-ADDRESS=The Hideaway Bar 523 Virginia Dr Orlando 32803 United States;X-APPLE-RADIUS=500;X-TITLE=523 Virginia Dr:geo:-81.3709554,28.5642673
END:VEVENT
BEGIN:VEVENT
DTSTART;TZID=America/New_York:20270407T190000
DTEND;TZID=America/New_York:20270407T190000
DTSTAMP:20260419T160653
CREATED:20260105T003248Z
LAST-MODIFIED:20260105T053634Z
UID:10008908-1807124400-1807124400@epictriviafl.com
SUMMARY:Music Bingo
DESCRIPTION:
URL:https://epictriviafl.com/event/music-bingo-hideaway/2027-04-07/
LOCATION:The Hideaway Bar\, 523 Virginia Dr\, Orlando\, 32803\, United States
GEO:28.5642673;-81.3709554
X-APPLE-STRUCTURED-LOCATION;VALUE=URI;X-ADDRESS=The Hideaway Bar 523 Virginia Dr Orlando 32803 United States;X-APPLE-RADIUS=500;X-TITLE=523 Virginia Dr:geo:-81.3709554,28.5642673
END:VEVENT
BEGIN:VEVENT
DTSTART;TZID=America/New_York:20270414T190000
DTEND;TZID=America/New_York:20270414T190000
DTSTAMP:20260419T160653
CREATED:20260105T003248Z
LAST-MODIFIED:20260105T053634Z
UID:10008909-1807729200-1807729200@epictriviafl.com
SUMMARY:Music Bingo
DESCRIPTION:
URL:https://epictriviafl.com/event/music-bingo-hideaway/2027-04-14/
LOCATION:The Hideaway Bar\, 523 Virginia Dr\, Orlando\, 32803\, United States
GEO:28.5642673;-81.3709554
X-APPLE-STRUCTURED-LOCATION;VALUE=URI;X-ADDRESS=The Hideaway Bar 523 Virginia Dr Orlando 32803 United States;X-APPLE-RADIUS=500;X-TITLE=523 Virginia Dr:geo:-81.3709554,28.5642673
END:VEVENT
BEGIN:VEVENT
DTSTART;TZID=America/New_York:20270421T190000
DTEND;TZID=America/New_York:20270421T190000
DTSTAMP:20260419T160653
CREATED:20260105T003248Z
LAST-MODIFIED:20260105T053634Z
UID:10008910-1808334000-1808334000@epictriviafl.com
SUMMARY:Music Bingo
DESCRIPTION:
URL:https://epictriviafl.com/event/music-bingo-hideaway/2027-04-21/
LOCATION:The Hideaway Bar\, 523 Virginia Dr\, Orlando\, 32803\, United States
GEO:28.5642673;-81.3709554
X-APPLE-STRUCTURED-LOCATION;VALUE=URI;X-ADDRESS=The Hideaway Bar 523 Virginia Dr Orlando 32803 United States;X-APPLE-RADIUS=500;X-TITLE=523 Virginia Dr:geo:-81.3709554,28.5642673
END:VEVENT
BEGIN:VEVENT
DTSTART;TZID=America/New_York:20270428T190000
DTEND;TZID=America/New_York:20270428T190000
DTSTAMP:20260419T160653
CREATED:20260105T003248Z
LAST-MODIFIED:20260105T053634Z
UID:10008911-1808938800-1808938800@epictriviafl.com
SUMMARY:Music Bingo
DESCRIPTION:
URL:https://epictriviafl.com/event/music-bingo-hideaway/2027-04-28/
LOCATION:The Hideaway Bar\, 523 Virginia Dr\, Orlando\, 32803\, United States
GEO:28.5642673;-81.3709554
X-APPLE-STRUCTURED-LOCATION;VALUE=URI;X-ADDRESS=The Hideaway Bar 523 Virginia Dr Orlando 32803 United States;X-APPLE-RADIUS=500;X-TITLE=523 Virginia Dr:geo:-81.3709554,28.5642673
END:VEVENT
BEGIN:VEVENT
DTSTART;TZID=America/New_York:20270505T190000
DTEND;TZID=America/New_York:20270505T190000
DTSTAMP:20260419T160653
CREATED:20260105T003248Z
LAST-MODIFIED:20260105T053634Z
UID:10008912-1809543600-1809543600@epictriviafl.com
SUMMARY:Music Bingo
DESCRIPTION:
URL:https://epictriviafl.com/event/music-bingo-hideaway/2027-05-05/
LOCATION:The Hideaway Bar\, 523 Virginia Dr\, Orlando\, 32803\, United States
GEO:28.5642673;-81.3709554
X-APPLE-STRUCTURED-LOCATION;VALUE=URI;X-ADDRESS=The Hideaway Bar 523 Virginia Dr Orlando 32803 United States;X-APPLE-RADIUS=500;X-TITLE=523 Virginia Dr:geo:-81.3709554,28.5642673
END:VEVENT
BEGIN:VEVENT
DTSTART;TZID=America/New_York:20270512T190000
DTEND;TZID=America/New_York:20270512T190000
DTSTAMP:20260419T160653
CREATED:20260105T003248Z
LAST-MODIFIED:20260105T053634Z
UID:10008913-1810148400-1810148400@epictriviafl.com
SUMMARY:Music Bingo
DESCRIPTION:
URL:https://epictriviafl.com/event/music-bingo-hideaway/2027-05-12/
LOCATION:The Hideaway Bar\, 523 Virginia Dr\, Orlando\, 32803\, United States
GEO:28.5642673;-81.3709554
X-APPLE-STRUCTURED-LOCATION;VALUE=URI;X-ADDRESS=The Hideaway Bar 523 Virginia Dr Orlando 32803 United States;X-APPLE-RADIUS=500;X-TITLE=523 Virginia Dr:geo:-81.3709554,28.5642673
END:VEVENT
BEGIN:VEVENT
DTSTART;TZID=America/New_York:20270519T190000
DTEND;TZID=America/New_York:20270519T190000
DTSTAMP:20260419T160653
CREATED:20260105T003248Z
LAST-MODIFIED:20260105T053634Z
UID:10008914-1810753200-1810753200@epictriviafl.com
SUMMARY:Music Bingo
DESCRIPTION:
URL:https://epictriviafl.com/event/music-bingo-hideaway/2027-05-19/
LOCATION:The Hideaway Bar\, 523 Virginia Dr\, Orlando\, 32803\, United States
GEO:28.5642673;-81.3709554
X-APPLE-STRUCTURED-LOCATION;VALUE=URI;X-ADDRESS=The Hideaway Bar 523 Virginia Dr Orlando 32803 United States;X-APPLE-RADIUS=500;X-TITLE=523 Virginia Dr:geo:-81.3709554,28.5642673
END:VEVENT
BEGIN:VEVENT
DTSTART;TZID=America/New_York:20270526T190000
DTEND;TZID=America/New_York:20270526T190000
DTSTAMP:20260419T160653
CREATED:20260105T003248Z
LAST-MODIFIED:20260105T053634Z
UID:10008915-1811358000-1811358000@epictriviafl.com
SUMMARY:Music Bingo
DESCRIPTION:
URL:https://epictriviafl.com/event/music-bingo-hideaway/2027-05-26/
LOCATION:The Hideaway Bar\, 523 Virginia Dr\, Orlando\, 32803\, United States
GEO:28.5642673;-81.3709554
X-APPLE-STRUCTURED-LOCATION;VALUE=URI;X-ADDRESS=The Hideaway Bar 523 Virginia Dr Orlando 32803 United States;X-APPLE-RADIUS=500;X-TITLE=523 Virginia Dr:geo:-81.3709554,28.5642673
END:VEVENT
BEGIN:VEVENT
DTSTART;TZID=America/New_York:20270602T190000
DTEND;TZID=America/New_York:20270602T190000
DTSTAMP:20260419T160653
CREATED:20260105T003248Z
LAST-MODIFIED:20260105T053634Z
UID:10008916-1811962800-1811962800@epictriviafl.com
SUMMARY:Music Bingo
DESCRIPTION:
URL:https://epictriviafl.com/event/music-bingo-hideaway/2027-06-02/
LOCATION:The Hideaway Bar\, 523 Virginia Dr\, Orlando\, 32803\, United States
GEO:28.5642673;-81.3709554
X-APPLE-STRUCTURED-LOCATION;VALUE=URI;X-ADDRESS=The Hideaway Bar 523 Virginia Dr Orlando 32803 United States;X-APPLE-RADIUS=500;X-TITLE=523 Virginia Dr:geo:-81.3709554,28.5642673
END:VEVENT
BEGIN:VEVENT
DTSTART;TZID=America/New_York:20270609T190000
DTEND;TZID=America/New_York:20270609T190000
DTSTAMP:20260419T160653
CREATED:20260105T003248Z
LAST-MODIFIED:20260105T053634Z
UID:10008917-1812567600-1812567600@epictriviafl.com
SUMMARY:Music Bingo
DESCRIPTION:
URL:https://epictriviafl.com/event/music-bingo-hideaway/2027-06-09/
LOCATION:The Hideaway Bar\, 523 Virginia Dr\, Orlando\, 32803\, United States
GEO:28.5642673;-81.3709554
X-APPLE-STRUCTURED-LOCATION;VALUE=URI;X-ADDRESS=The Hideaway Bar 523 Virginia Dr Orlando 32803 United States;X-APPLE-RADIUS=500;X-TITLE=523 Virginia Dr:geo:-81.3709554,28.5642673
END:VEVENT
BEGIN:VEVENT
DTSTART;TZID=America/New_York:20270616T190000
DTEND;TZID=America/New_York:20270616T190000
DTSTAMP:20260419T160653
CREATED:20260105T003248Z
LAST-MODIFIED:20260105T053634Z
UID:10008918-1813172400-1813172400@epictriviafl.com
SUMMARY:Music Bingo
DESCRIPTION:
URL:https://epictriviafl.com/event/music-bingo-hideaway/2027-06-16/
LOCATION:The Hideaway Bar\, 523 Virginia Dr\, Orlando\, 32803\, United States
GEO:28.5642673;-81.3709554
X-APPLE-STRUCTURED-LOCATION;VALUE=URI;X-ADDRESS=The Hideaway Bar 523 Virginia Dr Orlando 32803 United States;X-APPLE-RADIUS=500;X-TITLE=523 Virginia Dr:geo:-81.3709554,28.5642673
END:VEVENT
BEGIN:VEVENT
DTSTART;TZID=America/New_York:20270623T190000
DTEND;TZID=America/New_York:20270623T190000
DTSTAMP:20260419T160653
CREATED:20260105T003248Z
LAST-MODIFIED:20260105T053634Z
UID:10008919-1813777200-1813777200@epictriviafl.com
SUMMARY:Music Bingo
DESCRIPTION:
URL:https://epictriviafl.com/event/music-bingo-hideaway/2027-06-23/
LOCATION:The Hideaway Bar\, 523 Virginia Dr\, Orlando\, 32803\, United States
GEO:28.5642673;-81.3709554
X-APPLE-STRUCTURED-LOCATION;VALUE=URI;X-ADDRESS=The Hideaway Bar 523 Virginia Dr Orlando 32803 United States;X-APPLE-RADIUS=500;X-TITLE=523 Virginia Dr:geo:-81.3709554,28.5642673
END:VEVENT
BEGIN:VEVENT
DTSTART;TZID=America/New_York:20270630T190000
DTEND;TZID=America/New_York:20270630T190000
DTSTAMP:20260419T160653
CREATED:20260105T003248Z
LAST-MODIFIED:20260105T053634Z
UID:10008920-1814382000-1814382000@epictriviafl.com
SUMMARY:Music Bingo
DESCRIPTION:
URL:https://epictriviafl.com/event/music-bingo-hideaway/2027-06-30/
LOCATION:The Hideaway Bar\, 523 Virginia Dr\, Orlando\, 32803\, United States
GEO:28.5642673;-81.3709554
X-APPLE-STRUCTURED-LOCATION;VALUE=URI;X-ADDRESS=The Hideaway Bar 523 Virginia Dr Orlando 32803 United States;X-APPLE-RADIUS=500;X-TITLE=523 Virginia Dr:geo:-81.3709554,28.5642673
END:VEVENT
BEGIN:VEVENT
DTSTART;TZID=America/New_York:20270707T190000
DTEND;TZID=America/New_York:20270707T190000
DTSTAMP:20260419T160653
CREATED:20260105T003248Z
LAST-MODIFIED:20260105T053634Z
UID:10008921-1814986800-1814986800@epictriviafl.com
SUMMARY:Music Bingo
DESCRIPTION:
URL:https://epictriviafl.com/event/music-bingo-hideaway/2027-07-07/
LOCATION:The Hideaway Bar\, 523 Virginia Dr\, Orlando\, 32803\, United States
GEO:28.5642673;-81.3709554
X-APPLE-STRUCTURED-LOCATION;VALUE=URI;X-ADDRESS=The Hideaway Bar 523 Virginia Dr Orlando 32803 United States;X-APPLE-RADIUS=500;X-TITLE=523 Virginia Dr:geo:-81.3709554,28.5642673
END:VEVENT
BEGIN:VEVENT
DTSTART;TZID=America/New_York:20270714T190000
DTEND;TZID=America/New_York:20270714T190000
DTSTAMP:20260419T160653
CREATED:20260105T003248Z
LAST-MODIFIED:20260105T053634Z
UID:10008922-1815591600-1815591600@epictriviafl.com
SUMMARY:Music Bingo
DESCRIPTION:
URL:https://epictriviafl.com/event/music-bingo-hideaway/2027-07-14/
LOCATION:The Hideaway Bar\, 523 Virginia Dr\, Orlando\, 32803\, United States
GEO:28.5642673;-81.3709554
X-APPLE-STRUCTURED-LOCATION;VALUE=URI;X-ADDRESS=The Hideaway Bar 523 Virginia Dr Orlando 32803 United States;X-APPLE-RADIUS=500;X-TITLE=523 Virginia Dr:geo:-81.3709554,28.5642673
END:VEVENT
BEGIN:VEVENT
DTSTART;TZID=America/New_York:20270721T190000
DTEND;TZID=America/New_York:20270721T190000
DTSTAMP:20260419T160653
CREATED:20260105T003248Z
LAST-MODIFIED:20260105T053634Z
UID:10008923-1816196400-1816196400@epictriviafl.com
SUMMARY:Music Bingo
DESCRIPTION:
URL:https://epictriviafl.com/event/music-bingo-hideaway/2027-07-21/
LOCATION:The Hideaway Bar\, 523 Virginia Dr\, Orlando\, 32803\, United States
GEO:28.5642673;-81.3709554
X-APPLE-STRUCTURED-LOCATION;VALUE=URI;X-ADDRESS=The Hideaway Bar 523 Virginia Dr Orlando 32803 United States;X-APPLE-RADIUS=500;X-TITLE=523 Virginia Dr:geo:-81.3709554,28.5642673
END:VEVENT
END:VCALENDAR