BEGIN:VCALENDAR
VERSION:2.0
PRODID:-//Epic Trivia - ECPv6.15.18//NONSGML v1.0//EN
CALSCALE:GREGORIAN
METHOD:PUBLISH
X-ORIGINAL-URL:https://epictriviafl.com
X-WR-CALDESC:Events for Epic Trivia
REFRESH-INTERVAL;VALUE=DURATION:PT1H
X-Robots-Tag:noindex
X-PUBLISHED-TTL:PT1H
BEGIN:VTIMEZONE
TZID:America/New_York
BEGIN:DAYLIGHT
TZOFFSETFROM:-0500
TZOFFSETTO:-0400
TZNAME:EDT
DTSTART:20270314T070000
END:DAYLIGHT
BEGIN:STANDARD
TZOFFSETFROM:-0400
TZOFFSETTO:-0500
TZNAME:EST
DTSTART:20271107T060000
END:STANDARD
BEGIN:DAYLIGHT
TZOFFSETFROM:-0500
TZOFFSETTO:-0400
TZNAME:EDT
DTSTART:20280312T070000
END:DAYLIGHT
BEGIN:STANDARD
TZOFFSETFROM:-0400
TZOFFSETTO:-0500
TZNAME:EST
DTSTART:20281105T060000
END:STANDARD
BEGIN:DAYLIGHT
TZOFFSETFROM:-0500
TZOFFSETTO:-0400
TZNAME:EDT
DTSTART:20290311T070000
END:DAYLIGHT
BEGIN:STANDARD
TZOFFSETFROM:-0400
TZOFFSETTO:-0500
TZNAME:EST
DTSTART:20291104T060000
END:STANDARD
BEGIN:DAYLIGHT
TZOFFSETFROM:-0500
TZOFFSETTO:-0400
TZNAME:EDT
DTSTART:20300310T070000
END:DAYLIGHT
BEGIN:STANDARD
TZOFFSETFROM:-0400
TZOFFSETTO:-0500
TZNAME:EST
DTSTART:20301103T060000
END:STANDARD
END:VTIMEZONE
BEGIN:VEVENT
DTSTART;TZID=America/New_York:20281101T190000
DTEND;TZID=America/New_York:20281101T190000
DTSTAMP:20260420T043900
CREATED:20260105T003248Z
LAST-MODIFIED:20260105T053634Z
UID:10008990-1856718000-1856718000@epictriviafl.com
SUMMARY:Music Bingo
DESCRIPTION:
URL:https://epictriviafl.com/event/music-bingo-hideaway/2028-11-01/
LOCATION:The Hideaway Bar\, 523 Virginia Dr\, Orlando\, 32803\, United States
GEO:28.5642673;-81.3709554
X-APPLE-STRUCTURED-LOCATION;VALUE=URI;X-ADDRESS=The Hideaway Bar 523 Virginia Dr Orlando 32803 United States;X-APPLE-RADIUS=500;X-TITLE=523 Virginia Dr:geo:-81.3709554,28.5642673
END:VEVENT
BEGIN:VEVENT
DTSTART;TZID=America/New_York:20281108T190000
DTEND;TZID=America/New_York:20281108T190000
DTSTAMP:20260420T043900
CREATED:20260105T003248Z
LAST-MODIFIED:20260105T053634Z
UID:10008991-1857322800-1857322800@epictriviafl.com
SUMMARY:Music Bingo
DESCRIPTION:
URL:https://epictriviafl.com/event/music-bingo-hideaway/2028-11-08/
LOCATION:The Hideaway Bar\, 523 Virginia Dr\, Orlando\, 32803\, United States
GEO:28.5642673;-81.3709554
X-APPLE-STRUCTURED-LOCATION;VALUE=URI;X-ADDRESS=The Hideaway Bar 523 Virginia Dr Orlando 32803 United States;X-APPLE-RADIUS=500;X-TITLE=523 Virginia Dr:geo:-81.3709554,28.5642673
END:VEVENT
BEGIN:VEVENT
DTSTART;TZID=America/New_York:20281115T190000
DTEND;TZID=America/New_York:20281115T190000
DTSTAMP:20260420T043900
CREATED:20260105T003248Z
LAST-MODIFIED:20260105T053634Z
UID:10008992-1857927600-1857927600@epictriviafl.com
SUMMARY:Music Bingo
DESCRIPTION:
URL:https://epictriviafl.com/event/music-bingo-hideaway/2028-11-15/
LOCATION:The Hideaway Bar\, 523 Virginia Dr\, Orlando\, 32803\, United States
GEO:28.5642673;-81.3709554
X-APPLE-STRUCTURED-LOCATION;VALUE=URI;X-ADDRESS=The Hideaway Bar 523 Virginia Dr Orlando 32803 United States;X-APPLE-RADIUS=500;X-TITLE=523 Virginia Dr:geo:-81.3709554,28.5642673
END:VEVENT
BEGIN:VEVENT
DTSTART;TZID=America/New_York:20281122T190000
DTEND;TZID=America/New_York:20281122T190000
DTSTAMP:20260420T043900
CREATED:20260105T003248Z
LAST-MODIFIED:20260105T053634Z
UID:10008993-1858532400-1858532400@epictriviafl.com
SUMMARY:Music Bingo
DESCRIPTION:
URL:https://epictriviafl.com/event/music-bingo-hideaway/2028-11-22/
LOCATION:The Hideaway Bar\, 523 Virginia Dr\, Orlando\, 32803\, United States
GEO:28.5642673;-81.3709554
X-APPLE-STRUCTURED-LOCATION;VALUE=URI;X-ADDRESS=The Hideaway Bar 523 Virginia Dr Orlando 32803 United States;X-APPLE-RADIUS=500;X-TITLE=523 Virginia Dr:geo:-81.3709554,28.5642673
END:VEVENT
BEGIN:VEVENT
DTSTART;TZID=America/New_York:20281129T190000
DTEND;TZID=America/New_York:20281129T190000
DTSTAMP:20260420T043900
CREATED:20260105T003248Z
LAST-MODIFIED:20260105T053634Z
UID:10008994-1859137200-1859137200@epictriviafl.com
SUMMARY:Music Bingo
DESCRIPTION:
URL:https://epictriviafl.com/event/music-bingo-hideaway/2028-11-29/
LOCATION:The Hideaway Bar\, 523 Virginia Dr\, Orlando\, 32803\, United States
GEO:28.5642673;-81.3709554
X-APPLE-STRUCTURED-LOCATION;VALUE=URI;X-ADDRESS=The Hideaway Bar 523 Virginia Dr Orlando 32803 United States;X-APPLE-RADIUS=500;X-TITLE=523 Virginia Dr:geo:-81.3709554,28.5642673
END:VEVENT
BEGIN:VEVENT
DTSTART;TZID=America/New_York:20281206T190000
DTEND;TZID=America/New_York:20281206T190000
DTSTAMP:20260420T043900
CREATED:20260105T003248Z
LAST-MODIFIED:20260105T053634Z
UID:10008995-1859742000-1859742000@epictriviafl.com
SUMMARY:Music Bingo
DESCRIPTION:
URL:https://epictriviafl.com/event/music-bingo-hideaway/2028-12-06/
LOCATION:The Hideaway Bar\, 523 Virginia Dr\, Orlando\, 32803\, United States
GEO:28.5642673;-81.3709554
X-APPLE-STRUCTURED-LOCATION;VALUE=URI;X-ADDRESS=The Hideaway Bar 523 Virginia Dr Orlando 32803 United States;X-APPLE-RADIUS=500;X-TITLE=523 Virginia Dr:geo:-81.3709554,28.5642673
END:VEVENT
BEGIN:VEVENT
DTSTART;TZID=America/New_York:20281213T190000
DTEND;TZID=America/New_York:20281213T190000
DTSTAMP:20260420T043900
CREATED:20260105T003248Z
LAST-MODIFIED:20260105T053634Z
UID:10008996-1860346800-1860346800@epictriviafl.com
SUMMARY:Music Bingo
DESCRIPTION:
URL:https://epictriviafl.com/event/music-bingo-hideaway/2028-12-13/
LOCATION:The Hideaway Bar\, 523 Virginia Dr\, Orlando\, 32803\, United States
GEO:28.5642673;-81.3709554
X-APPLE-STRUCTURED-LOCATION;VALUE=URI;X-ADDRESS=The Hideaway Bar 523 Virginia Dr Orlando 32803 United States;X-APPLE-RADIUS=500;X-TITLE=523 Virginia Dr:geo:-81.3709554,28.5642673
END:VEVENT
BEGIN:VEVENT
DTSTART;TZID=America/New_York:20281220T190000
DTEND;TZID=America/New_York:20281220T190000
DTSTAMP:20260420T043900
CREATED:20260105T003248Z
LAST-MODIFIED:20260105T053634Z
UID:10008997-1860951600-1860951600@epictriviafl.com
SUMMARY:Music Bingo
DESCRIPTION:
URL:https://epictriviafl.com/event/music-bingo-hideaway/2028-12-20/
LOCATION:The Hideaway Bar\, 523 Virginia Dr\, Orlando\, 32803\, United States
GEO:28.5642673;-81.3709554
X-APPLE-STRUCTURED-LOCATION;VALUE=URI;X-ADDRESS=The Hideaway Bar 523 Virginia Dr Orlando 32803 United States;X-APPLE-RADIUS=500;X-TITLE=523 Virginia Dr:geo:-81.3709554,28.5642673
END:VEVENT
BEGIN:VEVENT
DTSTART;TZID=America/New_York:20281227T190000
DTEND;TZID=America/New_York:20281227T190000
DTSTAMP:20260420T043900
CREATED:20260105T003248Z
LAST-MODIFIED:20260105T053634Z
UID:10008998-1861556400-1861556400@epictriviafl.com
SUMMARY:Music Bingo
DESCRIPTION:
URL:https://epictriviafl.com/event/music-bingo-hideaway/2028-12-27/
LOCATION:The Hideaway Bar\, 523 Virginia Dr\, Orlando\, 32803\, United States
GEO:28.5642673;-81.3709554
X-APPLE-STRUCTURED-LOCATION;VALUE=URI;X-ADDRESS=The Hideaway Bar 523 Virginia Dr Orlando 32803 United States;X-APPLE-RADIUS=500;X-TITLE=523 Virginia Dr:geo:-81.3709554,28.5642673
END:VEVENT
BEGIN:VEVENT
DTSTART;TZID=America/New_York:20290103T190000
DTEND;TZID=America/New_York:20290103T190000
DTSTAMP:20260420T043900
CREATED:20260105T003248Z
LAST-MODIFIED:20260105T053634Z
UID:10008999-1862161200-1862161200@epictriviafl.com
SUMMARY:Music Bingo
DESCRIPTION:
URL:https://epictriviafl.com/event/music-bingo-hideaway/2029-01-03/
LOCATION:The Hideaway Bar\, 523 Virginia Dr\, Orlando\, 32803\, United States
GEO:28.5642673;-81.3709554
X-APPLE-STRUCTURED-LOCATION;VALUE=URI;X-ADDRESS=The Hideaway Bar 523 Virginia Dr Orlando 32803 United States;X-APPLE-RADIUS=500;X-TITLE=523 Virginia Dr:geo:-81.3709554,28.5642673
END:VEVENT
BEGIN:VEVENT
DTSTART;TZID=America/New_York:20290110T190000
DTEND;TZID=America/New_York:20290110T190000
DTSTAMP:20260420T043900
CREATED:20260105T003248Z
LAST-MODIFIED:20260105T053634Z
UID:10009000-1862766000-1862766000@epictriviafl.com
SUMMARY:Music Bingo
DESCRIPTION:
URL:https://epictriviafl.com/event/music-bingo-hideaway/2029-01-10/
LOCATION:The Hideaway Bar\, 523 Virginia Dr\, Orlando\, 32803\, United States
GEO:28.5642673;-81.3709554
X-APPLE-STRUCTURED-LOCATION;VALUE=URI;X-ADDRESS=The Hideaway Bar 523 Virginia Dr Orlando 32803 United States;X-APPLE-RADIUS=500;X-TITLE=523 Virginia Dr:geo:-81.3709554,28.5642673
END:VEVENT
BEGIN:VEVENT
DTSTART;TZID=America/New_York:20290117T190000
DTEND;TZID=America/New_York:20290117T190000
DTSTAMP:20260420T043900
CREATED:20260105T003248Z
LAST-MODIFIED:20260105T053634Z
UID:10009001-1863370800-1863370800@epictriviafl.com
SUMMARY:Music Bingo
DESCRIPTION:
URL:https://epictriviafl.com/event/music-bingo-hideaway/2029-01-17/
LOCATION:The Hideaway Bar\, 523 Virginia Dr\, Orlando\, 32803\, United States
GEO:28.5642673;-81.3709554
X-APPLE-STRUCTURED-LOCATION;VALUE=URI;X-ADDRESS=The Hideaway Bar 523 Virginia Dr Orlando 32803 United States;X-APPLE-RADIUS=500;X-TITLE=523 Virginia Dr:geo:-81.3709554,28.5642673
END:VEVENT
BEGIN:VEVENT
DTSTART;TZID=America/New_York:20290124T190000
DTEND;TZID=America/New_York:20290124T190000
DTSTAMP:20260420T043900
CREATED:20260105T003248Z
LAST-MODIFIED:20260105T053634Z
UID:10009002-1863975600-1863975600@epictriviafl.com
SUMMARY:Music Bingo
DESCRIPTION:
URL:https://epictriviafl.com/event/music-bingo-hideaway/2029-01-24/
LOCATION:The Hideaway Bar\, 523 Virginia Dr\, Orlando\, 32803\, United States
GEO:28.5642673;-81.3709554
X-APPLE-STRUCTURED-LOCATION;VALUE=URI;X-ADDRESS=The Hideaway Bar 523 Virginia Dr Orlando 32803 United States;X-APPLE-RADIUS=500;X-TITLE=523 Virginia Dr:geo:-81.3709554,28.5642673
END:VEVENT
BEGIN:VEVENT
DTSTART;TZID=America/New_York:20290131T190000
DTEND;TZID=America/New_York:20290131T190000
DTSTAMP:20260420T043900
CREATED:20260105T003248Z
LAST-MODIFIED:20260105T053634Z
UID:10009003-1864580400-1864580400@epictriviafl.com
SUMMARY:Music Bingo
DESCRIPTION:
URL:https://epictriviafl.com/event/music-bingo-hideaway/2029-01-31/
LOCATION:The Hideaway Bar\, 523 Virginia Dr\, Orlando\, 32803\, United States
GEO:28.5642673;-81.3709554
X-APPLE-STRUCTURED-LOCATION;VALUE=URI;X-ADDRESS=The Hideaway Bar 523 Virginia Dr Orlando 32803 United States;X-APPLE-RADIUS=500;X-TITLE=523 Virginia Dr:geo:-81.3709554,28.5642673
END:VEVENT
BEGIN:VEVENT
DTSTART;TZID=America/New_York:20290207T190000
DTEND;TZID=America/New_York:20290207T190000
DTSTAMP:20260420T043900
CREATED:20260105T003248Z
LAST-MODIFIED:20260105T053634Z
UID:10009004-1865185200-1865185200@epictriviafl.com
SUMMARY:Music Bingo
DESCRIPTION:
URL:https://epictriviafl.com/event/music-bingo-hideaway/2029-02-07/
LOCATION:The Hideaway Bar\, 523 Virginia Dr\, Orlando\, 32803\, United States
GEO:28.5642673;-81.3709554
X-APPLE-STRUCTURED-LOCATION;VALUE=URI;X-ADDRESS=The Hideaway Bar 523 Virginia Dr Orlando 32803 United States;X-APPLE-RADIUS=500;X-TITLE=523 Virginia Dr:geo:-81.3709554,28.5642673
END:VEVENT
BEGIN:VEVENT
DTSTART;TZID=America/New_York:20290214T190000
DTEND;TZID=America/New_York:20290214T190000
DTSTAMP:20260420T043900
CREATED:20260105T003248Z
LAST-MODIFIED:20260105T053634Z
UID:10009005-1865790000-1865790000@epictriviafl.com
SUMMARY:Music Bingo
DESCRIPTION:
URL:https://epictriviafl.com/event/music-bingo-hideaway/2029-02-14/
LOCATION:The Hideaway Bar\, 523 Virginia Dr\, Orlando\, 32803\, United States
GEO:28.5642673;-81.3709554
X-APPLE-STRUCTURED-LOCATION;VALUE=URI;X-ADDRESS=The Hideaway Bar 523 Virginia Dr Orlando 32803 United States;X-APPLE-RADIUS=500;X-TITLE=523 Virginia Dr:geo:-81.3709554,28.5642673
END:VEVENT
BEGIN:VEVENT
DTSTART;TZID=America/New_York:20290221T190000
DTEND;TZID=America/New_York:20290221T190000
DTSTAMP:20260420T043900
CREATED:20260105T003248Z
LAST-MODIFIED:20260105T053634Z
UID:10009006-1866394800-1866394800@epictriviafl.com
SUMMARY:Music Bingo
DESCRIPTION:
URL:https://epictriviafl.com/event/music-bingo-hideaway/2029-02-21/
LOCATION:The Hideaway Bar\, 523 Virginia Dr\, Orlando\, 32803\, United States
GEO:28.5642673;-81.3709554
X-APPLE-STRUCTURED-LOCATION;VALUE=URI;X-ADDRESS=The Hideaway Bar 523 Virginia Dr Orlando 32803 United States;X-APPLE-RADIUS=500;X-TITLE=523 Virginia Dr:geo:-81.3709554,28.5642673
END:VEVENT
BEGIN:VEVENT
DTSTART;TZID=America/New_York:20290228T190000
DTEND;TZID=America/New_York:20290228T190000
DTSTAMP:20260420T043900
CREATED:20260105T003248Z
LAST-MODIFIED:20260105T053634Z
UID:10009007-1866999600-1866999600@epictriviafl.com
SUMMARY:Music Bingo
DESCRIPTION:
URL:https://epictriviafl.com/event/music-bingo-hideaway/2029-02-28/
LOCATION:The Hideaway Bar\, 523 Virginia Dr\, Orlando\, 32803\, United States
GEO:28.5642673;-81.3709554
X-APPLE-STRUCTURED-LOCATION;VALUE=URI;X-ADDRESS=The Hideaway Bar 523 Virginia Dr Orlando 32803 United States;X-APPLE-RADIUS=500;X-TITLE=523 Virginia Dr:geo:-81.3709554,28.5642673
END:VEVENT
BEGIN:VEVENT
DTSTART;TZID=America/New_York:20290307T190000
DTEND;TZID=America/New_York:20290307T190000
DTSTAMP:20260420T043900
CREATED:20260105T003248Z
LAST-MODIFIED:20260105T053634Z
UID:10009008-1867604400-1867604400@epictriviafl.com
SUMMARY:Music Bingo
DESCRIPTION:
URL:https://epictriviafl.com/event/music-bingo-hideaway/2029-03-07/
LOCATION:The Hideaway Bar\, 523 Virginia Dr\, Orlando\, 32803\, United States
GEO:28.5642673;-81.3709554
X-APPLE-STRUCTURED-LOCATION;VALUE=URI;X-ADDRESS=The Hideaway Bar 523 Virginia Dr Orlando 32803 United States;X-APPLE-RADIUS=500;X-TITLE=523 Virginia Dr:geo:-81.3709554,28.5642673
END:VEVENT
BEGIN:VEVENT
DTSTART;TZID=America/New_York:20290314T190000
DTEND;TZID=America/New_York:20290314T190000
DTSTAMP:20260420T043900
CREATED:20260105T003248Z
LAST-MODIFIED:20260105T053634Z
UID:10009009-1868209200-1868209200@epictriviafl.com
SUMMARY:Music Bingo
DESCRIPTION:
URL:https://epictriviafl.com/event/music-bingo-hideaway/2029-03-14/
LOCATION:The Hideaway Bar\, 523 Virginia Dr\, Orlando\, 32803\, United States
GEO:28.5642673;-81.3709554
X-APPLE-STRUCTURED-LOCATION;VALUE=URI;X-ADDRESS=The Hideaway Bar 523 Virginia Dr Orlando 32803 United States;X-APPLE-RADIUS=500;X-TITLE=523 Virginia Dr:geo:-81.3709554,28.5642673
END:VEVENT
BEGIN:VEVENT
DTSTART;TZID=America/New_York:20290321T190000
DTEND;TZID=America/New_York:20290321T190000
DTSTAMP:20260420T043900
CREATED:20260105T003248Z
LAST-MODIFIED:20260105T053634Z
UID:10009010-1868814000-1868814000@epictriviafl.com
SUMMARY:Music Bingo
DESCRIPTION:
URL:https://epictriviafl.com/event/music-bingo-hideaway/2029-03-21/
LOCATION:The Hideaway Bar\, 523 Virginia Dr\, Orlando\, 32803\, United States
GEO:28.5642673;-81.3709554
X-APPLE-STRUCTURED-LOCATION;VALUE=URI;X-ADDRESS=The Hideaway Bar 523 Virginia Dr Orlando 32803 United States;X-APPLE-RADIUS=500;X-TITLE=523 Virginia Dr:geo:-81.3709554,28.5642673
END:VEVENT
BEGIN:VEVENT
DTSTART;TZID=America/New_York:20290328T190000
DTEND;TZID=America/New_York:20290328T190000
DTSTAMP:20260420T043900
CREATED:20260105T003248Z
LAST-MODIFIED:20260105T053634Z
UID:10009011-1869418800-1869418800@epictriviafl.com
SUMMARY:Music Bingo
DESCRIPTION:
URL:https://epictriviafl.com/event/music-bingo-hideaway/2029-03-28/
LOCATION:The Hideaway Bar\, 523 Virginia Dr\, Orlando\, 32803\, United States
GEO:28.5642673;-81.3709554
X-APPLE-STRUCTURED-LOCATION;VALUE=URI;X-ADDRESS=The Hideaway Bar 523 Virginia Dr Orlando 32803 United States;X-APPLE-RADIUS=500;X-TITLE=523 Virginia Dr:geo:-81.3709554,28.5642673
END:VEVENT
BEGIN:VEVENT
DTSTART;TZID=America/New_York:20290404T190000
DTEND;TZID=America/New_York:20290404T190000
DTSTAMP:20260420T043900
CREATED:20260105T003248Z
LAST-MODIFIED:20260105T053634Z
UID:10009012-1870023600-1870023600@epictriviafl.com
SUMMARY:Music Bingo
DESCRIPTION:
URL:https://epictriviafl.com/event/music-bingo-hideaway/2029-04-04/
LOCATION:The Hideaway Bar\, 523 Virginia Dr\, Orlando\, 32803\, United States
GEO:28.5642673;-81.3709554
X-APPLE-STRUCTURED-LOCATION;VALUE=URI;X-ADDRESS=The Hideaway Bar 523 Virginia Dr Orlando 32803 United States;X-APPLE-RADIUS=500;X-TITLE=523 Virginia Dr:geo:-81.3709554,28.5642673
END:VEVENT
BEGIN:VEVENT
DTSTART;TZID=America/New_York:20290411T190000
DTEND;TZID=America/New_York:20290411T190000
DTSTAMP:20260420T043900
CREATED:20260105T003248Z
LAST-MODIFIED:20260105T053634Z
UID:10009013-1870628400-1870628400@epictriviafl.com
SUMMARY:Music Bingo
DESCRIPTION:
URL:https://epictriviafl.com/event/music-bingo-hideaway/2029-04-11/
LOCATION:The Hideaway Bar\, 523 Virginia Dr\, Orlando\, 32803\, United States
GEO:28.5642673;-81.3709554
X-APPLE-STRUCTURED-LOCATION;VALUE=URI;X-ADDRESS=The Hideaway Bar 523 Virginia Dr Orlando 32803 United States;X-APPLE-RADIUS=500;X-TITLE=523 Virginia Dr:geo:-81.3709554,28.5642673
END:VEVENT
BEGIN:VEVENT
DTSTART;TZID=America/New_York:20290418T190000
DTEND;TZID=America/New_York:20290418T190000
DTSTAMP:20260420T043900
CREATED:20260105T003248Z
LAST-MODIFIED:20260105T053634Z
UID:10009014-1871233200-1871233200@epictriviafl.com
SUMMARY:Music Bingo
DESCRIPTION:
URL:https://epictriviafl.com/event/music-bingo-hideaway/2029-04-18/
LOCATION:The Hideaway Bar\, 523 Virginia Dr\, Orlando\, 32803\, United States
GEO:28.5642673;-81.3709554
X-APPLE-STRUCTURED-LOCATION;VALUE=URI;X-ADDRESS=The Hideaway Bar 523 Virginia Dr Orlando 32803 United States;X-APPLE-RADIUS=500;X-TITLE=523 Virginia Dr:geo:-81.3709554,28.5642673
END:VEVENT
BEGIN:VEVENT
DTSTART;TZID=America/New_York:20290425T190000
DTEND;TZID=America/New_York:20290425T190000
DTSTAMP:20260420T043900
CREATED:20260105T003248Z
LAST-MODIFIED:20260105T053634Z
UID:10009015-1871838000-1871838000@epictriviafl.com
SUMMARY:Music Bingo
DESCRIPTION:
URL:https://epictriviafl.com/event/music-bingo-hideaway/2029-04-25/
LOCATION:The Hideaway Bar\, 523 Virginia Dr\, Orlando\, 32803\, United States
GEO:28.5642673;-81.3709554
X-APPLE-STRUCTURED-LOCATION;VALUE=URI;X-ADDRESS=The Hideaway Bar 523 Virginia Dr Orlando 32803 United States;X-APPLE-RADIUS=500;X-TITLE=523 Virginia Dr:geo:-81.3709554,28.5642673
END:VEVENT
BEGIN:VEVENT
DTSTART;TZID=America/New_York:20290502T190000
DTEND;TZID=America/New_York:20290502T190000
DTSTAMP:20260420T043900
CREATED:20260105T003248Z
LAST-MODIFIED:20260105T053634Z
UID:10009016-1872442800-1872442800@epictriviafl.com
SUMMARY:Music Bingo
DESCRIPTION:
URL:https://epictriviafl.com/event/music-bingo-hideaway/2029-05-02/
LOCATION:The Hideaway Bar\, 523 Virginia Dr\, Orlando\, 32803\, United States
GEO:28.5642673;-81.3709554
X-APPLE-STRUCTURED-LOCATION;VALUE=URI;X-ADDRESS=The Hideaway Bar 523 Virginia Dr Orlando 32803 United States;X-APPLE-RADIUS=500;X-TITLE=523 Virginia Dr:geo:-81.3709554,28.5642673
END:VEVENT
BEGIN:VEVENT
DTSTART;TZID=America/New_York:20290509T190000
DTEND;TZID=America/New_York:20290509T190000
DTSTAMP:20260420T043900
CREATED:20260105T003248Z
LAST-MODIFIED:20260105T053634Z
UID:10009017-1873047600-1873047600@epictriviafl.com
SUMMARY:Music Bingo
DESCRIPTION:
URL:https://epictriviafl.com/event/music-bingo-hideaway/2029-05-09/
LOCATION:The Hideaway Bar\, 523 Virginia Dr\, Orlando\, 32803\, United States
GEO:28.5642673;-81.3709554
X-APPLE-STRUCTURED-LOCATION;VALUE=URI;X-ADDRESS=The Hideaway Bar 523 Virginia Dr Orlando 32803 United States;X-APPLE-RADIUS=500;X-TITLE=523 Virginia Dr:geo:-81.3709554,28.5642673
END:VEVENT
BEGIN:VEVENT
DTSTART;TZID=America/New_York:20290516T190000
DTEND;TZID=America/New_York:20290516T190000
DTSTAMP:20260420T043900
CREATED:20260105T003248Z
LAST-MODIFIED:20260105T053634Z
UID:10009018-1873652400-1873652400@epictriviafl.com
SUMMARY:Music Bingo
DESCRIPTION:
URL:https://epictriviafl.com/event/music-bingo-hideaway/2029-05-16/
LOCATION:The Hideaway Bar\, 523 Virginia Dr\, Orlando\, 32803\, United States
GEO:28.5642673;-81.3709554
X-APPLE-STRUCTURED-LOCATION;VALUE=URI;X-ADDRESS=The Hideaway Bar 523 Virginia Dr Orlando 32803 United States;X-APPLE-RADIUS=500;X-TITLE=523 Virginia Dr:geo:-81.3709554,28.5642673
END:VEVENT
BEGIN:VEVENT
DTSTART;TZID=America/New_York:20290523T190000
DTEND;TZID=America/New_York:20290523T190000
DTSTAMP:20260420T043900
CREATED:20260105T003248Z
LAST-MODIFIED:20260105T053634Z
UID:10009019-1874257200-1874257200@epictriviafl.com
SUMMARY:Music Bingo
DESCRIPTION:
URL:https://epictriviafl.com/event/music-bingo-hideaway/2029-05-23/
LOCATION:The Hideaway Bar\, 523 Virginia Dr\, Orlando\, 32803\, United States
GEO:28.5642673;-81.3709554
X-APPLE-STRUCTURED-LOCATION;VALUE=URI;X-ADDRESS=The Hideaway Bar 523 Virginia Dr Orlando 32803 United States;X-APPLE-RADIUS=500;X-TITLE=523 Virginia Dr:geo:-81.3709554,28.5642673
END:VEVENT
END:VCALENDAR