BEGIN:VCALENDAR
VERSION:2.0
PRODID:-//Epic Trivia - ECPv6.15.18//NONSGML v1.0//EN
CALSCALE:GREGORIAN
METHOD:PUBLISH
X-WR-CALNAME:Epic Trivia
X-ORIGINAL-URL:https://epictriviafl.com
X-WR-CALDESC:Events for Epic Trivia
REFRESH-INTERVAL;VALUE=DURATION:PT1H
X-Robots-Tag:noindex
X-PUBLISHED-TTL:PT1H
BEGIN:VTIMEZONE
TZID:America/New_York
BEGIN:DAYLIGHT
TZOFFSETFROM:-0500
TZOFFSETTO:-0400
TZNAME:EDT
DTSTART:20270314T070000
END:DAYLIGHT
BEGIN:STANDARD
TZOFFSETFROM:-0400
TZOFFSETTO:-0500
TZNAME:EST
DTSTART:20271107T060000
END:STANDARD
BEGIN:DAYLIGHT
TZOFFSETFROM:-0500
TZOFFSETTO:-0400
TZNAME:EDT
DTSTART:20280312T070000
END:DAYLIGHT
BEGIN:STANDARD
TZOFFSETFROM:-0400
TZOFFSETTO:-0500
TZNAME:EST
DTSTART:20281105T060000
END:STANDARD
BEGIN:DAYLIGHT
TZOFFSETFROM:-0500
TZOFFSETTO:-0400
TZNAME:EDT
DTSTART:20290311T070000
END:DAYLIGHT
BEGIN:STANDARD
TZOFFSETFROM:-0400
TZOFFSETTO:-0500
TZNAME:EST
DTSTART:20291104T060000
END:STANDARD
END:VTIMEZONE
BEGIN:VEVENT
DTSTART;TZID=America/New_York:20280111T190000
DTEND;TZID=America/New_York:20280111T190000
DTSTAMP:20260421T113811
CREATED:20260105T003048Z
LAST-MODIFIED:20260105T055319Z
UID:10016748-1831230000-1831230000@epictriviafl.com
SUMMARY:Trivia
DESCRIPTION:
URL:https://epictriviafl.com/event/trivia-teak/2028-01-11/
LOCATION:Teak Neighborhood Grill\, 6400 Times Square Ave\, Orlando\, FL 32835 USA
GEO:28.5088925;-81.4706804
X-APPLE-STRUCTURED-LOCATION;VALUE=URI;X-ADDRESS=Teak Neighborhood Grill 6400 Times Square Ave Orlando FL 32835 USA;X-APPLE-RADIUS=500;X-TITLE=6400 Times Square Ave\, Orlando\, FL 32835 USA:geo:-81.4706804,28.5088925
END:VEVENT
BEGIN:VEVENT
DTSTART;TZID=America/New_York:20280112T190000
DTEND;TZID=America/New_York:20280112T190000
DTSTAMP:20260421T113811
CREATED:20260105T003133Z
LAST-MODIFIED:20260105T054520Z
UID:10013628-1831316400-1831316400@epictriviafl.com
SUMMARY:Music Bingo
DESCRIPTION:
URL:https://epictriviafl.com/event/music-bingo-teak/2028-01-12/
LOCATION:Teak Neighborhood Grill\, 6400 Times Square Ave\, Orlando\, FL 32835 USA
GEO:28.5088925;-81.4706804
X-APPLE-STRUCTURED-LOCATION;VALUE=URI;X-ADDRESS=Teak Neighborhood Grill 6400 Times Square Ave Orlando FL 32835 USA;X-APPLE-RADIUS=500;X-TITLE=6400 Times Square Ave\, Orlando\, FL 32835 USA:geo:-81.4706804,28.5088925
END:VEVENT
BEGIN:VEVENT
DTSTART;TZID=America/New_York:20280114T200000
DTEND;TZID=America/New_York:20280114T200000
DTSTAMP:20260421T113811
CREATED:20260105T003217Z
LAST-MODIFIED:20260105T053742Z
UID:10009468-1831492800-1831492800@epictriviafl.com
SUMMARY:Trivia
DESCRIPTION:
URL:https://epictriviafl.com/event/trivia-teak-2/2028-01-14/
LOCATION:Teak Neighborhood Grill\, 6400 Times Square Ave\, Orlando\, FL 32835 USA
GEO:28.5088925;-81.4706804
X-APPLE-STRUCTURED-LOCATION;VALUE=URI;X-ADDRESS=Teak Neighborhood Grill 6400 Times Square Ave Orlando FL 32835 USA;X-APPLE-RADIUS=500;X-TITLE=6400 Times Square Ave\, Orlando\, FL 32835 USA:geo:-81.4706804,28.5088925
END:VEVENT
BEGIN:VEVENT
DTSTART;TZID=America/New_York:20280115T133000
DTEND;TZID=America/New_York:20280115T133000
DTSTAMP:20260421T113811
CREATED:20260105T003232Z
LAST-MODIFIED:20260105T060241Z
UID:10021170-1831555800-1831555800@epictriviafl.com
SUMMARY:Music Bingo
DESCRIPTION:
URL:https://epictriviafl.com/event/music-bingo-teak-2/2028-01-15/
LOCATION:Teak Neighborhood Grill\, 6400 Times Square Ave\, Orlando\, FL 32835 USA
GEO:28.5088925;-81.4706804
X-APPLE-STRUCTURED-LOCATION;VALUE=URI;X-ADDRESS=Teak Neighborhood Grill 6400 Times Square Ave Orlando FL 32835 USA;X-APPLE-RADIUS=500;X-TITLE=6400 Times Square Ave\, Orlando\, FL 32835 USA:geo:-81.4706804,28.5088925
END:VEVENT
BEGIN:VEVENT
DTSTART;TZID=America/New_York:20280118T190000
DTEND;TZID=America/New_York:20280118T190000
DTSTAMP:20260421T113811
CREATED:20260105T003048Z
LAST-MODIFIED:20260105T055319Z
UID:10016749-1831834800-1831834800@epictriviafl.com
SUMMARY:Trivia
DESCRIPTION:
URL:https://epictriviafl.com/event/trivia-teak/2028-01-18/
LOCATION:Teak Neighborhood Grill\, 6400 Times Square Ave\, Orlando\, FL 32835 USA
GEO:28.5088925;-81.4706804
X-APPLE-STRUCTURED-LOCATION;VALUE=URI;X-ADDRESS=Teak Neighborhood Grill 6400 Times Square Ave Orlando FL 32835 USA;X-APPLE-RADIUS=500;X-TITLE=6400 Times Square Ave\, Orlando\, FL 32835 USA:geo:-81.4706804,28.5088925
END:VEVENT
BEGIN:VEVENT
DTSTART;TZID=America/New_York:20280119T190000
DTEND;TZID=America/New_York:20280119T190000
DTSTAMP:20260421T113811
CREATED:20260105T003133Z
LAST-MODIFIED:20260105T054520Z
UID:10013629-1831921200-1831921200@epictriviafl.com
SUMMARY:Music Bingo
DESCRIPTION:
URL:https://epictriviafl.com/event/music-bingo-teak/2028-01-19/
LOCATION:Teak Neighborhood Grill\, 6400 Times Square Ave\, Orlando\, FL 32835 USA
GEO:28.5088925;-81.4706804
X-APPLE-STRUCTURED-LOCATION;VALUE=URI;X-ADDRESS=Teak Neighborhood Grill 6400 Times Square Ave Orlando FL 32835 USA;X-APPLE-RADIUS=500;X-TITLE=6400 Times Square Ave\, Orlando\, FL 32835 USA:geo:-81.4706804,28.5088925
END:VEVENT
BEGIN:VEVENT
DTSTART;TZID=America/New_York:20280121T200000
DTEND;TZID=America/New_York:20280121T200000
DTSTAMP:20260421T113811
CREATED:20260105T003217Z
LAST-MODIFIED:20260105T053742Z
UID:10009469-1832097600-1832097600@epictriviafl.com
SUMMARY:Trivia
DESCRIPTION:
URL:https://epictriviafl.com/event/trivia-teak-2/2028-01-21/
LOCATION:Teak Neighborhood Grill\, 6400 Times Square Ave\, Orlando\, FL 32835 USA
GEO:28.5088925;-81.4706804
X-APPLE-STRUCTURED-LOCATION;VALUE=URI;X-ADDRESS=Teak Neighborhood Grill 6400 Times Square Ave Orlando FL 32835 USA;X-APPLE-RADIUS=500;X-TITLE=6400 Times Square Ave\, Orlando\, FL 32835 USA:geo:-81.4706804,28.5088925
END:VEVENT
BEGIN:VEVENT
DTSTART;TZID=America/New_York:20280122T133000
DTEND;TZID=America/New_York:20280122T133000
DTSTAMP:20260421T113811
CREATED:20260105T003232Z
LAST-MODIFIED:20260105T060241Z
UID:10021171-1832160600-1832160600@epictriviafl.com
SUMMARY:Music Bingo
DESCRIPTION:
URL:https://epictriviafl.com/event/music-bingo-teak-2/2028-01-22/
LOCATION:Teak Neighborhood Grill\, 6400 Times Square Ave\, Orlando\, FL 32835 USA
GEO:28.5088925;-81.4706804
X-APPLE-STRUCTURED-LOCATION;VALUE=URI;X-ADDRESS=Teak Neighborhood Grill 6400 Times Square Ave Orlando FL 32835 USA;X-APPLE-RADIUS=500;X-TITLE=6400 Times Square Ave\, Orlando\, FL 32835 USA:geo:-81.4706804,28.5088925
END:VEVENT
BEGIN:VEVENT
DTSTART;TZID=America/New_York:20280125T190000
DTEND;TZID=America/New_York:20280125T190000
DTSTAMP:20260421T113811
CREATED:20260105T003048Z
LAST-MODIFIED:20260105T055319Z
UID:10016750-1832439600-1832439600@epictriviafl.com
SUMMARY:Trivia
DESCRIPTION:
URL:https://epictriviafl.com/event/trivia-teak/2028-01-25/
LOCATION:Teak Neighborhood Grill\, 6400 Times Square Ave\, Orlando\, FL 32835 USA
GEO:28.5088925;-81.4706804
X-APPLE-STRUCTURED-LOCATION;VALUE=URI;X-ADDRESS=Teak Neighborhood Grill 6400 Times Square Ave Orlando FL 32835 USA;X-APPLE-RADIUS=500;X-TITLE=6400 Times Square Ave\, Orlando\, FL 32835 USA:geo:-81.4706804,28.5088925
END:VEVENT
BEGIN:VEVENT
DTSTART;TZID=America/New_York:20280126T190000
DTEND;TZID=America/New_York:20280126T190000
DTSTAMP:20260421T113811
CREATED:20260105T003133Z
LAST-MODIFIED:20260105T054520Z
UID:10013630-1832526000-1832526000@epictriviafl.com
SUMMARY:Music Bingo
DESCRIPTION:
URL:https://epictriviafl.com/event/music-bingo-teak/2028-01-26/
LOCATION:Teak Neighborhood Grill\, 6400 Times Square Ave\, Orlando\, FL 32835 USA
GEO:28.5088925;-81.4706804
X-APPLE-STRUCTURED-LOCATION;VALUE=URI;X-ADDRESS=Teak Neighborhood Grill 6400 Times Square Ave Orlando FL 32835 USA;X-APPLE-RADIUS=500;X-TITLE=6400 Times Square Ave\, Orlando\, FL 32835 USA:geo:-81.4706804,28.5088925
END:VEVENT
BEGIN:VEVENT
DTSTART;TZID=America/New_York:20280128T200000
DTEND;TZID=America/New_York:20280128T200000
DTSTAMP:20260421T113811
CREATED:20260105T003217Z
LAST-MODIFIED:20260105T053742Z
UID:10009470-1832702400-1832702400@epictriviafl.com
SUMMARY:Trivia
DESCRIPTION:
URL:https://epictriviafl.com/event/trivia-teak-2/2028-01-28/
LOCATION:Teak Neighborhood Grill\, 6400 Times Square Ave\, Orlando\, FL 32835 USA
GEO:28.5088925;-81.4706804
X-APPLE-STRUCTURED-LOCATION;VALUE=URI;X-ADDRESS=Teak Neighborhood Grill 6400 Times Square Ave Orlando FL 32835 USA;X-APPLE-RADIUS=500;X-TITLE=6400 Times Square Ave\, Orlando\, FL 32835 USA:geo:-81.4706804,28.5088925
END:VEVENT
BEGIN:VEVENT
DTSTART;TZID=America/New_York:20280129T133000
DTEND;TZID=America/New_York:20280129T133000
DTSTAMP:20260421T113811
CREATED:20260105T003232Z
LAST-MODIFIED:20260105T060241Z
UID:10021172-1832765400-1832765400@epictriviafl.com
SUMMARY:Music Bingo
DESCRIPTION:
URL:https://epictriviafl.com/event/music-bingo-teak-2/2028-01-29/
LOCATION:Teak Neighborhood Grill\, 6400 Times Square Ave\, Orlando\, FL 32835 USA
GEO:28.5088925;-81.4706804
X-APPLE-STRUCTURED-LOCATION;VALUE=URI;X-ADDRESS=Teak Neighborhood Grill 6400 Times Square Ave Orlando FL 32835 USA;X-APPLE-RADIUS=500;X-TITLE=6400 Times Square Ave\, Orlando\, FL 32835 USA:geo:-81.4706804,28.5088925
END:VEVENT
BEGIN:VEVENT
DTSTART;TZID=America/New_York:20280201T190000
DTEND;TZID=America/New_York:20280201T190000
DTSTAMP:20260421T113811
CREATED:20260105T003048Z
LAST-MODIFIED:20260105T055319Z
UID:10016751-1833044400-1833044400@epictriviafl.com
SUMMARY:Trivia
DESCRIPTION:
URL:https://epictriviafl.com/event/trivia-teak/2028-02-01/
LOCATION:Teak Neighborhood Grill\, 6400 Times Square Ave\, Orlando\, FL 32835 USA
GEO:28.5088925;-81.4706804
X-APPLE-STRUCTURED-LOCATION;VALUE=URI;X-ADDRESS=Teak Neighborhood Grill 6400 Times Square Ave Orlando FL 32835 USA;X-APPLE-RADIUS=500;X-TITLE=6400 Times Square Ave\, Orlando\, FL 32835 USA:geo:-81.4706804,28.5088925
END:VEVENT
BEGIN:VEVENT
DTSTART;TZID=America/New_York:20280202T190000
DTEND;TZID=America/New_York:20280202T190000
DTSTAMP:20260421T113811
CREATED:20260105T003133Z
LAST-MODIFIED:20260105T054520Z
UID:10013631-1833130800-1833130800@epictriviafl.com
SUMMARY:Music Bingo
DESCRIPTION:
URL:https://epictriviafl.com/event/music-bingo-teak/2028-02-02/
LOCATION:Teak Neighborhood Grill\, 6400 Times Square Ave\, Orlando\, FL 32835 USA
GEO:28.5088925;-81.4706804
X-APPLE-STRUCTURED-LOCATION;VALUE=URI;X-ADDRESS=Teak Neighborhood Grill 6400 Times Square Ave Orlando FL 32835 USA;X-APPLE-RADIUS=500;X-TITLE=6400 Times Square Ave\, Orlando\, FL 32835 USA:geo:-81.4706804,28.5088925
END:VEVENT
BEGIN:VEVENT
DTSTART;TZID=America/New_York:20280204T200000
DTEND;TZID=America/New_York:20280204T200000
DTSTAMP:20260421T113811
CREATED:20260105T003217Z
LAST-MODIFIED:20260105T053742Z
UID:10009471-1833307200-1833307200@epictriviafl.com
SUMMARY:Trivia
DESCRIPTION:
URL:https://epictriviafl.com/event/trivia-teak-2/2028-02-04/
LOCATION:Teak Neighborhood Grill\, 6400 Times Square Ave\, Orlando\, FL 32835 USA
GEO:28.5088925;-81.4706804
X-APPLE-STRUCTURED-LOCATION;VALUE=URI;X-ADDRESS=Teak Neighborhood Grill 6400 Times Square Ave Orlando FL 32835 USA;X-APPLE-RADIUS=500;X-TITLE=6400 Times Square Ave\, Orlando\, FL 32835 USA:geo:-81.4706804,28.5088925
END:VEVENT
BEGIN:VEVENT
DTSTART;TZID=America/New_York:20280205T133000
DTEND;TZID=America/New_York:20280205T133000
DTSTAMP:20260421T113811
CREATED:20260105T003232Z
LAST-MODIFIED:20260105T060241Z
UID:10021173-1833370200-1833370200@epictriviafl.com
SUMMARY:Music Bingo
DESCRIPTION:
URL:https://epictriviafl.com/event/music-bingo-teak-2/2028-02-05/
LOCATION:Teak Neighborhood Grill\, 6400 Times Square Ave\, Orlando\, FL 32835 USA
GEO:28.5088925;-81.4706804
X-APPLE-STRUCTURED-LOCATION;VALUE=URI;X-ADDRESS=Teak Neighborhood Grill 6400 Times Square Ave Orlando FL 32835 USA;X-APPLE-RADIUS=500;X-TITLE=6400 Times Square Ave\, Orlando\, FL 32835 USA:geo:-81.4706804,28.5088925
END:VEVENT
BEGIN:VEVENT
DTSTART;TZID=America/New_York:20280208T190000
DTEND;TZID=America/New_York:20280208T190000
DTSTAMP:20260421T113811
CREATED:20260105T003048Z
LAST-MODIFIED:20260105T055319Z
UID:10016752-1833649200-1833649200@epictriviafl.com
SUMMARY:Trivia
DESCRIPTION:
URL:https://epictriviafl.com/event/trivia-teak/2028-02-08/
LOCATION:Teak Neighborhood Grill\, 6400 Times Square Ave\, Orlando\, FL 32835 USA
GEO:28.5088925;-81.4706804
X-APPLE-STRUCTURED-LOCATION;VALUE=URI;X-ADDRESS=Teak Neighborhood Grill 6400 Times Square Ave Orlando FL 32835 USA;X-APPLE-RADIUS=500;X-TITLE=6400 Times Square Ave\, Orlando\, FL 32835 USA:geo:-81.4706804,28.5088925
END:VEVENT
BEGIN:VEVENT
DTSTART;TZID=America/New_York:20280209T190000
DTEND;TZID=America/New_York:20280209T190000
DTSTAMP:20260421T113811
CREATED:20260105T003133Z
LAST-MODIFIED:20260105T054520Z
UID:10013632-1833735600-1833735600@epictriviafl.com
SUMMARY:Music Bingo
DESCRIPTION:
URL:https://epictriviafl.com/event/music-bingo-teak/2028-02-09/
LOCATION:Teak Neighborhood Grill\, 6400 Times Square Ave\, Orlando\, FL 32835 USA
GEO:28.5088925;-81.4706804
X-APPLE-STRUCTURED-LOCATION;VALUE=URI;X-ADDRESS=Teak Neighborhood Grill 6400 Times Square Ave Orlando FL 32835 USA;X-APPLE-RADIUS=500;X-TITLE=6400 Times Square Ave\, Orlando\, FL 32835 USA:geo:-81.4706804,28.5088925
END:VEVENT
BEGIN:VEVENT
DTSTART;TZID=America/New_York:20280211T200000
DTEND;TZID=America/New_York:20280211T200000
DTSTAMP:20260421T113811
CREATED:20260105T003217Z
LAST-MODIFIED:20260105T053742Z
UID:10009472-1833912000-1833912000@epictriviafl.com
SUMMARY:Trivia
DESCRIPTION:
URL:https://epictriviafl.com/event/trivia-teak-2/2028-02-11/
LOCATION:Teak Neighborhood Grill\, 6400 Times Square Ave\, Orlando\, FL 32835 USA
GEO:28.5088925;-81.4706804
X-APPLE-STRUCTURED-LOCATION;VALUE=URI;X-ADDRESS=Teak Neighborhood Grill 6400 Times Square Ave Orlando FL 32835 USA;X-APPLE-RADIUS=500;X-TITLE=6400 Times Square Ave\, Orlando\, FL 32835 USA:geo:-81.4706804,28.5088925
END:VEVENT
BEGIN:VEVENT
DTSTART;TZID=America/New_York:20280212T133000
DTEND;TZID=America/New_York:20280212T133000
DTSTAMP:20260421T113811
CREATED:20260105T003232Z
LAST-MODIFIED:20260105T060241Z
UID:10021174-1833975000-1833975000@epictriviafl.com
SUMMARY:Music Bingo
DESCRIPTION:
URL:https://epictriviafl.com/event/music-bingo-teak-2/2028-02-12/
LOCATION:Teak Neighborhood Grill\, 6400 Times Square Ave\, Orlando\, FL 32835 USA
GEO:28.5088925;-81.4706804
X-APPLE-STRUCTURED-LOCATION;VALUE=URI;X-ADDRESS=Teak Neighborhood Grill 6400 Times Square Ave Orlando FL 32835 USA;X-APPLE-RADIUS=500;X-TITLE=6400 Times Square Ave\, Orlando\, FL 32835 USA:geo:-81.4706804,28.5088925
END:VEVENT
BEGIN:VEVENT
DTSTART;TZID=America/New_York:20280215T190000
DTEND;TZID=America/New_York:20280215T190000
DTSTAMP:20260421T113811
CREATED:20260105T003048Z
LAST-MODIFIED:20260105T055319Z
UID:10016753-1834254000-1834254000@epictriviafl.com
SUMMARY:Trivia
DESCRIPTION:
URL:https://epictriviafl.com/event/trivia-teak/2028-02-15/
LOCATION:Teak Neighborhood Grill\, 6400 Times Square Ave\, Orlando\, FL 32835 USA
GEO:28.5088925;-81.4706804
X-APPLE-STRUCTURED-LOCATION;VALUE=URI;X-ADDRESS=Teak Neighborhood Grill 6400 Times Square Ave Orlando FL 32835 USA;X-APPLE-RADIUS=500;X-TITLE=6400 Times Square Ave\, Orlando\, FL 32835 USA:geo:-81.4706804,28.5088925
END:VEVENT
BEGIN:VEVENT
DTSTART;TZID=America/New_York:20280216T190000
DTEND;TZID=America/New_York:20280216T190000
DTSTAMP:20260421T113811
CREATED:20260105T003133Z
LAST-MODIFIED:20260105T054520Z
UID:10013633-1834340400-1834340400@epictriviafl.com
SUMMARY:Music Bingo
DESCRIPTION:
URL:https://epictriviafl.com/event/music-bingo-teak/2028-02-16/
LOCATION:Teak Neighborhood Grill\, 6400 Times Square Ave\, Orlando\, FL 32835 USA
GEO:28.5088925;-81.4706804
X-APPLE-STRUCTURED-LOCATION;VALUE=URI;X-ADDRESS=Teak Neighborhood Grill 6400 Times Square Ave Orlando FL 32835 USA;X-APPLE-RADIUS=500;X-TITLE=6400 Times Square Ave\, Orlando\, FL 32835 USA:geo:-81.4706804,28.5088925
END:VEVENT
BEGIN:VEVENT
DTSTART;TZID=America/New_York:20280218T200000
DTEND;TZID=America/New_York:20280218T200000
DTSTAMP:20260421T113811
CREATED:20260105T003217Z
LAST-MODIFIED:20260105T053742Z
UID:10009473-1834516800-1834516800@epictriviafl.com
SUMMARY:Trivia
DESCRIPTION:
URL:https://epictriviafl.com/event/trivia-teak-2/2028-02-18/
LOCATION:Teak Neighborhood Grill\, 6400 Times Square Ave\, Orlando\, FL 32835 USA
GEO:28.5088925;-81.4706804
X-APPLE-STRUCTURED-LOCATION;VALUE=URI;X-ADDRESS=Teak Neighborhood Grill 6400 Times Square Ave Orlando FL 32835 USA;X-APPLE-RADIUS=500;X-TITLE=6400 Times Square Ave\, Orlando\, FL 32835 USA:geo:-81.4706804,28.5088925
END:VEVENT
BEGIN:VEVENT
DTSTART;TZID=America/New_York:20280219T133000
DTEND;TZID=America/New_York:20280219T133000
DTSTAMP:20260421T113811
CREATED:20260105T003232Z
LAST-MODIFIED:20260105T060241Z
UID:10021175-1834579800-1834579800@epictriviafl.com
SUMMARY:Music Bingo
DESCRIPTION:
URL:https://epictriviafl.com/event/music-bingo-teak-2/2028-02-19/
LOCATION:Teak Neighborhood Grill\, 6400 Times Square Ave\, Orlando\, FL 32835 USA
GEO:28.5088925;-81.4706804
X-APPLE-STRUCTURED-LOCATION;VALUE=URI;X-ADDRESS=Teak Neighborhood Grill 6400 Times Square Ave Orlando FL 32835 USA;X-APPLE-RADIUS=500;X-TITLE=6400 Times Square Ave\, Orlando\, FL 32835 USA:geo:-81.4706804,28.5088925
END:VEVENT
BEGIN:VEVENT
DTSTART;TZID=America/New_York:20280222T190000
DTEND;TZID=America/New_York:20280222T190000
DTSTAMP:20260421T113811
CREATED:20260105T003048Z
LAST-MODIFIED:20260105T055319Z
UID:10016754-1834858800-1834858800@epictriviafl.com
SUMMARY:Trivia
DESCRIPTION:
URL:https://epictriviafl.com/event/trivia-teak/2028-02-22/
LOCATION:Teak Neighborhood Grill\, 6400 Times Square Ave\, Orlando\, FL 32835 USA
GEO:28.5088925;-81.4706804
X-APPLE-STRUCTURED-LOCATION;VALUE=URI;X-ADDRESS=Teak Neighborhood Grill 6400 Times Square Ave Orlando FL 32835 USA;X-APPLE-RADIUS=500;X-TITLE=6400 Times Square Ave\, Orlando\, FL 32835 USA:geo:-81.4706804,28.5088925
END:VEVENT
BEGIN:VEVENT
DTSTART;TZID=America/New_York:20280223T190000
DTEND;TZID=America/New_York:20280223T190000
DTSTAMP:20260421T113811
CREATED:20260105T003133Z
LAST-MODIFIED:20260105T054520Z
UID:10013634-1834945200-1834945200@epictriviafl.com
SUMMARY:Music Bingo
DESCRIPTION:
URL:https://epictriviafl.com/event/music-bingo-teak/2028-02-23/
LOCATION:Teak Neighborhood Grill\, 6400 Times Square Ave\, Orlando\, FL 32835 USA
GEO:28.5088925;-81.4706804
X-APPLE-STRUCTURED-LOCATION;VALUE=URI;X-ADDRESS=Teak Neighborhood Grill 6400 Times Square Ave Orlando FL 32835 USA;X-APPLE-RADIUS=500;X-TITLE=6400 Times Square Ave\, Orlando\, FL 32835 USA:geo:-81.4706804,28.5088925
END:VEVENT
BEGIN:VEVENT
DTSTART;TZID=America/New_York:20280225T200000
DTEND;TZID=America/New_York:20280225T200000
DTSTAMP:20260421T113811
CREATED:20260105T003217Z
LAST-MODIFIED:20260105T053742Z
UID:10009474-1835121600-1835121600@epictriviafl.com
SUMMARY:Trivia
DESCRIPTION:
URL:https://epictriviafl.com/event/trivia-teak-2/2028-02-25/
LOCATION:Teak Neighborhood Grill\, 6400 Times Square Ave\, Orlando\, FL 32835 USA
GEO:28.5088925;-81.4706804
X-APPLE-STRUCTURED-LOCATION;VALUE=URI;X-ADDRESS=Teak Neighborhood Grill 6400 Times Square Ave Orlando FL 32835 USA;X-APPLE-RADIUS=500;X-TITLE=6400 Times Square Ave\, Orlando\, FL 32835 USA:geo:-81.4706804,28.5088925
END:VEVENT
BEGIN:VEVENT
DTSTART;TZID=America/New_York:20280226T133000
DTEND;TZID=America/New_York:20280226T133000
DTSTAMP:20260421T113811
CREATED:20260105T003232Z
LAST-MODIFIED:20260105T060241Z
UID:10021176-1835184600-1835184600@epictriviafl.com
SUMMARY:Music Bingo
DESCRIPTION:
URL:https://epictriviafl.com/event/music-bingo-teak-2/2028-02-26/
LOCATION:Teak Neighborhood Grill\, 6400 Times Square Ave\, Orlando\, FL 32835 USA
GEO:28.5088925;-81.4706804
X-APPLE-STRUCTURED-LOCATION;VALUE=URI;X-ADDRESS=Teak Neighborhood Grill 6400 Times Square Ave Orlando FL 32835 USA;X-APPLE-RADIUS=500;X-TITLE=6400 Times Square Ave\, Orlando\, FL 32835 USA:geo:-81.4706804,28.5088925
END:VEVENT
BEGIN:VEVENT
DTSTART;TZID=America/New_York:20280229T190000
DTEND;TZID=America/New_York:20280229T190000
DTSTAMP:20260421T113811
CREATED:20260105T003048Z
LAST-MODIFIED:20260105T055319Z
UID:10016755-1835463600-1835463600@epictriviafl.com
SUMMARY:Trivia
DESCRIPTION:
URL:https://epictriviafl.com/event/trivia-teak/2028-02-29/
LOCATION:Teak Neighborhood Grill\, 6400 Times Square Ave\, Orlando\, FL 32835 USA
GEO:28.5088925;-81.4706804
X-APPLE-STRUCTURED-LOCATION;VALUE=URI;X-ADDRESS=Teak Neighborhood Grill 6400 Times Square Ave Orlando FL 32835 USA;X-APPLE-RADIUS=500;X-TITLE=6400 Times Square Ave\, Orlando\, FL 32835 USA:geo:-81.4706804,28.5088925
END:VEVENT
BEGIN:VEVENT
DTSTART;TZID=America/New_York:20280301T190000
DTEND;TZID=America/New_York:20280301T190000
DTSTAMP:20260421T113811
CREATED:20260105T003133Z
LAST-MODIFIED:20260105T054520Z
UID:10013635-1835550000-1835550000@epictriviafl.com
SUMMARY:Music Bingo
DESCRIPTION:
URL:https://epictriviafl.com/event/music-bingo-teak/2028-03-01/
LOCATION:Teak Neighborhood Grill\, 6400 Times Square Ave\, Orlando\, FL 32835 USA
GEO:28.5088925;-81.4706804
X-APPLE-STRUCTURED-LOCATION;VALUE=URI;X-ADDRESS=Teak Neighborhood Grill 6400 Times Square Ave Orlando FL 32835 USA;X-APPLE-RADIUS=500;X-TITLE=6400 Times Square Ave\, Orlando\, FL 32835 USA:geo:-81.4706804,28.5088925
END:VEVENT
END:VCALENDAR