BEGIN:VCALENDAR
VERSION:2.0
PRODID:-//Epic Trivia - ECPv6.15.18//NONSGML v1.0//EN
CALSCALE:GREGORIAN
METHOD:PUBLISH
X-ORIGINAL-URL:https://epictriviafl.com
X-WR-CALDESC:Events for Epic Trivia
REFRESH-INTERVAL;VALUE=DURATION:PT1H
X-Robots-Tag:noindex
X-PUBLISHED-TTL:PT1H
BEGIN:VTIMEZONE
TZID:America/New_York
BEGIN:DAYLIGHT
TZOFFSETFROM:-0500
TZOFFSETTO:-0400
TZNAME:EDT
DTSTART:20250309T070000
END:DAYLIGHT
BEGIN:STANDARD
TZOFFSETFROM:-0400
TZOFFSETTO:-0500
TZNAME:EST
DTSTART:20251102T060000
END:STANDARD
BEGIN:DAYLIGHT
TZOFFSETFROM:-0500
TZOFFSETTO:-0400
TZNAME:EDT
DTSTART:20260308T070000
END:DAYLIGHT
BEGIN:STANDARD
TZOFFSETFROM:-0400
TZOFFSETTO:-0500
TZNAME:EST
DTSTART:20261101T060000
END:STANDARD
BEGIN:DAYLIGHT
TZOFFSETFROM:-0500
TZOFFSETTO:-0400
TZNAME:EDT
DTSTART:20270314T070000
END:DAYLIGHT
BEGIN:STANDARD
TZOFFSETFROM:-0400
TZOFFSETTO:-0500
TZNAME:EST
DTSTART:20271107T060000
END:STANDARD
END:VTIMEZONE
BEGIN:VEVENT
DTSTART;TZID=America/New_York:20260602T190000
DTEND;TZID=America/New_York:20260602T190000
DTSTAMP:20260419T135458
CREATED:20260105T003048Z
LAST-MODIFIED:20260105T055319Z
UID:10016664-1780426800-1780426800@epictriviafl.com
SUMMARY:Trivia
DESCRIPTION:
URL:https://epictriviafl.com/event/trivia-teak/2026-06-02/
LOCATION:Teak Neighborhood Grill\, 6400 Times Square Ave\, Orlando\, FL 32835 USA
GEO:28.5088925;-81.4706804
X-APPLE-STRUCTURED-LOCATION;VALUE=URI;X-ADDRESS=Teak Neighborhood Grill 6400 Times Square Ave Orlando FL 32835 USA;X-APPLE-RADIUS=500;X-TITLE=6400 Times Square Ave\, Orlando\, FL 32835 USA:geo:-81.4706804,28.5088925
END:VEVENT
BEGIN:VEVENT
DTSTART;TZID=America/New_York:20260603T190000
DTEND;TZID=America/New_York:20260603T190000
DTSTAMP:20260419T135458
CREATED:20260105T003133Z
LAST-MODIFIED:20260105T054520Z
UID:10013544-1780513200-1780513200@epictriviafl.com
SUMMARY:Music Bingo
DESCRIPTION:
URL:https://epictriviafl.com/event/music-bingo-teak/2026-06-03/
LOCATION:Teak Neighborhood Grill\, 6400 Times Square Ave\, Orlando\, FL 32835 USA
GEO:28.5088925;-81.4706804
X-APPLE-STRUCTURED-LOCATION;VALUE=URI;X-ADDRESS=Teak Neighborhood Grill 6400 Times Square Ave Orlando FL 32835 USA;X-APPLE-RADIUS=500;X-TITLE=6400 Times Square Ave\, Orlando\, FL 32835 USA:geo:-81.4706804,28.5088925
END:VEVENT
BEGIN:VEVENT
DTSTART;TZID=America/New_York:20260605T200000
DTEND;TZID=America/New_York:20260605T200000
DTSTAMP:20260419T135458
CREATED:20260105T003217Z
LAST-MODIFIED:20260105T053742Z
UID:10009384-1780689600-1780689600@epictriviafl.com
SUMMARY:Trivia
DESCRIPTION:
URL:https://epictriviafl.com/event/trivia-teak-2/2026-06-05/
LOCATION:Teak Neighborhood Grill\, 6400 Times Square Ave\, Orlando\, FL 32835 USA
GEO:28.5088925;-81.4706804
X-APPLE-STRUCTURED-LOCATION;VALUE=URI;X-ADDRESS=Teak Neighborhood Grill 6400 Times Square Ave Orlando FL 32835 USA;X-APPLE-RADIUS=500;X-TITLE=6400 Times Square Ave\, Orlando\, FL 32835 USA:geo:-81.4706804,28.5088925
END:VEVENT
BEGIN:VEVENT
DTSTART;TZID=America/New_York:20260606T133000
DTEND;TZID=America/New_York:20260606T133000
DTSTAMP:20260419T135458
CREATED:20260105T003232Z
LAST-MODIFIED:20260105T060241Z
UID:10021086-1780752600-1780752600@epictriviafl.com
SUMMARY:Music Bingo
DESCRIPTION:
URL:https://epictriviafl.com/event/music-bingo-teak-2/2026-06-06/
LOCATION:Teak Neighborhood Grill\, 6400 Times Square Ave\, Orlando\, FL 32835 USA
GEO:28.5088925;-81.4706804
X-APPLE-STRUCTURED-LOCATION;VALUE=URI;X-ADDRESS=Teak Neighborhood Grill 6400 Times Square Ave Orlando FL 32835 USA;X-APPLE-RADIUS=500;X-TITLE=6400 Times Square Ave\, Orlando\, FL 32835 USA:geo:-81.4706804,28.5088925
END:VEVENT
BEGIN:VEVENT
DTSTART;TZID=America/New_York:20260609T190000
DTEND;TZID=America/New_York:20260609T190000
DTSTAMP:20260419T135458
CREATED:20260105T003048Z
LAST-MODIFIED:20260105T055319Z
UID:10016665-1781031600-1781031600@epictriviafl.com
SUMMARY:Trivia
DESCRIPTION:
URL:https://epictriviafl.com/event/trivia-teak/2026-06-09/
LOCATION:Teak Neighborhood Grill\, 6400 Times Square Ave\, Orlando\, FL 32835 USA
GEO:28.5088925;-81.4706804
X-APPLE-STRUCTURED-LOCATION;VALUE=URI;X-ADDRESS=Teak Neighborhood Grill 6400 Times Square Ave Orlando FL 32835 USA;X-APPLE-RADIUS=500;X-TITLE=6400 Times Square Ave\, Orlando\, FL 32835 USA:geo:-81.4706804,28.5088925
END:VEVENT
BEGIN:VEVENT
DTSTART;TZID=America/New_York:20260610T190000
DTEND;TZID=America/New_York:20260610T190000
DTSTAMP:20260419T135458
CREATED:20260105T003133Z
LAST-MODIFIED:20260105T054520Z
UID:10013545-1781118000-1781118000@epictriviafl.com
SUMMARY:Music Bingo
DESCRIPTION:
URL:https://epictriviafl.com/event/music-bingo-teak/2026-06-10/
LOCATION:Teak Neighborhood Grill\, 6400 Times Square Ave\, Orlando\, FL 32835 USA
GEO:28.5088925;-81.4706804
X-APPLE-STRUCTURED-LOCATION;VALUE=URI;X-ADDRESS=Teak Neighborhood Grill 6400 Times Square Ave Orlando FL 32835 USA;X-APPLE-RADIUS=500;X-TITLE=6400 Times Square Ave\, Orlando\, FL 32835 USA:geo:-81.4706804,28.5088925
END:VEVENT
BEGIN:VEVENT
DTSTART;TZID=America/New_York:20260612T200000
DTEND;TZID=America/New_York:20260612T200000
DTSTAMP:20260419T135458
CREATED:20260105T003217Z
LAST-MODIFIED:20260105T053742Z
UID:10009385-1781294400-1781294400@epictriviafl.com
SUMMARY:Trivia
DESCRIPTION:
URL:https://epictriviafl.com/event/trivia-teak-2/2026-06-12/
LOCATION:Teak Neighborhood Grill\, 6400 Times Square Ave\, Orlando\, FL 32835 USA
GEO:28.5088925;-81.4706804
X-APPLE-STRUCTURED-LOCATION;VALUE=URI;X-ADDRESS=Teak Neighborhood Grill 6400 Times Square Ave Orlando FL 32835 USA;X-APPLE-RADIUS=500;X-TITLE=6400 Times Square Ave\, Orlando\, FL 32835 USA:geo:-81.4706804,28.5088925
END:VEVENT
BEGIN:VEVENT
DTSTART;TZID=America/New_York:20260613T133000
DTEND;TZID=America/New_York:20260613T133000
DTSTAMP:20260419T135458
CREATED:20260105T003232Z
LAST-MODIFIED:20260105T060241Z
UID:10021087-1781357400-1781357400@epictriviafl.com
SUMMARY:Music Bingo
DESCRIPTION:
URL:https://epictriviafl.com/event/music-bingo-teak-2/2026-06-13/
LOCATION:Teak Neighborhood Grill\, 6400 Times Square Ave\, Orlando\, FL 32835 USA
GEO:28.5088925;-81.4706804
X-APPLE-STRUCTURED-LOCATION;VALUE=URI;X-ADDRESS=Teak Neighborhood Grill 6400 Times Square Ave Orlando FL 32835 USA;X-APPLE-RADIUS=500;X-TITLE=6400 Times Square Ave\, Orlando\, FL 32835 USA:geo:-81.4706804,28.5088925
END:VEVENT
BEGIN:VEVENT
DTSTART;TZID=America/New_York:20260616T190000
DTEND;TZID=America/New_York:20260616T190000
DTSTAMP:20260419T135458
CREATED:20260105T003048Z
LAST-MODIFIED:20260105T055319Z
UID:10016666-1781636400-1781636400@epictriviafl.com
SUMMARY:Trivia
DESCRIPTION:
URL:https://epictriviafl.com/event/trivia-teak/2026-06-16/
LOCATION:Teak Neighborhood Grill\, 6400 Times Square Ave\, Orlando\, FL 32835 USA
GEO:28.5088925;-81.4706804
X-APPLE-STRUCTURED-LOCATION;VALUE=URI;X-ADDRESS=Teak Neighborhood Grill 6400 Times Square Ave Orlando FL 32835 USA;X-APPLE-RADIUS=500;X-TITLE=6400 Times Square Ave\, Orlando\, FL 32835 USA:geo:-81.4706804,28.5088925
END:VEVENT
BEGIN:VEVENT
DTSTART;TZID=America/New_York:20260617T190000
DTEND;TZID=America/New_York:20260617T190000
DTSTAMP:20260419T135458
CREATED:20260105T003133Z
LAST-MODIFIED:20260105T054520Z
UID:10013546-1781722800-1781722800@epictriviafl.com
SUMMARY:Music Bingo
DESCRIPTION:
URL:https://epictriviafl.com/event/music-bingo-teak/2026-06-17/
LOCATION:Teak Neighborhood Grill\, 6400 Times Square Ave\, Orlando\, FL 32835 USA
GEO:28.5088925;-81.4706804
X-APPLE-STRUCTURED-LOCATION;VALUE=URI;X-ADDRESS=Teak Neighborhood Grill 6400 Times Square Ave Orlando FL 32835 USA;X-APPLE-RADIUS=500;X-TITLE=6400 Times Square Ave\, Orlando\, FL 32835 USA:geo:-81.4706804,28.5088925
END:VEVENT
BEGIN:VEVENT
DTSTART;TZID=America/New_York:20260619T200000
DTEND;TZID=America/New_York:20260619T200000
DTSTAMP:20260419T135458
CREATED:20260105T003217Z
LAST-MODIFIED:20260105T053742Z
UID:10009386-1781899200-1781899200@epictriviafl.com
SUMMARY:Trivia
DESCRIPTION:
URL:https://epictriviafl.com/event/trivia-teak-2/2026-06-19/
LOCATION:Teak Neighborhood Grill\, 6400 Times Square Ave\, Orlando\, FL 32835 USA
GEO:28.5088925;-81.4706804
X-APPLE-STRUCTURED-LOCATION;VALUE=URI;X-ADDRESS=Teak Neighborhood Grill 6400 Times Square Ave Orlando FL 32835 USA;X-APPLE-RADIUS=500;X-TITLE=6400 Times Square Ave\, Orlando\, FL 32835 USA:geo:-81.4706804,28.5088925
END:VEVENT
BEGIN:VEVENT
DTSTART;TZID=America/New_York:20260620T133000
DTEND;TZID=America/New_York:20260620T133000
DTSTAMP:20260419T135458
CREATED:20260105T003232Z
LAST-MODIFIED:20260105T060241Z
UID:10021088-1781962200-1781962200@epictriviafl.com
SUMMARY:Music Bingo
DESCRIPTION:
URL:https://epictriviafl.com/event/music-bingo-teak-2/2026-06-20/
LOCATION:Teak Neighborhood Grill\, 6400 Times Square Ave\, Orlando\, FL 32835 USA
GEO:28.5088925;-81.4706804
X-APPLE-STRUCTURED-LOCATION;VALUE=URI;X-ADDRESS=Teak Neighborhood Grill 6400 Times Square Ave Orlando FL 32835 USA;X-APPLE-RADIUS=500;X-TITLE=6400 Times Square Ave\, Orlando\, FL 32835 USA:geo:-81.4706804,28.5088925
END:VEVENT
BEGIN:VEVENT
DTSTART;TZID=America/New_York:20260623T190000
DTEND;TZID=America/New_York:20260623T190000
DTSTAMP:20260419T135458
CREATED:20260105T003048Z
LAST-MODIFIED:20260105T055319Z
UID:10016667-1782241200-1782241200@epictriviafl.com
SUMMARY:Trivia
DESCRIPTION:
URL:https://epictriviafl.com/event/trivia-teak/2026-06-23/
LOCATION:Teak Neighborhood Grill\, 6400 Times Square Ave\, Orlando\, FL 32835 USA
GEO:28.5088925;-81.4706804
X-APPLE-STRUCTURED-LOCATION;VALUE=URI;X-ADDRESS=Teak Neighborhood Grill 6400 Times Square Ave Orlando FL 32835 USA;X-APPLE-RADIUS=500;X-TITLE=6400 Times Square Ave\, Orlando\, FL 32835 USA:geo:-81.4706804,28.5088925
END:VEVENT
BEGIN:VEVENT
DTSTART;TZID=America/New_York:20260624T190000
DTEND;TZID=America/New_York:20260624T190000
DTSTAMP:20260419T135458
CREATED:20260105T003133Z
LAST-MODIFIED:20260105T054520Z
UID:10013547-1782327600-1782327600@epictriviafl.com
SUMMARY:Music Bingo
DESCRIPTION:
URL:https://epictriviafl.com/event/music-bingo-teak/2026-06-24/
LOCATION:Teak Neighborhood Grill\, 6400 Times Square Ave\, Orlando\, FL 32835 USA
GEO:28.5088925;-81.4706804
X-APPLE-STRUCTURED-LOCATION;VALUE=URI;X-ADDRESS=Teak Neighborhood Grill 6400 Times Square Ave Orlando FL 32835 USA;X-APPLE-RADIUS=500;X-TITLE=6400 Times Square Ave\, Orlando\, FL 32835 USA:geo:-81.4706804,28.5088925
END:VEVENT
BEGIN:VEVENT
DTSTART;TZID=America/New_York:20260626T200000
DTEND;TZID=America/New_York:20260626T200000
DTSTAMP:20260419T135458
CREATED:20260105T003217Z
LAST-MODIFIED:20260105T053742Z
UID:10009387-1782504000-1782504000@epictriviafl.com
SUMMARY:Trivia
DESCRIPTION:
URL:https://epictriviafl.com/event/trivia-teak-2/2026-06-26/
LOCATION:Teak Neighborhood Grill\, 6400 Times Square Ave\, Orlando\, FL 32835 USA
GEO:28.5088925;-81.4706804
X-APPLE-STRUCTURED-LOCATION;VALUE=URI;X-ADDRESS=Teak Neighborhood Grill 6400 Times Square Ave Orlando FL 32835 USA;X-APPLE-RADIUS=500;X-TITLE=6400 Times Square Ave\, Orlando\, FL 32835 USA:geo:-81.4706804,28.5088925
END:VEVENT
BEGIN:VEVENT
DTSTART;TZID=America/New_York:20260627T133000
DTEND;TZID=America/New_York:20260627T133000
DTSTAMP:20260419T135458
CREATED:20260105T003232Z
LAST-MODIFIED:20260105T060241Z
UID:10021089-1782567000-1782567000@epictriviafl.com
SUMMARY:Music Bingo
DESCRIPTION:
URL:https://epictriviafl.com/event/music-bingo-teak-2/2026-06-27/
LOCATION:Teak Neighborhood Grill\, 6400 Times Square Ave\, Orlando\, FL 32835 USA
GEO:28.5088925;-81.4706804
X-APPLE-STRUCTURED-LOCATION;VALUE=URI;X-ADDRESS=Teak Neighborhood Grill 6400 Times Square Ave Orlando FL 32835 USA;X-APPLE-RADIUS=500;X-TITLE=6400 Times Square Ave\, Orlando\, FL 32835 USA:geo:-81.4706804,28.5088925
END:VEVENT
BEGIN:VEVENT
DTSTART;TZID=America/New_York:20260630T190000
DTEND;TZID=America/New_York:20260630T190000
DTSTAMP:20260419T135458
CREATED:20260105T003048Z
LAST-MODIFIED:20260105T055319Z
UID:10016668-1782846000-1782846000@epictriviafl.com
SUMMARY:Trivia
DESCRIPTION:
URL:https://epictriviafl.com/event/trivia-teak/2026-06-30/
LOCATION:Teak Neighborhood Grill\, 6400 Times Square Ave\, Orlando\, FL 32835 USA
GEO:28.5088925;-81.4706804
X-APPLE-STRUCTURED-LOCATION;VALUE=URI;X-ADDRESS=Teak Neighborhood Grill 6400 Times Square Ave Orlando FL 32835 USA;X-APPLE-RADIUS=500;X-TITLE=6400 Times Square Ave\, Orlando\, FL 32835 USA:geo:-81.4706804,28.5088925
END:VEVENT
BEGIN:VEVENT
DTSTART;TZID=America/New_York:20260701T190000
DTEND;TZID=America/New_York:20260701T190000
DTSTAMP:20260419T135458
CREATED:20260105T003133Z
LAST-MODIFIED:20260105T054520Z
UID:10013548-1782932400-1782932400@epictriviafl.com
SUMMARY:Music Bingo
DESCRIPTION:
URL:https://epictriviafl.com/event/music-bingo-teak/2026-07-01/
LOCATION:Teak Neighborhood Grill\, 6400 Times Square Ave\, Orlando\, FL 32835 USA
GEO:28.5088925;-81.4706804
X-APPLE-STRUCTURED-LOCATION;VALUE=URI;X-ADDRESS=Teak Neighborhood Grill 6400 Times Square Ave Orlando FL 32835 USA;X-APPLE-RADIUS=500;X-TITLE=6400 Times Square Ave\, Orlando\, FL 32835 USA:geo:-81.4706804,28.5088925
END:VEVENT
BEGIN:VEVENT
DTSTART;TZID=America/New_York:20260703T200000
DTEND;TZID=America/New_York:20260703T200000
DTSTAMP:20260419T135458
CREATED:20260105T003217Z
LAST-MODIFIED:20260105T053742Z
UID:10009388-1783108800-1783108800@epictriviafl.com
SUMMARY:Trivia
DESCRIPTION:
URL:https://epictriviafl.com/event/trivia-teak-2/2026-07-03/
LOCATION:Teak Neighborhood Grill\, 6400 Times Square Ave\, Orlando\, FL 32835 USA
GEO:28.5088925;-81.4706804
X-APPLE-STRUCTURED-LOCATION;VALUE=URI;X-ADDRESS=Teak Neighborhood Grill 6400 Times Square Ave Orlando FL 32835 USA;X-APPLE-RADIUS=500;X-TITLE=6400 Times Square Ave\, Orlando\, FL 32835 USA:geo:-81.4706804,28.5088925
END:VEVENT
BEGIN:VEVENT
DTSTART;TZID=America/New_York:20260704T133000
DTEND;TZID=America/New_York:20260704T133000
DTSTAMP:20260419T135458
CREATED:20260105T003232Z
LAST-MODIFIED:20260105T060241Z
UID:10021090-1783171800-1783171800@epictriviafl.com
SUMMARY:Music Bingo
DESCRIPTION:
URL:https://epictriviafl.com/event/music-bingo-teak-2/2026-07-04/
LOCATION:Teak Neighborhood Grill\, 6400 Times Square Ave\, Orlando\, FL 32835 USA
GEO:28.5088925;-81.4706804
X-APPLE-STRUCTURED-LOCATION;VALUE=URI;X-ADDRESS=Teak Neighborhood Grill 6400 Times Square Ave Orlando FL 32835 USA;X-APPLE-RADIUS=500;X-TITLE=6400 Times Square Ave\, Orlando\, FL 32835 USA:geo:-81.4706804,28.5088925
END:VEVENT
BEGIN:VEVENT
DTSTART;TZID=America/New_York:20260707T190000
DTEND;TZID=America/New_York:20260707T190000
DTSTAMP:20260419T135458
CREATED:20260105T003048Z
LAST-MODIFIED:20260105T055319Z
UID:10016669-1783450800-1783450800@epictriviafl.com
SUMMARY:Trivia
DESCRIPTION:
URL:https://epictriviafl.com/event/trivia-teak/2026-07-07/
LOCATION:Teak Neighborhood Grill\, 6400 Times Square Ave\, Orlando\, FL 32835 USA
GEO:28.5088925;-81.4706804
X-APPLE-STRUCTURED-LOCATION;VALUE=URI;X-ADDRESS=Teak Neighborhood Grill 6400 Times Square Ave Orlando FL 32835 USA;X-APPLE-RADIUS=500;X-TITLE=6400 Times Square Ave\, Orlando\, FL 32835 USA:geo:-81.4706804,28.5088925
END:VEVENT
BEGIN:VEVENT
DTSTART;TZID=America/New_York:20260708T190000
DTEND;TZID=America/New_York:20260708T190000
DTSTAMP:20260419T135458
CREATED:20260105T003133Z
LAST-MODIFIED:20260105T054520Z
UID:10013549-1783537200-1783537200@epictriviafl.com
SUMMARY:Music Bingo
DESCRIPTION:
URL:https://epictriviafl.com/event/music-bingo-teak/2026-07-08/
LOCATION:Teak Neighborhood Grill\, 6400 Times Square Ave\, Orlando\, FL 32835 USA
GEO:28.5088925;-81.4706804
X-APPLE-STRUCTURED-LOCATION;VALUE=URI;X-ADDRESS=Teak Neighborhood Grill 6400 Times Square Ave Orlando FL 32835 USA;X-APPLE-RADIUS=500;X-TITLE=6400 Times Square Ave\, Orlando\, FL 32835 USA:geo:-81.4706804,28.5088925
END:VEVENT
BEGIN:VEVENT
DTSTART;TZID=America/New_York:20260710T200000
DTEND;TZID=America/New_York:20260710T200000
DTSTAMP:20260419T135458
CREATED:20260105T003217Z
LAST-MODIFIED:20260105T053742Z
UID:10009389-1783713600-1783713600@epictriviafl.com
SUMMARY:Trivia
DESCRIPTION:
URL:https://epictriviafl.com/event/trivia-teak-2/2026-07-10/
LOCATION:Teak Neighborhood Grill\, 6400 Times Square Ave\, Orlando\, FL 32835 USA
GEO:28.5088925;-81.4706804
X-APPLE-STRUCTURED-LOCATION;VALUE=URI;X-ADDRESS=Teak Neighborhood Grill 6400 Times Square Ave Orlando FL 32835 USA;X-APPLE-RADIUS=500;X-TITLE=6400 Times Square Ave\, Orlando\, FL 32835 USA:geo:-81.4706804,28.5088925
END:VEVENT
BEGIN:VEVENT
DTSTART;TZID=America/New_York:20260711T133000
DTEND;TZID=America/New_York:20260711T133000
DTSTAMP:20260419T135458
CREATED:20260105T003232Z
LAST-MODIFIED:20260105T060241Z
UID:10021091-1783776600-1783776600@epictriviafl.com
SUMMARY:Music Bingo
DESCRIPTION:
URL:https://epictriviafl.com/event/music-bingo-teak-2/2026-07-11/
LOCATION:Teak Neighborhood Grill\, 6400 Times Square Ave\, Orlando\, FL 32835 USA
GEO:28.5088925;-81.4706804
X-APPLE-STRUCTURED-LOCATION;VALUE=URI;X-ADDRESS=Teak Neighborhood Grill 6400 Times Square Ave Orlando FL 32835 USA;X-APPLE-RADIUS=500;X-TITLE=6400 Times Square Ave\, Orlando\, FL 32835 USA:geo:-81.4706804,28.5088925
END:VEVENT
BEGIN:VEVENT
DTSTART;TZID=America/New_York:20260714T190000
DTEND;TZID=America/New_York:20260714T190000
DTSTAMP:20260419T135458
CREATED:20260105T003048Z
LAST-MODIFIED:20260105T055319Z
UID:10016670-1784055600-1784055600@epictriviafl.com
SUMMARY:Trivia
DESCRIPTION:
URL:https://epictriviafl.com/event/trivia-teak/2026-07-14/
LOCATION:Teak Neighborhood Grill\, 6400 Times Square Ave\, Orlando\, FL 32835 USA
GEO:28.5088925;-81.4706804
X-APPLE-STRUCTURED-LOCATION;VALUE=URI;X-ADDRESS=Teak Neighborhood Grill 6400 Times Square Ave Orlando FL 32835 USA;X-APPLE-RADIUS=500;X-TITLE=6400 Times Square Ave\, Orlando\, FL 32835 USA:geo:-81.4706804,28.5088925
END:VEVENT
BEGIN:VEVENT
DTSTART;TZID=America/New_York:20260715T190000
DTEND;TZID=America/New_York:20260715T190000
DTSTAMP:20260419T135458
CREATED:20260105T003133Z
LAST-MODIFIED:20260105T054520Z
UID:10013550-1784142000-1784142000@epictriviafl.com
SUMMARY:Music Bingo
DESCRIPTION:
URL:https://epictriviafl.com/event/music-bingo-teak/2026-07-15/
LOCATION:Teak Neighborhood Grill\, 6400 Times Square Ave\, Orlando\, FL 32835 USA
GEO:28.5088925;-81.4706804
X-APPLE-STRUCTURED-LOCATION;VALUE=URI;X-ADDRESS=Teak Neighborhood Grill 6400 Times Square Ave Orlando FL 32835 USA;X-APPLE-RADIUS=500;X-TITLE=6400 Times Square Ave\, Orlando\, FL 32835 USA:geo:-81.4706804,28.5088925
END:VEVENT
BEGIN:VEVENT
DTSTART;TZID=America/New_York:20260717T200000
DTEND;TZID=America/New_York:20260717T200000
DTSTAMP:20260419T135458
CREATED:20260105T003217Z
LAST-MODIFIED:20260105T053742Z
UID:10009390-1784318400-1784318400@epictriviafl.com
SUMMARY:Trivia
DESCRIPTION:
URL:https://epictriviafl.com/event/trivia-teak-2/2026-07-17/
LOCATION:Teak Neighborhood Grill\, 6400 Times Square Ave\, Orlando\, FL 32835 USA
GEO:28.5088925;-81.4706804
X-APPLE-STRUCTURED-LOCATION;VALUE=URI;X-ADDRESS=Teak Neighborhood Grill 6400 Times Square Ave Orlando FL 32835 USA;X-APPLE-RADIUS=500;X-TITLE=6400 Times Square Ave\, Orlando\, FL 32835 USA:geo:-81.4706804,28.5088925
END:VEVENT
BEGIN:VEVENT
DTSTART;TZID=America/New_York:20260718T133000
DTEND;TZID=America/New_York:20260718T133000
DTSTAMP:20260419T135458
CREATED:20260105T003232Z
LAST-MODIFIED:20260105T060241Z
UID:10021092-1784381400-1784381400@epictriviafl.com
SUMMARY:Music Bingo
DESCRIPTION:
URL:https://epictriviafl.com/event/music-bingo-teak-2/2026-07-18/
LOCATION:Teak Neighborhood Grill\, 6400 Times Square Ave\, Orlando\, FL 32835 USA
GEO:28.5088925;-81.4706804
X-APPLE-STRUCTURED-LOCATION;VALUE=URI;X-ADDRESS=Teak Neighborhood Grill 6400 Times Square Ave Orlando FL 32835 USA;X-APPLE-RADIUS=500;X-TITLE=6400 Times Square Ave\, Orlando\, FL 32835 USA:geo:-81.4706804,28.5088925
END:VEVENT
BEGIN:VEVENT
DTSTART;TZID=America/New_York:20260721T190000
DTEND;TZID=America/New_York:20260721T190000
DTSTAMP:20260419T135458
CREATED:20260105T003048Z
LAST-MODIFIED:20260105T055319Z
UID:10016671-1784660400-1784660400@epictriviafl.com
SUMMARY:Trivia
DESCRIPTION:
URL:https://epictriviafl.com/event/trivia-teak/2026-07-21/
LOCATION:Teak Neighborhood Grill\, 6400 Times Square Ave\, Orlando\, FL 32835 USA
GEO:28.5088925;-81.4706804
X-APPLE-STRUCTURED-LOCATION;VALUE=URI;X-ADDRESS=Teak Neighborhood Grill 6400 Times Square Ave Orlando FL 32835 USA;X-APPLE-RADIUS=500;X-TITLE=6400 Times Square Ave\, Orlando\, FL 32835 USA:geo:-81.4706804,28.5088925
END:VEVENT
BEGIN:VEVENT
DTSTART;TZID=America/New_York:20260722T190000
DTEND;TZID=America/New_York:20260722T190000
DTSTAMP:20260419T135458
CREATED:20260105T003133Z
LAST-MODIFIED:20260105T054520Z
UID:10013551-1784746800-1784746800@epictriviafl.com
SUMMARY:Music Bingo
DESCRIPTION:
URL:https://epictriviafl.com/event/music-bingo-teak/2026-07-22/
LOCATION:Teak Neighborhood Grill\, 6400 Times Square Ave\, Orlando\, FL 32835 USA
GEO:28.5088925;-81.4706804
X-APPLE-STRUCTURED-LOCATION;VALUE=URI;X-ADDRESS=Teak Neighborhood Grill 6400 Times Square Ave Orlando FL 32835 USA;X-APPLE-RADIUS=500;X-TITLE=6400 Times Square Ave\, Orlando\, FL 32835 USA:geo:-81.4706804,28.5088925
END:VEVENT
END:VCALENDAR