BEGIN:VCALENDAR
VERSION:2.0
PRODID:-//Epic Trivia - ECPv6.15.18//NONSGML v1.0//EN
CALSCALE:GREGORIAN
METHOD:PUBLISH
X-ORIGINAL-URL:https://epictriviafl.com
X-WR-CALDESC:Events for Epic Trivia
REFRESH-INTERVAL;VALUE=DURATION:PT1H
X-Robots-Tag:noindex
X-PUBLISHED-TTL:PT1H
BEGIN:VTIMEZONE
TZID:America/New_York
BEGIN:DAYLIGHT
TZOFFSETFROM:-0500
TZOFFSETTO:-0400
TZNAME:EDT
DTSTART:20250309T070000
END:DAYLIGHT
BEGIN:STANDARD
TZOFFSETFROM:-0400
TZOFFSETTO:-0500
TZNAME:EST
DTSTART:20251102T060000
END:STANDARD
BEGIN:DAYLIGHT
TZOFFSETFROM:-0500
TZOFFSETTO:-0400
TZNAME:EDT
DTSTART:20260308T070000
END:DAYLIGHT
BEGIN:STANDARD
TZOFFSETFROM:-0400
TZOFFSETTO:-0500
TZNAME:EST
DTSTART:20261101T060000
END:STANDARD
BEGIN:DAYLIGHT
TZOFFSETFROM:-0500
TZOFFSETTO:-0400
TZNAME:EDT
DTSTART:20270314T070000
END:DAYLIGHT
BEGIN:STANDARD
TZOFFSETFROM:-0400
TZOFFSETTO:-0500
TZNAME:EST
DTSTART:20271107T060000
END:STANDARD
BEGIN:DAYLIGHT
TZOFFSETFROM:-0500
TZOFFSETTO:-0400
TZNAME:EDT
DTSTART:20280312T070000
END:DAYLIGHT
BEGIN:STANDARD
TZOFFSETFROM:-0400
TZOFFSETTO:-0500
TZNAME:EST
DTSTART:20281105T060000
END:STANDARD
END:VTIMEZONE
BEGIN:VEVENT
DTSTART;TZID=America/New_York:20261229T190000
DTEND;TZID=America/New_York:20261229T190000
DTSTAMP:20260420T055011
CREATED:20260105T003048Z
LAST-MODIFIED:20260105T055319Z
UID:10016694-1798570800-1798570800@epictriviafl.com
SUMMARY:Trivia
DESCRIPTION:
URL:https://epictriviafl.com/event/trivia-teak/2026-12-29/
LOCATION:Teak Neighborhood Grill\, 6400 Times Square Ave\, Orlando\, FL 32835 USA
GEO:28.5088925;-81.4706804
X-APPLE-STRUCTURED-LOCATION;VALUE=URI;X-ADDRESS=Teak Neighborhood Grill 6400 Times Square Ave Orlando FL 32835 USA;X-APPLE-RADIUS=500;X-TITLE=6400 Times Square Ave\, Orlando\, FL 32835 USA:geo:-81.4706804,28.5088925
END:VEVENT
BEGIN:VEVENT
DTSTART;TZID=America/New_York:20261230T190000
DTEND;TZID=America/New_York:20261230T190000
DTSTAMP:20260420T055011
CREATED:20260105T003133Z
LAST-MODIFIED:20260105T054520Z
UID:10013574-1798657200-1798657200@epictriviafl.com
SUMMARY:Music Bingo
DESCRIPTION:
URL:https://epictriviafl.com/event/music-bingo-teak/2026-12-30/
LOCATION:Teak Neighborhood Grill\, 6400 Times Square Ave\, Orlando\, FL 32835 USA
GEO:28.5088925;-81.4706804
X-APPLE-STRUCTURED-LOCATION;VALUE=URI;X-ADDRESS=Teak Neighborhood Grill 6400 Times Square Ave Orlando FL 32835 USA;X-APPLE-RADIUS=500;X-TITLE=6400 Times Square Ave\, Orlando\, FL 32835 USA:geo:-81.4706804,28.5088925
END:VEVENT
BEGIN:VEVENT
DTSTART;TZID=America/New_York:20270101T200000
DTEND;TZID=America/New_York:20270101T200000
DTSTAMP:20260420T055011
CREATED:20260105T003217Z
LAST-MODIFIED:20260105T053742Z
UID:10009414-1798833600-1798833600@epictriviafl.com
SUMMARY:Trivia
DESCRIPTION:
URL:https://epictriviafl.com/event/trivia-teak-2/2027-01-01/
LOCATION:Teak Neighborhood Grill\, 6400 Times Square Ave\, Orlando\, FL 32835 USA
GEO:28.5088925;-81.4706804
X-APPLE-STRUCTURED-LOCATION;VALUE=URI;X-ADDRESS=Teak Neighborhood Grill 6400 Times Square Ave Orlando FL 32835 USA;X-APPLE-RADIUS=500;X-TITLE=6400 Times Square Ave\, Orlando\, FL 32835 USA:geo:-81.4706804,28.5088925
END:VEVENT
BEGIN:VEVENT
DTSTART;TZID=America/New_York:20270102T133000
DTEND;TZID=America/New_York:20270102T133000
DTSTAMP:20260420T055011
CREATED:20260105T003232Z
LAST-MODIFIED:20260105T060241Z
UID:10021116-1798896600-1798896600@epictriviafl.com
SUMMARY:Music Bingo
DESCRIPTION:
URL:https://epictriviafl.com/event/music-bingo-teak-2/2027-01-02/
LOCATION:Teak Neighborhood Grill\, 6400 Times Square Ave\, Orlando\, FL 32835 USA
GEO:28.5088925;-81.4706804
X-APPLE-STRUCTURED-LOCATION;VALUE=URI;X-ADDRESS=Teak Neighborhood Grill 6400 Times Square Ave Orlando FL 32835 USA;X-APPLE-RADIUS=500;X-TITLE=6400 Times Square Ave\, Orlando\, FL 32835 USA:geo:-81.4706804,28.5088925
END:VEVENT
BEGIN:VEVENT
DTSTART;TZID=America/New_York:20270105T190000
DTEND;TZID=America/New_York:20270105T190000
DTSTAMP:20260420T055011
CREATED:20260105T003048Z
LAST-MODIFIED:20260105T055319Z
UID:10016695-1799175600-1799175600@epictriviafl.com
SUMMARY:Trivia
DESCRIPTION:
URL:https://epictriviafl.com/event/trivia-teak/2027-01-05/
LOCATION:Teak Neighborhood Grill\, 6400 Times Square Ave\, Orlando\, FL 32835 USA
GEO:28.5088925;-81.4706804
X-APPLE-STRUCTURED-LOCATION;VALUE=URI;X-ADDRESS=Teak Neighborhood Grill 6400 Times Square Ave Orlando FL 32835 USA;X-APPLE-RADIUS=500;X-TITLE=6400 Times Square Ave\, Orlando\, FL 32835 USA:geo:-81.4706804,28.5088925
END:VEVENT
BEGIN:VEVENT
DTSTART;TZID=America/New_York:20270106T190000
DTEND;TZID=America/New_York:20270106T190000
DTSTAMP:20260420T055011
CREATED:20260105T003133Z
LAST-MODIFIED:20260105T054520Z
UID:10013575-1799262000-1799262000@epictriviafl.com
SUMMARY:Music Bingo
DESCRIPTION:
URL:https://epictriviafl.com/event/music-bingo-teak/2027-01-06/
LOCATION:Teak Neighborhood Grill\, 6400 Times Square Ave\, Orlando\, FL 32835 USA
GEO:28.5088925;-81.4706804
X-APPLE-STRUCTURED-LOCATION;VALUE=URI;X-ADDRESS=Teak Neighborhood Grill 6400 Times Square Ave Orlando FL 32835 USA;X-APPLE-RADIUS=500;X-TITLE=6400 Times Square Ave\, Orlando\, FL 32835 USA:geo:-81.4706804,28.5088925
END:VEVENT
BEGIN:VEVENT
DTSTART;TZID=America/New_York:20270108T200000
DTEND;TZID=America/New_York:20270108T200000
DTSTAMP:20260420T055011
CREATED:20260105T003217Z
LAST-MODIFIED:20260105T053742Z
UID:10009415-1799438400-1799438400@epictriviafl.com
SUMMARY:Trivia
DESCRIPTION:
URL:https://epictriviafl.com/event/trivia-teak-2/2027-01-08/
LOCATION:Teak Neighborhood Grill\, 6400 Times Square Ave\, Orlando\, FL 32835 USA
GEO:28.5088925;-81.4706804
X-APPLE-STRUCTURED-LOCATION;VALUE=URI;X-ADDRESS=Teak Neighborhood Grill 6400 Times Square Ave Orlando FL 32835 USA;X-APPLE-RADIUS=500;X-TITLE=6400 Times Square Ave\, Orlando\, FL 32835 USA:geo:-81.4706804,28.5088925
END:VEVENT
BEGIN:VEVENT
DTSTART;TZID=America/New_York:20270109T133000
DTEND;TZID=America/New_York:20270109T133000
DTSTAMP:20260420T055011
CREATED:20260105T003232Z
LAST-MODIFIED:20260105T060241Z
UID:10021117-1799501400-1799501400@epictriviafl.com
SUMMARY:Music Bingo
DESCRIPTION:
URL:https://epictriviafl.com/event/music-bingo-teak-2/2027-01-09/
LOCATION:Teak Neighborhood Grill\, 6400 Times Square Ave\, Orlando\, FL 32835 USA
GEO:28.5088925;-81.4706804
X-APPLE-STRUCTURED-LOCATION;VALUE=URI;X-ADDRESS=Teak Neighborhood Grill 6400 Times Square Ave Orlando FL 32835 USA;X-APPLE-RADIUS=500;X-TITLE=6400 Times Square Ave\, Orlando\, FL 32835 USA:geo:-81.4706804,28.5088925
END:VEVENT
BEGIN:VEVENT
DTSTART;TZID=America/New_York:20270112T190000
DTEND;TZID=America/New_York:20270112T190000
DTSTAMP:20260420T055011
CREATED:20260105T003048Z
LAST-MODIFIED:20260105T055319Z
UID:10016696-1799780400-1799780400@epictriviafl.com
SUMMARY:Trivia
DESCRIPTION:
URL:https://epictriviafl.com/event/trivia-teak/2027-01-12/
LOCATION:Teak Neighborhood Grill\, 6400 Times Square Ave\, Orlando\, FL 32835 USA
GEO:28.5088925;-81.4706804
X-APPLE-STRUCTURED-LOCATION;VALUE=URI;X-ADDRESS=Teak Neighborhood Grill 6400 Times Square Ave Orlando FL 32835 USA;X-APPLE-RADIUS=500;X-TITLE=6400 Times Square Ave\, Orlando\, FL 32835 USA:geo:-81.4706804,28.5088925
END:VEVENT
BEGIN:VEVENT
DTSTART;TZID=America/New_York:20270113T190000
DTEND;TZID=America/New_York:20270113T190000
DTSTAMP:20260420T055011
CREATED:20260105T003133Z
LAST-MODIFIED:20260105T054520Z
UID:10013576-1799866800-1799866800@epictriviafl.com
SUMMARY:Music Bingo
DESCRIPTION:
URL:https://epictriviafl.com/event/music-bingo-teak/2027-01-13/
LOCATION:Teak Neighborhood Grill\, 6400 Times Square Ave\, Orlando\, FL 32835 USA
GEO:28.5088925;-81.4706804
X-APPLE-STRUCTURED-LOCATION;VALUE=URI;X-ADDRESS=Teak Neighborhood Grill 6400 Times Square Ave Orlando FL 32835 USA;X-APPLE-RADIUS=500;X-TITLE=6400 Times Square Ave\, Orlando\, FL 32835 USA:geo:-81.4706804,28.5088925
END:VEVENT
BEGIN:VEVENT
DTSTART;TZID=America/New_York:20270115T200000
DTEND;TZID=America/New_York:20270115T200000
DTSTAMP:20260420T055011
CREATED:20260105T003217Z
LAST-MODIFIED:20260105T053742Z
UID:10009416-1800043200-1800043200@epictriviafl.com
SUMMARY:Trivia
DESCRIPTION:
URL:https://epictriviafl.com/event/trivia-teak-2/2027-01-15/
LOCATION:Teak Neighborhood Grill\, 6400 Times Square Ave\, Orlando\, FL 32835 USA
GEO:28.5088925;-81.4706804
X-APPLE-STRUCTURED-LOCATION;VALUE=URI;X-ADDRESS=Teak Neighborhood Grill 6400 Times Square Ave Orlando FL 32835 USA;X-APPLE-RADIUS=500;X-TITLE=6400 Times Square Ave\, Orlando\, FL 32835 USA:geo:-81.4706804,28.5088925
END:VEVENT
BEGIN:VEVENT
DTSTART;TZID=America/New_York:20270116T133000
DTEND;TZID=America/New_York:20270116T133000
DTSTAMP:20260420T055011
CREATED:20260105T003232Z
LAST-MODIFIED:20260105T060241Z
UID:10021118-1800106200-1800106200@epictriviafl.com
SUMMARY:Music Bingo
DESCRIPTION:
URL:https://epictriviafl.com/event/music-bingo-teak-2/2027-01-16/
LOCATION:Teak Neighborhood Grill\, 6400 Times Square Ave\, Orlando\, FL 32835 USA
GEO:28.5088925;-81.4706804
X-APPLE-STRUCTURED-LOCATION;VALUE=URI;X-ADDRESS=Teak Neighborhood Grill 6400 Times Square Ave Orlando FL 32835 USA;X-APPLE-RADIUS=500;X-TITLE=6400 Times Square Ave\, Orlando\, FL 32835 USA:geo:-81.4706804,28.5088925
END:VEVENT
BEGIN:VEVENT
DTSTART;TZID=America/New_York:20270119T190000
DTEND;TZID=America/New_York:20270119T190000
DTSTAMP:20260420T055011
CREATED:20260105T003048Z
LAST-MODIFIED:20260105T055319Z
UID:10016697-1800385200-1800385200@epictriviafl.com
SUMMARY:Trivia
DESCRIPTION:
URL:https://epictriviafl.com/event/trivia-teak/2027-01-19/
LOCATION:Teak Neighborhood Grill\, 6400 Times Square Ave\, Orlando\, FL 32835 USA
GEO:28.5088925;-81.4706804
X-APPLE-STRUCTURED-LOCATION;VALUE=URI;X-ADDRESS=Teak Neighborhood Grill 6400 Times Square Ave Orlando FL 32835 USA;X-APPLE-RADIUS=500;X-TITLE=6400 Times Square Ave\, Orlando\, FL 32835 USA:geo:-81.4706804,28.5088925
END:VEVENT
BEGIN:VEVENT
DTSTART;TZID=America/New_York:20270120T190000
DTEND;TZID=America/New_York:20270120T190000
DTSTAMP:20260420T055011
CREATED:20260105T003133Z
LAST-MODIFIED:20260105T054520Z
UID:10013577-1800471600-1800471600@epictriviafl.com
SUMMARY:Music Bingo
DESCRIPTION:
URL:https://epictriviafl.com/event/music-bingo-teak/2027-01-20/
LOCATION:Teak Neighborhood Grill\, 6400 Times Square Ave\, Orlando\, FL 32835 USA
GEO:28.5088925;-81.4706804
X-APPLE-STRUCTURED-LOCATION;VALUE=URI;X-ADDRESS=Teak Neighborhood Grill 6400 Times Square Ave Orlando FL 32835 USA;X-APPLE-RADIUS=500;X-TITLE=6400 Times Square Ave\, Orlando\, FL 32835 USA:geo:-81.4706804,28.5088925
END:VEVENT
BEGIN:VEVENT
DTSTART;TZID=America/New_York:20270122T200000
DTEND;TZID=America/New_York:20270122T200000
DTSTAMP:20260420T055011
CREATED:20260105T003217Z
LAST-MODIFIED:20260105T053742Z
UID:10009417-1800648000-1800648000@epictriviafl.com
SUMMARY:Trivia
DESCRIPTION:
URL:https://epictriviafl.com/event/trivia-teak-2/2027-01-22/
LOCATION:Teak Neighborhood Grill\, 6400 Times Square Ave\, Orlando\, FL 32835 USA
GEO:28.5088925;-81.4706804
X-APPLE-STRUCTURED-LOCATION;VALUE=URI;X-ADDRESS=Teak Neighborhood Grill 6400 Times Square Ave Orlando FL 32835 USA;X-APPLE-RADIUS=500;X-TITLE=6400 Times Square Ave\, Orlando\, FL 32835 USA:geo:-81.4706804,28.5088925
END:VEVENT
BEGIN:VEVENT
DTSTART;TZID=America/New_York:20270123T133000
DTEND;TZID=America/New_York:20270123T133000
DTSTAMP:20260420T055011
CREATED:20260105T003232Z
LAST-MODIFIED:20260105T060241Z
UID:10021119-1800711000-1800711000@epictriviafl.com
SUMMARY:Music Bingo
DESCRIPTION:
URL:https://epictriviafl.com/event/music-bingo-teak-2/2027-01-23/
LOCATION:Teak Neighborhood Grill\, 6400 Times Square Ave\, Orlando\, FL 32835 USA
GEO:28.5088925;-81.4706804
X-APPLE-STRUCTURED-LOCATION;VALUE=URI;X-ADDRESS=Teak Neighborhood Grill 6400 Times Square Ave Orlando FL 32835 USA;X-APPLE-RADIUS=500;X-TITLE=6400 Times Square Ave\, Orlando\, FL 32835 USA:geo:-81.4706804,28.5088925
END:VEVENT
BEGIN:VEVENT
DTSTART;TZID=America/New_York:20270126T190000
DTEND;TZID=America/New_York:20270126T190000
DTSTAMP:20260420T055011
CREATED:20260105T003048Z
LAST-MODIFIED:20260105T055319Z
UID:10016698-1800990000-1800990000@epictriviafl.com
SUMMARY:Trivia
DESCRIPTION:
URL:https://epictriviafl.com/event/trivia-teak/2027-01-26/
LOCATION:Teak Neighborhood Grill\, 6400 Times Square Ave\, Orlando\, FL 32835 USA
GEO:28.5088925;-81.4706804
X-APPLE-STRUCTURED-LOCATION;VALUE=URI;X-ADDRESS=Teak Neighborhood Grill 6400 Times Square Ave Orlando FL 32835 USA;X-APPLE-RADIUS=500;X-TITLE=6400 Times Square Ave\, Orlando\, FL 32835 USA:geo:-81.4706804,28.5088925
END:VEVENT
BEGIN:VEVENT
DTSTART;TZID=America/New_York:20270127T190000
DTEND;TZID=America/New_York:20270127T190000
DTSTAMP:20260420T055011
CREATED:20260105T003133Z
LAST-MODIFIED:20260105T054520Z
UID:10013578-1801076400-1801076400@epictriviafl.com
SUMMARY:Music Bingo
DESCRIPTION:
URL:https://epictriviafl.com/event/music-bingo-teak/2027-01-27/
LOCATION:Teak Neighborhood Grill\, 6400 Times Square Ave\, Orlando\, FL 32835 USA
GEO:28.5088925;-81.4706804
X-APPLE-STRUCTURED-LOCATION;VALUE=URI;X-ADDRESS=Teak Neighborhood Grill 6400 Times Square Ave Orlando FL 32835 USA;X-APPLE-RADIUS=500;X-TITLE=6400 Times Square Ave\, Orlando\, FL 32835 USA:geo:-81.4706804,28.5088925
END:VEVENT
BEGIN:VEVENT
DTSTART;TZID=America/New_York:20270129T200000
DTEND;TZID=America/New_York:20270129T200000
DTSTAMP:20260420T055011
CREATED:20260105T003217Z
LAST-MODIFIED:20260105T053742Z
UID:10009418-1801252800-1801252800@epictriviafl.com
SUMMARY:Trivia
DESCRIPTION:
URL:https://epictriviafl.com/event/trivia-teak-2/2027-01-29/
LOCATION:Teak Neighborhood Grill\, 6400 Times Square Ave\, Orlando\, FL 32835 USA
GEO:28.5088925;-81.4706804
X-APPLE-STRUCTURED-LOCATION;VALUE=URI;X-ADDRESS=Teak Neighborhood Grill 6400 Times Square Ave Orlando FL 32835 USA;X-APPLE-RADIUS=500;X-TITLE=6400 Times Square Ave\, Orlando\, FL 32835 USA:geo:-81.4706804,28.5088925
END:VEVENT
BEGIN:VEVENT
DTSTART;TZID=America/New_York:20270130T133000
DTEND;TZID=America/New_York:20270130T133000
DTSTAMP:20260420T055011
CREATED:20260105T003232Z
LAST-MODIFIED:20260105T060241Z
UID:10021120-1801315800-1801315800@epictriviafl.com
SUMMARY:Music Bingo
DESCRIPTION:
URL:https://epictriviafl.com/event/music-bingo-teak-2/2027-01-30/
LOCATION:Teak Neighborhood Grill\, 6400 Times Square Ave\, Orlando\, FL 32835 USA
GEO:28.5088925;-81.4706804
X-APPLE-STRUCTURED-LOCATION;VALUE=URI;X-ADDRESS=Teak Neighborhood Grill 6400 Times Square Ave Orlando FL 32835 USA;X-APPLE-RADIUS=500;X-TITLE=6400 Times Square Ave\, Orlando\, FL 32835 USA:geo:-81.4706804,28.5088925
END:VEVENT
BEGIN:VEVENT
DTSTART;TZID=America/New_York:20270202T190000
DTEND;TZID=America/New_York:20270202T190000
DTSTAMP:20260420T055011
CREATED:20260105T003048Z
LAST-MODIFIED:20260105T055319Z
UID:10016699-1801594800-1801594800@epictriviafl.com
SUMMARY:Trivia
DESCRIPTION:
URL:https://epictriviafl.com/event/trivia-teak/2027-02-02/
LOCATION:Teak Neighborhood Grill\, 6400 Times Square Ave\, Orlando\, FL 32835 USA
GEO:28.5088925;-81.4706804
X-APPLE-STRUCTURED-LOCATION;VALUE=URI;X-ADDRESS=Teak Neighborhood Grill 6400 Times Square Ave Orlando FL 32835 USA;X-APPLE-RADIUS=500;X-TITLE=6400 Times Square Ave\, Orlando\, FL 32835 USA:geo:-81.4706804,28.5088925
END:VEVENT
BEGIN:VEVENT
DTSTART;TZID=America/New_York:20270203T190000
DTEND;TZID=America/New_York:20270203T190000
DTSTAMP:20260420T055011
CREATED:20260105T003133Z
LAST-MODIFIED:20260105T054520Z
UID:10013579-1801681200-1801681200@epictriviafl.com
SUMMARY:Music Bingo
DESCRIPTION:
URL:https://epictriviafl.com/event/music-bingo-teak/2027-02-03/
LOCATION:Teak Neighborhood Grill\, 6400 Times Square Ave\, Orlando\, FL 32835 USA
GEO:28.5088925;-81.4706804
X-APPLE-STRUCTURED-LOCATION;VALUE=URI;X-ADDRESS=Teak Neighborhood Grill 6400 Times Square Ave Orlando FL 32835 USA;X-APPLE-RADIUS=500;X-TITLE=6400 Times Square Ave\, Orlando\, FL 32835 USA:geo:-81.4706804,28.5088925
END:VEVENT
BEGIN:VEVENT
DTSTART;TZID=America/New_York:20270205T200000
DTEND;TZID=America/New_York:20270205T200000
DTSTAMP:20260420T055011
CREATED:20260105T003217Z
LAST-MODIFIED:20260105T053742Z
UID:10009419-1801857600-1801857600@epictriviafl.com
SUMMARY:Trivia
DESCRIPTION:
URL:https://epictriviafl.com/event/trivia-teak-2/2027-02-05/
LOCATION:Teak Neighborhood Grill\, 6400 Times Square Ave\, Orlando\, FL 32835 USA
GEO:28.5088925;-81.4706804
X-APPLE-STRUCTURED-LOCATION;VALUE=URI;X-ADDRESS=Teak Neighborhood Grill 6400 Times Square Ave Orlando FL 32835 USA;X-APPLE-RADIUS=500;X-TITLE=6400 Times Square Ave\, Orlando\, FL 32835 USA:geo:-81.4706804,28.5088925
END:VEVENT
BEGIN:VEVENT
DTSTART;TZID=America/New_York:20270206T133000
DTEND;TZID=America/New_York:20270206T133000
DTSTAMP:20260420T055011
CREATED:20260105T003232Z
LAST-MODIFIED:20260105T060241Z
UID:10021121-1801920600-1801920600@epictriviafl.com
SUMMARY:Music Bingo
DESCRIPTION:
URL:https://epictriviafl.com/event/music-bingo-teak-2/2027-02-06/
LOCATION:Teak Neighborhood Grill\, 6400 Times Square Ave\, Orlando\, FL 32835 USA
GEO:28.5088925;-81.4706804
X-APPLE-STRUCTURED-LOCATION;VALUE=URI;X-ADDRESS=Teak Neighborhood Grill 6400 Times Square Ave Orlando FL 32835 USA;X-APPLE-RADIUS=500;X-TITLE=6400 Times Square Ave\, Orlando\, FL 32835 USA:geo:-81.4706804,28.5088925
END:VEVENT
BEGIN:VEVENT
DTSTART;TZID=America/New_York:20270209T190000
DTEND;TZID=America/New_York:20270209T190000
DTSTAMP:20260420T055011
CREATED:20260105T003048Z
LAST-MODIFIED:20260105T055319Z
UID:10016700-1802199600-1802199600@epictriviafl.com
SUMMARY:Trivia
DESCRIPTION:
URL:https://epictriviafl.com/event/trivia-teak/2027-02-09/
LOCATION:Teak Neighborhood Grill\, 6400 Times Square Ave\, Orlando\, FL 32835 USA
GEO:28.5088925;-81.4706804
X-APPLE-STRUCTURED-LOCATION;VALUE=URI;X-ADDRESS=Teak Neighborhood Grill 6400 Times Square Ave Orlando FL 32835 USA;X-APPLE-RADIUS=500;X-TITLE=6400 Times Square Ave\, Orlando\, FL 32835 USA:geo:-81.4706804,28.5088925
END:VEVENT
BEGIN:VEVENT
DTSTART;TZID=America/New_York:20270210T190000
DTEND;TZID=America/New_York:20270210T190000
DTSTAMP:20260420T055011
CREATED:20260105T003133Z
LAST-MODIFIED:20260105T054520Z
UID:10013580-1802286000-1802286000@epictriviafl.com
SUMMARY:Music Bingo
DESCRIPTION:
URL:https://epictriviafl.com/event/music-bingo-teak/2027-02-10/
LOCATION:Teak Neighborhood Grill\, 6400 Times Square Ave\, Orlando\, FL 32835 USA
GEO:28.5088925;-81.4706804
X-APPLE-STRUCTURED-LOCATION;VALUE=URI;X-ADDRESS=Teak Neighborhood Grill 6400 Times Square Ave Orlando FL 32835 USA;X-APPLE-RADIUS=500;X-TITLE=6400 Times Square Ave\, Orlando\, FL 32835 USA:geo:-81.4706804,28.5088925
END:VEVENT
BEGIN:VEVENT
DTSTART;TZID=America/New_York:20270212T200000
DTEND;TZID=America/New_York:20270212T200000
DTSTAMP:20260420T055011
CREATED:20260105T003217Z
LAST-MODIFIED:20260105T053742Z
UID:10009420-1802462400-1802462400@epictriviafl.com
SUMMARY:Trivia
DESCRIPTION:
URL:https://epictriviafl.com/event/trivia-teak-2/2027-02-12/
LOCATION:Teak Neighborhood Grill\, 6400 Times Square Ave\, Orlando\, FL 32835 USA
GEO:28.5088925;-81.4706804
X-APPLE-STRUCTURED-LOCATION;VALUE=URI;X-ADDRESS=Teak Neighborhood Grill 6400 Times Square Ave Orlando FL 32835 USA;X-APPLE-RADIUS=500;X-TITLE=6400 Times Square Ave\, Orlando\, FL 32835 USA:geo:-81.4706804,28.5088925
END:VEVENT
BEGIN:VEVENT
DTSTART;TZID=America/New_York:20270213T133000
DTEND;TZID=America/New_York:20270213T133000
DTSTAMP:20260420T055012
CREATED:20260105T003232Z
LAST-MODIFIED:20260105T060241Z
UID:10021122-1802525400-1802525400@epictriviafl.com
SUMMARY:Music Bingo
DESCRIPTION:
URL:https://epictriviafl.com/event/music-bingo-teak-2/2027-02-13/
LOCATION:Teak Neighborhood Grill\, 6400 Times Square Ave\, Orlando\, FL 32835 USA
GEO:28.5088925;-81.4706804
X-APPLE-STRUCTURED-LOCATION;VALUE=URI;X-ADDRESS=Teak Neighborhood Grill 6400 Times Square Ave Orlando FL 32835 USA;X-APPLE-RADIUS=500;X-TITLE=6400 Times Square Ave\, Orlando\, FL 32835 USA:geo:-81.4706804,28.5088925
END:VEVENT
BEGIN:VEVENT
DTSTART;TZID=America/New_York:20270216T190000
DTEND;TZID=America/New_York:20270216T190000
DTSTAMP:20260420T055012
CREATED:20260105T003048Z
LAST-MODIFIED:20260105T055319Z
UID:10016701-1802804400-1802804400@epictriviafl.com
SUMMARY:Trivia
DESCRIPTION:
URL:https://epictriviafl.com/event/trivia-teak/2027-02-16/
LOCATION:Teak Neighborhood Grill\, 6400 Times Square Ave\, Orlando\, FL 32835 USA
GEO:28.5088925;-81.4706804
X-APPLE-STRUCTURED-LOCATION;VALUE=URI;X-ADDRESS=Teak Neighborhood Grill 6400 Times Square Ave Orlando FL 32835 USA;X-APPLE-RADIUS=500;X-TITLE=6400 Times Square Ave\, Orlando\, FL 32835 USA:geo:-81.4706804,28.5088925
END:VEVENT
BEGIN:VEVENT
DTSTART;TZID=America/New_York:20270217T190000
DTEND;TZID=America/New_York:20270217T190000
DTSTAMP:20260420T055012
CREATED:20260105T003133Z
LAST-MODIFIED:20260105T054520Z
UID:10013581-1802890800-1802890800@epictriviafl.com
SUMMARY:Music Bingo
DESCRIPTION:
URL:https://epictriviafl.com/event/music-bingo-teak/2027-02-17/
LOCATION:Teak Neighborhood Grill\, 6400 Times Square Ave\, Orlando\, FL 32835 USA
GEO:28.5088925;-81.4706804
X-APPLE-STRUCTURED-LOCATION;VALUE=URI;X-ADDRESS=Teak Neighborhood Grill 6400 Times Square Ave Orlando FL 32835 USA;X-APPLE-RADIUS=500;X-TITLE=6400 Times Square Ave\, Orlando\, FL 32835 USA:geo:-81.4706804,28.5088925
END:VEVENT
END:VCALENDAR