BEGIN:VCALENDAR
VERSION:2.0
PRODID:-//Epic Trivia - ECPv6.15.18//NONSGML v1.0//EN
CALSCALE:GREGORIAN
METHOD:PUBLISH
X-ORIGINAL-URL:https://epictriviafl.com
X-WR-CALDESC:Events for Epic Trivia
REFRESH-INTERVAL;VALUE=DURATION:PT1H
X-Robots-Tag:noindex
X-PUBLISHED-TTL:PT1H
BEGIN:VTIMEZONE
TZID:America/New_York
BEGIN:DAYLIGHT
TZOFFSETFROM:-0500
TZOFFSETTO:-0400
TZNAME:EDT
DTSTART:20250309T070000
END:DAYLIGHT
BEGIN:STANDARD
TZOFFSETFROM:-0400
TZOFFSETTO:-0500
TZNAME:EST
DTSTART:20251102T060000
END:STANDARD
BEGIN:DAYLIGHT
TZOFFSETFROM:-0500
TZOFFSETTO:-0400
TZNAME:EDT
DTSTART:20260308T070000
END:DAYLIGHT
BEGIN:STANDARD
TZOFFSETFROM:-0400
TZOFFSETTO:-0500
TZNAME:EST
DTSTART:20261101T060000
END:STANDARD
BEGIN:DAYLIGHT
TZOFFSETFROM:-0500
TZOFFSETTO:-0400
TZNAME:EDT
DTSTART:20270314T070000
END:DAYLIGHT
BEGIN:STANDARD
TZOFFSETFROM:-0400
TZOFFSETTO:-0500
TZNAME:EST
DTSTART:20271107T060000
END:STANDARD
END:VTIMEZONE
BEGIN:VEVENT
DTSTART;TZID=America/New_York:20261027T190000
DTEND;TZID=America/New_York:20261027T190000
DTSTAMP:20260420T004527
CREATED:20260105T003048Z
LAST-MODIFIED:20260105T055319Z
UID:10016685-1793127600-1793127600@epictriviafl.com
SUMMARY:Trivia
DESCRIPTION:
URL:https://epictriviafl.com/event/trivia-teak/2026-10-27/
LOCATION:Teak Neighborhood Grill\, 6400 Times Square Ave\, Orlando\, FL 32835 USA
GEO:28.5088925;-81.4706804
X-APPLE-STRUCTURED-LOCATION;VALUE=URI;X-ADDRESS=Teak Neighborhood Grill 6400 Times Square Ave Orlando FL 32835 USA;X-APPLE-RADIUS=500;X-TITLE=6400 Times Square Ave\, Orlando\, FL 32835 USA:geo:-81.4706804,28.5088925
END:VEVENT
BEGIN:VEVENT
DTSTART;TZID=America/New_York:20261028T190000
DTEND;TZID=America/New_York:20261028T190000
DTSTAMP:20260420T004527
CREATED:20260105T003133Z
LAST-MODIFIED:20260105T054520Z
UID:10013565-1793214000-1793214000@epictriviafl.com
SUMMARY:Music Bingo
DESCRIPTION:
URL:https://epictriviafl.com/event/music-bingo-teak/2026-10-28/
LOCATION:Teak Neighborhood Grill\, 6400 Times Square Ave\, Orlando\, FL 32835 USA
GEO:28.5088925;-81.4706804
X-APPLE-STRUCTURED-LOCATION;VALUE=URI;X-ADDRESS=Teak Neighborhood Grill 6400 Times Square Ave Orlando FL 32835 USA;X-APPLE-RADIUS=500;X-TITLE=6400 Times Square Ave\, Orlando\, FL 32835 USA:geo:-81.4706804,28.5088925
END:VEVENT
BEGIN:VEVENT
DTSTART;TZID=America/New_York:20261030T200000
DTEND;TZID=America/New_York:20261030T200000
DTSTAMP:20260420T004527
CREATED:20260105T003217Z
LAST-MODIFIED:20260105T053742Z
UID:10009405-1793390400-1793390400@epictriviafl.com
SUMMARY:Trivia
DESCRIPTION:
URL:https://epictriviafl.com/event/trivia-teak-2/2026-10-30/
LOCATION:Teak Neighborhood Grill\, 6400 Times Square Ave\, Orlando\, FL 32835 USA
GEO:28.5088925;-81.4706804
X-APPLE-STRUCTURED-LOCATION;VALUE=URI;X-ADDRESS=Teak Neighborhood Grill 6400 Times Square Ave Orlando FL 32835 USA;X-APPLE-RADIUS=500;X-TITLE=6400 Times Square Ave\, Orlando\, FL 32835 USA:geo:-81.4706804,28.5088925
END:VEVENT
BEGIN:VEVENT
DTSTART;TZID=America/New_York:20261031T133000
DTEND;TZID=America/New_York:20261031T133000
DTSTAMP:20260420T004527
CREATED:20260105T003232Z
LAST-MODIFIED:20260105T060241Z
UID:10021107-1793453400-1793453400@epictriviafl.com
SUMMARY:Music Bingo
DESCRIPTION:
URL:https://epictriviafl.com/event/music-bingo-teak-2/2026-10-31/
LOCATION:Teak Neighborhood Grill\, 6400 Times Square Ave\, Orlando\, FL 32835 USA
GEO:28.5088925;-81.4706804
X-APPLE-STRUCTURED-LOCATION;VALUE=URI;X-ADDRESS=Teak Neighborhood Grill 6400 Times Square Ave Orlando FL 32835 USA;X-APPLE-RADIUS=500;X-TITLE=6400 Times Square Ave\, Orlando\, FL 32835 USA:geo:-81.4706804,28.5088925
END:VEVENT
BEGIN:VEVENT
DTSTART;TZID=America/New_York:20261103T190000
DTEND;TZID=America/New_York:20261103T190000
DTSTAMP:20260420T004527
CREATED:20260105T003048Z
LAST-MODIFIED:20260105T055319Z
UID:10016686-1793732400-1793732400@epictriviafl.com
SUMMARY:Trivia
DESCRIPTION:
URL:https://epictriviafl.com/event/trivia-teak/2026-11-03/
LOCATION:Teak Neighborhood Grill\, 6400 Times Square Ave\, Orlando\, FL 32835 USA
GEO:28.5088925;-81.4706804
X-APPLE-STRUCTURED-LOCATION;VALUE=URI;X-ADDRESS=Teak Neighborhood Grill 6400 Times Square Ave Orlando FL 32835 USA;X-APPLE-RADIUS=500;X-TITLE=6400 Times Square Ave\, Orlando\, FL 32835 USA:geo:-81.4706804,28.5088925
END:VEVENT
BEGIN:VEVENT
DTSTART;TZID=America/New_York:20261104T190000
DTEND;TZID=America/New_York:20261104T190000
DTSTAMP:20260420T004527
CREATED:20260105T003133Z
LAST-MODIFIED:20260105T054520Z
UID:10013566-1793818800-1793818800@epictriviafl.com
SUMMARY:Music Bingo
DESCRIPTION:
URL:https://epictriviafl.com/event/music-bingo-teak/2026-11-04/
LOCATION:Teak Neighborhood Grill\, 6400 Times Square Ave\, Orlando\, FL 32835 USA
GEO:28.5088925;-81.4706804
X-APPLE-STRUCTURED-LOCATION;VALUE=URI;X-ADDRESS=Teak Neighborhood Grill 6400 Times Square Ave Orlando FL 32835 USA;X-APPLE-RADIUS=500;X-TITLE=6400 Times Square Ave\, Orlando\, FL 32835 USA:geo:-81.4706804,28.5088925
END:VEVENT
BEGIN:VEVENT
DTSTART;TZID=America/New_York:20261106T200000
DTEND;TZID=America/New_York:20261106T200000
DTSTAMP:20260420T004527
CREATED:20260105T003217Z
LAST-MODIFIED:20260105T053742Z
UID:10009406-1793995200-1793995200@epictriviafl.com
SUMMARY:Trivia
DESCRIPTION:
URL:https://epictriviafl.com/event/trivia-teak-2/2026-11-06/
LOCATION:Teak Neighborhood Grill\, 6400 Times Square Ave\, Orlando\, FL 32835 USA
GEO:28.5088925;-81.4706804
X-APPLE-STRUCTURED-LOCATION;VALUE=URI;X-ADDRESS=Teak Neighborhood Grill 6400 Times Square Ave Orlando FL 32835 USA;X-APPLE-RADIUS=500;X-TITLE=6400 Times Square Ave\, Orlando\, FL 32835 USA:geo:-81.4706804,28.5088925
END:VEVENT
BEGIN:VEVENT
DTSTART;TZID=America/New_York:20261107T133000
DTEND;TZID=America/New_York:20261107T133000
DTSTAMP:20260420T004527
CREATED:20260105T003232Z
LAST-MODIFIED:20260105T060241Z
UID:10021108-1794058200-1794058200@epictriviafl.com
SUMMARY:Music Bingo
DESCRIPTION:
URL:https://epictriviafl.com/event/music-bingo-teak-2/2026-11-07/
LOCATION:Teak Neighborhood Grill\, 6400 Times Square Ave\, Orlando\, FL 32835 USA
GEO:28.5088925;-81.4706804
X-APPLE-STRUCTURED-LOCATION;VALUE=URI;X-ADDRESS=Teak Neighborhood Grill 6400 Times Square Ave Orlando FL 32835 USA;X-APPLE-RADIUS=500;X-TITLE=6400 Times Square Ave\, Orlando\, FL 32835 USA:geo:-81.4706804,28.5088925
END:VEVENT
BEGIN:VEVENT
DTSTART;TZID=America/New_York:20261110T190000
DTEND;TZID=America/New_York:20261110T190000
DTSTAMP:20260420T004527
CREATED:20260105T003048Z
LAST-MODIFIED:20260105T055319Z
UID:10016687-1794337200-1794337200@epictriviafl.com
SUMMARY:Trivia
DESCRIPTION:
URL:https://epictriviafl.com/event/trivia-teak/2026-11-10/
LOCATION:Teak Neighborhood Grill\, 6400 Times Square Ave\, Orlando\, FL 32835 USA
GEO:28.5088925;-81.4706804
X-APPLE-STRUCTURED-LOCATION;VALUE=URI;X-ADDRESS=Teak Neighborhood Grill 6400 Times Square Ave Orlando FL 32835 USA;X-APPLE-RADIUS=500;X-TITLE=6400 Times Square Ave\, Orlando\, FL 32835 USA:geo:-81.4706804,28.5088925
END:VEVENT
BEGIN:VEVENT
DTSTART;TZID=America/New_York:20261111T190000
DTEND;TZID=America/New_York:20261111T190000
DTSTAMP:20260420T004527
CREATED:20260105T003133Z
LAST-MODIFIED:20260105T054520Z
UID:10013567-1794423600-1794423600@epictriviafl.com
SUMMARY:Music Bingo
DESCRIPTION:
URL:https://epictriviafl.com/event/music-bingo-teak/2026-11-11/
LOCATION:Teak Neighborhood Grill\, 6400 Times Square Ave\, Orlando\, FL 32835 USA
GEO:28.5088925;-81.4706804
X-APPLE-STRUCTURED-LOCATION;VALUE=URI;X-ADDRESS=Teak Neighborhood Grill 6400 Times Square Ave Orlando FL 32835 USA;X-APPLE-RADIUS=500;X-TITLE=6400 Times Square Ave\, Orlando\, FL 32835 USA:geo:-81.4706804,28.5088925
END:VEVENT
BEGIN:VEVENT
DTSTART;TZID=America/New_York:20261113T200000
DTEND;TZID=America/New_York:20261113T200000
DTSTAMP:20260420T004527
CREATED:20260105T003217Z
LAST-MODIFIED:20260105T053742Z
UID:10009407-1794600000-1794600000@epictriviafl.com
SUMMARY:Trivia
DESCRIPTION:
URL:https://epictriviafl.com/event/trivia-teak-2/2026-11-13/
LOCATION:Teak Neighborhood Grill\, 6400 Times Square Ave\, Orlando\, FL 32835 USA
GEO:28.5088925;-81.4706804
X-APPLE-STRUCTURED-LOCATION;VALUE=URI;X-ADDRESS=Teak Neighborhood Grill 6400 Times Square Ave Orlando FL 32835 USA;X-APPLE-RADIUS=500;X-TITLE=6400 Times Square Ave\, Orlando\, FL 32835 USA:geo:-81.4706804,28.5088925
END:VEVENT
BEGIN:VEVENT
DTSTART;TZID=America/New_York:20261114T133000
DTEND;TZID=America/New_York:20261114T133000
DTSTAMP:20260420T004527
CREATED:20260105T003232Z
LAST-MODIFIED:20260105T060241Z
UID:10021109-1794663000-1794663000@epictriviafl.com
SUMMARY:Music Bingo
DESCRIPTION:
URL:https://epictriviafl.com/event/music-bingo-teak-2/2026-11-14/
LOCATION:Teak Neighborhood Grill\, 6400 Times Square Ave\, Orlando\, FL 32835 USA
GEO:28.5088925;-81.4706804
X-APPLE-STRUCTURED-LOCATION;VALUE=URI;X-ADDRESS=Teak Neighborhood Grill 6400 Times Square Ave Orlando FL 32835 USA;X-APPLE-RADIUS=500;X-TITLE=6400 Times Square Ave\, Orlando\, FL 32835 USA:geo:-81.4706804,28.5088925
END:VEVENT
BEGIN:VEVENT
DTSTART;TZID=America/New_York:20261117T190000
DTEND;TZID=America/New_York:20261117T190000
DTSTAMP:20260420T004527
CREATED:20260105T003048Z
LAST-MODIFIED:20260105T055319Z
UID:10016688-1794942000-1794942000@epictriviafl.com
SUMMARY:Trivia
DESCRIPTION:
URL:https://epictriviafl.com/event/trivia-teak/2026-11-17/
LOCATION:Teak Neighborhood Grill\, 6400 Times Square Ave\, Orlando\, FL 32835 USA
GEO:28.5088925;-81.4706804
X-APPLE-STRUCTURED-LOCATION;VALUE=URI;X-ADDRESS=Teak Neighborhood Grill 6400 Times Square Ave Orlando FL 32835 USA;X-APPLE-RADIUS=500;X-TITLE=6400 Times Square Ave\, Orlando\, FL 32835 USA:geo:-81.4706804,28.5088925
END:VEVENT
BEGIN:VEVENT
DTSTART;TZID=America/New_York:20261118T190000
DTEND;TZID=America/New_York:20261118T190000
DTSTAMP:20260420T004527
CREATED:20260105T003133Z
LAST-MODIFIED:20260105T054520Z
UID:10013568-1795028400-1795028400@epictriviafl.com
SUMMARY:Music Bingo
DESCRIPTION:
URL:https://epictriviafl.com/event/music-bingo-teak/2026-11-18/
LOCATION:Teak Neighborhood Grill\, 6400 Times Square Ave\, Orlando\, FL 32835 USA
GEO:28.5088925;-81.4706804
X-APPLE-STRUCTURED-LOCATION;VALUE=URI;X-ADDRESS=Teak Neighborhood Grill 6400 Times Square Ave Orlando FL 32835 USA;X-APPLE-RADIUS=500;X-TITLE=6400 Times Square Ave\, Orlando\, FL 32835 USA:geo:-81.4706804,28.5088925
END:VEVENT
BEGIN:VEVENT
DTSTART;TZID=America/New_York:20261120T200000
DTEND;TZID=America/New_York:20261120T200000
DTSTAMP:20260420T004527
CREATED:20260105T003217Z
LAST-MODIFIED:20260105T053742Z
UID:10009408-1795204800-1795204800@epictriviafl.com
SUMMARY:Trivia
DESCRIPTION:
URL:https://epictriviafl.com/event/trivia-teak-2/2026-11-20/
LOCATION:Teak Neighborhood Grill\, 6400 Times Square Ave\, Orlando\, FL 32835 USA
GEO:28.5088925;-81.4706804
X-APPLE-STRUCTURED-LOCATION;VALUE=URI;X-ADDRESS=Teak Neighborhood Grill 6400 Times Square Ave Orlando FL 32835 USA;X-APPLE-RADIUS=500;X-TITLE=6400 Times Square Ave\, Orlando\, FL 32835 USA:geo:-81.4706804,28.5088925
END:VEVENT
BEGIN:VEVENT
DTSTART;TZID=America/New_York:20261121T133000
DTEND;TZID=America/New_York:20261121T133000
DTSTAMP:20260420T004527
CREATED:20260105T003232Z
LAST-MODIFIED:20260105T060241Z
UID:10021110-1795267800-1795267800@epictriviafl.com
SUMMARY:Music Bingo
DESCRIPTION:
URL:https://epictriviafl.com/event/music-bingo-teak-2/2026-11-21/
LOCATION:Teak Neighborhood Grill\, 6400 Times Square Ave\, Orlando\, FL 32835 USA
GEO:28.5088925;-81.4706804
X-APPLE-STRUCTURED-LOCATION;VALUE=URI;X-ADDRESS=Teak Neighborhood Grill 6400 Times Square Ave Orlando FL 32835 USA;X-APPLE-RADIUS=500;X-TITLE=6400 Times Square Ave\, Orlando\, FL 32835 USA:geo:-81.4706804,28.5088925
END:VEVENT
BEGIN:VEVENT
DTSTART;TZID=America/New_York:20261124T190000
DTEND;TZID=America/New_York:20261124T190000
DTSTAMP:20260420T004527
CREATED:20260105T003048Z
LAST-MODIFIED:20260105T055319Z
UID:10016689-1795546800-1795546800@epictriviafl.com
SUMMARY:Trivia
DESCRIPTION:
URL:https://epictriviafl.com/event/trivia-teak/2026-11-24/
LOCATION:Teak Neighborhood Grill\, 6400 Times Square Ave\, Orlando\, FL 32835 USA
GEO:28.5088925;-81.4706804
X-APPLE-STRUCTURED-LOCATION;VALUE=URI;X-ADDRESS=Teak Neighborhood Grill 6400 Times Square Ave Orlando FL 32835 USA;X-APPLE-RADIUS=500;X-TITLE=6400 Times Square Ave\, Orlando\, FL 32835 USA:geo:-81.4706804,28.5088925
END:VEVENT
BEGIN:VEVENT
DTSTART;TZID=America/New_York:20261125T190000
DTEND;TZID=America/New_York:20261125T190000
DTSTAMP:20260420T004527
CREATED:20260105T003133Z
LAST-MODIFIED:20260105T054520Z
UID:10013569-1795633200-1795633200@epictriviafl.com
SUMMARY:Music Bingo
DESCRIPTION:
URL:https://epictriviafl.com/event/music-bingo-teak/2026-11-25/
LOCATION:Teak Neighborhood Grill\, 6400 Times Square Ave\, Orlando\, FL 32835 USA
GEO:28.5088925;-81.4706804
X-APPLE-STRUCTURED-LOCATION;VALUE=URI;X-ADDRESS=Teak Neighborhood Grill 6400 Times Square Ave Orlando FL 32835 USA;X-APPLE-RADIUS=500;X-TITLE=6400 Times Square Ave\, Orlando\, FL 32835 USA:geo:-81.4706804,28.5088925
END:VEVENT
BEGIN:VEVENT
DTSTART;TZID=America/New_York:20261127T200000
DTEND;TZID=America/New_York:20261127T200000
DTSTAMP:20260420T004527
CREATED:20260105T003217Z
LAST-MODIFIED:20260105T053742Z
UID:10009409-1795809600-1795809600@epictriviafl.com
SUMMARY:Trivia
DESCRIPTION:
URL:https://epictriviafl.com/event/trivia-teak-2/2026-11-27/
LOCATION:Teak Neighborhood Grill\, 6400 Times Square Ave\, Orlando\, FL 32835 USA
GEO:28.5088925;-81.4706804
X-APPLE-STRUCTURED-LOCATION;VALUE=URI;X-ADDRESS=Teak Neighborhood Grill 6400 Times Square Ave Orlando FL 32835 USA;X-APPLE-RADIUS=500;X-TITLE=6400 Times Square Ave\, Orlando\, FL 32835 USA:geo:-81.4706804,28.5088925
END:VEVENT
BEGIN:VEVENT
DTSTART;TZID=America/New_York:20261128T133000
DTEND;TZID=America/New_York:20261128T133000
DTSTAMP:20260420T004527
CREATED:20260105T003232Z
LAST-MODIFIED:20260105T060241Z
UID:10021111-1795872600-1795872600@epictriviafl.com
SUMMARY:Music Bingo
DESCRIPTION:
URL:https://epictriviafl.com/event/music-bingo-teak-2/2026-11-28/
LOCATION:Teak Neighborhood Grill\, 6400 Times Square Ave\, Orlando\, FL 32835 USA
GEO:28.5088925;-81.4706804
X-APPLE-STRUCTURED-LOCATION;VALUE=URI;X-ADDRESS=Teak Neighborhood Grill 6400 Times Square Ave Orlando FL 32835 USA;X-APPLE-RADIUS=500;X-TITLE=6400 Times Square Ave\, Orlando\, FL 32835 USA:geo:-81.4706804,28.5088925
END:VEVENT
BEGIN:VEVENT
DTSTART;TZID=America/New_York:20261201T190000
DTEND;TZID=America/New_York:20261201T190000
DTSTAMP:20260420T004527
CREATED:20260105T003048Z
LAST-MODIFIED:20260105T055319Z
UID:10016690-1796151600-1796151600@epictriviafl.com
SUMMARY:Trivia
DESCRIPTION:
URL:https://epictriviafl.com/event/trivia-teak/2026-12-01/
LOCATION:Teak Neighborhood Grill\, 6400 Times Square Ave\, Orlando\, FL 32835 USA
GEO:28.5088925;-81.4706804
X-APPLE-STRUCTURED-LOCATION;VALUE=URI;X-ADDRESS=Teak Neighborhood Grill 6400 Times Square Ave Orlando FL 32835 USA;X-APPLE-RADIUS=500;X-TITLE=6400 Times Square Ave\, Orlando\, FL 32835 USA:geo:-81.4706804,28.5088925
END:VEVENT
BEGIN:VEVENT
DTSTART;TZID=America/New_York:20261202T190000
DTEND;TZID=America/New_York:20261202T190000
DTSTAMP:20260420T004527
CREATED:20260105T003133Z
LAST-MODIFIED:20260105T054520Z
UID:10013570-1796238000-1796238000@epictriviafl.com
SUMMARY:Music Bingo
DESCRIPTION:
URL:https://epictriviafl.com/event/music-bingo-teak/2026-12-02/
LOCATION:Teak Neighborhood Grill\, 6400 Times Square Ave\, Orlando\, FL 32835 USA
GEO:28.5088925;-81.4706804
X-APPLE-STRUCTURED-LOCATION;VALUE=URI;X-ADDRESS=Teak Neighborhood Grill 6400 Times Square Ave Orlando FL 32835 USA;X-APPLE-RADIUS=500;X-TITLE=6400 Times Square Ave\, Orlando\, FL 32835 USA:geo:-81.4706804,28.5088925
END:VEVENT
BEGIN:VEVENT
DTSTART;TZID=America/New_York:20261204T200000
DTEND;TZID=America/New_York:20261204T200000
DTSTAMP:20260420T004527
CREATED:20260105T003217Z
LAST-MODIFIED:20260105T053742Z
UID:10009410-1796414400-1796414400@epictriviafl.com
SUMMARY:Trivia
DESCRIPTION:
URL:https://epictriviafl.com/event/trivia-teak-2/2026-12-04/
LOCATION:Teak Neighborhood Grill\, 6400 Times Square Ave\, Orlando\, FL 32835 USA
GEO:28.5088925;-81.4706804
X-APPLE-STRUCTURED-LOCATION;VALUE=URI;X-ADDRESS=Teak Neighborhood Grill 6400 Times Square Ave Orlando FL 32835 USA;X-APPLE-RADIUS=500;X-TITLE=6400 Times Square Ave\, Orlando\, FL 32835 USA:geo:-81.4706804,28.5088925
END:VEVENT
BEGIN:VEVENT
DTSTART;TZID=America/New_York:20261205T133000
DTEND;TZID=America/New_York:20261205T133000
DTSTAMP:20260420T004527
CREATED:20260105T003232Z
LAST-MODIFIED:20260105T060241Z
UID:10021112-1796477400-1796477400@epictriviafl.com
SUMMARY:Music Bingo
DESCRIPTION:
URL:https://epictriviafl.com/event/music-bingo-teak-2/2026-12-05/
LOCATION:Teak Neighborhood Grill\, 6400 Times Square Ave\, Orlando\, FL 32835 USA
GEO:28.5088925;-81.4706804
X-APPLE-STRUCTURED-LOCATION;VALUE=URI;X-ADDRESS=Teak Neighborhood Grill 6400 Times Square Ave Orlando FL 32835 USA;X-APPLE-RADIUS=500;X-TITLE=6400 Times Square Ave\, Orlando\, FL 32835 USA:geo:-81.4706804,28.5088925
END:VEVENT
BEGIN:VEVENT
DTSTART;TZID=America/New_York:20261208T190000
DTEND;TZID=America/New_York:20261208T190000
DTSTAMP:20260420T004527
CREATED:20260105T003048Z
LAST-MODIFIED:20260105T055319Z
UID:10016691-1796756400-1796756400@epictriviafl.com
SUMMARY:Trivia
DESCRIPTION:
URL:https://epictriviafl.com/event/trivia-teak/2026-12-08/
LOCATION:Teak Neighborhood Grill\, 6400 Times Square Ave\, Orlando\, FL 32835 USA
GEO:28.5088925;-81.4706804
X-APPLE-STRUCTURED-LOCATION;VALUE=URI;X-ADDRESS=Teak Neighborhood Grill 6400 Times Square Ave Orlando FL 32835 USA;X-APPLE-RADIUS=500;X-TITLE=6400 Times Square Ave\, Orlando\, FL 32835 USA:geo:-81.4706804,28.5088925
END:VEVENT
BEGIN:VEVENT
DTSTART;TZID=America/New_York:20261209T190000
DTEND;TZID=America/New_York:20261209T190000
DTSTAMP:20260420T004527
CREATED:20260105T003133Z
LAST-MODIFIED:20260105T054520Z
UID:10013571-1796842800-1796842800@epictriviafl.com
SUMMARY:Music Bingo
DESCRIPTION:
URL:https://epictriviafl.com/event/music-bingo-teak/2026-12-09/
LOCATION:Teak Neighborhood Grill\, 6400 Times Square Ave\, Orlando\, FL 32835 USA
GEO:28.5088925;-81.4706804
X-APPLE-STRUCTURED-LOCATION;VALUE=URI;X-ADDRESS=Teak Neighborhood Grill 6400 Times Square Ave Orlando FL 32835 USA;X-APPLE-RADIUS=500;X-TITLE=6400 Times Square Ave\, Orlando\, FL 32835 USA:geo:-81.4706804,28.5088925
END:VEVENT
BEGIN:VEVENT
DTSTART;TZID=America/New_York:20261211T200000
DTEND;TZID=America/New_York:20261211T200000
DTSTAMP:20260420T004527
CREATED:20260105T003217Z
LAST-MODIFIED:20260105T053742Z
UID:10009411-1797019200-1797019200@epictriviafl.com
SUMMARY:Trivia
DESCRIPTION:
URL:https://epictriviafl.com/event/trivia-teak-2/2026-12-11/
LOCATION:Teak Neighborhood Grill\, 6400 Times Square Ave\, Orlando\, FL 32835 USA
GEO:28.5088925;-81.4706804
X-APPLE-STRUCTURED-LOCATION;VALUE=URI;X-ADDRESS=Teak Neighborhood Grill 6400 Times Square Ave Orlando FL 32835 USA;X-APPLE-RADIUS=500;X-TITLE=6400 Times Square Ave\, Orlando\, FL 32835 USA:geo:-81.4706804,28.5088925
END:VEVENT
BEGIN:VEVENT
DTSTART;TZID=America/New_York:20261212T133000
DTEND;TZID=America/New_York:20261212T133000
DTSTAMP:20260420T004527
CREATED:20260105T003232Z
LAST-MODIFIED:20260105T060241Z
UID:10021113-1797082200-1797082200@epictriviafl.com
SUMMARY:Music Bingo
DESCRIPTION:
URL:https://epictriviafl.com/event/music-bingo-teak-2/2026-12-12/
LOCATION:Teak Neighborhood Grill\, 6400 Times Square Ave\, Orlando\, FL 32835 USA
GEO:28.5088925;-81.4706804
X-APPLE-STRUCTURED-LOCATION;VALUE=URI;X-ADDRESS=Teak Neighborhood Grill 6400 Times Square Ave Orlando FL 32835 USA;X-APPLE-RADIUS=500;X-TITLE=6400 Times Square Ave\, Orlando\, FL 32835 USA:geo:-81.4706804,28.5088925
END:VEVENT
BEGIN:VEVENT
DTSTART;TZID=America/New_York:20261215T190000
DTEND;TZID=America/New_York:20261215T190000
DTSTAMP:20260420T004527
CREATED:20260105T003048Z
LAST-MODIFIED:20260105T055319Z
UID:10016692-1797361200-1797361200@epictriviafl.com
SUMMARY:Trivia
DESCRIPTION:
URL:https://epictriviafl.com/event/trivia-teak/2026-12-15/
LOCATION:Teak Neighborhood Grill\, 6400 Times Square Ave\, Orlando\, FL 32835 USA
GEO:28.5088925;-81.4706804
X-APPLE-STRUCTURED-LOCATION;VALUE=URI;X-ADDRESS=Teak Neighborhood Grill 6400 Times Square Ave Orlando FL 32835 USA;X-APPLE-RADIUS=500;X-TITLE=6400 Times Square Ave\, Orlando\, FL 32835 USA:geo:-81.4706804,28.5088925
END:VEVENT
BEGIN:VEVENT
DTSTART;TZID=America/New_York:20261216T190000
DTEND;TZID=America/New_York:20261216T190000
DTSTAMP:20260420T004527
CREATED:20260105T003133Z
LAST-MODIFIED:20260105T054520Z
UID:10013572-1797447600-1797447600@epictriviafl.com
SUMMARY:Music Bingo
DESCRIPTION:
URL:https://epictriviafl.com/event/music-bingo-teak/2026-12-16/
LOCATION:Teak Neighborhood Grill\, 6400 Times Square Ave\, Orlando\, FL 32835 USA
GEO:28.5088925;-81.4706804
X-APPLE-STRUCTURED-LOCATION;VALUE=URI;X-ADDRESS=Teak Neighborhood Grill 6400 Times Square Ave Orlando FL 32835 USA;X-APPLE-RADIUS=500;X-TITLE=6400 Times Square Ave\, Orlando\, FL 32835 USA:geo:-81.4706804,28.5088925
END:VEVENT
END:VCALENDAR