BEGIN:VCALENDAR
VERSION:2.0
PRODID:-//Epic Trivia - ECPv6.15.18//NONSGML v1.0//EN
CALSCALE:GREGORIAN
METHOD:PUBLISH
X-ORIGINAL-URL:https://epictriviafl.com
X-WR-CALDESC:Events for Epic Trivia
REFRESH-INTERVAL;VALUE=DURATION:PT1H
X-Robots-Tag:noindex
X-PUBLISHED-TTL:PT1H
BEGIN:VTIMEZONE
TZID:America/New_York
BEGIN:DAYLIGHT
TZOFFSETFROM:-0500
TZOFFSETTO:-0400
TZNAME:EDT
DTSTART:20260308T070000
END:DAYLIGHT
BEGIN:STANDARD
TZOFFSETFROM:-0400
TZOFFSETTO:-0500
TZNAME:EST
DTSTART:20261101T060000
END:STANDARD
BEGIN:DAYLIGHT
TZOFFSETFROM:-0500
TZOFFSETTO:-0400
TZNAME:EDT
DTSTART:20270314T070000
END:DAYLIGHT
BEGIN:STANDARD
TZOFFSETFROM:-0400
TZOFFSETTO:-0500
TZNAME:EST
DTSTART:20271107T060000
END:STANDARD
BEGIN:DAYLIGHT
TZOFFSETFROM:-0500
TZOFFSETTO:-0400
TZNAME:EDT
DTSTART:20280312T070000
END:DAYLIGHT
BEGIN:STANDARD
TZOFFSETFROM:-0400
TZOFFSETTO:-0500
TZNAME:EST
DTSTART:20281105T060000
END:STANDARD
BEGIN:DAYLIGHT
TZOFFSETFROM:-0500
TZOFFSETTO:-0400
TZNAME:EDT
DTSTART:20290311T070000
END:DAYLIGHT
BEGIN:STANDARD
TZOFFSETFROM:-0400
TZOFFSETTO:-0500
TZNAME:EST
DTSTART:20291104T060000
END:STANDARD
END:VTIMEZONE
BEGIN:VEVENT
DTSTART;TZID=America/New_York:20270617T190000
DTEND;TZID=America/New_York:20270617T190000
DTSTAMP:20260420T154004
CREATED:20260105T003217Z
LAST-MODIFIED:20260105T053919Z
UID:10010478-1813258800-1813258800@epictriviafl.com
SUMMARY:Music Bingo
DESCRIPTION:
URL:https://epictriviafl.com/event/music-bingo-stephie/2027-06-17/
LOCATION:Stephie’s Pub & Irish Eatery\, 1061 W Orange Blossom Trail\, Apopka FL\, 32712 USA
GEO:28.6858062;-81.5315994
X-APPLE-STRUCTURED-LOCATION;VALUE=URI;X-ADDRESS=Stephie’s Pub & Irish Eatery 1061 W Orange Blossom Trail Apopka FL 32712 USA;X-APPLE-RADIUS=500;X-TITLE=1061 W Orange Blossom Trail\, Apopka FL\, 32712 USA:geo:-81.5315994,28.6858062
END:VEVENT
BEGIN:VEVENT
DTSTART;TZID=America/New_York:20270624T190000
DTEND;TZID=America/New_York:20270624T190000
DTSTAMP:20260420T154004
CREATED:20260105T003217Z
LAST-MODIFIED:20260105T053919Z
UID:10010479-1813863600-1813863600@epictriviafl.com
SUMMARY:Music Bingo
DESCRIPTION:
URL:https://epictriviafl.com/event/music-bingo-stephie/2027-06-24/
LOCATION:Stephie’s Pub & Irish Eatery\, 1061 W Orange Blossom Trail\, Apopka FL\, 32712 USA
GEO:28.6858062;-81.5315994
X-APPLE-STRUCTURED-LOCATION;VALUE=URI;X-ADDRESS=Stephie’s Pub & Irish Eatery 1061 W Orange Blossom Trail Apopka FL 32712 USA;X-APPLE-RADIUS=500;X-TITLE=1061 W Orange Blossom Trail\, Apopka FL\, 32712 USA:geo:-81.5315994,28.6858062
END:VEVENT
BEGIN:VEVENT
DTSTART;TZID=America/New_York:20270701T190000
DTEND;TZID=America/New_York:20270701T190000
DTSTAMP:20260420T154004
CREATED:20260105T003217Z
LAST-MODIFIED:20260105T053919Z
UID:10010480-1814468400-1814468400@epictriviafl.com
SUMMARY:Music Bingo
DESCRIPTION:
URL:https://epictriviafl.com/event/music-bingo-stephie/2027-07-01/
LOCATION:Stephie’s Pub & Irish Eatery\, 1061 W Orange Blossom Trail\, Apopka FL\, 32712 USA
GEO:28.6858062;-81.5315994
X-APPLE-STRUCTURED-LOCATION;VALUE=URI;X-ADDRESS=Stephie’s Pub & Irish Eatery 1061 W Orange Blossom Trail Apopka FL 32712 USA;X-APPLE-RADIUS=500;X-TITLE=1061 W Orange Blossom Trail\, Apopka FL\, 32712 USA:geo:-81.5315994,28.6858062
END:VEVENT
BEGIN:VEVENT
DTSTART;TZID=America/New_York:20270708T190000
DTEND;TZID=America/New_York:20270708T190000
DTSTAMP:20260420T154004
CREATED:20260105T003217Z
LAST-MODIFIED:20260105T053919Z
UID:10010481-1815073200-1815073200@epictriviafl.com
SUMMARY:Music Bingo
DESCRIPTION:
URL:https://epictriviafl.com/event/music-bingo-stephie/2027-07-08/
LOCATION:Stephie’s Pub & Irish Eatery\, 1061 W Orange Blossom Trail\, Apopka FL\, 32712 USA
GEO:28.6858062;-81.5315994
X-APPLE-STRUCTURED-LOCATION;VALUE=URI;X-ADDRESS=Stephie’s Pub & Irish Eatery 1061 W Orange Blossom Trail Apopka FL 32712 USA;X-APPLE-RADIUS=500;X-TITLE=1061 W Orange Blossom Trail\, Apopka FL\, 32712 USA:geo:-81.5315994,28.6858062
END:VEVENT
BEGIN:VEVENT
DTSTART;TZID=America/New_York:20270715T190000
DTEND;TZID=America/New_York:20270715T190000
DTSTAMP:20260420T154004
CREATED:20260105T003217Z
LAST-MODIFIED:20260105T053919Z
UID:10010482-1815678000-1815678000@epictriviafl.com
SUMMARY:Music Bingo
DESCRIPTION:
URL:https://epictriviafl.com/event/music-bingo-stephie/2027-07-15/
LOCATION:Stephie’s Pub & Irish Eatery\, 1061 W Orange Blossom Trail\, Apopka FL\, 32712 USA
GEO:28.6858062;-81.5315994
X-APPLE-STRUCTURED-LOCATION;VALUE=URI;X-ADDRESS=Stephie’s Pub & Irish Eatery 1061 W Orange Blossom Trail Apopka FL 32712 USA;X-APPLE-RADIUS=500;X-TITLE=1061 W Orange Blossom Trail\, Apopka FL\, 32712 USA:geo:-81.5315994,28.6858062
END:VEVENT
BEGIN:VEVENT
DTSTART;TZID=America/New_York:20270722T190000
DTEND;TZID=America/New_York:20270722T190000
DTSTAMP:20260420T154004
CREATED:20260105T003217Z
LAST-MODIFIED:20260105T053919Z
UID:10010483-1816282800-1816282800@epictriviafl.com
SUMMARY:Music Bingo
DESCRIPTION:
URL:https://epictriviafl.com/event/music-bingo-stephie/2027-07-22/
LOCATION:Stephie’s Pub & Irish Eatery\, 1061 W Orange Blossom Trail\, Apopka FL\, 32712 USA
GEO:28.6858062;-81.5315994
X-APPLE-STRUCTURED-LOCATION;VALUE=URI;X-ADDRESS=Stephie’s Pub & Irish Eatery 1061 W Orange Blossom Trail Apopka FL 32712 USA;X-APPLE-RADIUS=500;X-TITLE=1061 W Orange Blossom Trail\, Apopka FL\, 32712 USA:geo:-81.5315994,28.6858062
END:VEVENT
BEGIN:VEVENT
DTSTART;TZID=America/New_York:20270729T190000
DTEND;TZID=America/New_York:20270729T190000
DTSTAMP:20260420T154004
CREATED:20260105T003217Z
LAST-MODIFIED:20260105T053919Z
UID:10010484-1816887600-1816887600@epictriviafl.com
SUMMARY:Music Bingo
DESCRIPTION:
URL:https://epictriviafl.com/event/music-bingo-stephie/2027-07-29/
LOCATION:Stephie’s Pub & Irish Eatery\, 1061 W Orange Blossom Trail\, Apopka FL\, 32712 USA
GEO:28.6858062;-81.5315994
X-APPLE-STRUCTURED-LOCATION;VALUE=URI;X-ADDRESS=Stephie’s Pub & Irish Eatery 1061 W Orange Blossom Trail Apopka FL 32712 USA;X-APPLE-RADIUS=500;X-TITLE=1061 W Orange Blossom Trail\, Apopka FL\, 32712 USA:geo:-81.5315994,28.6858062
END:VEVENT
BEGIN:VEVENT
DTSTART;TZID=America/New_York:20270805T190000
DTEND;TZID=America/New_York:20270805T190000
DTSTAMP:20260420T154004
CREATED:20260105T003217Z
LAST-MODIFIED:20260105T053919Z
UID:10010485-1817492400-1817492400@epictriviafl.com
SUMMARY:Music Bingo
DESCRIPTION:
URL:https://epictriviafl.com/event/music-bingo-stephie/2027-08-05/
LOCATION:Stephie’s Pub & Irish Eatery\, 1061 W Orange Blossom Trail\, Apopka FL\, 32712 USA
GEO:28.6858062;-81.5315994
X-APPLE-STRUCTURED-LOCATION;VALUE=URI;X-ADDRESS=Stephie’s Pub & Irish Eatery 1061 W Orange Blossom Trail Apopka FL 32712 USA;X-APPLE-RADIUS=500;X-TITLE=1061 W Orange Blossom Trail\, Apopka FL\, 32712 USA:geo:-81.5315994,28.6858062
END:VEVENT
BEGIN:VEVENT
DTSTART;TZID=America/New_York:20270812T190000
DTEND;TZID=America/New_York:20270812T190000
DTSTAMP:20260420T154004
CREATED:20260105T003217Z
LAST-MODIFIED:20260105T053919Z
UID:10010486-1818097200-1818097200@epictriviafl.com
SUMMARY:Music Bingo
DESCRIPTION:
URL:https://epictriviafl.com/event/music-bingo-stephie/2027-08-12/
LOCATION:Stephie’s Pub & Irish Eatery\, 1061 W Orange Blossom Trail\, Apopka FL\, 32712 USA
GEO:28.6858062;-81.5315994
X-APPLE-STRUCTURED-LOCATION;VALUE=URI;X-ADDRESS=Stephie’s Pub & Irish Eatery 1061 W Orange Blossom Trail Apopka FL 32712 USA;X-APPLE-RADIUS=500;X-TITLE=1061 W Orange Blossom Trail\, Apopka FL\, 32712 USA:geo:-81.5315994,28.6858062
END:VEVENT
BEGIN:VEVENT
DTSTART;TZID=America/New_York:20270819T190000
DTEND;TZID=America/New_York:20270819T190000
DTSTAMP:20260420T154004
CREATED:20260105T003217Z
LAST-MODIFIED:20260105T053919Z
UID:10010487-1818702000-1818702000@epictriviafl.com
SUMMARY:Music Bingo
DESCRIPTION:
URL:https://epictriviafl.com/event/music-bingo-stephie/2027-08-19/
LOCATION:Stephie’s Pub & Irish Eatery\, 1061 W Orange Blossom Trail\, Apopka FL\, 32712 USA
GEO:28.6858062;-81.5315994
X-APPLE-STRUCTURED-LOCATION;VALUE=URI;X-ADDRESS=Stephie’s Pub & Irish Eatery 1061 W Orange Blossom Trail Apopka FL 32712 USA;X-APPLE-RADIUS=500;X-TITLE=1061 W Orange Blossom Trail\, Apopka FL\, 32712 USA:geo:-81.5315994,28.6858062
END:VEVENT
BEGIN:VEVENT
DTSTART;TZID=America/New_York:20270826T190000
DTEND;TZID=America/New_York:20270826T190000
DTSTAMP:20260420T154004
CREATED:20260105T003217Z
LAST-MODIFIED:20260105T053919Z
UID:10010488-1819306800-1819306800@epictriviafl.com
SUMMARY:Music Bingo
DESCRIPTION:
URL:https://epictriviafl.com/event/music-bingo-stephie/2027-08-26/
LOCATION:Stephie’s Pub & Irish Eatery\, 1061 W Orange Blossom Trail\, Apopka FL\, 32712 USA
GEO:28.6858062;-81.5315994
X-APPLE-STRUCTURED-LOCATION;VALUE=URI;X-ADDRESS=Stephie’s Pub & Irish Eatery 1061 W Orange Blossom Trail Apopka FL 32712 USA;X-APPLE-RADIUS=500;X-TITLE=1061 W Orange Blossom Trail\, Apopka FL\, 32712 USA:geo:-81.5315994,28.6858062
END:VEVENT
BEGIN:VEVENT
DTSTART;TZID=America/New_York:20270902T190000
DTEND;TZID=America/New_York:20270902T190000
DTSTAMP:20260420T154004
CREATED:20260105T003217Z
LAST-MODIFIED:20260105T053919Z
UID:10010489-1819911600-1819911600@epictriviafl.com
SUMMARY:Music Bingo
DESCRIPTION:
URL:https://epictriviafl.com/event/music-bingo-stephie/2027-09-02/
LOCATION:Stephie’s Pub & Irish Eatery\, 1061 W Orange Blossom Trail\, Apopka FL\, 32712 USA
GEO:28.6858062;-81.5315994
X-APPLE-STRUCTURED-LOCATION;VALUE=URI;X-ADDRESS=Stephie’s Pub & Irish Eatery 1061 W Orange Blossom Trail Apopka FL 32712 USA;X-APPLE-RADIUS=500;X-TITLE=1061 W Orange Blossom Trail\, Apopka FL\, 32712 USA:geo:-81.5315994,28.6858062
END:VEVENT
BEGIN:VEVENT
DTSTART;TZID=America/New_York:20270909T190000
DTEND;TZID=America/New_York:20270909T190000
DTSTAMP:20260420T154004
CREATED:20260105T003217Z
LAST-MODIFIED:20260105T053919Z
UID:10010490-1820516400-1820516400@epictriviafl.com
SUMMARY:Music Bingo
DESCRIPTION:
URL:https://epictriviafl.com/event/music-bingo-stephie/2027-09-09/
LOCATION:Stephie’s Pub & Irish Eatery\, 1061 W Orange Blossom Trail\, Apopka FL\, 32712 USA
GEO:28.6858062;-81.5315994
X-APPLE-STRUCTURED-LOCATION;VALUE=URI;X-ADDRESS=Stephie’s Pub & Irish Eatery 1061 W Orange Blossom Trail Apopka FL 32712 USA;X-APPLE-RADIUS=500;X-TITLE=1061 W Orange Blossom Trail\, Apopka FL\, 32712 USA:geo:-81.5315994,28.6858062
END:VEVENT
BEGIN:VEVENT
DTSTART;TZID=America/New_York:20270916T190000
DTEND;TZID=America/New_York:20270916T190000
DTSTAMP:20260420T154004
CREATED:20260105T003217Z
LAST-MODIFIED:20260105T053919Z
UID:10010491-1821121200-1821121200@epictriviafl.com
SUMMARY:Music Bingo
DESCRIPTION:
URL:https://epictriviafl.com/event/music-bingo-stephie/2027-09-16/
LOCATION:Stephie’s Pub & Irish Eatery\, 1061 W Orange Blossom Trail\, Apopka FL\, 32712 USA
GEO:28.6858062;-81.5315994
X-APPLE-STRUCTURED-LOCATION;VALUE=URI;X-ADDRESS=Stephie’s Pub & Irish Eatery 1061 W Orange Blossom Trail Apopka FL 32712 USA;X-APPLE-RADIUS=500;X-TITLE=1061 W Orange Blossom Trail\, Apopka FL\, 32712 USA:geo:-81.5315994,28.6858062
END:VEVENT
BEGIN:VEVENT
DTSTART;TZID=America/New_York:20270923T190000
DTEND;TZID=America/New_York:20270923T190000
DTSTAMP:20260420T154004
CREATED:20260105T003217Z
LAST-MODIFIED:20260105T053919Z
UID:10010492-1821726000-1821726000@epictriviafl.com
SUMMARY:Music Bingo
DESCRIPTION:
URL:https://epictriviafl.com/event/music-bingo-stephie/2027-09-23/
LOCATION:Stephie’s Pub & Irish Eatery\, 1061 W Orange Blossom Trail\, Apopka FL\, 32712 USA
GEO:28.6858062;-81.5315994
X-APPLE-STRUCTURED-LOCATION;VALUE=URI;X-ADDRESS=Stephie’s Pub & Irish Eatery 1061 W Orange Blossom Trail Apopka FL 32712 USA;X-APPLE-RADIUS=500;X-TITLE=1061 W Orange Blossom Trail\, Apopka FL\, 32712 USA:geo:-81.5315994,28.6858062
END:VEVENT
BEGIN:VEVENT
DTSTART;TZID=America/New_York:20270930T190000
DTEND;TZID=America/New_York:20270930T190000
DTSTAMP:20260420T154004
CREATED:20260105T003217Z
LAST-MODIFIED:20260105T053919Z
UID:10010493-1822330800-1822330800@epictriviafl.com
SUMMARY:Music Bingo
DESCRIPTION:
URL:https://epictriviafl.com/event/music-bingo-stephie/2027-09-30/
LOCATION:Stephie’s Pub & Irish Eatery\, 1061 W Orange Blossom Trail\, Apopka FL\, 32712 USA
GEO:28.6858062;-81.5315994
X-APPLE-STRUCTURED-LOCATION;VALUE=URI;X-ADDRESS=Stephie’s Pub & Irish Eatery 1061 W Orange Blossom Trail Apopka FL 32712 USA;X-APPLE-RADIUS=500;X-TITLE=1061 W Orange Blossom Trail\, Apopka FL\, 32712 USA:geo:-81.5315994,28.6858062
END:VEVENT
BEGIN:VEVENT
DTSTART;TZID=America/New_York:20271007T190000
DTEND;TZID=America/New_York:20271007T190000
DTSTAMP:20260420T154004
CREATED:20260105T003217Z
LAST-MODIFIED:20260105T053919Z
UID:10010494-1822935600-1822935600@epictriviafl.com
SUMMARY:Music Bingo
DESCRIPTION:
URL:https://epictriviafl.com/event/music-bingo-stephie/2027-10-07/
LOCATION:Stephie’s Pub & Irish Eatery\, 1061 W Orange Blossom Trail\, Apopka FL\, 32712 USA
GEO:28.6858062;-81.5315994
X-APPLE-STRUCTURED-LOCATION;VALUE=URI;X-ADDRESS=Stephie’s Pub & Irish Eatery 1061 W Orange Blossom Trail Apopka FL 32712 USA;X-APPLE-RADIUS=500;X-TITLE=1061 W Orange Blossom Trail\, Apopka FL\, 32712 USA:geo:-81.5315994,28.6858062
END:VEVENT
BEGIN:VEVENT
DTSTART;TZID=America/New_York:20271014T190000
DTEND;TZID=America/New_York:20271014T190000
DTSTAMP:20260420T154005
CREATED:20260105T003217Z
LAST-MODIFIED:20260105T053919Z
UID:10010495-1823540400-1823540400@epictriviafl.com
SUMMARY:Music Bingo
DESCRIPTION:
URL:https://epictriviafl.com/event/music-bingo-stephie/2027-10-14/
LOCATION:Stephie’s Pub & Irish Eatery\, 1061 W Orange Blossom Trail\, Apopka FL\, 32712 USA
GEO:28.6858062;-81.5315994
X-APPLE-STRUCTURED-LOCATION;VALUE=URI;X-ADDRESS=Stephie’s Pub & Irish Eatery 1061 W Orange Blossom Trail Apopka FL 32712 USA;X-APPLE-RADIUS=500;X-TITLE=1061 W Orange Blossom Trail\, Apopka FL\, 32712 USA:geo:-81.5315994,28.6858062
END:VEVENT
BEGIN:VEVENT
DTSTART;TZID=America/New_York:20271021T190000
DTEND;TZID=America/New_York:20271021T190000
DTSTAMP:20260420T154005
CREATED:20260105T003217Z
LAST-MODIFIED:20260105T053919Z
UID:10010496-1824145200-1824145200@epictriviafl.com
SUMMARY:Music Bingo
DESCRIPTION:
URL:https://epictriviafl.com/event/music-bingo-stephie/2027-10-21/
LOCATION:Stephie’s Pub & Irish Eatery\, 1061 W Orange Blossom Trail\, Apopka FL\, 32712 USA
GEO:28.6858062;-81.5315994
X-APPLE-STRUCTURED-LOCATION;VALUE=URI;X-ADDRESS=Stephie’s Pub & Irish Eatery 1061 W Orange Blossom Trail Apopka FL 32712 USA;X-APPLE-RADIUS=500;X-TITLE=1061 W Orange Blossom Trail\, Apopka FL\, 32712 USA:geo:-81.5315994,28.6858062
END:VEVENT
BEGIN:VEVENT
DTSTART;TZID=America/New_York:20271028T190000
DTEND;TZID=America/New_York:20271028T190000
DTSTAMP:20260420T154005
CREATED:20260105T003217Z
LAST-MODIFIED:20260105T053919Z
UID:10010497-1824750000-1824750000@epictriviafl.com
SUMMARY:Music Bingo
DESCRIPTION:
URL:https://epictriviafl.com/event/music-bingo-stephie/2027-10-28/
LOCATION:Stephie’s Pub & Irish Eatery\, 1061 W Orange Blossom Trail\, Apopka FL\, 32712 USA
GEO:28.6858062;-81.5315994
X-APPLE-STRUCTURED-LOCATION;VALUE=URI;X-ADDRESS=Stephie’s Pub & Irish Eatery 1061 W Orange Blossom Trail Apopka FL 32712 USA;X-APPLE-RADIUS=500;X-TITLE=1061 W Orange Blossom Trail\, Apopka FL\, 32712 USA:geo:-81.5315994,28.6858062
END:VEVENT
BEGIN:VEVENT
DTSTART;TZID=America/New_York:20271104T190000
DTEND;TZID=America/New_York:20271104T190000
DTSTAMP:20260420T154005
CREATED:20260105T003217Z
LAST-MODIFIED:20260105T053919Z
UID:10010498-1825354800-1825354800@epictriviafl.com
SUMMARY:Music Bingo
DESCRIPTION:
URL:https://epictriviafl.com/event/music-bingo-stephie/2027-11-04/
LOCATION:Stephie’s Pub & Irish Eatery\, 1061 W Orange Blossom Trail\, Apopka FL\, 32712 USA
GEO:28.6858062;-81.5315994
X-APPLE-STRUCTURED-LOCATION;VALUE=URI;X-ADDRESS=Stephie’s Pub & Irish Eatery 1061 W Orange Blossom Trail Apopka FL 32712 USA;X-APPLE-RADIUS=500;X-TITLE=1061 W Orange Blossom Trail\, Apopka FL\, 32712 USA:geo:-81.5315994,28.6858062
END:VEVENT
BEGIN:VEVENT
DTSTART;TZID=America/New_York:20271111T190000
DTEND;TZID=America/New_York:20271111T190000
DTSTAMP:20260420T154005
CREATED:20260105T003217Z
LAST-MODIFIED:20260105T053919Z
UID:10010499-1825959600-1825959600@epictriviafl.com
SUMMARY:Music Bingo
DESCRIPTION:
URL:https://epictriviafl.com/event/music-bingo-stephie/2027-11-11/
LOCATION:Stephie’s Pub & Irish Eatery\, 1061 W Orange Blossom Trail\, Apopka FL\, 32712 USA
GEO:28.6858062;-81.5315994
X-APPLE-STRUCTURED-LOCATION;VALUE=URI;X-ADDRESS=Stephie’s Pub & Irish Eatery 1061 W Orange Blossom Trail Apopka FL 32712 USA;X-APPLE-RADIUS=500;X-TITLE=1061 W Orange Blossom Trail\, Apopka FL\, 32712 USA:geo:-81.5315994,28.6858062
END:VEVENT
BEGIN:VEVENT
DTSTART;TZID=America/New_York:20271118T190000
DTEND;TZID=America/New_York:20271118T190000
DTSTAMP:20260420T154005
CREATED:20260105T003217Z
LAST-MODIFIED:20260105T053919Z
UID:10010500-1826564400-1826564400@epictriviafl.com
SUMMARY:Music Bingo
DESCRIPTION:
URL:https://epictriviafl.com/event/music-bingo-stephie/2027-11-18/
LOCATION:Stephie’s Pub & Irish Eatery\, 1061 W Orange Blossom Trail\, Apopka FL\, 32712 USA
GEO:28.6858062;-81.5315994
X-APPLE-STRUCTURED-LOCATION;VALUE=URI;X-ADDRESS=Stephie’s Pub & Irish Eatery 1061 W Orange Blossom Trail Apopka FL 32712 USA;X-APPLE-RADIUS=500;X-TITLE=1061 W Orange Blossom Trail\, Apopka FL\, 32712 USA:geo:-81.5315994,28.6858062
END:VEVENT
BEGIN:VEVENT
DTSTART;TZID=America/New_York:20271125T190000
DTEND;TZID=America/New_York:20271125T190000
DTSTAMP:20260420T154005
CREATED:20260105T003217Z
LAST-MODIFIED:20260105T053919Z
UID:10010501-1827169200-1827169200@epictriviafl.com
SUMMARY:Music Bingo
DESCRIPTION:
URL:https://epictriviafl.com/event/music-bingo-stephie/2027-11-25/
LOCATION:Stephie’s Pub & Irish Eatery\, 1061 W Orange Blossom Trail\, Apopka FL\, 32712 USA
GEO:28.6858062;-81.5315994
X-APPLE-STRUCTURED-LOCATION;VALUE=URI;X-ADDRESS=Stephie’s Pub & Irish Eatery 1061 W Orange Blossom Trail Apopka FL 32712 USA;X-APPLE-RADIUS=500;X-TITLE=1061 W Orange Blossom Trail\, Apopka FL\, 32712 USA:geo:-81.5315994,28.6858062
END:VEVENT
BEGIN:VEVENT
DTSTART;TZID=America/New_York:20271202T190000
DTEND;TZID=America/New_York:20271202T190000
DTSTAMP:20260420T154005
CREATED:20260105T003217Z
LAST-MODIFIED:20260105T053919Z
UID:10010502-1827774000-1827774000@epictriviafl.com
SUMMARY:Music Bingo
DESCRIPTION:
URL:https://epictriviafl.com/event/music-bingo-stephie/2027-12-02/
LOCATION:Stephie’s Pub & Irish Eatery\, 1061 W Orange Blossom Trail\, Apopka FL\, 32712 USA
GEO:28.6858062;-81.5315994
X-APPLE-STRUCTURED-LOCATION;VALUE=URI;X-ADDRESS=Stephie’s Pub & Irish Eatery 1061 W Orange Blossom Trail Apopka FL 32712 USA;X-APPLE-RADIUS=500;X-TITLE=1061 W Orange Blossom Trail\, Apopka FL\, 32712 USA:geo:-81.5315994,28.6858062
END:VEVENT
BEGIN:VEVENT
DTSTART;TZID=America/New_York:20271209T190000
DTEND;TZID=America/New_York:20271209T190000
DTSTAMP:20260420T154005
CREATED:20260105T003217Z
LAST-MODIFIED:20260105T053919Z
UID:10010503-1828378800-1828378800@epictriviafl.com
SUMMARY:Music Bingo
DESCRIPTION:
URL:https://epictriviafl.com/event/music-bingo-stephie/2027-12-09/
LOCATION:Stephie’s Pub & Irish Eatery\, 1061 W Orange Blossom Trail\, Apopka FL\, 32712 USA
GEO:28.6858062;-81.5315994
X-APPLE-STRUCTURED-LOCATION;VALUE=URI;X-ADDRESS=Stephie’s Pub & Irish Eatery 1061 W Orange Blossom Trail Apopka FL 32712 USA;X-APPLE-RADIUS=500;X-TITLE=1061 W Orange Blossom Trail\, Apopka FL\, 32712 USA:geo:-81.5315994,28.6858062
END:VEVENT
BEGIN:VEVENT
DTSTART;TZID=America/New_York:20271216T190000
DTEND;TZID=America/New_York:20271216T190000
DTSTAMP:20260420T154005
CREATED:20260105T003217Z
LAST-MODIFIED:20260105T053919Z
UID:10010504-1828983600-1828983600@epictriviafl.com
SUMMARY:Music Bingo
DESCRIPTION:
URL:https://epictriviafl.com/event/music-bingo-stephie/2027-12-16/
LOCATION:Stephie’s Pub & Irish Eatery\, 1061 W Orange Blossom Trail\, Apopka FL\, 32712 USA
GEO:28.6858062;-81.5315994
X-APPLE-STRUCTURED-LOCATION;VALUE=URI;X-ADDRESS=Stephie’s Pub & Irish Eatery 1061 W Orange Blossom Trail Apopka FL 32712 USA;X-APPLE-RADIUS=500;X-TITLE=1061 W Orange Blossom Trail\, Apopka FL\, 32712 USA:geo:-81.5315994,28.6858062
END:VEVENT
BEGIN:VEVENT
DTSTART;TZID=America/New_York:20271223T190000
DTEND;TZID=America/New_York:20271223T190000
DTSTAMP:20260420T154005
CREATED:20260105T003217Z
LAST-MODIFIED:20260105T053919Z
UID:10010505-1829588400-1829588400@epictriviafl.com
SUMMARY:Music Bingo
DESCRIPTION:
URL:https://epictriviafl.com/event/music-bingo-stephie/2027-12-23/
LOCATION:Stephie’s Pub & Irish Eatery\, 1061 W Orange Blossom Trail\, Apopka FL\, 32712 USA
GEO:28.6858062;-81.5315994
X-APPLE-STRUCTURED-LOCATION;VALUE=URI;X-ADDRESS=Stephie’s Pub & Irish Eatery 1061 W Orange Blossom Trail Apopka FL 32712 USA;X-APPLE-RADIUS=500;X-TITLE=1061 W Orange Blossom Trail\, Apopka FL\, 32712 USA:geo:-81.5315994,28.6858062
END:VEVENT
BEGIN:VEVENT
DTSTART;TZID=America/New_York:20271230T190000
DTEND;TZID=America/New_York:20271230T190000
DTSTAMP:20260420T154005
CREATED:20260105T003217Z
LAST-MODIFIED:20260105T053919Z
UID:10010506-1830193200-1830193200@epictriviafl.com
SUMMARY:Music Bingo
DESCRIPTION:
URL:https://epictriviafl.com/event/music-bingo-stephie/2027-12-30/
LOCATION:Stephie’s Pub & Irish Eatery\, 1061 W Orange Blossom Trail\, Apopka FL\, 32712 USA
GEO:28.6858062;-81.5315994
X-APPLE-STRUCTURED-LOCATION;VALUE=URI;X-ADDRESS=Stephie’s Pub & Irish Eatery 1061 W Orange Blossom Trail Apopka FL 32712 USA;X-APPLE-RADIUS=500;X-TITLE=1061 W Orange Blossom Trail\, Apopka FL\, 32712 USA:geo:-81.5315994,28.6858062
END:VEVENT
BEGIN:VEVENT
DTSTART;TZID=America/New_York:20280106T190000
DTEND;TZID=America/New_York:20280106T190000
DTSTAMP:20260420T154005
CREATED:20260105T003217Z
LAST-MODIFIED:20260105T053919Z
UID:10010507-1830798000-1830798000@epictriviafl.com
SUMMARY:Music Bingo
DESCRIPTION:
URL:https://epictriviafl.com/event/music-bingo-stephie/2028-01-06/
LOCATION:Stephie’s Pub & Irish Eatery\, 1061 W Orange Blossom Trail\, Apopka FL\, 32712 USA
GEO:28.6858062;-81.5315994
X-APPLE-STRUCTURED-LOCATION;VALUE=URI;X-ADDRESS=Stephie’s Pub & Irish Eatery 1061 W Orange Blossom Trail Apopka FL 32712 USA;X-APPLE-RADIUS=500;X-TITLE=1061 W Orange Blossom Trail\, Apopka FL\, 32712 USA:geo:-81.5315994,28.6858062
END:VEVENT
END:VCALENDAR