BEGIN:VCALENDAR
VERSION:2.0
PRODID:-//Epic Trivia - ECPv6.15.18//NONSGML v1.0//EN
CALSCALE:GREGORIAN
METHOD:PUBLISH
X-ORIGINAL-URL:https://epictriviafl.com
X-WR-CALDESC:Events for Epic Trivia
REFRESH-INTERVAL;VALUE=DURATION:PT1H
X-Robots-Tag:noindex
X-PUBLISHED-TTL:PT1H
BEGIN:VTIMEZONE
TZID:America/New_York
BEGIN:DAYLIGHT
TZOFFSETFROM:-0500
TZOFFSETTO:-0400
TZNAME:EDT
DTSTART:20250309T070000
END:DAYLIGHT
BEGIN:STANDARD
TZOFFSETFROM:-0400
TZOFFSETTO:-0500
TZNAME:EST
DTSTART:20251102T060000
END:STANDARD
BEGIN:DAYLIGHT
TZOFFSETFROM:-0500
TZOFFSETTO:-0400
TZNAME:EDT
DTSTART:20260308T070000
END:DAYLIGHT
BEGIN:STANDARD
TZOFFSETFROM:-0400
TZOFFSETTO:-0500
TZNAME:EST
DTSTART:20261101T060000
END:STANDARD
BEGIN:DAYLIGHT
TZOFFSETFROM:-0500
TZOFFSETTO:-0400
TZNAME:EDT
DTSTART:20270314T070000
END:DAYLIGHT
BEGIN:STANDARD
TZOFFSETFROM:-0400
TZOFFSETTO:-0500
TZNAME:EST
DTSTART:20271107T060000
END:STANDARD
BEGIN:DAYLIGHT
TZOFFSETFROM:-0500
TZOFFSETTO:-0400
TZNAME:EDT
DTSTART:20280312T070000
END:DAYLIGHT
BEGIN:STANDARD
TZOFFSETFROM:-0400
TZOFFSETTO:-0500
TZNAME:EST
DTSTART:20281105T060000
END:STANDARD
END:VTIMEZONE
BEGIN:VEVENT
DTSTART;TZID=America/New_York:20261231T190000
DTEND;TZID=America/New_York:20261231T190000
DTSTAMP:20260420T122113
CREATED:20260105T003217Z
LAST-MODIFIED:20260105T053919Z
UID:10010454-1798743600-1798743600@epictriviafl.com
SUMMARY:Music Bingo
DESCRIPTION:
URL:https://epictriviafl.com/event/music-bingo-stephie/2026-12-31/
LOCATION:Stephie’s Pub & Irish Eatery\, 1061 W Orange Blossom Trail\, Apopka FL\, 32712 USA
GEO:28.6858062;-81.5315994
X-APPLE-STRUCTURED-LOCATION;VALUE=URI;X-ADDRESS=Stephie’s Pub & Irish Eatery 1061 W Orange Blossom Trail Apopka FL 32712 USA;X-APPLE-RADIUS=500;X-TITLE=1061 W Orange Blossom Trail\, Apopka FL\, 32712 USA:geo:-81.5315994,28.6858062
END:VEVENT
BEGIN:VEVENT
DTSTART;TZID=America/New_York:20270107T190000
DTEND;TZID=America/New_York:20270107T190000
DTSTAMP:20260420T122113
CREATED:20260105T003217Z
LAST-MODIFIED:20260105T053919Z
UID:10010455-1799348400-1799348400@epictriviafl.com
SUMMARY:Music Bingo
DESCRIPTION:
URL:https://epictriviafl.com/event/music-bingo-stephie/2027-01-07/
LOCATION:Stephie’s Pub & Irish Eatery\, 1061 W Orange Blossom Trail\, Apopka FL\, 32712 USA
GEO:28.6858062;-81.5315994
X-APPLE-STRUCTURED-LOCATION;VALUE=URI;X-ADDRESS=Stephie’s Pub & Irish Eatery 1061 W Orange Blossom Trail Apopka FL 32712 USA;X-APPLE-RADIUS=500;X-TITLE=1061 W Orange Blossom Trail\, Apopka FL\, 32712 USA:geo:-81.5315994,28.6858062
END:VEVENT
BEGIN:VEVENT
DTSTART;TZID=America/New_York:20270114T190000
DTEND;TZID=America/New_York:20270114T190000
DTSTAMP:20260420T122113
CREATED:20260105T003217Z
LAST-MODIFIED:20260105T053919Z
UID:10010456-1799953200-1799953200@epictriviafl.com
SUMMARY:Music Bingo
DESCRIPTION:
URL:https://epictriviafl.com/event/music-bingo-stephie/2027-01-14/
LOCATION:Stephie’s Pub & Irish Eatery\, 1061 W Orange Blossom Trail\, Apopka FL\, 32712 USA
GEO:28.6858062;-81.5315994
X-APPLE-STRUCTURED-LOCATION;VALUE=URI;X-ADDRESS=Stephie’s Pub & Irish Eatery 1061 W Orange Blossom Trail Apopka FL 32712 USA;X-APPLE-RADIUS=500;X-TITLE=1061 W Orange Blossom Trail\, Apopka FL\, 32712 USA:geo:-81.5315994,28.6858062
END:VEVENT
BEGIN:VEVENT
DTSTART;TZID=America/New_York:20270121T190000
DTEND;TZID=America/New_York:20270121T190000
DTSTAMP:20260420T122113
CREATED:20260105T003217Z
LAST-MODIFIED:20260105T053919Z
UID:10010457-1800558000-1800558000@epictriviafl.com
SUMMARY:Music Bingo
DESCRIPTION:
URL:https://epictriviafl.com/event/music-bingo-stephie/2027-01-21/
LOCATION:Stephie’s Pub & Irish Eatery\, 1061 W Orange Blossom Trail\, Apopka FL\, 32712 USA
GEO:28.6858062;-81.5315994
X-APPLE-STRUCTURED-LOCATION;VALUE=URI;X-ADDRESS=Stephie’s Pub & Irish Eatery 1061 W Orange Blossom Trail Apopka FL 32712 USA;X-APPLE-RADIUS=500;X-TITLE=1061 W Orange Blossom Trail\, Apopka FL\, 32712 USA:geo:-81.5315994,28.6858062
END:VEVENT
BEGIN:VEVENT
DTSTART;TZID=America/New_York:20270128T190000
DTEND;TZID=America/New_York:20270128T190000
DTSTAMP:20260420T122113
CREATED:20260105T003217Z
LAST-MODIFIED:20260105T053919Z
UID:10010458-1801162800-1801162800@epictriviafl.com
SUMMARY:Music Bingo
DESCRIPTION:
URL:https://epictriviafl.com/event/music-bingo-stephie/2027-01-28/
LOCATION:Stephie’s Pub & Irish Eatery\, 1061 W Orange Blossom Trail\, Apopka FL\, 32712 USA
GEO:28.6858062;-81.5315994
X-APPLE-STRUCTURED-LOCATION;VALUE=URI;X-ADDRESS=Stephie’s Pub & Irish Eatery 1061 W Orange Blossom Trail Apopka FL 32712 USA;X-APPLE-RADIUS=500;X-TITLE=1061 W Orange Blossom Trail\, Apopka FL\, 32712 USA:geo:-81.5315994,28.6858062
END:VEVENT
BEGIN:VEVENT
DTSTART;TZID=America/New_York:20270204T190000
DTEND;TZID=America/New_York:20270204T190000
DTSTAMP:20260420T122113
CREATED:20260105T003217Z
LAST-MODIFIED:20260105T053919Z
UID:10010459-1801767600-1801767600@epictriviafl.com
SUMMARY:Music Bingo
DESCRIPTION:
URL:https://epictriviafl.com/event/music-bingo-stephie/2027-02-04/
LOCATION:Stephie’s Pub & Irish Eatery\, 1061 W Orange Blossom Trail\, Apopka FL\, 32712 USA
GEO:28.6858062;-81.5315994
X-APPLE-STRUCTURED-LOCATION;VALUE=URI;X-ADDRESS=Stephie’s Pub & Irish Eatery 1061 W Orange Blossom Trail Apopka FL 32712 USA;X-APPLE-RADIUS=500;X-TITLE=1061 W Orange Blossom Trail\, Apopka FL\, 32712 USA:geo:-81.5315994,28.6858062
END:VEVENT
BEGIN:VEVENT
DTSTART;TZID=America/New_York:20270211T190000
DTEND;TZID=America/New_York:20270211T190000
DTSTAMP:20260420T122113
CREATED:20260105T003217Z
LAST-MODIFIED:20260105T053919Z
UID:10010460-1802372400-1802372400@epictriviafl.com
SUMMARY:Music Bingo
DESCRIPTION:
URL:https://epictriviafl.com/event/music-bingo-stephie/2027-02-11/
LOCATION:Stephie’s Pub & Irish Eatery\, 1061 W Orange Blossom Trail\, Apopka FL\, 32712 USA
GEO:28.6858062;-81.5315994
X-APPLE-STRUCTURED-LOCATION;VALUE=URI;X-ADDRESS=Stephie’s Pub & Irish Eatery 1061 W Orange Blossom Trail Apopka FL 32712 USA;X-APPLE-RADIUS=500;X-TITLE=1061 W Orange Blossom Trail\, Apopka FL\, 32712 USA:geo:-81.5315994,28.6858062
END:VEVENT
BEGIN:VEVENT
DTSTART;TZID=America/New_York:20270218T190000
DTEND;TZID=America/New_York:20270218T190000
DTSTAMP:20260420T122113
CREATED:20260105T003217Z
LAST-MODIFIED:20260105T053919Z
UID:10010461-1802977200-1802977200@epictriviafl.com
SUMMARY:Music Bingo
DESCRIPTION:
URL:https://epictriviafl.com/event/music-bingo-stephie/2027-02-18/
LOCATION:Stephie’s Pub & Irish Eatery\, 1061 W Orange Blossom Trail\, Apopka FL\, 32712 USA
GEO:28.6858062;-81.5315994
X-APPLE-STRUCTURED-LOCATION;VALUE=URI;X-ADDRESS=Stephie’s Pub & Irish Eatery 1061 W Orange Blossom Trail Apopka FL 32712 USA;X-APPLE-RADIUS=500;X-TITLE=1061 W Orange Blossom Trail\, Apopka FL\, 32712 USA:geo:-81.5315994,28.6858062
END:VEVENT
BEGIN:VEVENT
DTSTART;TZID=America/New_York:20270225T190000
DTEND;TZID=America/New_York:20270225T190000
DTSTAMP:20260420T122113
CREATED:20260105T003217Z
LAST-MODIFIED:20260105T053919Z
UID:10010462-1803582000-1803582000@epictriviafl.com
SUMMARY:Music Bingo
DESCRIPTION:
URL:https://epictriviafl.com/event/music-bingo-stephie/2027-02-25/
LOCATION:Stephie’s Pub & Irish Eatery\, 1061 W Orange Blossom Trail\, Apopka FL\, 32712 USA
GEO:28.6858062;-81.5315994
X-APPLE-STRUCTURED-LOCATION;VALUE=URI;X-ADDRESS=Stephie’s Pub & Irish Eatery 1061 W Orange Blossom Trail Apopka FL 32712 USA;X-APPLE-RADIUS=500;X-TITLE=1061 W Orange Blossom Trail\, Apopka FL\, 32712 USA:geo:-81.5315994,28.6858062
END:VEVENT
BEGIN:VEVENT
DTSTART;TZID=America/New_York:20270304T190000
DTEND;TZID=America/New_York:20270304T190000
DTSTAMP:20260420T122113
CREATED:20260105T003217Z
LAST-MODIFIED:20260105T053919Z
UID:10010463-1804186800-1804186800@epictriviafl.com
SUMMARY:Music Bingo
DESCRIPTION:
URL:https://epictriviafl.com/event/music-bingo-stephie/2027-03-04/
LOCATION:Stephie’s Pub & Irish Eatery\, 1061 W Orange Blossom Trail\, Apopka FL\, 32712 USA
GEO:28.6858062;-81.5315994
X-APPLE-STRUCTURED-LOCATION;VALUE=URI;X-ADDRESS=Stephie’s Pub & Irish Eatery 1061 W Orange Blossom Trail Apopka FL 32712 USA;X-APPLE-RADIUS=500;X-TITLE=1061 W Orange Blossom Trail\, Apopka FL\, 32712 USA:geo:-81.5315994,28.6858062
END:VEVENT
BEGIN:VEVENT
DTSTART;TZID=America/New_York:20270311T190000
DTEND;TZID=America/New_York:20270311T190000
DTSTAMP:20260420T122113
CREATED:20260105T003217Z
LAST-MODIFIED:20260105T053919Z
UID:10010464-1804791600-1804791600@epictriviafl.com
SUMMARY:Music Bingo
DESCRIPTION:
URL:https://epictriviafl.com/event/music-bingo-stephie/2027-03-11/
LOCATION:Stephie’s Pub & Irish Eatery\, 1061 W Orange Blossom Trail\, Apopka FL\, 32712 USA
GEO:28.6858062;-81.5315994
X-APPLE-STRUCTURED-LOCATION;VALUE=URI;X-ADDRESS=Stephie’s Pub & Irish Eatery 1061 W Orange Blossom Trail Apopka FL 32712 USA;X-APPLE-RADIUS=500;X-TITLE=1061 W Orange Blossom Trail\, Apopka FL\, 32712 USA:geo:-81.5315994,28.6858062
END:VEVENT
BEGIN:VEVENT
DTSTART;TZID=America/New_York:20270318T190000
DTEND;TZID=America/New_York:20270318T190000
DTSTAMP:20260420T122113
CREATED:20260105T003217Z
LAST-MODIFIED:20260105T053919Z
UID:10010465-1805396400-1805396400@epictriviafl.com
SUMMARY:Music Bingo
DESCRIPTION:
URL:https://epictriviafl.com/event/music-bingo-stephie/2027-03-18/
LOCATION:Stephie’s Pub & Irish Eatery\, 1061 W Orange Blossom Trail\, Apopka FL\, 32712 USA
GEO:28.6858062;-81.5315994
X-APPLE-STRUCTURED-LOCATION;VALUE=URI;X-ADDRESS=Stephie’s Pub & Irish Eatery 1061 W Orange Blossom Trail Apopka FL 32712 USA;X-APPLE-RADIUS=500;X-TITLE=1061 W Orange Blossom Trail\, Apopka FL\, 32712 USA:geo:-81.5315994,28.6858062
END:VEVENT
BEGIN:VEVENT
DTSTART;TZID=America/New_York:20270325T190000
DTEND;TZID=America/New_York:20270325T190000
DTSTAMP:20260420T122113
CREATED:20260105T003217Z
LAST-MODIFIED:20260105T053919Z
UID:10010466-1806001200-1806001200@epictriviafl.com
SUMMARY:Music Bingo
DESCRIPTION:
URL:https://epictriviafl.com/event/music-bingo-stephie/2027-03-25/
LOCATION:Stephie’s Pub & Irish Eatery\, 1061 W Orange Blossom Trail\, Apopka FL\, 32712 USA
GEO:28.6858062;-81.5315994
X-APPLE-STRUCTURED-LOCATION;VALUE=URI;X-ADDRESS=Stephie’s Pub & Irish Eatery 1061 W Orange Blossom Trail Apopka FL 32712 USA;X-APPLE-RADIUS=500;X-TITLE=1061 W Orange Blossom Trail\, Apopka FL\, 32712 USA:geo:-81.5315994,28.6858062
END:VEVENT
BEGIN:VEVENT
DTSTART;TZID=America/New_York:20270401T190000
DTEND;TZID=America/New_York:20270401T190000
DTSTAMP:20260420T122113
CREATED:20260105T003217Z
LAST-MODIFIED:20260105T053919Z
UID:10010467-1806606000-1806606000@epictriviafl.com
SUMMARY:Music Bingo
DESCRIPTION:
URL:https://epictriviafl.com/event/music-bingo-stephie/2027-04-01/
LOCATION:Stephie’s Pub & Irish Eatery\, 1061 W Orange Blossom Trail\, Apopka FL\, 32712 USA
GEO:28.6858062;-81.5315994
X-APPLE-STRUCTURED-LOCATION;VALUE=URI;X-ADDRESS=Stephie’s Pub & Irish Eatery 1061 W Orange Blossom Trail Apopka FL 32712 USA;X-APPLE-RADIUS=500;X-TITLE=1061 W Orange Blossom Trail\, Apopka FL\, 32712 USA:geo:-81.5315994,28.6858062
END:VEVENT
BEGIN:VEVENT
DTSTART;TZID=America/New_York:20270408T190000
DTEND;TZID=America/New_York:20270408T190000
DTSTAMP:20260420T122113
CREATED:20260105T003217Z
LAST-MODIFIED:20260105T053919Z
UID:10010468-1807210800-1807210800@epictriviafl.com
SUMMARY:Music Bingo
DESCRIPTION:
URL:https://epictriviafl.com/event/music-bingo-stephie/2027-04-08/
LOCATION:Stephie’s Pub & Irish Eatery\, 1061 W Orange Blossom Trail\, Apopka FL\, 32712 USA
GEO:28.6858062;-81.5315994
X-APPLE-STRUCTURED-LOCATION;VALUE=URI;X-ADDRESS=Stephie’s Pub & Irish Eatery 1061 W Orange Blossom Trail Apopka FL 32712 USA;X-APPLE-RADIUS=500;X-TITLE=1061 W Orange Blossom Trail\, Apopka FL\, 32712 USA:geo:-81.5315994,28.6858062
END:VEVENT
BEGIN:VEVENT
DTSTART;TZID=America/New_York:20270415T190000
DTEND;TZID=America/New_York:20270415T190000
DTSTAMP:20260420T122113
CREATED:20260105T003217Z
LAST-MODIFIED:20260105T053919Z
UID:10010469-1807815600-1807815600@epictriviafl.com
SUMMARY:Music Bingo
DESCRIPTION:
URL:https://epictriviafl.com/event/music-bingo-stephie/2027-04-15/
LOCATION:Stephie’s Pub & Irish Eatery\, 1061 W Orange Blossom Trail\, Apopka FL\, 32712 USA
GEO:28.6858062;-81.5315994
X-APPLE-STRUCTURED-LOCATION;VALUE=URI;X-ADDRESS=Stephie’s Pub & Irish Eatery 1061 W Orange Blossom Trail Apopka FL 32712 USA;X-APPLE-RADIUS=500;X-TITLE=1061 W Orange Blossom Trail\, Apopka FL\, 32712 USA:geo:-81.5315994,28.6858062
END:VEVENT
BEGIN:VEVENT
DTSTART;TZID=America/New_York:20270422T190000
DTEND;TZID=America/New_York:20270422T190000
DTSTAMP:20260420T122113
CREATED:20260105T003217Z
LAST-MODIFIED:20260105T053919Z
UID:10010470-1808420400-1808420400@epictriviafl.com
SUMMARY:Music Bingo
DESCRIPTION:
URL:https://epictriviafl.com/event/music-bingo-stephie/2027-04-22/
LOCATION:Stephie’s Pub & Irish Eatery\, 1061 W Orange Blossom Trail\, Apopka FL\, 32712 USA
GEO:28.6858062;-81.5315994
X-APPLE-STRUCTURED-LOCATION;VALUE=URI;X-ADDRESS=Stephie’s Pub & Irish Eatery 1061 W Orange Blossom Trail Apopka FL 32712 USA;X-APPLE-RADIUS=500;X-TITLE=1061 W Orange Blossom Trail\, Apopka FL\, 32712 USA:geo:-81.5315994,28.6858062
END:VEVENT
BEGIN:VEVENT
DTSTART;TZID=America/New_York:20270429T190000
DTEND;TZID=America/New_York:20270429T190000
DTSTAMP:20260420T122113
CREATED:20260105T003217Z
LAST-MODIFIED:20260105T053919Z
UID:10010471-1809025200-1809025200@epictriviafl.com
SUMMARY:Music Bingo
DESCRIPTION:
URL:https://epictriviafl.com/event/music-bingo-stephie/2027-04-29/
LOCATION:Stephie’s Pub & Irish Eatery\, 1061 W Orange Blossom Trail\, Apopka FL\, 32712 USA
GEO:28.6858062;-81.5315994
X-APPLE-STRUCTURED-LOCATION;VALUE=URI;X-ADDRESS=Stephie’s Pub & Irish Eatery 1061 W Orange Blossom Trail Apopka FL 32712 USA;X-APPLE-RADIUS=500;X-TITLE=1061 W Orange Blossom Trail\, Apopka FL\, 32712 USA:geo:-81.5315994,28.6858062
END:VEVENT
BEGIN:VEVENT
DTSTART;TZID=America/New_York:20270506T190000
DTEND;TZID=America/New_York:20270506T190000
DTSTAMP:20260420T122113
CREATED:20260105T003217Z
LAST-MODIFIED:20260105T053919Z
UID:10010472-1809630000-1809630000@epictriviafl.com
SUMMARY:Music Bingo
DESCRIPTION:
URL:https://epictriviafl.com/event/music-bingo-stephie/2027-05-06/
LOCATION:Stephie’s Pub & Irish Eatery\, 1061 W Orange Blossom Trail\, Apopka FL\, 32712 USA
GEO:28.6858062;-81.5315994
X-APPLE-STRUCTURED-LOCATION;VALUE=URI;X-ADDRESS=Stephie’s Pub & Irish Eatery 1061 W Orange Blossom Trail Apopka FL 32712 USA;X-APPLE-RADIUS=500;X-TITLE=1061 W Orange Blossom Trail\, Apopka FL\, 32712 USA:geo:-81.5315994,28.6858062
END:VEVENT
BEGIN:VEVENT
DTSTART;TZID=America/New_York:20270513T190000
DTEND;TZID=America/New_York:20270513T190000
DTSTAMP:20260420T122113
CREATED:20260105T003217Z
LAST-MODIFIED:20260105T053919Z
UID:10010473-1810234800-1810234800@epictriviafl.com
SUMMARY:Music Bingo
DESCRIPTION:
URL:https://epictriviafl.com/event/music-bingo-stephie/2027-05-13/
LOCATION:Stephie’s Pub & Irish Eatery\, 1061 W Orange Blossom Trail\, Apopka FL\, 32712 USA
GEO:28.6858062;-81.5315994
X-APPLE-STRUCTURED-LOCATION;VALUE=URI;X-ADDRESS=Stephie’s Pub & Irish Eatery 1061 W Orange Blossom Trail Apopka FL 32712 USA;X-APPLE-RADIUS=500;X-TITLE=1061 W Orange Blossom Trail\, Apopka FL\, 32712 USA:geo:-81.5315994,28.6858062
END:VEVENT
BEGIN:VEVENT
DTSTART;TZID=America/New_York:20270520T190000
DTEND;TZID=America/New_York:20270520T190000
DTSTAMP:20260420T122113
CREATED:20260105T003217Z
LAST-MODIFIED:20260105T053919Z
UID:10010474-1810839600-1810839600@epictriviafl.com
SUMMARY:Music Bingo
DESCRIPTION:
URL:https://epictriviafl.com/event/music-bingo-stephie/2027-05-20/
LOCATION:Stephie’s Pub & Irish Eatery\, 1061 W Orange Blossom Trail\, Apopka FL\, 32712 USA
GEO:28.6858062;-81.5315994
X-APPLE-STRUCTURED-LOCATION;VALUE=URI;X-ADDRESS=Stephie’s Pub & Irish Eatery 1061 W Orange Blossom Trail Apopka FL 32712 USA;X-APPLE-RADIUS=500;X-TITLE=1061 W Orange Blossom Trail\, Apopka FL\, 32712 USA:geo:-81.5315994,28.6858062
END:VEVENT
BEGIN:VEVENT
DTSTART;TZID=America/New_York:20270527T190000
DTEND;TZID=America/New_York:20270527T190000
DTSTAMP:20260420T122113
CREATED:20260105T003217Z
LAST-MODIFIED:20260105T053919Z
UID:10010475-1811444400-1811444400@epictriviafl.com
SUMMARY:Music Bingo
DESCRIPTION:
URL:https://epictriviafl.com/event/music-bingo-stephie/2027-05-27/
LOCATION:Stephie’s Pub & Irish Eatery\, 1061 W Orange Blossom Trail\, Apopka FL\, 32712 USA
GEO:28.6858062;-81.5315994
X-APPLE-STRUCTURED-LOCATION;VALUE=URI;X-ADDRESS=Stephie’s Pub & Irish Eatery 1061 W Orange Blossom Trail Apopka FL 32712 USA;X-APPLE-RADIUS=500;X-TITLE=1061 W Orange Blossom Trail\, Apopka FL\, 32712 USA:geo:-81.5315994,28.6858062
END:VEVENT
BEGIN:VEVENT
DTSTART;TZID=America/New_York:20270603T190000
DTEND;TZID=America/New_York:20270603T190000
DTSTAMP:20260420T122113
CREATED:20260105T003217Z
LAST-MODIFIED:20260105T053919Z
UID:10010476-1812049200-1812049200@epictriviafl.com
SUMMARY:Music Bingo
DESCRIPTION:
URL:https://epictriviafl.com/event/music-bingo-stephie/2027-06-03/
LOCATION:Stephie’s Pub & Irish Eatery\, 1061 W Orange Blossom Trail\, Apopka FL\, 32712 USA
GEO:28.6858062;-81.5315994
X-APPLE-STRUCTURED-LOCATION;VALUE=URI;X-ADDRESS=Stephie’s Pub & Irish Eatery 1061 W Orange Blossom Trail Apopka FL 32712 USA;X-APPLE-RADIUS=500;X-TITLE=1061 W Orange Blossom Trail\, Apopka FL\, 32712 USA:geo:-81.5315994,28.6858062
END:VEVENT
BEGIN:VEVENT
DTSTART;TZID=America/New_York:20270610T190000
DTEND;TZID=America/New_York:20270610T190000
DTSTAMP:20260420T122113
CREATED:20260105T003217Z
LAST-MODIFIED:20260105T053919Z
UID:10010477-1812654000-1812654000@epictriviafl.com
SUMMARY:Music Bingo
DESCRIPTION:
URL:https://epictriviafl.com/event/music-bingo-stephie/2027-06-10/
LOCATION:Stephie’s Pub & Irish Eatery\, 1061 W Orange Blossom Trail\, Apopka FL\, 32712 USA
GEO:28.6858062;-81.5315994
X-APPLE-STRUCTURED-LOCATION;VALUE=URI;X-ADDRESS=Stephie’s Pub & Irish Eatery 1061 W Orange Blossom Trail Apopka FL 32712 USA;X-APPLE-RADIUS=500;X-TITLE=1061 W Orange Blossom Trail\, Apopka FL\, 32712 USA:geo:-81.5315994,28.6858062
END:VEVENT
BEGIN:VEVENT
DTSTART;TZID=America/New_York:20270617T190000
DTEND;TZID=America/New_York:20270617T190000
DTSTAMP:20260420T122113
CREATED:20260105T003217Z
LAST-MODIFIED:20260105T053919Z
UID:10010478-1813258800-1813258800@epictriviafl.com
SUMMARY:Music Bingo
DESCRIPTION:
URL:https://epictriviafl.com/event/music-bingo-stephie/2027-06-17/
LOCATION:Stephie’s Pub & Irish Eatery\, 1061 W Orange Blossom Trail\, Apopka FL\, 32712 USA
GEO:28.6858062;-81.5315994
X-APPLE-STRUCTURED-LOCATION;VALUE=URI;X-ADDRESS=Stephie’s Pub & Irish Eatery 1061 W Orange Blossom Trail Apopka FL 32712 USA;X-APPLE-RADIUS=500;X-TITLE=1061 W Orange Blossom Trail\, Apopka FL\, 32712 USA:geo:-81.5315994,28.6858062
END:VEVENT
BEGIN:VEVENT
DTSTART;TZID=America/New_York:20270624T190000
DTEND;TZID=America/New_York:20270624T190000
DTSTAMP:20260420T122113
CREATED:20260105T003217Z
LAST-MODIFIED:20260105T053919Z
UID:10010479-1813863600-1813863600@epictriviafl.com
SUMMARY:Music Bingo
DESCRIPTION:
URL:https://epictriviafl.com/event/music-bingo-stephie/2027-06-24/
LOCATION:Stephie’s Pub & Irish Eatery\, 1061 W Orange Blossom Trail\, Apopka FL\, 32712 USA
GEO:28.6858062;-81.5315994
X-APPLE-STRUCTURED-LOCATION;VALUE=URI;X-ADDRESS=Stephie’s Pub & Irish Eatery 1061 W Orange Blossom Trail Apopka FL 32712 USA;X-APPLE-RADIUS=500;X-TITLE=1061 W Orange Blossom Trail\, Apopka FL\, 32712 USA:geo:-81.5315994,28.6858062
END:VEVENT
BEGIN:VEVENT
DTSTART;TZID=America/New_York:20270701T190000
DTEND;TZID=America/New_York:20270701T190000
DTSTAMP:20260420T122113
CREATED:20260105T003217Z
LAST-MODIFIED:20260105T053919Z
UID:10010480-1814468400-1814468400@epictriviafl.com
SUMMARY:Music Bingo
DESCRIPTION:
URL:https://epictriviafl.com/event/music-bingo-stephie/2027-07-01/
LOCATION:Stephie’s Pub & Irish Eatery\, 1061 W Orange Blossom Trail\, Apopka FL\, 32712 USA
GEO:28.6858062;-81.5315994
X-APPLE-STRUCTURED-LOCATION;VALUE=URI;X-ADDRESS=Stephie’s Pub & Irish Eatery 1061 W Orange Blossom Trail Apopka FL 32712 USA;X-APPLE-RADIUS=500;X-TITLE=1061 W Orange Blossom Trail\, Apopka FL\, 32712 USA:geo:-81.5315994,28.6858062
END:VEVENT
BEGIN:VEVENT
DTSTART;TZID=America/New_York:20270708T190000
DTEND;TZID=America/New_York:20270708T190000
DTSTAMP:20260420T122113
CREATED:20260105T003217Z
LAST-MODIFIED:20260105T053919Z
UID:10010481-1815073200-1815073200@epictriviafl.com
SUMMARY:Music Bingo
DESCRIPTION:
URL:https://epictriviafl.com/event/music-bingo-stephie/2027-07-08/
LOCATION:Stephie’s Pub & Irish Eatery\, 1061 W Orange Blossom Trail\, Apopka FL\, 32712 USA
GEO:28.6858062;-81.5315994
X-APPLE-STRUCTURED-LOCATION;VALUE=URI;X-ADDRESS=Stephie’s Pub & Irish Eatery 1061 W Orange Blossom Trail Apopka FL 32712 USA;X-APPLE-RADIUS=500;X-TITLE=1061 W Orange Blossom Trail\, Apopka FL\, 32712 USA:geo:-81.5315994,28.6858062
END:VEVENT
BEGIN:VEVENT
DTSTART;TZID=America/New_York:20270715T190000
DTEND;TZID=America/New_York:20270715T190000
DTSTAMP:20260420T122114
CREATED:20260105T003217Z
LAST-MODIFIED:20260105T053919Z
UID:10010482-1815678000-1815678000@epictriviafl.com
SUMMARY:Music Bingo
DESCRIPTION:
URL:https://epictriviafl.com/event/music-bingo-stephie/2027-07-15/
LOCATION:Stephie’s Pub & Irish Eatery\, 1061 W Orange Blossom Trail\, Apopka FL\, 32712 USA
GEO:28.6858062;-81.5315994
X-APPLE-STRUCTURED-LOCATION;VALUE=URI;X-ADDRESS=Stephie’s Pub & Irish Eatery 1061 W Orange Blossom Trail Apopka FL 32712 USA;X-APPLE-RADIUS=500;X-TITLE=1061 W Orange Blossom Trail\, Apopka FL\, 32712 USA:geo:-81.5315994,28.6858062
END:VEVENT
BEGIN:VEVENT
DTSTART;TZID=America/New_York:20270722T190000
DTEND;TZID=America/New_York:20270722T190000
DTSTAMP:20260420T122114
CREATED:20260105T003217Z
LAST-MODIFIED:20260105T053919Z
UID:10010483-1816282800-1816282800@epictriviafl.com
SUMMARY:Music Bingo
DESCRIPTION:
URL:https://epictriviafl.com/event/music-bingo-stephie/2027-07-22/
LOCATION:Stephie’s Pub & Irish Eatery\, 1061 W Orange Blossom Trail\, Apopka FL\, 32712 USA
GEO:28.6858062;-81.5315994
X-APPLE-STRUCTURED-LOCATION;VALUE=URI;X-ADDRESS=Stephie’s Pub & Irish Eatery 1061 W Orange Blossom Trail Apopka FL 32712 USA;X-APPLE-RADIUS=500;X-TITLE=1061 W Orange Blossom Trail\, Apopka FL\, 32712 USA:geo:-81.5315994,28.6858062
END:VEVENT
END:VCALENDAR