BEGIN:VCALENDAR
VERSION:2.0
PRODID:-//Epic Trivia - ECPv6.15.18//NONSGML v1.0//EN
CALSCALE:GREGORIAN
METHOD:PUBLISH
X-ORIGINAL-URL:https://epictriviafl.com
X-WR-CALDESC:Events for Epic Trivia
REFRESH-INTERVAL;VALUE=DURATION:PT1H
X-Robots-Tag:noindex
X-PUBLISHED-TTL:PT1H
BEGIN:VTIMEZONE
TZID:America/New_York
BEGIN:DAYLIGHT
TZOFFSETFROM:-0500
TZOFFSETTO:-0400
TZNAME:EDT
DTSTART:20290311T070000
END:DAYLIGHT
BEGIN:STANDARD
TZOFFSETFROM:-0400
TZOFFSETTO:-0500
TZNAME:EST
DTSTART:20291104T060000
END:STANDARD
BEGIN:DAYLIGHT
TZOFFSETFROM:-0500
TZOFFSETTO:-0400
TZNAME:EDT
DTSTART:20300310T070000
END:DAYLIGHT
BEGIN:STANDARD
TZOFFSETFROM:-0400
TZOFFSETTO:-0500
TZNAME:EST
DTSTART:20301103T060000
END:STANDARD
BEGIN:DAYLIGHT
TZOFFSETFROM:-0500
TZOFFSETTO:-0400
TZNAME:EDT
DTSTART:20310309T070000
END:DAYLIGHT
BEGIN:STANDARD
TZOFFSETFROM:-0400
TZOFFSETTO:-0500
TZNAME:EST
DTSTART:20311102T060000
END:STANDARD
BEGIN:DAYLIGHT
TZOFFSETFROM:-0500
TZOFFSETTO:-0400
TZNAME:EDT
DTSTART:20320314T070000
END:DAYLIGHT
BEGIN:STANDARD
TZOFFSETFROM:-0400
TZOFFSETTO:-0500
TZNAME:EST
DTSTART:20321107T060000
END:STANDARD
END:VTIMEZONE
BEGIN:VEVENT
DTSTART;TZID=America/New_York:20300905T190000
DTEND;TZID=America/New_York:20300905T190000
DTSTAMP:20260421T142310
CREATED:20260105T003217Z
LAST-MODIFIED:20260105T053919Z
UID:10010646-1914865200-1914865200@epictriviafl.com
SUMMARY:Music Bingo
DESCRIPTION:
URL:https://epictriviafl.com/event/music-bingo-stephie/2030-09-05/
LOCATION:Stephie’s Pub & Irish Eatery\, 1061 W Orange Blossom Trail\, Apopka FL\, 32712 USA
GEO:28.6858062;-81.5315994
X-APPLE-STRUCTURED-LOCATION;VALUE=URI;X-ADDRESS=Stephie’s Pub & Irish Eatery 1061 W Orange Blossom Trail Apopka FL 32712 USA;X-APPLE-RADIUS=500;X-TITLE=1061 W Orange Blossom Trail\, Apopka FL\, 32712 USA:geo:-81.5315994,28.6858062
END:VEVENT
BEGIN:VEVENT
DTSTART;TZID=America/New_York:20300912T190000
DTEND;TZID=America/New_York:20300912T190000
DTSTAMP:20260421T142310
CREATED:20260105T003217Z
LAST-MODIFIED:20260105T053919Z
UID:10010647-1915470000-1915470000@epictriviafl.com
SUMMARY:Music Bingo
DESCRIPTION:
URL:https://epictriviafl.com/event/music-bingo-stephie/2030-09-12/
LOCATION:Stephie’s Pub & Irish Eatery\, 1061 W Orange Blossom Trail\, Apopka FL\, 32712 USA
GEO:28.6858062;-81.5315994
X-APPLE-STRUCTURED-LOCATION;VALUE=URI;X-ADDRESS=Stephie’s Pub & Irish Eatery 1061 W Orange Blossom Trail Apopka FL 32712 USA;X-APPLE-RADIUS=500;X-TITLE=1061 W Orange Blossom Trail\, Apopka FL\, 32712 USA:geo:-81.5315994,28.6858062
END:VEVENT
BEGIN:VEVENT
DTSTART;TZID=America/New_York:20300919T190000
DTEND;TZID=America/New_York:20300919T190000
DTSTAMP:20260421T142310
CREATED:20260105T003217Z
LAST-MODIFIED:20260105T053919Z
UID:10010648-1916074800-1916074800@epictriviafl.com
SUMMARY:Music Bingo
DESCRIPTION:
URL:https://epictriviafl.com/event/music-bingo-stephie/2030-09-19/
LOCATION:Stephie’s Pub & Irish Eatery\, 1061 W Orange Blossom Trail\, Apopka FL\, 32712 USA
GEO:28.6858062;-81.5315994
X-APPLE-STRUCTURED-LOCATION;VALUE=URI;X-ADDRESS=Stephie’s Pub & Irish Eatery 1061 W Orange Blossom Trail Apopka FL 32712 USA;X-APPLE-RADIUS=500;X-TITLE=1061 W Orange Blossom Trail\, Apopka FL\, 32712 USA:geo:-81.5315994,28.6858062
END:VEVENT
BEGIN:VEVENT
DTSTART;TZID=America/New_York:20300926T190000
DTEND;TZID=America/New_York:20300926T190000
DTSTAMP:20260421T142310
CREATED:20260105T003217Z
LAST-MODIFIED:20260105T053919Z
UID:10010649-1916679600-1916679600@epictriviafl.com
SUMMARY:Music Bingo
DESCRIPTION:
URL:https://epictriviafl.com/event/music-bingo-stephie/2030-09-26/
LOCATION:Stephie’s Pub & Irish Eatery\, 1061 W Orange Blossom Trail\, Apopka FL\, 32712 USA
GEO:28.6858062;-81.5315994
X-APPLE-STRUCTURED-LOCATION;VALUE=URI;X-ADDRESS=Stephie’s Pub & Irish Eatery 1061 W Orange Blossom Trail Apopka FL 32712 USA;X-APPLE-RADIUS=500;X-TITLE=1061 W Orange Blossom Trail\, Apopka FL\, 32712 USA:geo:-81.5315994,28.6858062
END:VEVENT
BEGIN:VEVENT
DTSTART;TZID=America/New_York:20301003T190000
DTEND;TZID=America/New_York:20301003T190000
DTSTAMP:20260421T142310
CREATED:20260105T003217Z
LAST-MODIFIED:20260105T053919Z
UID:10010650-1917284400-1917284400@epictriviafl.com
SUMMARY:Music Bingo
DESCRIPTION:
URL:https://epictriviafl.com/event/music-bingo-stephie/2030-10-03/
LOCATION:Stephie’s Pub & Irish Eatery\, 1061 W Orange Blossom Trail\, Apopka FL\, 32712 USA
GEO:28.6858062;-81.5315994
X-APPLE-STRUCTURED-LOCATION;VALUE=URI;X-ADDRESS=Stephie’s Pub & Irish Eatery 1061 W Orange Blossom Trail Apopka FL 32712 USA;X-APPLE-RADIUS=500;X-TITLE=1061 W Orange Blossom Trail\, Apopka FL\, 32712 USA:geo:-81.5315994,28.6858062
END:VEVENT
BEGIN:VEVENT
DTSTART;TZID=America/New_York:20301010T190000
DTEND;TZID=America/New_York:20301010T190000
DTSTAMP:20260421T142310
CREATED:20260105T003217Z
LAST-MODIFIED:20260105T053919Z
UID:10010651-1917889200-1917889200@epictriviafl.com
SUMMARY:Music Bingo
DESCRIPTION:
URL:https://epictriviafl.com/event/music-bingo-stephie/2030-10-10/
LOCATION:Stephie’s Pub & Irish Eatery\, 1061 W Orange Blossom Trail\, Apopka FL\, 32712 USA
GEO:28.6858062;-81.5315994
X-APPLE-STRUCTURED-LOCATION;VALUE=URI;X-ADDRESS=Stephie’s Pub & Irish Eatery 1061 W Orange Blossom Trail Apopka FL 32712 USA;X-APPLE-RADIUS=500;X-TITLE=1061 W Orange Blossom Trail\, Apopka FL\, 32712 USA:geo:-81.5315994,28.6858062
END:VEVENT
BEGIN:VEVENT
DTSTART;TZID=America/New_York:20301017T190000
DTEND;TZID=America/New_York:20301017T190000
DTSTAMP:20260421T142310
CREATED:20260105T003217Z
LAST-MODIFIED:20260105T053919Z
UID:10010652-1918494000-1918494000@epictriviafl.com
SUMMARY:Music Bingo
DESCRIPTION:
URL:https://epictriviafl.com/event/music-bingo-stephie/2030-10-17/
LOCATION:Stephie’s Pub & Irish Eatery\, 1061 W Orange Blossom Trail\, Apopka FL\, 32712 USA
GEO:28.6858062;-81.5315994
X-APPLE-STRUCTURED-LOCATION;VALUE=URI;X-ADDRESS=Stephie’s Pub & Irish Eatery 1061 W Orange Blossom Trail Apopka FL 32712 USA;X-APPLE-RADIUS=500;X-TITLE=1061 W Orange Blossom Trail\, Apopka FL\, 32712 USA:geo:-81.5315994,28.6858062
END:VEVENT
BEGIN:VEVENT
DTSTART;TZID=America/New_York:20301024T190000
DTEND;TZID=America/New_York:20301024T190000
DTSTAMP:20260421T142310
CREATED:20260105T003217Z
LAST-MODIFIED:20260105T053919Z
UID:10010653-1919098800-1919098800@epictriviafl.com
SUMMARY:Music Bingo
DESCRIPTION:
URL:https://epictriviafl.com/event/music-bingo-stephie/2030-10-24/
LOCATION:Stephie’s Pub & Irish Eatery\, 1061 W Orange Blossom Trail\, Apopka FL\, 32712 USA
GEO:28.6858062;-81.5315994
X-APPLE-STRUCTURED-LOCATION;VALUE=URI;X-ADDRESS=Stephie’s Pub & Irish Eatery 1061 W Orange Blossom Trail Apopka FL 32712 USA;X-APPLE-RADIUS=500;X-TITLE=1061 W Orange Blossom Trail\, Apopka FL\, 32712 USA:geo:-81.5315994,28.6858062
END:VEVENT
BEGIN:VEVENT
DTSTART;TZID=America/New_York:20301031T190000
DTEND;TZID=America/New_York:20301031T190000
DTSTAMP:20260421T142310
CREATED:20260105T003217Z
LAST-MODIFIED:20260105T053919Z
UID:10010654-1919703600-1919703600@epictriviafl.com
SUMMARY:Music Bingo
DESCRIPTION:
URL:https://epictriviafl.com/event/music-bingo-stephie/2030-10-31/
LOCATION:Stephie’s Pub & Irish Eatery\, 1061 W Orange Blossom Trail\, Apopka FL\, 32712 USA
GEO:28.6858062;-81.5315994
X-APPLE-STRUCTURED-LOCATION;VALUE=URI;X-ADDRESS=Stephie’s Pub & Irish Eatery 1061 W Orange Blossom Trail Apopka FL 32712 USA;X-APPLE-RADIUS=500;X-TITLE=1061 W Orange Blossom Trail\, Apopka FL\, 32712 USA:geo:-81.5315994,28.6858062
END:VEVENT
BEGIN:VEVENT
DTSTART;TZID=America/New_York:20301107T190000
DTEND;TZID=America/New_York:20301107T190000
DTSTAMP:20260421T142310
CREATED:20260105T003217Z
LAST-MODIFIED:20260105T053919Z
UID:10010655-1920308400-1920308400@epictriviafl.com
SUMMARY:Music Bingo
DESCRIPTION:
URL:https://epictriviafl.com/event/music-bingo-stephie/2030-11-07/
LOCATION:Stephie’s Pub & Irish Eatery\, 1061 W Orange Blossom Trail\, Apopka FL\, 32712 USA
GEO:28.6858062;-81.5315994
X-APPLE-STRUCTURED-LOCATION;VALUE=URI;X-ADDRESS=Stephie’s Pub & Irish Eatery 1061 W Orange Blossom Trail Apopka FL 32712 USA;X-APPLE-RADIUS=500;X-TITLE=1061 W Orange Blossom Trail\, Apopka FL\, 32712 USA:geo:-81.5315994,28.6858062
END:VEVENT
BEGIN:VEVENT
DTSTART;TZID=America/New_York:20301114T190000
DTEND;TZID=America/New_York:20301114T190000
DTSTAMP:20260421T142310
CREATED:20260105T003217Z
LAST-MODIFIED:20260105T053919Z
UID:10010656-1920913200-1920913200@epictriviafl.com
SUMMARY:Music Bingo
DESCRIPTION:
URL:https://epictriviafl.com/event/music-bingo-stephie/2030-11-14/
LOCATION:Stephie’s Pub & Irish Eatery\, 1061 W Orange Blossom Trail\, Apopka FL\, 32712 USA
GEO:28.6858062;-81.5315994
X-APPLE-STRUCTURED-LOCATION;VALUE=URI;X-ADDRESS=Stephie’s Pub & Irish Eatery 1061 W Orange Blossom Trail Apopka FL 32712 USA;X-APPLE-RADIUS=500;X-TITLE=1061 W Orange Blossom Trail\, Apopka FL\, 32712 USA:geo:-81.5315994,28.6858062
END:VEVENT
BEGIN:VEVENT
DTSTART;TZID=America/New_York:20301121T190000
DTEND;TZID=America/New_York:20301121T190000
DTSTAMP:20260421T142310
CREATED:20260105T003217Z
LAST-MODIFIED:20260105T053919Z
UID:10010657-1921518000-1921518000@epictriviafl.com
SUMMARY:Music Bingo
DESCRIPTION:
URL:https://epictriviafl.com/event/music-bingo-stephie/2030-11-21/
LOCATION:Stephie’s Pub & Irish Eatery\, 1061 W Orange Blossom Trail\, Apopka FL\, 32712 USA
GEO:28.6858062;-81.5315994
X-APPLE-STRUCTURED-LOCATION;VALUE=URI;X-ADDRESS=Stephie’s Pub & Irish Eatery 1061 W Orange Blossom Trail Apopka FL 32712 USA;X-APPLE-RADIUS=500;X-TITLE=1061 W Orange Blossom Trail\, Apopka FL\, 32712 USA:geo:-81.5315994,28.6858062
END:VEVENT
BEGIN:VEVENT
DTSTART;TZID=America/New_York:20301128T190000
DTEND;TZID=America/New_York:20301128T190000
DTSTAMP:20260421T142310
CREATED:20260105T003217Z
LAST-MODIFIED:20260105T053919Z
UID:10010658-1922122800-1922122800@epictriviafl.com
SUMMARY:Music Bingo
DESCRIPTION:
URL:https://epictriviafl.com/event/music-bingo-stephie/2030-11-28/
LOCATION:Stephie’s Pub & Irish Eatery\, 1061 W Orange Blossom Trail\, Apopka FL\, 32712 USA
GEO:28.6858062;-81.5315994
X-APPLE-STRUCTURED-LOCATION;VALUE=URI;X-ADDRESS=Stephie’s Pub & Irish Eatery 1061 W Orange Blossom Trail Apopka FL 32712 USA;X-APPLE-RADIUS=500;X-TITLE=1061 W Orange Blossom Trail\, Apopka FL\, 32712 USA:geo:-81.5315994,28.6858062
END:VEVENT
BEGIN:VEVENT
DTSTART;TZID=America/New_York:20301205T190000
DTEND;TZID=America/New_York:20301205T190000
DTSTAMP:20260421T142310
CREATED:20260105T003217Z
LAST-MODIFIED:20260105T053919Z
UID:10010659-1922727600-1922727600@epictriviafl.com
SUMMARY:Music Bingo
DESCRIPTION:
URL:https://epictriviafl.com/event/music-bingo-stephie/2030-12-05/
LOCATION:Stephie’s Pub & Irish Eatery\, 1061 W Orange Blossom Trail\, Apopka FL\, 32712 USA
GEO:28.6858062;-81.5315994
X-APPLE-STRUCTURED-LOCATION;VALUE=URI;X-ADDRESS=Stephie’s Pub & Irish Eatery 1061 W Orange Blossom Trail Apopka FL 32712 USA;X-APPLE-RADIUS=500;X-TITLE=1061 W Orange Blossom Trail\, Apopka FL\, 32712 USA:geo:-81.5315994,28.6858062
END:VEVENT
BEGIN:VEVENT
DTSTART;TZID=America/New_York:20301212T190000
DTEND;TZID=America/New_York:20301212T190000
DTSTAMP:20260421T142310
CREATED:20260105T003217Z
LAST-MODIFIED:20260105T053919Z
UID:10010660-1923332400-1923332400@epictriviafl.com
SUMMARY:Music Bingo
DESCRIPTION:
URL:https://epictriviafl.com/event/music-bingo-stephie/2030-12-12/
LOCATION:Stephie’s Pub & Irish Eatery\, 1061 W Orange Blossom Trail\, Apopka FL\, 32712 USA
GEO:28.6858062;-81.5315994
X-APPLE-STRUCTURED-LOCATION;VALUE=URI;X-ADDRESS=Stephie’s Pub & Irish Eatery 1061 W Orange Blossom Trail Apopka FL 32712 USA;X-APPLE-RADIUS=500;X-TITLE=1061 W Orange Blossom Trail\, Apopka FL\, 32712 USA:geo:-81.5315994,28.6858062
END:VEVENT
BEGIN:VEVENT
DTSTART;TZID=America/New_York:20301219T190000
DTEND;TZID=America/New_York:20301219T190000
DTSTAMP:20260421T142310
CREATED:20260105T003217Z
LAST-MODIFIED:20260105T053919Z
UID:10010661-1923937200-1923937200@epictriviafl.com
SUMMARY:Music Bingo
DESCRIPTION:
URL:https://epictriviafl.com/event/music-bingo-stephie/2030-12-19/
LOCATION:Stephie’s Pub & Irish Eatery\, 1061 W Orange Blossom Trail\, Apopka FL\, 32712 USA
GEO:28.6858062;-81.5315994
X-APPLE-STRUCTURED-LOCATION;VALUE=URI;X-ADDRESS=Stephie’s Pub & Irish Eatery 1061 W Orange Blossom Trail Apopka FL 32712 USA;X-APPLE-RADIUS=500;X-TITLE=1061 W Orange Blossom Trail\, Apopka FL\, 32712 USA:geo:-81.5315994,28.6858062
END:VEVENT
BEGIN:VEVENT
DTSTART;TZID=America/New_York:20301226T190000
DTEND;TZID=America/New_York:20301226T190000
DTSTAMP:20260421T142310
CREATED:20260105T003217Z
LAST-MODIFIED:20260105T053919Z
UID:10010662-1924542000-1924542000@epictriviafl.com
SUMMARY:Music Bingo
DESCRIPTION:
URL:https://epictriviafl.com/event/music-bingo-stephie/2030-12-26/
LOCATION:Stephie’s Pub & Irish Eatery\, 1061 W Orange Blossom Trail\, Apopka FL\, 32712 USA
GEO:28.6858062;-81.5315994
X-APPLE-STRUCTURED-LOCATION;VALUE=URI;X-ADDRESS=Stephie’s Pub & Irish Eatery 1061 W Orange Blossom Trail Apopka FL 32712 USA;X-APPLE-RADIUS=500;X-TITLE=1061 W Orange Blossom Trail\, Apopka FL\, 32712 USA:geo:-81.5315994,28.6858062
END:VEVENT
BEGIN:VEVENT
DTSTART;TZID=America/New_York:20310102T190000
DTEND;TZID=America/New_York:20310102T190000
DTSTAMP:20260421T142310
CREATED:20260105T003217Z
LAST-MODIFIED:20260105T053919Z
UID:10010663-1925146800-1925146800@epictriviafl.com
SUMMARY:Music Bingo
DESCRIPTION:
URL:https://epictriviafl.com/event/music-bingo-stephie/2031-01-02/
LOCATION:Stephie’s Pub & Irish Eatery\, 1061 W Orange Blossom Trail\, Apopka FL\, 32712 USA
GEO:28.6858062;-81.5315994
X-APPLE-STRUCTURED-LOCATION;VALUE=URI;X-ADDRESS=Stephie’s Pub & Irish Eatery 1061 W Orange Blossom Trail Apopka FL 32712 USA;X-APPLE-RADIUS=500;X-TITLE=1061 W Orange Blossom Trail\, Apopka FL\, 32712 USA:geo:-81.5315994,28.6858062
END:VEVENT
END:VCALENDAR