BEGIN:VCALENDAR
VERSION:2.0
PRODID:-//Epic Trivia - ECPv6.15.18//NONSGML v1.0//EN
CALSCALE:GREGORIAN
METHOD:PUBLISH
X-WR-CALNAME:Epic Trivia
X-ORIGINAL-URL:https://epictriviafl.com
X-WR-CALDESC:Events for Epic Trivia
REFRESH-INTERVAL;VALUE=DURATION:PT1H
X-Robots-Tag:noindex
X-PUBLISHED-TTL:PT1H
BEGIN:VTIMEZONE
TZID:America/New_York
BEGIN:DAYLIGHT
TZOFFSETFROM:-0500
TZOFFSETTO:-0400
TZNAME:EDT
DTSTART:20290311T070000
END:DAYLIGHT
BEGIN:STANDARD
TZOFFSETFROM:-0400
TZOFFSETTO:-0500
TZNAME:EST
DTSTART:20291104T060000
END:STANDARD
BEGIN:DAYLIGHT
TZOFFSETFROM:-0500
TZOFFSETTO:-0400
TZNAME:EDT
DTSTART:20300310T070000
END:DAYLIGHT
BEGIN:STANDARD
TZOFFSETFROM:-0400
TZOFFSETTO:-0500
TZNAME:EST
DTSTART:20301103T060000
END:STANDARD
BEGIN:DAYLIGHT
TZOFFSETFROM:-0500
TZOFFSETTO:-0400
TZNAME:EDT
DTSTART:20310309T070000
END:DAYLIGHT
BEGIN:STANDARD
TZOFFSETFROM:-0400
TZOFFSETTO:-0500
TZNAME:EST
DTSTART:20311102T060000
END:STANDARD
END:VTIMEZONE
BEGIN:VEVENT
DTSTART;TZID=America/New_York:20300321T190000
DTEND;TZID=America/New_York:20300321T190000
DTSTAMP:20260421T113647
CREATED:20260105T003217Z
LAST-MODIFIED:20260105T053919Z
UID:10010622-1900350000-1900350000@epictriviafl.com
SUMMARY:Music Bingo
DESCRIPTION:
URL:https://epictriviafl.com/event/music-bingo-stephie/2030-03-21/
LOCATION:Stephie’s Pub & Irish Eatery\, 1061 W Orange Blossom Trail\, Apopka FL\, 32712 USA
GEO:28.6858062;-81.5315994
X-APPLE-STRUCTURED-LOCATION;VALUE=URI;X-ADDRESS=Stephie’s Pub & Irish Eatery 1061 W Orange Blossom Trail Apopka FL 32712 USA;X-APPLE-RADIUS=500;X-TITLE=1061 W Orange Blossom Trail\, Apopka FL\, 32712 USA:geo:-81.5315994,28.6858062
END:VEVENT
BEGIN:VEVENT
DTSTART;TZID=America/New_York:20300328T190000
DTEND;TZID=America/New_York:20300328T190000
DTSTAMP:20260421T113647
CREATED:20260105T003217Z
LAST-MODIFIED:20260105T053919Z
UID:10010623-1900954800-1900954800@epictriviafl.com
SUMMARY:Music Bingo
DESCRIPTION:
URL:https://epictriviafl.com/event/music-bingo-stephie/2030-03-28/
LOCATION:Stephie’s Pub & Irish Eatery\, 1061 W Orange Blossom Trail\, Apopka FL\, 32712 USA
GEO:28.6858062;-81.5315994
X-APPLE-STRUCTURED-LOCATION;VALUE=URI;X-ADDRESS=Stephie’s Pub & Irish Eatery 1061 W Orange Blossom Trail Apopka FL 32712 USA;X-APPLE-RADIUS=500;X-TITLE=1061 W Orange Blossom Trail\, Apopka FL\, 32712 USA:geo:-81.5315994,28.6858062
END:VEVENT
BEGIN:VEVENT
DTSTART;TZID=America/New_York:20300404T190000
DTEND;TZID=America/New_York:20300404T190000
DTSTAMP:20260421T113647
CREATED:20260105T003217Z
LAST-MODIFIED:20260105T053919Z
UID:10010624-1901559600-1901559600@epictriviafl.com
SUMMARY:Music Bingo
DESCRIPTION:
URL:https://epictriviafl.com/event/music-bingo-stephie/2030-04-04/
LOCATION:Stephie’s Pub & Irish Eatery\, 1061 W Orange Blossom Trail\, Apopka FL\, 32712 USA
GEO:28.6858062;-81.5315994
X-APPLE-STRUCTURED-LOCATION;VALUE=URI;X-ADDRESS=Stephie’s Pub & Irish Eatery 1061 W Orange Blossom Trail Apopka FL 32712 USA;X-APPLE-RADIUS=500;X-TITLE=1061 W Orange Blossom Trail\, Apopka FL\, 32712 USA:geo:-81.5315994,28.6858062
END:VEVENT
BEGIN:VEVENT
DTSTART;TZID=America/New_York:20300411T190000
DTEND;TZID=America/New_York:20300411T190000
DTSTAMP:20260421T113647
CREATED:20260105T003217Z
LAST-MODIFIED:20260105T053919Z
UID:10010625-1902164400-1902164400@epictriviafl.com
SUMMARY:Music Bingo
DESCRIPTION:
URL:https://epictriviafl.com/event/music-bingo-stephie/2030-04-11/
LOCATION:Stephie’s Pub & Irish Eatery\, 1061 W Orange Blossom Trail\, Apopka FL\, 32712 USA
GEO:28.6858062;-81.5315994
X-APPLE-STRUCTURED-LOCATION;VALUE=URI;X-ADDRESS=Stephie’s Pub & Irish Eatery 1061 W Orange Blossom Trail Apopka FL 32712 USA;X-APPLE-RADIUS=500;X-TITLE=1061 W Orange Blossom Trail\, Apopka FL\, 32712 USA:geo:-81.5315994,28.6858062
END:VEVENT
BEGIN:VEVENT
DTSTART;TZID=America/New_York:20300418T190000
DTEND;TZID=America/New_York:20300418T190000
DTSTAMP:20260421T113647
CREATED:20260105T003217Z
LAST-MODIFIED:20260105T053919Z
UID:10010626-1902769200-1902769200@epictriviafl.com
SUMMARY:Music Bingo
DESCRIPTION:
URL:https://epictriviafl.com/event/music-bingo-stephie/2030-04-18/
LOCATION:Stephie’s Pub & Irish Eatery\, 1061 W Orange Blossom Trail\, Apopka FL\, 32712 USA
GEO:28.6858062;-81.5315994
X-APPLE-STRUCTURED-LOCATION;VALUE=URI;X-ADDRESS=Stephie’s Pub & Irish Eatery 1061 W Orange Blossom Trail Apopka FL 32712 USA;X-APPLE-RADIUS=500;X-TITLE=1061 W Orange Blossom Trail\, Apopka FL\, 32712 USA:geo:-81.5315994,28.6858062
END:VEVENT
BEGIN:VEVENT
DTSTART;TZID=America/New_York:20300425T190000
DTEND;TZID=America/New_York:20300425T190000
DTSTAMP:20260421T113647
CREATED:20260105T003217Z
LAST-MODIFIED:20260105T053919Z
UID:10010627-1903374000-1903374000@epictriviafl.com
SUMMARY:Music Bingo
DESCRIPTION:
URL:https://epictriviafl.com/event/music-bingo-stephie/2030-04-25/
LOCATION:Stephie’s Pub & Irish Eatery\, 1061 W Orange Blossom Trail\, Apopka FL\, 32712 USA
GEO:28.6858062;-81.5315994
X-APPLE-STRUCTURED-LOCATION;VALUE=URI;X-ADDRESS=Stephie’s Pub & Irish Eatery 1061 W Orange Blossom Trail Apopka FL 32712 USA;X-APPLE-RADIUS=500;X-TITLE=1061 W Orange Blossom Trail\, Apopka FL\, 32712 USA:geo:-81.5315994,28.6858062
END:VEVENT
BEGIN:VEVENT
DTSTART;TZID=America/New_York:20300502T190000
DTEND;TZID=America/New_York:20300502T190000
DTSTAMP:20260421T113647
CREATED:20260105T003217Z
LAST-MODIFIED:20260105T053919Z
UID:10010628-1903978800-1903978800@epictriviafl.com
SUMMARY:Music Bingo
DESCRIPTION:
URL:https://epictriviafl.com/event/music-bingo-stephie/2030-05-02/
LOCATION:Stephie’s Pub & Irish Eatery\, 1061 W Orange Blossom Trail\, Apopka FL\, 32712 USA
GEO:28.6858062;-81.5315994
X-APPLE-STRUCTURED-LOCATION;VALUE=URI;X-ADDRESS=Stephie’s Pub & Irish Eatery 1061 W Orange Blossom Trail Apopka FL 32712 USA;X-APPLE-RADIUS=500;X-TITLE=1061 W Orange Blossom Trail\, Apopka FL\, 32712 USA:geo:-81.5315994,28.6858062
END:VEVENT
BEGIN:VEVENT
DTSTART;TZID=America/New_York:20300509T190000
DTEND;TZID=America/New_York:20300509T190000
DTSTAMP:20260421T113647
CREATED:20260105T003217Z
LAST-MODIFIED:20260105T053919Z
UID:10010629-1904583600-1904583600@epictriviafl.com
SUMMARY:Music Bingo
DESCRIPTION:
URL:https://epictriviafl.com/event/music-bingo-stephie/2030-05-09/
LOCATION:Stephie’s Pub & Irish Eatery\, 1061 W Orange Blossom Trail\, Apopka FL\, 32712 USA
GEO:28.6858062;-81.5315994
X-APPLE-STRUCTURED-LOCATION;VALUE=URI;X-ADDRESS=Stephie’s Pub & Irish Eatery 1061 W Orange Blossom Trail Apopka FL 32712 USA;X-APPLE-RADIUS=500;X-TITLE=1061 W Orange Blossom Trail\, Apopka FL\, 32712 USA:geo:-81.5315994,28.6858062
END:VEVENT
BEGIN:VEVENT
DTSTART;TZID=America/New_York:20300516T190000
DTEND;TZID=America/New_York:20300516T190000
DTSTAMP:20260421T113647
CREATED:20260105T003217Z
LAST-MODIFIED:20260105T053919Z
UID:10010630-1905188400-1905188400@epictriviafl.com
SUMMARY:Music Bingo
DESCRIPTION:
URL:https://epictriviafl.com/event/music-bingo-stephie/2030-05-16/
LOCATION:Stephie’s Pub & Irish Eatery\, 1061 W Orange Blossom Trail\, Apopka FL\, 32712 USA
GEO:28.6858062;-81.5315994
X-APPLE-STRUCTURED-LOCATION;VALUE=URI;X-ADDRESS=Stephie’s Pub & Irish Eatery 1061 W Orange Blossom Trail Apopka FL 32712 USA;X-APPLE-RADIUS=500;X-TITLE=1061 W Orange Blossom Trail\, Apopka FL\, 32712 USA:geo:-81.5315994,28.6858062
END:VEVENT
BEGIN:VEVENT
DTSTART;TZID=America/New_York:20300523T190000
DTEND;TZID=America/New_York:20300523T190000
DTSTAMP:20260421T113647
CREATED:20260105T003217Z
LAST-MODIFIED:20260105T053919Z
UID:10010631-1905793200-1905793200@epictriviafl.com
SUMMARY:Music Bingo
DESCRIPTION:
URL:https://epictriviafl.com/event/music-bingo-stephie/2030-05-23/
LOCATION:Stephie’s Pub & Irish Eatery\, 1061 W Orange Blossom Trail\, Apopka FL\, 32712 USA
GEO:28.6858062;-81.5315994
X-APPLE-STRUCTURED-LOCATION;VALUE=URI;X-ADDRESS=Stephie’s Pub & Irish Eatery 1061 W Orange Blossom Trail Apopka FL 32712 USA;X-APPLE-RADIUS=500;X-TITLE=1061 W Orange Blossom Trail\, Apopka FL\, 32712 USA:geo:-81.5315994,28.6858062
END:VEVENT
BEGIN:VEVENT
DTSTART;TZID=America/New_York:20300530T190000
DTEND;TZID=America/New_York:20300530T190000
DTSTAMP:20260421T113647
CREATED:20260105T003217Z
LAST-MODIFIED:20260105T053919Z
UID:10010632-1906398000-1906398000@epictriviafl.com
SUMMARY:Music Bingo
DESCRIPTION:
URL:https://epictriviafl.com/event/music-bingo-stephie/2030-05-30/
LOCATION:Stephie’s Pub & Irish Eatery\, 1061 W Orange Blossom Trail\, Apopka FL\, 32712 USA
GEO:28.6858062;-81.5315994
X-APPLE-STRUCTURED-LOCATION;VALUE=URI;X-ADDRESS=Stephie’s Pub & Irish Eatery 1061 W Orange Blossom Trail Apopka FL 32712 USA;X-APPLE-RADIUS=500;X-TITLE=1061 W Orange Blossom Trail\, Apopka FL\, 32712 USA:geo:-81.5315994,28.6858062
END:VEVENT
BEGIN:VEVENT
DTSTART;TZID=America/New_York:20300606T190000
DTEND;TZID=America/New_York:20300606T190000
DTSTAMP:20260421T113647
CREATED:20260105T003217Z
LAST-MODIFIED:20260105T053919Z
UID:10010633-1907002800-1907002800@epictriviafl.com
SUMMARY:Music Bingo
DESCRIPTION:
URL:https://epictriviafl.com/event/music-bingo-stephie/2030-06-06/
LOCATION:Stephie’s Pub & Irish Eatery\, 1061 W Orange Blossom Trail\, Apopka FL\, 32712 USA
GEO:28.6858062;-81.5315994
X-APPLE-STRUCTURED-LOCATION;VALUE=URI;X-ADDRESS=Stephie’s Pub & Irish Eatery 1061 W Orange Blossom Trail Apopka FL 32712 USA;X-APPLE-RADIUS=500;X-TITLE=1061 W Orange Blossom Trail\, Apopka FL\, 32712 USA:geo:-81.5315994,28.6858062
END:VEVENT
BEGIN:VEVENT
DTSTART;TZID=America/New_York:20300613T190000
DTEND;TZID=America/New_York:20300613T190000
DTSTAMP:20260421T113647
CREATED:20260105T003217Z
LAST-MODIFIED:20260105T053919Z
UID:10010634-1907607600-1907607600@epictriviafl.com
SUMMARY:Music Bingo
DESCRIPTION:
URL:https://epictriviafl.com/event/music-bingo-stephie/2030-06-13/
LOCATION:Stephie’s Pub & Irish Eatery\, 1061 W Orange Blossom Trail\, Apopka FL\, 32712 USA
GEO:28.6858062;-81.5315994
X-APPLE-STRUCTURED-LOCATION;VALUE=URI;X-ADDRESS=Stephie’s Pub & Irish Eatery 1061 W Orange Blossom Trail Apopka FL 32712 USA;X-APPLE-RADIUS=500;X-TITLE=1061 W Orange Blossom Trail\, Apopka FL\, 32712 USA:geo:-81.5315994,28.6858062
END:VEVENT
BEGIN:VEVENT
DTSTART;TZID=America/New_York:20300620T190000
DTEND;TZID=America/New_York:20300620T190000
DTSTAMP:20260421T113647
CREATED:20260105T003217Z
LAST-MODIFIED:20260105T053919Z
UID:10010635-1908212400-1908212400@epictriviafl.com
SUMMARY:Music Bingo
DESCRIPTION:
URL:https://epictriviafl.com/event/music-bingo-stephie/2030-06-20/
LOCATION:Stephie’s Pub & Irish Eatery\, 1061 W Orange Blossom Trail\, Apopka FL\, 32712 USA
GEO:28.6858062;-81.5315994
X-APPLE-STRUCTURED-LOCATION;VALUE=URI;X-ADDRESS=Stephie’s Pub & Irish Eatery 1061 W Orange Blossom Trail Apopka FL 32712 USA;X-APPLE-RADIUS=500;X-TITLE=1061 W Orange Blossom Trail\, Apopka FL\, 32712 USA:geo:-81.5315994,28.6858062
END:VEVENT
BEGIN:VEVENT
DTSTART;TZID=America/New_York:20300627T190000
DTEND;TZID=America/New_York:20300627T190000
DTSTAMP:20260421T113647
CREATED:20260105T003217Z
LAST-MODIFIED:20260105T053919Z
UID:10010636-1908817200-1908817200@epictriviafl.com
SUMMARY:Music Bingo
DESCRIPTION:
URL:https://epictriviafl.com/event/music-bingo-stephie/2030-06-27/
LOCATION:Stephie’s Pub & Irish Eatery\, 1061 W Orange Blossom Trail\, Apopka FL\, 32712 USA
GEO:28.6858062;-81.5315994
X-APPLE-STRUCTURED-LOCATION;VALUE=URI;X-ADDRESS=Stephie’s Pub & Irish Eatery 1061 W Orange Blossom Trail Apopka FL 32712 USA;X-APPLE-RADIUS=500;X-TITLE=1061 W Orange Blossom Trail\, Apopka FL\, 32712 USA:geo:-81.5315994,28.6858062
END:VEVENT
BEGIN:VEVENT
DTSTART;TZID=America/New_York:20300704T190000
DTEND;TZID=America/New_York:20300704T190000
DTSTAMP:20260421T113647
CREATED:20260105T003217Z
LAST-MODIFIED:20260105T053919Z
UID:10010637-1909422000-1909422000@epictriviafl.com
SUMMARY:Music Bingo
DESCRIPTION:
URL:https://epictriviafl.com/event/music-bingo-stephie/2030-07-04/
LOCATION:Stephie’s Pub & Irish Eatery\, 1061 W Orange Blossom Trail\, Apopka FL\, 32712 USA
GEO:28.6858062;-81.5315994
X-APPLE-STRUCTURED-LOCATION;VALUE=URI;X-ADDRESS=Stephie’s Pub & Irish Eatery 1061 W Orange Blossom Trail Apopka FL 32712 USA;X-APPLE-RADIUS=500;X-TITLE=1061 W Orange Blossom Trail\, Apopka FL\, 32712 USA:geo:-81.5315994,28.6858062
END:VEVENT
BEGIN:VEVENT
DTSTART;TZID=America/New_York:20300711T190000
DTEND;TZID=America/New_York:20300711T190000
DTSTAMP:20260421T113647
CREATED:20260105T003217Z
LAST-MODIFIED:20260105T053919Z
UID:10010638-1910026800-1910026800@epictriviafl.com
SUMMARY:Music Bingo
DESCRIPTION:
URL:https://epictriviafl.com/event/music-bingo-stephie/2030-07-11/
LOCATION:Stephie’s Pub & Irish Eatery\, 1061 W Orange Blossom Trail\, Apopka FL\, 32712 USA
GEO:28.6858062;-81.5315994
X-APPLE-STRUCTURED-LOCATION;VALUE=URI;X-ADDRESS=Stephie’s Pub & Irish Eatery 1061 W Orange Blossom Trail Apopka FL 32712 USA;X-APPLE-RADIUS=500;X-TITLE=1061 W Orange Blossom Trail\, Apopka FL\, 32712 USA:geo:-81.5315994,28.6858062
END:VEVENT
BEGIN:VEVENT
DTSTART;TZID=America/New_York:20300718T190000
DTEND;TZID=America/New_York:20300718T190000
DTSTAMP:20260421T113647
CREATED:20260105T003217Z
LAST-MODIFIED:20260105T053919Z
UID:10010639-1910631600-1910631600@epictriviafl.com
SUMMARY:Music Bingo
DESCRIPTION:
URL:https://epictriviafl.com/event/music-bingo-stephie/2030-07-18/
LOCATION:Stephie’s Pub & Irish Eatery\, 1061 W Orange Blossom Trail\, Apopka FL\, 32712 USA
GEO:28.6858062;-81.5315994
X-APPLE-STRUCTURED-LOCATION;VALUE=URI;X-ADDRESS=Stephie’s Pub & Irish Eatery 1061 W Orange Blossom Trail Apopka FL 32712 USA;X-APPLE-RADIUS=500;X-TITLE=1061 W Orange Blossom Trail\, Apopka FL\, 32712 USA:geo:-81.5315994,28.6858062
END:VEVENT
BEGIN:VEVENT
DTSTART;TZID=America/New_York:20300725T190000
DTEND;TZID=America/New_York:20300725T190000
DTSTAMP:20260421T113647
CREATED:20260105T003217Z
LAST-MODIFIED:20260105T053919Z
UID:10010640-1911236400-1911236400@epictriviafl.com
SUMMARY:Music Bingo
DESCRIPTION:
URL:https://epictriviafl.com/event/music-bingo-stephie/2030-07-25/
LOCATION:Stephie’s Pub & Irish Eatery\, 1061 W Orange Blossom Trail\, Apopka FL\, 32712 USA
GEO:28.6858062;-81.5315994
X-APPLE-STRUCTURED-LOCATION;VALUE=URI;X-ADDRESS=Stephie’s Pub & Irish Eatery 1061 W Orange Blossom Trail Apopka FL 32712 USA;X-APPLE-RADIUS=500;X-TITLE=1061 W Orange Blossom Trail\, Apopka FL\, 32712 USA:geo:-81.5315994,28.6858062
END:VEVENT
BEGIN:VEVENT
DTSTART;TZID=America/New_York:20300801T190000
DTEND;TZID=America/New_York:20300801T190000
DTSTAMP:20260421T113647
CREATED:20260105T003217Z
LAST-MODIFIED:20260105T053919Z
UID:10010641-1911841200-1911841200@epictriviafl.com
SUMMARY:Music Bingo
DESCRIPTION:
URL:https://epictriviafl.com/event/music-bingo-stephie/2030-08-01/
LOCATION:Stephie’s Pub & Irish Eatery\, 1061 W Orange Blossom Trail\, Apopka FL\, 32712 USA
GEO:28.6858062;-81.5315994
X-APPLE-STRUCTURED-LOCATION;VALUE=URI;X-ADDRESS=Stephie’s Pub & Irish Eatery 1061 W Orange Blossom Trail Apopka FL 32712 USA;X-APPLE-RADIUS=500;X-TITLE=1061 W Orange Blossom Trail\, Apopka FL\, 32712 USA:geo:-81.5315994,28.6858062
END:VEVENT
BEGIN:VEVENT
DTSTART;TZID=America/New_York:20300808T190000
DTEND;TZID=America/New_York:20300808T190000
DTSTAMP:20260421T113647
CREATED:20260105T003217Z
LAST-MODIFIED:20260105T053919Z
UID:10010642-1912446000-1912446000@epictriviafl.com
SUMMARY:Music Bingo
DESCRIPTION:
URL:https://epictriviafl.com/event/music-bingo-stephie/2030-08-08/
LOCATION:Stephie’s Pub & Irish Eatery\, 1061 W Orange Blossom Trail\, Apopka FL\, 32712 USA
GEO:28.6858062;-81.5315994
X-APPLE-STRUCTURED-LOCATION;VALUE=URI;X-ADDRESS=Stephie’s Pub & Irish Eatery 1061 W Orange Blossom Trail Apopka FL 32712 USA;X-APPLE-RADIUS=500;X-TITLE=1061 W Orange Blossom Trail\, Apopka FL\, 32712 USA:geo:-81.5315994,28.6858062
END:VEVENT
BEGIN:VEVENT
DTSTART;TZID=America/New_York:20300815T190000
DTEND;TZID=America/New_York:20300815T190000
DTSTAMP:20260421T113647
CREATED:20260105T003217Z
LAST-MODIFIED:20260105T053919Z
UID:10010643-1913050800-1913050800@epictriviafl.com
SUMMARY:Music Bingo
DESCRIPTION:
URL:https://epictriviafl.com/event/music-bingo-stephie/2030-08-15/
LOCATION:Stephie’s Pub & Irish Eatery\, 1061 W Orange Blossom Trail\, Apopka FL\, 32712 USA
GEO:28.6858062;-81.5315994
X-APPLE-STRUCTURED-LOCATION;VALUE=URI;X-ADDRESS=Stephie’s Pub & Irish Eatery 1061 W Orange Blossom Trail Apopka FL 32712 USA;X-APPLE-RADIUS=500;X-TITLE=1061 W Orange Blossom Trail\, Apopka FL\, 32712 USA:geo:-81.5315994,28.6858062
END:VEVENT
BEGIN:VEVENT
DTSTART;TZID=America/New_York:20300822T190000
DTEND;TZID=America/New_York:20300822T190000
DTSTAMP:20260421T113647
CREATED:20260105T003217Z
LAST-MODIFIED:20260105T053919Z
UID:10010644-1913655600-1913655600@epictriviafl.com
SUMMARY:Music Bingo
DESCRIPTION:
URL:https://epictriviafl.com/event/music-bingo-stephie/2030-08-22/
LOCATION:Stephie’s Pub & Irish Eatery\, 1061 W Orange Blossom Trail\, Apopka FL\, 32712 USA
GEO:28.6858062;-81.5315994
X-APPLE-STRUCTURED-LOCATION;VALUE=URI;X-ADDRESS=Stephie’s Pub & Irish Eatery 1061 W Orange Blossom Trail Apopka FL 32712 USA;X-APPLE-RADIUS=500;X-TITLE=1061 W Orange Blossom Trail\, Apopka FL\, 32712 USA:geo:-81.5315994,28.6858062
END:VEVENT
BEGIN:VEVENT
DTSTART;TZID=America/New_York:20300829T190000
DTEND;TZID=America/New_York:20300829T190000
DTSTAMP:20260421T113647
CREATED:20260105T003217Z
LAST-MODIFIED:20260105T053919Z
UID:10010645-1914260400-1914260400@epictriviafl.com
SUMMARY:Music Bingo
DESCRIPTION:
URL:https://epictriviafl.com/event/music-bingo-stephie/2030-08-29/
LOCATION:Stephie’s Pub & Irish Eatery\, 1061 W Orange Blossom Trail\, Apopka FL\, 32712 USA
GEO:28.6858062;-81.5315994
X-APPLE-STRUCTURED-LOCATION;VALUE=URI;X-ADDRESS=Stephie’s Pub & Irish Eatery 1061 W Orange Blossom Trail Apopka FL 32712 USA;X-APPLE-RADIUS=500;X-TITLE=1061 W Orange Blossom Trail\, Apopka FL\, 32712 USA:geo:-81.5315994,28.6858062
END:VEVENT
BEGIN:VEVENT
DTSTART;TZID=America/New_York:20300905T190000
DTEND;TZID=America/New_York:20300905T190000
DTSTAMP:20260421T113647
CREATED:20260105T003217Z
LAST-MODIFIED:20260105T053919Z
UID:10010646-1914865200-1914865200@epictriviafl.com
SUMMARY:Music Bingo
DESCRIPTION:
URL:https://epictriviafl.com/event/music-bingo-stephie/2030-09-05/
LOCATION:Stephie’s Pub & Irish Eatery\, 1061 W Orange Blossom Trail\, Apopka FL\, 32712 USA
GEO:28.6858062;-81.5315994
X-APPLE-STRUCTURED-LOCATION;VALUE=URI;X-ADDRESS=Stephie’s Pub & Irish Eatery 1061 W Orange Blossom Trail Apopka FL 32712 USA;X-APPLE-RADIUS=500;X-TITLE=1061 W Orange Blossom Trail\, Apopka FL\, 32712 USA:geo:-81.5315994,28.6858062
END:VEVENT
BEGIN:VEVENT
DTSTART;TZID=America/New_York:20300912T190000
DTEND;TZID=America/New_York:20300912T190000
DTSTAMP:20260421T113647
CREATED:20260105T003217Z
LAST-MODIFIED:20260105T053919Z
UID:10010647-1915470000-1915470000@epictriviafl.com
SUMMARY:Music Bingo
DESCRIPTION:
URL:https://epictriviafl.com/event/music-bingo-stephie/2030-09-12/
LOCATION:Stephie’s Pub & Irish Eatery\, 1061 W Orange Blossom Trail\, Apopka FL\, 32712 USA
GEO:28.6858062;-81.5315994
X-APPLE-STRUCTURED-LOCATION;VALUE=URI;X-ADDRESS=Stephie’s Pub & Irish Eatery 1061 W Orange Blossom Trail Apopka FL 32712 USA;X-APPLE-RADIUS=500;X-TITLE=1061 W Orange Blossom Trail\, Apopka FL\, 32712 USA:geo:-81.5315994,28.6858062
END:VEVENT
BEGIN:VEVENT
DTSTART;TZID=America/New_York:20300919T190000
DTEND;TZID=America/New_York:20300919T190000
DTSTAMP:20260421T113647
CREATED:20260105T003217Z
LAST-MODIFIED:20260105T053919Z
UID:10010648-1916074800-1916074800@epictriviafl.com
SUMMARY:Music Bingo
DESCRIPTION:
URL:https://epictriviafl.com/event/music-bingo-stephie/2030-09-19/
LOCATION:Stephie’s Pub & Irish Eatery\, 1061 W Orange Blossom Trail\, Apopka FL\, 32712 USA
GEO:28.6858062;-81.5315994
X-APPLE-STRUCTURED-LOCATION;VALUE=URI;X-ADDRESS=Stephie’s Pub & Irish Eatery 1061 W Orange Blossom Trail Apopka FL 32712 USA;X-APPLE-RADIUS=500;X-TITLE=1061 W Orange Blossom Trail\, Apopka FL\, 32712 USA:geo:-81.5315994,28.6858062
END:VEVENT
BEGIN:VEVENT
DTSTART;TZID=America/New_York:20300926T190000
DTEND;TZID=America/New_York:20300926T190000
DTSTAMP:20260421T113647
CREATED:20260105T003217Z
LAST-MODIFIED:20260105T053919Z
UID:10010649-1916679600-1916679600@epictriviafl.com
SUMMARY:Music Bingo
DESCRIPTION:
URL:https://epictriviafl.com/event/music-bingo-stephie/2030-09-26/
LOCATION:Stephie’s Pub & Irish Eatery\, 1061 W Orange Blossom Trail\, Apopka FL\, 32712 USA
GEO:28.6858062;-81.5315994
X-APPLE-STRUCTURED-LOCATION;VALUE=URI;X-ADDRESS=Stephie’s Pub & Irish Eatery 1061 W Orange Blossom Trail Apopka FL 32712 USA;X-APPLE-RADIUS=500;X-TITLE=1061 W Orange Blossom Trail\, Apopka FL\, 32712 USA:geo:-81.5315994,28.6858062
END:VEVENT
BEGIN:VEVENT
DTSTART;TZID=America/New_York:20301003T190000
DTEND;TZID=America/New_York:20301003T190000
DTSTAMP:20260421T113647
CREATED:20260105T003217Z
LAST-MODIFIED:20260105T053919Z
UID:10010650-1917284400-1917284400@epictriviafl.com
SUMMARY:Music Bingo
DESCRIPTION:
URL:https://epictriviafl.com/event/music-bingo-stephie/2030-10-03/
LOCATION:Stephie’s Pub & Irish Eatery\, 1061 W Orange Blossom Trail\, Apopka FL\, 32712 USA
GEO:28.6858062;-81.5315994
X-APPLE-STRUCTURED-LOCATION;VALUE=URI;X-ADDRESS=Stephie’s Pub & Irish Eatery 1061 W Orange Blossom Trail Apopka FL 32712 USA;X-APPLE-RADIUS=500;X-TITLE=1061 W Orange Blossom Trail\, Apopka FL\, 32712 USA:geo:-81.5315994,28.6858062
END:VEVENT
BEGIN:VEVENT
DTSTART;TZID=America/New_York:20301010T190000
DTEND;TZID=America/New_York:20301010T190000
DTSTAMP:20260421T113647
CREATED:20260105T003217Z
LAST-MODIFIED:20260105T053919Z
UID:10010651-1917889200-1917889200@epictriviafl.com
SUMMARY:Music Bingo
DESCRIPTION:
URL:https://epictriviafl.com/event/music-bingo-stephie/2030-10-10/
LOCATION:Stephie’s Pub & Irish Eatery\, 1061 W Orange Blossom Trail\, Apopka FL\, 32712 USA
GEO:28.6858062;-81.5315994
X-APPLE-STRUCTURED-LOCATION;VALUE=URI;X-ADDRESS=Stephie’s Pub & Irish Eatery 1061 W Orange Blossom Trail Apopka FL 32712 USA;X-APPLE-RADIUS=500;X-TITLE=1061 W Orange Blossom Trail\, Apopka FL\, 32712 USA:geo:-81.5315994,28.6858062
END:VEVENT
END:VCALENDAR