BEGIN:VCALENDAR
VERSION:2.0
PRODID:-//Epic Trivia - ECPv6.15.18//NONSGML v1.0//EN
CALSCALE:GREGORIAN
METHOD:PUBLISH
X-WR-CALNAME:Epic Trivia
X-ORIGINAL-URL:https://epictriviafl.com
X-WR-CALDESC:Events for Epic Trivia
REFRESH-INTERVAL;VALUE=DURATION:PT1H
X-Robots-Tag:noindex
X-PUBLISHED-TTL:PT1H
BEGIN:VTIMEZONE
TZID:America/New_York
BEGIN:DAYLIGHT
TZOFFSETFROM:-0500
TZOFFSETTO:-0400
TZNAME:EDT
DTSTART:20250309T070000
END:DAYLIGHT
BEGIN:STANDARD
TZOFFSETFROM:-0400
TZOFFSETTO:-0500
TZNAME:EST
DTSTART:20251102T060000
END:STANDARD
BEGIN:DAYLIGHT
TZOFFSETFROM:-0500
TZOFFSETTO:-0400
TZNAME:EDT
DTSTART:20260308T070000
END:DAYLIGHT
BEGIN:STANDARD
TZOFFSETFROM:-0400
TZOFFSETTO:-0500
TZNAME:EST
DTSTART:20261101T060000
END:STANDARD
BEGIN:DAYLIGHT
TZOFFSETFROM:-0500
TZOFFSETTO:-0400
TZNAME:EDT
DTSTART:20270314T070000
END:DAYLIGHT
BEGIN:STANDARD
TZOFFSETFROM:-0400
TZOFFSETTO:-0500
TZNAME:EST
DTSTART:20271107T060000
END:STANDARD
END:VTIMEZONE
BEGIN:VEVENT
DTSTART;TZID=America/New_York:20260423T190000
DTEND;TZID=America/New_York:20260423T190000
DTSTAMP:20260419T153747
CREATED:20260105T003217Z
LAST-MODIFIED:20260105T053919Z
UID:10010418-1776970800-1776970800@epictriviafl.com
SUMMARY:Music Bingo
DESCRIPTION:
URL:https://epictriviafl.com/event/music-bingo-stephie/2026-04-23/
LOCATION:Stephie’s Pub & Irish Eatery\, 1061 W Orange Blossom Trail\, Apopka FL\, 32712 USA
GEO:28.6858062;-81.5315994
X-APPLE-STRUCTURED-LOCATION;VALUE=URI;X-ADDRESS=Stephie’s Pub & Irish Eatery 1061 W Orange Blossom Trail Apopka FL 32712 USA;X-APPLE-RADIUS=500;X-TITLE=1061 W Orange Blossom Trail\, Apopka FL\, 32712 USA:geo:-81.5315994,28.6858062
END:VEVENT
BEGIN:VEVENT
DTSTART;TZID=America/New_York:20260430T190000
DTEND;TZID=America/New_York:20260430T190000
DTSTAMP:20260419T153747
CREATED:20260105T003217Z
LAST-MODIFIED:20260105T053919Z
UID:10010419-1777575600-1777575600@epictriviafl.com
SUMMARY:Music Bingo
DESCRIPTION:
URL:https://epictriviafl.com/event/music-bingo-stephie/2026-04-30/
LOCATION:Stephie’s Pub & Irish Eatery\, 1061 W Orange Blossom Trail\, Apopka FL\, 32712 USA
GEO:28.6858062;-81.5315994
X-APPLE-STRUCTURED-LOCATION;VALUE=URI;X-ADDRESS=Stephie’s Pub & Irish Eatery 1061 W Orange Blossom Trail Apopka FL 32712 USA;X-APPLE-RADIUS=500;X-TITLE=1061 W Orange Blossom Trail\, Apopka FL\, 32712 USA:geo:-81.5315994,28.6858062
END:VEVENT
BEGIN:VEVENT
DTSTART;TZID=America/New_York:20260507T190000
DTEND;TZID=America/New_York:20260507T190000
DTSTAMP:20260419T153747
CREATED:20260105T003217Z
LAST-MODIFIED:20260105T053919Z
UID:10010420-1778180400-1778180400@epictriviafl.com
SUMMARY:Music Bingo
DESCRIPTION:
URL:https://epictriviafl.com/event/music-bingo-stephie/2026-05-07/
LOCATION:Stephie’s Pub & Irish Eatery\, 1061 W Orange Blossom Trail\, Apopka FL\, 32712 USA
GEO:28.6858062;-81.5315994
X-APPLE-STRUCTURED-LOCATION;VALUE=URI;X-ADDRESS=Stephie’s Pub & Irish Eatery 1061 W Orange Blossom Trail Apopka FL 32712 USA;X-APPLE-RADIUS=500;X-TITLE=1061 W Orange Blossom Trail\, Apopka FL\, 32712 USA:geo:-81.5315994,28.6858062
END:VEVENT
BEGIN:VEVENT
DTSTART;TZID=America/New_York:20260514T190000
DTEND;TZID=America/New_York:20260514T190000
DTSTAMP:20260419T153747
CREATED:20260105T003217Z
LAST-MODIFIED:20260105T053919Z
UID:10010421-1778785200-1778785200@epictriviafl.com
SUMMARY:Music Bingo
DESCRIPTION:
URL:https://epictriviafl.com/event/music-bingo-stephie/2026-05-14/
LOCATION:Stephie’s Pub & Irish Eatery\, 1061 W Orange Blossom Trail\, Apopka FL\, 32712 USA
GEO:28.6858062;-81.5315994
X-APPLE-STRUCTURED-LOCATION;VALUE=URI;X-ADDRESS=Stephie’s Pub & Irish Eatery 1061 W Orange Blossom Trail Apopka FL 32712 USA;X-APPLE-RADIUS=500;X-TITLE=1061 W Orange Blossom Trail\, Apopka FL\, 32712 USA:geo:-81.5315994,28.6858062
END:VEVENT
BEGIN:VEVENT
DTSTART;TZID=America/New_York:20260521T190000
DTEND;TZID=America/New_York:20260521T190000
DTSTAMP:20260419T153747
CREATED:20260105T003217Z
LAST-MODIFIED:20260105T053919Z
UID:10010422-1779390000-1779390000@epictriviafl.com
SUMMARY:Music Bingo
DESCRIPTION:
URL:https://epictriviafl.com/event/music-bingo-stephie/2026-05-21/
LOCATION:Stephie’s Pub & Irish Eatery\, 1061 W Orange Blossom Trail\, Apopka FL\, 32712 USA
GEO:28.6858062;-81.5315994
X-APPLE-STRUCTURED-LOCATION;VALUE=URI;X-ADDRESS=Stephie’s Pub & Irish Eatery 1061 W Orange Blossom Trail Apopka FL 32712 USA;X-APPLE-RADIUS=500;X-TITLE=1061 W Orange Blossom Trail\, Apopka FL\, 32712 USA:geo:-81.5315994,28.6858062
END:VEVENT
BEGIN:VEVENT
DTSTART;TZID=America/New_York:20260528T190000
DTEND;TZID=America/New_York:20260528T190000
DTSTAMP:20260419T153747
CREATED:20260105T003217Z
LAST-MODIFIED:20260105T053919Z
UID:10010423-1779994800-1779994800@epictriviafl.com
SUMMARY:Music Bingo
DESCRIPTION:
URL:https://epictriviafl.com/event/music-bingo-stephie/2026-05-28/
LOCATION:Stephie’s Pub & Irish Eatery\, 1061 W Orange Blossom Trail\, Apopka FL\, 32712 USA
GEO:28.6858062;-81.5315994
X-APPLE-STRUCTURED-LOCATION;VALUE=URI;X-ADDRESS=Stephie’s Pub & Irish Eatery 1061 W Orange Blossom Trail Apopka FL 32712 USA;X-APPLE-RADIUS=500;X-TITLE=1061 W Orange Blossom Trail\, Apopka FL\, 32712 USA:geo:-81.5315994,28.6858062
END:VEVENT
BEGIN:VEVENT
DTSTART;TZID=America/New_York:20260604T190000
DTEND;TZID=America/New_York:20260604T190000
DTSTAMP:20260419T153747
CREATED:20260105T003217Z
LAST-MODIFIED:20260105T053919Z
UID:10010424-1780599600-1780599600@epictriviafl.com
SUMMARY:Music Bingo
DESCRIPTION:
URL:https://epictriviafl.com/event/music-bingo-stephie/2026-06-04/
LOCATION:Stephie’s Pub & Irish Eatery\, 1061 W Orange Blossom Trail\, Apopka FL\, 32712 USA
GEO:28.6858062;-81.5315994
X-APPLE-STRUCTURED-LOCATION;VALUE=URI;X-ADDRESS=Stephie’s Pub & Irish Eatery 1061 W Orange Blossom Trail Apopka FL 32712 USA;X-APPLE-RADIUS=500;X-TITLE=1061 W Orange Blossom Trail\, Apopka FL\, 32712 USA:geo:-81.5315994,28.6858062
END:VEVENT
BEGIN:VEVENT
DTSTART;TZID=America/New_York:20260611T190000
DTEND;TZID=America/New_York:20260611T190000
DTSTAMP:20260419T153747
CREATED:20260105T003217Z
LAST-MODIFIED:20260105T053919Z
UID:10010425-1781204400-1781204400@epictriviafl.com
SUMMARY:Music Bingo
DESCRIPTION:
URL:https://epictriviafl.com/event/music-bingo-stephie/2026-06-11/
LOCATION:Stephie’s Pub & Irish Eatery\, 1061 W Orange Blossom Trail\, Apopka FL\, 32712 USA
GEO:28.6858062;-81.5315994
X-APPLE-STRUCTURED-LOCATION;VALUE=URI;X-ADDRESS=Stephie’s Pub & Irish Eatery 1061 W Orange Blossom Trail Apopka FL 32712 USA;X-APPLE-RADIUS=500;X-TITLE=1061 W Orange Blossom Trail\, Apopka FL\, 32712 USA:geo:-81.5315994,28.6858062
END:VEVENT
BEGIN:VEVENT
DTSTART;TZID=America/New_York:20260618T190000
DTEND;TZID=America/New_York:20260618T190000
DTSTAMP:20260419T153747
CREATED:20260105T003217Z
LAST-MODIFIED:20260105T053919Z
UID:10010426-1781809200-1781809200@epictriviafl.com
SUMMARY:Music Bingo
DESCRIPTION:
URL:https://epictriviafl.com/event/music-bingo-stephie/2026-06-18/
LOCATION:Stephie’s Pub & Irish Eatery\, 1061 W Orange Blossom Trail\, Apopka FL\, 32712 USA
GEO:28.6858062;-81.5315994
X-APPLE-STRUCTURED-LOCATION;VALUE=URI;X-ADDRESS=Stephie’s Pub & Irish Eatery 1061 W Orange Blossom Trail Apopka FL 32712 USA;X-APPLE-RADIUS=500;X-TITLE=1061 W Orange Blossom Trail\, Apopka FL\, 32712 USA:geo:-81.5315994,28.6858062
END:VEVENT
BEGIN:VEVENT
DTSTART;TZID=America/New_York:20260625T190000
DTEND;TZID=America/New_York:20260625T190000
DTSTAMP:20260419T153747
CREATED:20260105T003217Z
LAST-MODIFIED:20260105T053919Z
UID:10010427-1782414000-1782414000@epictriviafl.com
SUMMARY:Music Bingo
DESCRIPTION:
URL:https://epictriviafl.com/event/music-bingo-stephie/2026-06-25/
LOCATION:Stephie’s Pub & Irish Eatery\, 1061 W Orange Blossom Trail\, Apopka FL\, 32712 USA
GEO:28.6858062;-81.5315994
X-APPLE-STRUCTURED-LOCATION;VALUE=URI;X-ADDRESS=Stephie’s Pub & Irish Eatery 1061 W Orange Blossom Trail Apopka FL 32712 USA;X-APPLE-RADIUS=500;X-TITLE=1061 W Orange Blossom Trail\, Apopka FL\, 32712 USA:geo:-81.5315994,28.6858062
END:VEVENT
BEGIN:VEVENT
DTSTART;TZID=America/New_York:20260702T190000
DTEND;TZID=America/New_York:20260702T190000
DTSTAMP:20260419T153747
CREATED:20260105T003217Z
LAST-MODIFIED:20260105T053919Z
UID:10010428-1783018800-1783018800@epictriviafl.com
SUMMARY:Music Bingo
DESCRIPTION:
URL:https://epictriviafl.com/event/music-bingo-stephie/2026-07-02/
LOCATION:Stephie’s Pub & Irish Eatery\, 1061 W Orange Blossom Trail\, Apopka FL\, 32712 USA
GEO:28.6858062;-81.5315994
X-APPLE-STRUCTURED-LOCATION;VALUE=URI;X-ADDRESS=Stephie’s Pub & Irish Eatery 1061 W Orange Blossom Trail Apopka FL 32712 USA;X-APPLE-RADIUS=500;X-TITLE=1061 W Orange Blossom Trail\, Apopka FL\, 32712 USA:geo:-81.5315994,28.6858062
END:VEVENT
BEGIN:VEVENT
DTSTART;TZID=America/New_York:20260709T190000
DTEND;TZID=America/New_York:20260709T190000
DTSTAMP:20260419T153747
CREATED:20260105T003217Z
LAST-MODIFIED:20260105T053919Z
UID:10010429-1783623600-1783623600@epictriviafl.com
SUMMARY:Music Bingo
DESCRIPTION:
URL:https://epictriviafl.com/event/music-bingo-stephie/2026-07-09/
LOCATION:Stephie’s Pub & Irish Eatery\, 1061 W Orange Blossom Trail\, Apopka FL\, 32712 USA
GEO:28.6858062;-81.5315994
X-APPLE-STRUCTURED-LOCATION;VALUE=URI;X-ADDRESS=Stephie’s Pub & Irish Eatery 1061 W Orange Blossom Trail Apopka FL 32712 USA;X-APPLE-RADIUS=500;X-TITLE=1061 W Orange Blossom Trail\, Apopka FL\, 32712 USA:geo:-81.5315994,28.6858062
END:VEVENT
BEGIN:VEVENT
DTSTART;TZID=America/New_York:20260716T190000
DTEND;TZID=America/New_York:20260716T190000
DTSTAMP:20260419T153747
CREATED:20260105T003217Z
LAST-MODIFIED:20260105T053919Z
UID:10010430-1784228400-1784228400@epictriviafl.com
SUMMARY:Music Bingo
DESCRIPTION:
URL:https://epictriviafl.com/event/music-bingo-stephie/2026-07-16/
LOCATION:Stephie’s Pub & Irish Eatery\, 1061 W Orange Blossom Trail\, Apopka FL\, 32712 USA
GEO:28.6858062;-81.5315994
X-APPLE-STRUCTURED-LOCATION;VALUE=URI;X-ADDRESS=Stephie’s Pub & Irish Eatery 1061 W Orange Blossom Trail Apopka FL 32712 USA;X-APPLE-RADIUS=500;X-TITLE=1061 W Orange Blossom Trail\, Apopka FL\, 32712 USA:geo:-81.5315994,28.6858062
END:VEVENT
BEGIN:VEVENT
DTSTART;TZID=America/New_York:20260723T190000
DTEND;TZID=America/New_York:20260723T190000
DTSTAMP:20260419T153747
CREATED:20260105T003217Z
LAST-MODIFIED:20260105T053919Z
UID:10010431-1784833200-1784833200@epictriviafl.com
SUMMARY:Music Bingo
DESCRIPTION:
URL:https://epictriviafl.com/event/music-bingo-stephie/2026-07-23/
LOCATION:Stephie’s Pub & Irish Eatery\, 1061 W Orange Blossom Trail\, Apopka FL\, 32712 USA
GEO:28.6858062;-81.5315994
X-APPLE-STRUCTURED-LOCATION;VALUE=URI;X-ADDRESS=Stephie’s Pub & Irish Eatery 1061 W Orange Blossom Trail Apopka FL 32712 USA;X-APPLE-RADIUS=500;X-TITLE=1061 W Orange Blossom Trail\, Apopka FL\, 32712 USA:geo:-81.5315994,28.6858062
END:VEVENT
BEGIN:VEVENT
DTSTART;TZID=America/New_York:20260730T190000
DTEND;TZID=America/New_York:20260730T190000
DTSTAMP:20260419T153747
CREATED:20260105T003217Z
LAST-MODIFIED:20260105T053919Z
UID:10010432-1785438000-1785438000@epictriviafl.com
SUMMARY:Music Bingo
DESCRIPTION:
URL:https://epictriviafl.com/event/music-bingo-stephie/2026-07-30/
LOCATION:Stephie’s Pub & Irish Eatery\, 1061 W Orange Blossom Trail\, Apopka FL\, 32712 USA
GEO:28.6858062;-81.5315994
X-APPLE-STRUCTURED-LOCATION;VALUE=URI;X-ADDRESS=Stephie’s Pub & Irish Eatery 1061 W Orange Blossom Trail Apopka FL 32712 USA;X-APPLE-RADIUS=500;X-TITLE=1061 W Orange Blossom Trail\, Apopka FL\, 32712 USA:geo:-81.5315994,28.6858062
END:VEVENT
BEGIN:VEVENT
DTSTART;TZID=America/New_York:20260806T190000
DTEND;TZID=America/New_York:20260806T190000
DTSTAMP:20260419T153747
CREATED:20260105T003217Z
LAST-MODIFIED:20260105T053919Z
UID:10010433-1786042800-1786042800@epictriviafl.com
SUMMARY:Music Bingo
DESCRIPTION:
URL:https://epictriviafl.com/event/music-bingo-stephie/2026-08-06/
LOCATION:Stephie’s Pub & Irish Eatery\, 1061 W Orange Blossom Trail\, Apopka FL\, 32712 USA
GEO:28.6858062;-81.5315994
X-APPLE-STRUCTURED-LOCATION;VALUE=URI;X-ADDRESS=Stephie’s Pub & Irish Eatery 1061 W Orange Blossom Trail Apopka FL 32712 USA;X-APPLE-RADIUS=500;X-TITLE=1061 W Orange Blossom Trail\, Apopka FL\, 32712 USA:geo:-81.5315994,28.6858062
END:VEVENT
BEGIN:VEVENT
DTSTART;TZID=America/New_York:20260813T190000
DTEND;TZID=America/New_York:20260813T190000
DTSTAMP:20260419T153747
CREATED:20260105T003217Z
LAST-MODIFIED:20260105T053919Z
UID:10010434-1786647600-1786647600@epictriviafl.com
SUMMARY:Music Bingo
DESCRIPTION:
URL:https://epictriviafl.com/event/music-bingo-stephie/2026-08-13/
LOCATION:Stephie’s Pub & Irish Eatery\, 1061 W Orange Blossom Trail\, Apopka FL\, 32712 USA
GEO:28.6858062;-81.5315994
X-APPLE-STRUCTURED-LOCATION;VALUE=URI;X-ADDRESS=Stephie’s Pub & Irish Eatery 1061 W Orange Blossom Trail Apopka FL 32712 USA;X-APPLE-RADIUS=500;X-TITLE=1061 W Orange Blossom Trail\, Apopka FL\, 32712 USA:geo:-81.5315994,28.6858062
END:VEVENT
BEGIN:VEVENT
DTSTART;TZID=America/New_York:20260820T190000
DTEND;TZID=America/New_York:20260820T190000
DTSTAMP:20260419T153747
CREATED:20260105T003217Z
LAST-MODIFIED:20260105T053919Z
UID:10010435-1787252400-1787252400@epictriviafl.com
SUMMARY:Music Bingo
DESCRIPTION:
URL:https://epictriviafl.com/event/music-bingo-stephie/2026-08-20/
LOCATION:Stephie’s Pub & Irish Eatery\, 1061 W Orange Blossom Trail\, Apopka FL\, 32712 USA
GEO:28.6858062;-81.5315994
X-APPLE-STRUCTURED-LOCATION;VALUE=URI;X-ADDRESS=Stephie’s Pub & Irish Eatery 1061 W Orange Blossom Trail Apopka FL 32712 USA;X-APPLE-RADIUS=500;X-TITLE=1061 W Orange Blossom Trail\, Apopka FL\, 32712 USA:geo:-81.5315994,28.6858062
END:VEVENT
BEGIN:VEVENT
DTSTART;TZID=America/New_York:20260827T190000
DTEND;TZID=America/New_York:20260827T190000
DTSTAMP:20260419T153747
CREATED:20260105T003217Z
LAST-MODIFIED:20260105T053919Z
UID:10010436-1787857200-1787857200@epictriviafl.com
SUMMARY:Music Bingo
DESCRIPTION:
URL:https://epictriviafl.com/event/music-bingo-stephie/2026-08-27/
LOCATION:Stephie’s Pub & Irish Eatery\, 1061 W Orange Blossom Trail\, Apopka FL\, 32712 USA
GEO:28.6858062;-81.5315994
X-APPLE-STRUCTURED-LOCATION;VALUE=URI;X-ADDRESS=Stephie’s Pub & Irish Eatery 1061 W Orange Blossom Trail Apopka FL 32712 USA;X-APPLE-RADIUS=500;X-TITLE=1061 W Orange Blossom Trail\, Apopka FL\, 32712 USA:geo:-81.5315994,28.6858062
END:VEVENT
BEGIN:VEVENT
DTSTART;TZID=America/New_York:20260903T190000
DTEND;TZID=America/New_York:20260903T190000
DTSTAMP:20260419T153747
CREATED:20260105T003217Z
LAST-MODIFIED:20260105T053919Z
UID:10010437-1788462000-1788462000@epictriviafl.com
SUMMARY:Music Bingo
DESCRIPTION:
URL:https://epictriviafl.com/event/music-bingo-stephie/2026-09-03/
LOCATION:Stephie’s Pub & Irish Eatery\, 1061 W Orange Blossom Trail\, Apopka FL\, 32712 USA
GEO:28.6858062;-81.5315994
X-APPLE-STRUCTURED-LOCATION;VALUE=URI;X-ADDRESS=Stephie’s Pub & Irish Eatery 1061 W Orange Blossom Trail Apopka FL 32712 USA;X-APPLE-RADIUS=500;X-TITLE=1061 W Orange Blossom Trail\, Apopka FL\, 32712 USA:geo:-81.5315994,28.6858062
END:VEVENT
BEGIN:VEVENT
DTSTART;TZID=America/New_York:20260910T190000
DTEND;TZID=America/New_York:20260910T190000
DTSTAMP:20260419T153747
CREATED:20260105T003217Z
LAST-MODIFIED:20260105T053919Z
UID:10010438-1789066800-1789066800@epictriviafl.com
SUMMARY:Music Bingo
DESCRIPTION:
URL:https://epictriviafl.com/event/music-bingo-stephie/2026-09-10/
LOCATION:Stephie’s Pub & Irish Eatery\, 1061 W Orange Blossom Trail\, Apopka FL\, 32712 USA
GEO:28.6858062;-81.5315994
X-APPLE-STRUCTURED-LOCATION;VALUE=URI;X-ADDRESS=Stephie’s Pub & Irish Eatery 1061 W Orange Blossom Trail Apopka FL 32712 USA;X-APPLE-RADIUS=500;X-TITLE=1061 W Orange Blossom Trail\, Apopka FL\, 32712 USA:geo:-81.5315994,28.6858062
END:VEVENT
BEGIN:VEVENT
DTSTART;TZID=America/New_York:20260917T190000
DTEND;TZID=America/New_York:20260917T190000
DTSTAMP:20260419T153747
CREATED:20260105T003217Z
LAST-MODIFIED:20260105T053919Z
UID:10010439-1789671600-1789671600@epictriviafl.com
SUMMARY:Music Bingo
DESCRIPTION:
URL:https://epictriviafl.com/event/music-bingo-stephie/2026-09-17/
LOCATION:Stephie’s Pub & Irish Eatery\, 1061 W Orange Blossom Trail\, Apopka FL\, 32712 USA
GEO:28.6858062;-81.5315994
X-APPLE-STRUCTURED-LOCATION;VALUE=URI;X-ADDRESS=Stephie’s Pub & Irish Eatery 1061 W Orange Blossom Trail Apopka FL 32712 USA;X-APPLE-RADIUS=500;X-TITLE=1061 W Orange Blossom Trail\, Apopka FL\, 32712 USA:geo:-81.5315994,28.6858062
END:VEVENT
BEGIN:VEVENT
DTSTART;TZID=America/New_York:20260924T190000
DTEND;TZID=America/New_York:20260924T190000
DTSTAMP:20260419T153747
CREATED:20260105T003217Z
LAST-MODIFIED:20260105T053919Z
UID:10010440-1790276400-1790276400@epictriviafl.com
SUMMARY:Music Bingo
DESCRIPTION:
URL:https://epictriviafl.com/event/music-bingo-stephie/2026-09-24/
LOCATION:Stephie’s Pub & Irish Eatery\, 1061 W Orange Blossom Trail\, Apopka FL\, 32712 USA
GEO:28.6858062;-81.5315994
X-APPLE-STRUCTURED-LOCATION;VALUE=URI;X-ADDRESS=Stephie’s Pub & Irish Eatery 1061 W Orange Blossom Trail Apopka FL 32712 USA;X-APPLE-RADIUS=500;X-TITLE=1061 W Orange Blossom Trail\, Apopka FL\, 32712 USA:geo:-81.5315994,28.6858062
END:VEVENT
BEGIN:VEVENT
DTSTART;TZID=America/New_York:20261001T190000
DTEND;TZID=America/New_York:20261001T190000
DTSTAMP:20260419T153747
CREATED:20260105T003217Z
LAST-MODIFIED:20260105T053919Z
UID:10010441-1790881200-1790881200@epictriviafl.com
SUMMARY:Music Bingo
DESCRIPTION:
URL:https://epictriviafl.com/event/music-bingo-stephie/2026-10-01/
LOCATION:Stephie’s Pub & Irish Eatery\, 1061 W Orange Blossom Trail\, Apopka FL\, 32712 USA
GEO:28.6858062;-81.5315994
X-APPLE-STRUCTURED-LOCATION;VALUE=URI;X-ADDRESS=Stephie’s Pub & Irish Eatery 1061 W Orange Blossom Trail Apopka FL 32712 USA;X-APPLE-RADIUS=500;X-TITLE=1061 W Orange Blossom Trail\, Apopka FL\, 32712 USA:geo:-81.5315994,28.6858062
END:VEVENT
BEGIN:VEVENT
DTSTART;TZID=America/New_York:20261008T190000
DTEND;TZID=America/New_York:20261008T190000
DTSTAMP:20260419T153747
CREATED:20260105T003217Z
LAST-MODIFIED:20260105T053919Z
UID:10010442-1791486000-1791486000@epictriviafl.com
SUMMARY:Music Bingo
DESCRIPTION:
URL:https://epictriviafl.com/event/music-bingo-stephie/2026-10-08/
LOCATION:Stephie’s Pub & Irish Eatery\, 1061 W Orange Blossom Trail\, Apopka FL\, 32712 USA
GEO:28.6858062;-81.5315994
X-APPLE-STRUCTURED-LOCATION;VALUE=URI;X-ADDRESS=Stephie’s Pub & Irish Eatery 1061 W Orange Blossom Trail Apopka FL 32712 USA;X-APPLE-RADIUS=500;X-TITLE=1061 W Orange Blossom Trail\, Apopka FL\, 32712 USA:geo:-81.5315994,28.6858062
END:VEVENT
BEGIN:VEVENT
DTSTART;TZID=America/New_York:20261015T190000
DTEND;TZID=America/New_York:20261015T190000
DTSTAMP:20260419T153747
CREATED:20260105T003217Z
LAST-MODIFIED:20260105T053919Z
UID:10010443-1792090800-1792090800@epictriviafl.com
SUMMARY:Music Bingo
DESCRIPTION:
URL:https://epictriviafl.com/event/music-bingo-stephie/2026-10-15/
LOCATION:Stephie’s Pub & Irish Eatery\, 1061 W Orange Blossom Trail\, Apopka FL\, 32712 USA
GEO:28.6858062;-81.5315994
X-APPLE-STRUCTURED-LOCATION;VALUE=URI;X-ADDRESS=Stephie’s Pub & Irish Eatery 1061 W Orange Blossom Trail Apopka FL 32712 USA;X-APPLE-RADIUS=500;X-TITLE=1061 W Orange Blossom Trail\, Apopka FL\, 32712 USA:geo:-81.5315994,28.6858062
END:VEVENT
BEGIN:VEVENT
DTSTART;TZID=America/New_York:20261022T190000
DTEND;TZID=America/New_York:20261022T190000
DTSTAMP:20260419T153747
CREATED:20260105T003217Z
LAST-MODIFIED:20260105T053919Z
UID:10010444-1792695600-1792695600@epictriviafl.com
SUMMARY:Music Bingo
DESCRIPTION:
URL:https://epictriviafl.com/event/music-bingo-stephie/2026-10-22/
LOCATION:Stephie’s Pub & Irish Eatery\, 1061 W Orange Blossom Trail\, Apopka FL\, 32712 USA
GEO:28.6858062;-81.5315994
X-APPLE-STRUCTURED-LOCATION;VALUE=URI;X-ADDRESS=Stephie’s Pub & Irish Eatery 1061 W Orange Blossom Trail Apopka FL 32712 USA;X-APPLE-RADIUS=500;X-TITLE=1061 W Orange Blossom Trail\, Apopka FL\, 32712 USA:geo:-81.5315994,28.6858062
END:VEVENT
BEGIN:VEVENT
DTSTART;TZID=America/New_York:20261029T190000
DTEND;TZID=America/New_York:20261029T190000
DTSTAMP:20260419T153747
CREATED:20260105T003217Z
LAST-MODIFIED:20260105T053919Z
UID:10010445-1793300400-1793300400@epictriviafl.com
SUMMARY:Music Bingo
DESCRIPTION:
URL:https://epictriviafl.com/event/music-bingo-stephie/2026-10-29/
LOCATION:Stephie’s Pub & Irish Eatery\, 1061 W Orange Blossom Trail\, Apopka FL\, 32712 USA
GEO:28.6858062;-81.5315994
X-APPLE-STRUCTURED-LOCATION;VALUE=URI;X-ADDRESS=Stephie’s Pub & Irish Eatery 1061 W Orange Blossom Trail Apopka FL 32712 USA;X-APPLE-RADIUS=500;X-TITLE=1061 W Orange Blossom Trail\, Apopka FL\, 32712 USA:geo:-81.5315994,28.6858062
END:VEVENT
BEGIN:VEVENT
DTSTART;TZID=America/New_York:20261105T190000
DTEND;TZID=America/New_York:20261105T190000
DTSTAMP:20260419T153747
CREATED:20260105T003217Z
LAST-MODIFIED:20260105T053919Z
UID:10010446-1793905200-1793905200@epictriviafl.com
SUMMARY:Music Bingo
DESCRIPTION:
URL:https://epictriviafl.com/event/music-bingo-stephie/2026-11-05/
LOCATION:Stephie’s Pub & Irish Eatery\, 1061 W Orange Blossom Trail\, Apopka FL\, 32712 USA
GEO:28.6858062;-81.5315994
X-APPLE-STRUCTURED-LOCATION;VALUE=URI;X-ADDRESS=Stephie’s Pub & Irish Eatery 1061 W Orange Blossom Trail Apopka FL 32712 USA;X-APPLE-RADIUS=500;X-TITLE=1061 W Orange Blossom Trail\, Apopka FL\, 32712 USA:geo:-81.5315994,28.6858062
END:VEVENT
BEGIN:VEVENT
DTSTART;TZID=America/New_York:20261112T190000
DTEND;TZID=America/New_York:20261112T190000
DTSTAMP:20260419T153747
CREATED:20260105T003217Z
LAST-MODIFIED:20260105T053919Z
UID:10010447-1794510000-1794510000@epictriviafl.com
SUMMARY:Music Bingo
DESCRIPTION:
URL:https://epictriviafl.com/event/music-bingo-stephie/2026-11-12/
LOCATION:Stephie’s Pub & Irish Eatery\, 1061 W Orange Blossom Trail\, Apopka FL\, 32712 USA
GEO:28.6858062;-81.5315994
X-APPLE-STRUCTURED-LOCATION;VALUE=URI;X-ADDRESS=Stephie’s Pub & Irish Eatery 1061 W Orange Blossom Trail Apopka FL 32712 USA;X-APPLE-RADIUS=500;X-TITLE=1061 W Orange Blossom Trail\, Apopka FL\, 32712 USA:geo:-81.5315994,28.6858062
END:VEVENT
END:VCALENDAR