BEGIN:VCALENDAR
VERSION:2.0
PRODID:-//Epic Trivia - ECPv6.15.18//NONSGML v1.0//EN
CALSCALE:GREGORIAN
METHOD:PUBLISH
X-ORIGINAL-URL:https://epictriviafl.com
X-WR-CALDESC:Events for Epic Trivia
REFRESH-INTERVAL;VALUE=DURATION:PT1H
X-Robots-Tag:noindex
X-PUBLISHED-TTL:PT1H
BEGIN:VTIMEZONE
TZID:America/New_York
BEGIN:DAYLIGHT
TZOFFSETFROM:-0500
TZOFFSETTO:-0400
TZNAME:EDT
DTSTART:20270314T070000
END:DAYLIGHT
BEGIN:STANDARD
TZOFFSETFROM:-0400
TZOFFSETTO:-0500
TZNAME:EST
DTSTART:20271107T060000
END:STANDARD
BEGIN:DAYLIGHT
TZOFFSETFROM:-0500
TZOFFSETTO:-0400
TZNAME:EDT
DTSTART:20280312T070000
END:DAYLIGHT
BEGIN:STANDARD
TZOFFSETFROM:-0400
TZOFFSETTO:-0500
TZNAME:EST
DTSTART:20281105T060000
END:STANDARD
BEGIN:DAYLIGHT
TZOFFSETFROM:-0500
TZOFFSETTO:-0400
TZNAME:EDT
DTSTART:20290311T070000
END:DAYLIGHT
BEGIN:STANDARD
TZOFFSETFROM:-0400
TZOFFSETTO:-0500
TZNAME:EST
DTSTART:20291104T060000
END:STANDARD
END:VTIMEZONE
BEGIN:VEVENT
DTSTART;TZID=America/New_York:20280221T183000
DTEND;TZID=America/New_York:20280221T183000
DTSTAMP:20260420T071354
CREATED:20260105T003044Z
LAST-MODIFIED:20260105T055809Z
UID:10019094-1834770600-1834770600@epictriviafl.com
SUMMARY:Music Bingo
DESCRIPTION:
URL:https://epictriviafl.com/event/music-bingo-riverwalk/2028-02-21/
LOCATION:Riverwalk Pizzeria\, 5040 W State Road 46\, Sanford\, FL 32771 USA
GEO:28.8119424;-81.3469456
X-APPLE-STRUCTURED-LOCATION;VALUE=URI;X-ADDRESS=Riverwalk Pizzeria 5040 W State Road 46 Sanford FL 32771 USA;X-APPLE-RADIUS=500;X-TITLE=5040 W State Road 46\, Sanford\, FL 32771 USA:geo:-81.3469456,28.8119424
END:VEVENT
BEGIN:VEVENT
DTSTART;TZID=America/New_York:20280228T183000
DTEND;TZID=America/New_York:20280228T183000
DTSTAMP:20260420T071354
CREATED:20260105T003044Z
LAST-MODIFIED:20260105T055809Z
UID:10019095-1835375400-1835375400@epictriviafl.com
SUMMARY:Music Bingo
DESCRIPTION:
URL:https://epictriviafl.com/event/music-bingo-riverwalk/2028-02-28/
LOCATION:Riverwalk Pizzeria\, 5040 W State Road 46\, Sanford\, FL 32771 USA
GEO:28.8119424;-81.3469456
X-APPLE-STRUCTURED-LOCATION;VALUE=URI;X-ADDRESS=Riverwalk Pizzeria 5040 W State Road 46 Sanford FL 32771 USA;X-APPLE-RADIUS=500;X-TITLE=5040 W State Road 46\, Sanford\, FL 32771 USA:geo:-81.3469456,28.8119424
END:VEVENT
BEGIN:VEVENT
DTSTART;TZID=America/New_York:20280306T183000
DTEND;TZID=America/New_York:20280306T183000
DTSTAMP:20260420T071354
CREATED:20260105T003044Z
LAST-MODIFIED:20260105T055809Z
UID:10019096-1835980200-1835980200@epictriviafl.com
SUMMARY:Music Bingo
DESCRIPTION:
URL:https://epictriviafl.com/event/music-bingo-riverwalk/2028-03-06/
LOCATION:Riverwalk Pizzeria\, 5040 W State Road 46\, Sanford\, FL 32771 USA
GEO:28.8119424;-81.3469456
X-APPLE-STRUCTURED-LOCATION;VALUE=URI;X-ADDRESS=Riverwalk Pizzeria 5040 W State Road 46 Sanford FL 32771 USA;X-APPLE-RADIUS=500;X-TITLE=5040 W State Road 46\, Sanford\, FL 32771 USA:geo:-81.3469456,28.8119424
END:VEVENT
BEGIN:VEVENT
DTSTART;TZID=America/New_York:20280313T183000
DTEND;TZID=America/New_York:20280313T183000
DTSTAMP:20260420T071354
CREATED:20260105T003044Z
LAST-MODIFIED:20260105T055809Z
UID:10019097-1836585000-1836585000@epictriviafl.com
SUMMARY:Music Bingo
DESCRIPTION:
URL:https://epictriviafl.com/event/music-bingo-riverwalk/2028-03-13/
LOCATION:Riverwalk Pizzeria\, 5040 W State Road 46\, Sanford\, FL 32771 USA
GEO:28.8119424;-81.3469456
X-APPLE-STRUCTURED-LOCATION;VALUE=URI;X-ADDRESS=Riverwalk Pizzeria 5040 W State Road 46 Sanford FL 32771 USA;X-APPLE-RADIUS=500;X-TITLE=5040 W State Road 46\, Sanford\, FL 32771 USA:geo:-81.3469456,28.8119424
END:VEVENT
BEGIN:VEVENT
DTSTART;TZID=America/New_York:20280320T183000
DTEND;TZID=America/New_York:20280320T183000
DTSTAMP:20260420T071354
CREATED:20260105T003044Z
LAST-MODIFIED:20260105T055809Z
UID:10019098-1837189800-1837189800@epictriviafl.com
SUMMARY:Music Bingo
DESCRIPTION:
URL:https://epictriviafl.com/event/music-bingo-riverwalk/2028-03-20/
LOCATION:Riverwalk Pizzeria\, 5040 W State Road 46\, Sanford\, FL 32771 USA
GEO:28.8119424;-81.3469456
X-APPLE-STRUCTURED-LOCATION;VALUE=URI;X-ADDRESS=Riverwalk Pizzeria 5040 W State Road 46 Sanford FL 32771 USA;X-APPLE-RADIUS=500;X-TITLE=5040 W State Road 46\, Sanford\, FL 32771 USA:geo:-81.3469456,28.8119424
END:VEVENT
BEGIN:VEVENT
DTSTART;TZID=America/New_York:20280327T183000
DTEND;TZID=America/New_York:20280327T183000
DTSTAMP:20260420T071354
CREATED:20260105T003044Z
LAST-MODIFIED:20260105T055809Z
UID:10019099-1837794600-1837794600@epictriviafl.com
SUMMARY:Music Bingo
DESCRIPTION:
URL:https://epictriviafl.com/event/music-bingo-riverwalk/2028-03-27/
LOCATION:Riverwalk Pizzeria\, 5040 W State Road 46\, Sanford\, FL 32771 USA
GEO:28.8119424;-81.3469456
X-APPLE-STRUCTURED-LOCATION;VALUE=URI;X-ADDRESS=Riverwalk Pizzeria 5040 W State Road 46 Sanford FL 32771 USA;X-APPLE-RADIUS=500;X-TITLE=5040 W State Road 46\, Sanford\, FL 32771 USA:geo:-81.3469456,28.8119424
END:VEVENT
BEGIN:VEVENT
DTSTART;TZID=America/New_York:20280403T183000
DTEND;TZID=America/New_York:20280403T183000
DTSTAMP:20260420T071354
CREATED:20260105T003044Z
LAST-MODIFIED:20260105T055809Z
UID:10019100-1838399400-1838399400@epictriviafl.com
SUMMARY:Music Bingo
DESCRIPTION:
URL:https://epictriviafl.com/event/music-bingo-riverwalk/2028-04-03/
LOCATION:Riverwalk Pizzeria\, 5040 W State Road 46\, Sanford\, FL 32771 USA
GEO:28.8119424;-81.3469456
X-APPLE-STRUCTURED-LOCATION;VALUE=URI;X-ADDRESS=Riverwalk Pizzeria 5040 W State Road 46 Sanford FL 32771 USA;X-APPLE-RADIUS=500;X-TITLE=5040 W State Road 46\, Sanford\, FL 32771 USA:geo:-81.3469456,28.8119424
END:VEVENT
BEGIN:VEVENT
DTSTART;TZID=America/New_York:20280410T183000
DTEND;TZID=America/New_York:20280410T183000
DTSTAMP:20260420T071354
CREATED:20260105T003044Z
LAST-MODIFIED:20260105T055809Z
UID:10019101-1839004200-1839004200@epictriviafl.com
SUMMARY:Music Bingo
DESCRIPTION:
URL:https://epictriviafl.com/event/music-bingo-riverwalk/2028-04-10/
LOCATION:Riverwalk Pizzeria\, 5040 W State Road 46\, Sanford\, FL 32771 USA
GEO:28.8119424;-81.3469456
X-APPLE-STRUCTURED-LOCATION;VALUE=URI;X-ADDRESS=Riverwalk Pizzeria 5040 W State Road 46 Sanford FL 32771 USA;X-APPLE-RADIUS=500;X-TITLE=5040 W State Road 46\, Sanford\, FL 32771 USA:geo:-81.3469456,28.8119424
END:VEVENT
BEGIN:VEVENT
DTSTART;TZID=America/New_York:20280417T183000
DTEND;TZID=America/New_York:20280417T183000
DTSTAMP:20260420T071354
CREATED:20260105T003044Z
LAST-MODIFIED:20260105T055809Z
UID:10019102-1839609000-1839609000@epictriviafl.com
SUMMARY:Music Bingo
DESCRIPTION:
URL:https://epictriviafl.com/event/music-bingo-riverwalk/2028-04-17/
LOCATION:Riverwalk Pizzeria\, 5040 W State Road 46\, Sanford\, FL 32771 USA
GEO:28.8119424;-81.3469456
X-APPLE-STRUCTURED-LOCATION;VALUE=URI;X-ADDRESS=Riverwalk Pizzeria 5040 W State Road 46 Sanford FL 32771 USA;X-APPLE-RADIUS=500;X-TITLE=5040 W State Road 46\, Sanford\, FL 32771 USA:geo:-81.3469456,28.8119424
END:VEVENT
BEGIN:VEVENT
DTSTART;TZID=America/New_York:20280424T183000
DTEND;TZID=America/New_York:20280424T183000
DTSTAMP:20260420T071354
CREATED:20260105T003044Z
LAST-MODIFIED:20260105T055809Z
UID:10019103-1840213800-1840213800@epictriviafl.com
SUMMARY:Music Bingo
DESCRIPTION:
URL:https://epictriviafl.com/event/music-bingo-riverwalk/2028-04-24/
LOCATION:Riverwalk Pizzeria\, 5040 W State Road 46\, Sanford\, FL 32771 USA
GEO:28.8119424;-81.3469456
X-APPLE-STRUCTURED-LOCATION;VALUE=URI;X-ADDRESS=Riverwalk Pizzeria 5040 W State Road 46 Sanford FL 32771 USA;X-APPLE-RADIUS=500;X-TITLE=5040 W State Road 46\, Sanford\, FL 32771 USA:geo:-81.3469456,28.8119424
END:VEVENT
BEGIN:VEVENT
DTSTART;TZID=America/New_York:20280501T183000
DTEND;TZID=America/New_York:20280501T183000
DTSTAMP:20260420T071354
CREATED:20260105T003044Z
LAST-MODIFIED:20260105T055809Z
UID:10019104-1840818600-1840818600@epictriviafl.com
SUMMARY:Music Bingo
DESCRIPTION:
URL:https://epictriviafl.com/event/music-bingo-riverwalk/2028-05-01/
LOCATION:Riverwalk Pizzeria\, 5040 W State Road 46\, Sanford\, FL 32771 USA
GEO:28.8119424;-81.3469456
X-APPLE-STRUCTURED-LOCATION;VALUE=URI;X-ADDRESS=Riverwalk Pizzeria 5040 W State Road 46 Sanford FL 32771 USA;X-APPLE-RADIUS=500;X-TITLE=5040 W State Road 46\, Sanford\, FL 32771 USA:geo:-81.3469456,28.8119424
END:VEVENT
BEGIN:VEVENT
DTSTART;TZID=America/New_York:20280508T183000
DTEND;TZID=America/New_York:20280508T183000
DTSTAMP:20260420T071354
CREATED:20260105T003044Z
LAST-MODIFIED:20260105T055809Z
UID:10019105-1841423400-1841423400@epictriviafl.com
SUMMARY:Music Bingo
DESCRIPTION:
URL:https://epictriviafl.com/event/music-bingo-riverwalk/2028-05-08/
LOCATION:Riverwalk Pizzeria\, 5040 W State Road 46\, Sanford\, FL 32771 USA
GEO:28.8119424;-81.3469456
X-APPLE-STRUCTURED-LOCATION;VALUE=URI;X-ADDRESS=Riverwalk Pizzeria 5040 W State Road 46 Sanford FL 32771 USA;X-APPLE-RADIUS=500;X-TITLE=5040 W State Road 46\, Sanford\, FL 32771 USA:geo:-81.3469456,28.8119424
END:VEVENT
BEGIN:VEVENT
DTSTART;TZID=America/New_York:20280515T183000
DTEND;TZID=America/New_York:20280515T183000
DTSTAMP:20260420T071355
CREATED:20260105T003044Z
LAST-MODIFIED:20260105T055809Z
UID:10019106-1842028200-1842028200@epictriviafl.com
SUMMARY:Music Bingo
DESCRIPTION:
URL:https://epictriviafl.com/event/music-bingo-riverwalk/2028-05-15/
LOCATION:Riverwalk Pizzeria\, 5040 W State Road 46\, Sanford\, FL 32771 USA
GEO:28.8119424;-81.3469456
X-APPLE-STRUCTURED-LOCATION;VALUE=URI;X-ADDRESS=Riverwalk Pizzeria 5040 W State Road 46 Sanford FL 32771 USA;X-APPLE-RADIUS=500;X-TITLE=5040 W State Road 46\, Sanford\, FL 32771 USA:geo:-81.3469456,28.8119424
END:VEVENT
BEGIN:VEVENT
DTSTART;TZID=America/New_York:20280522T183000
DTEND;TZID=America/New_York:20280522T183000
DTSTAMP:20260420T071355
CREATED:20260105T003044Z
LAST-MODIFIED:20260105T055809Z
UID:10019107-1842633000-1842633000@epictriviafl.com
SUMMARY:Music Bingo
DESCRIPTION:
URL:https://epictriviafl.com/event/music-bingo-riverwalk/2028-05-22/
LOCATION:Riverwalk Pizzeria\, 5040 W State Road 46\, Sanford\, FL 32771 USA
GEO:28.8119424;-81.3469456
X-APPLE-STRUCTURED-LOCATION;VALUE=URI;X-ADDRESS=Riverwalk Pizzeria 5040 W State Road 46 Sanford FL 32771 USA;X-APPLE-RADIUS=500;X-TITLE=5040 W State Road 46\, Sanford\, FL 32771 USA:geo:-81.3469456,28.8119424
END:VEVENT
BEGIN:VEVENT
DTSTART;TZID=America/New_York:20280529T183000
DTEND;TZID=America/New_York:20280529T183000
DTSTAMP:20260420T071355
CREATED:20260105T003044Z
LAST-MODIFIED:20260105T055809Z
UID:10019108-1843237800-1843237800@epictriviafl.com
SUMMARY:Music Bingo
DESCRIPTION:
URL:https://epictriviafl.com/event/music-bingo-riverwalk/2028-05-29/
LOCATION:Riverwalk Pizzeria\, 5040 W State Road 46\, Sanford\, FL 32771 USA
GEO:28.8119424;-81.3469456
X-APPLE-STRUCTURED-LOCATION;VALUE=URI;X-ADDRESS=Riverwalk Pizzeria 5040 W State Road 46 Sanford FL 32771 USA;X-APPLE-RADIUS=500;X-TITLE=5040 W State Road 46\, Sanford\, FL 32771 USA:geo:-81.3469456,28.8119424
END:VEVENT
BEGIN:VEVENT
DTSTART;TZID=America/New_York:20280605T183000
DTEND;TZID=America/New_York:20280605T183000
DTSTAMP:20260420T071355
CREATED:20260105T003044Z
LAST-MODIFIED:20260105T055809Z
UID:10019109-1843842600-1843842600@epictriviafl.com
SUMMARY:Music Bingo
DESCRIPTION:
URL:https://epictriviafl.com/event/music-bingo-riverwalk/2028-06-05/
LOCATION:Riverwalk Pizzeria\, 5040 W State Road 46\, Sanford\, FL 32771 USA
GEO:28.8119424;-81.3469456
X-APPLE-STRUCTURED-LOCATION;VALUE=URI;X-ADDRESS=Riverwalk Pizzeria 5040 W State Road 46 Sanford FL 32771 USA;X-APPLE-RADIUS=500;X-TITLE=5040 W State Road 46\, Sanford\, FL 32771 USA:geo:-81.3469456,28.8119424
END:VEVENT
BEGIN:VEVENT
DTSTART;TZID=America/New_York:20280612T183000
DTEND;TZID=America/New_York:20280612T183000
DTSTAMP:20260420T071355
CREATED:20260105T003044Z
LAST-MODIFIED:20260105T055809Z
UID:10019110-1844447400-1844447400@epictriviafl.com
SUMMARY:Music Bingo
DESCRIPTION:
URL:https://epictriviafl.com/event/music-bingo-riverwalk/2028-06-12/
LOCATION:Riverwalk Pizzeria\, 5040 W State Road 46\, Sanford\, FL 32771 USA
GEO:28.8119424;-81.3469456
X-APPLE-STRUCTURED-LOCATION;VALUE=URI;X-ADDRESS=Riverwalk Pizzeria 5040 W State Road 46 Sanford FL 32771 USA;X-APPLE-RADIUS=500;X-TITLE=5040 W State Road 46\, Sanford\, FL 32771 USA:geo:-81.3469456,28.8119424
END:VEVENT
BEGIN:VEVENT
DTSTART;TZID=America/New_York:20280619T183000
DTEND;TZID=America/New_York:20280619T183000
DTSTAMP:20260420T071355
CREATED:20260105T003044Z
LAST-MODIFIED:20260105T055809Z
UID:10019111-1845052200-1845052200@epictriviafl.com
SUMMARY:Music Bingo
DESCRIPTION:
URL:https://epictriviafl.com/event/music-bingo-riverwalk/2028-06-19/
LOCATION:Riverwalk Pizzeria\, 5040 W State Road 46\, Sanford\, FL 32771 USA
GEO:28.8119424;-81.3469456
X-APPLE-STRUCTURED-LOCATION;VALUE=URI;X-ADDRESS=Riverwalk Pizzeria 5040 W State Road 46 Sanford FL 32771 USA;X-APPLE-RADIUS=500;X-TITLE=5040 W State Road 46\, Sanford\, FL 32771 USA:geo:-81.3469456,28.8119424
END:VEVENT
BEGIN:VEVENT
DTSTART;TZID=America/New_York:20280626T183000
DTEND;TZID=America/New_York:20280626T183000
DTSTAMP:20260420T071355
CREATED:20260105T003044Z
LAST-MODIFIED:20260105T055809Z
UID:10019112-1845657000-1845657000@epictriviafl.com
SUMMARY:Music Bingo
DESCRIPTION:
URL:https://epictriviafl.com/event/music-bingo-riverwalk/2028-06-26/
LOCATION:Riverwalk Pizzeria\, 5040 W State Road 46\, Sanford\, FL 32771 USA
GEO:28.8119424;-81.3469456
X-APPLE-STRUCTURED-LOCATION;VALUE=URI;X-ADDRESS=Riverwalk Pizzeria 5040 W State Road 46 Sanford FL 32771 USA;X-APPLE-RADIUS=500;X-TITLE=5040 W State Road 46\, Sanford\, FL 32771 USA:geo:-81.3469456,28.8119424
END:VEVENT
BEGIN:VEVENT
DTSTART;TZID=America/New_York:20280703T183000
DTEND;TZID=America/New_York:20280703T183000
DTSTAMP:20260420T071355
CREATED:20260105T003044Z
LAST-MODIFIED:20260105T055809Z
UID:10019113-1846261800-1846261800@epictriviafl.com
SUMMARY:Music Bingo
DESCRIPTION:
URL:https://epictriviafl.com/event/music-bingo-riverwalk/2028-07-03/
LOCATION:Riverwalk Pizzeria\, 5040 W State Road 46\, Sanford\, FL 32771 USA
GEO:28.8119424;-81.3469456
X-APPLE-STRUCTURED-LOCATION;VALUE=URI;X-ADDRESS=Riverwalk Pizzeria 5040 W State Road 46 Sanford FL 32771 USA;X-APPLE-RADIUS=500;X-TITLE=5040 W State Road 46\, Sanford\, FL 32771 USA:geo:-81.3469456,28.8119424
END:VEVENT
BEGIN:VEVENT
DTSTART;TZID=America/New_York:20280710T183000
DTEND;TZID=America/New_York:20280710T183000
DTSTAMP:20260420T071355
CREATED:20260105T003044Z
LAST-MODIFIED:20260105T055809Z
UID:10019114-1846866600-1846866600@epictriviafl.com
SUMMARY:Music Bingo
DESCRIPTION:
URL:https://epictriviafl.com/event/music-bingo-riverwalk/2028-07-10/
LOCATION:Riverwalk Pizzeria\, 5040 W State Road 46\, Sanford\, FL 32771 USA
GEO:28.8119424;-81.3469456
X-APPLE-STRUCTURED-LOCATION;VALUE=URI;X-ADDRESS=Riverwalk Pizzeria 5040 W State Road 46 Sanford FL 32771 USA;X-APPLE-RADIUS=500;X-TITLE=5040 W State Road 46\, Sanford\, FL 32771 USA:geo:-81.3469456,28.8119424
END:VEVENT
BEGIN:VEVENT
DTSTART;TZID=America/New_York:20280717T183000
DTEND;TZID=America/New_York:20280717T183000
DTSTAMP:20260420T071355
CREATED:20260105T003044Z
LAST-MODIFIED:20260105T055809Z
UID:10019115-1847471400-1847471400@epictriviafl.com
SUMMARY:Music Bingo
DESCRIPTION:
URL:https://epictriviafl.com/event/music-bingo-riverwalk/2028-07-17/
LOCATION:Riverwalk Pizzeria\, 5040 W State Road 46\, Sanford\, FL 32771 USA
GEO:28.8119424;-81.3469456
X-APPLE-STRUCTURED-LOCATION;VALUE=URI;X-ADDRESS=Riverwalk Pizzeria 5040 W State Road 46 Sanford FL 32771 USA;X-APPLE-RADIUS=500;X-TITLE=5040 W State Road 46\, Sanford\, FL 32771 USA:geo:-81.3469456,28.8119424
END:VEVENT
BEGIN:VEVENT
DTSTART;TZID=America/New_York:20280724T183000
DTEND;TZID=America/New_York:20280724T183000
DTSTAMP:20260420T071355
CREATED:20260105T003044Z
LAST-MODIFIED:20260105T055809Z
UID:10019116-1848076200-1848076200@epictriviafl.com
SUMMARY:Music Bingo
DESCRIPTION:
URL:https://epictriviafl.com/event/music-bingo-riverwalk/2028-07-24/
LOCATION:Riverwalk Pizzeria\, 5040 W State Road 46\, Sanford\, FL 32771 USA
GEO:28.8119424;-81.3469456
X-APPLE-STRUCTURED-LOCATION;VALUE=URI;X-ADDRESS=Riverwalk Pizzeria 5040 W State Road 46 Sanford FL 32771 USA;X-APPLE-RADIUS=500;X-TITLE=5040 W State Road 46\, Sanford\, FL 32771 USA:geo:-81.3469456,28.8119424
END:VEVENT
BEGIN:VEVENT
DTSTART;TZID=America/New_York:20280731T183000
DTEND;TZID=America/New_York:20280731T183000
DTSTAMP:20260420T071355
CREATED:20260105T003044Z
LAST-MODIFIED:20260105T055809Z
UID:10019117-1848681000-1848681000@epictriviafl.com
SUMMARY:Music Bingo
DESCRIPTION:
URL:https://epictriviafl.com/event/music-bingo-riverwalk/2028-07-31/
LOCATION:Riverwalk Pizzeria\, 5040 W State Road 46\, Sanford\, FL 32771 USA
GEO:28.8119424;-81.3469456
X-APPLE-STRUCTURED-LOCATION;VALUE=URI;X-ADDRESS=Riverwalk Pizzeria 5040 W State Road 46 Sanford FL 32771 USA;X-APPLE-RADIUS=500;X-TITLE=5040 W State Road 46\, Sanford\, FL 32771 USA:geo:-81.3469456,28.8119424
END:VEVENT
BEGIN:VEVENT
DTSTART;TZID=America/New_York:20280807T183000
DTEND;TZID=America/New_York:20280807T183000
DTSTAMP:20260420T071355
CREATED:20260105T003044Z
LAST-MODIFIED:20260105T055809Z
UID:10019118-1849285800-1849285800@epictriviafl.com
SUMMARY:Music Bingo
DESCRIPTION:
URL:https://epictriviafl.com/event/music-bingo-riverwalk/2028-08-07/
LOCATION:Riverwalk Pizzeria\, 5040 W State Road 46\, Sanford\, FL 32771 USA
GEO:28.8119424;-81.3469456
X-APPLE-STRUCTURED-LOCATION;VALUE=URI;X-ADDRESS=Riverwalk Pizzeria 5040 W State Road 46 Sanford FL 32771 USA;X-APPLE-RADIUS=500;X-TITLE=5040 W State Road 46\, Sanford\, FL 32771 USA:geo:-81.3469456,28.8119424
END:VEVENT
BEGIN:VEVENT
DTSTART;TZID=America/New_York:20280814T183000
DTEND;TZID=America/New_York:20280814T183000
DTSTAMP:20260420T071355
CREATED:20260105T003044Z
LAST-MODIFIED:20260105T055809Z
UID:10019119-1849890600-1849890600@epictriviafl.com
SUMMARY:Music Bingo
DESCRIPTION:
URL:https://epictriviafl.com/event/music-bingo-riverwalk/2028-08-14/
LOCATION:Riverwalk Pizzeria\, 5040 W State Road 46\, Sanford\, FL 32771 USA
GEO:28.8119424;-81.3469456
X-APPLE-STRUCTURED-LOCATION;VALUE=URI;X-ADDRESS=Riverwalk Pizzeria 5040 W State Road 46 Sanford FL 32771 USA;X-APPLE-RADIUS=500;X-TITLE=5040 W State Road 46\, Sanford\, FL 32771 USA:geo:-81.3469456,28.8119424
END:VEVENT
BEGIN:VEVENT
DTSTART;TZID=America/New_York:20280821T183000
DTEND;TZID=America/New_York:20280821T183000
DTSTAMP:20260420T071355
CREATED:20260105T003044Z
LAST-MODIFIED:20260105T055809Z
UID:10019120-1850495400-1850495400@epictriviafl.com
SUMMARY:Music Bingo
DESCRIPTION:
URL:https://epictriviafl.com/event/music-bingo-riverwalk/2028-08-21/
LOCATION:Riverwalk Pizzeria\, 5040 W State Road 46\, Sanford\, FL 32771 USA
GEO:28.8119424;-81.3469456
X-APPLE-STRUCTURED-LOCATION;VALUE=URI;X-ADDRESS=Riverwalk Pizzeria 5040 W State Road 46 Sanford FL 32771 USA;X-APPLE-RADIUS=500;X-TITLE=5040 W State Road 46\, Sanford\, FL 32771 USA:geo:-81.3469456,28.8119424
END:VEVENT
BEGIN:VEVENT
DTSTART;TZID=America/New_York:20280828T183000
DTEND;TZID=America/New_York:20280828T183000
DTSTAMP:20260420T071355
CREATED:20260105T003044Z
LAST-MODIFIED:20260105T055809Z
UID:10019121-1851100200-1851100200@epictriviafl.com
SUMMARY:Music Bingo
DESCRIPTION:
URL:https://epictriviafl.com/event/music-bingo-riverwalk/2028-08-28/
LOCATION:Riverwalk Pizzeria\, 5040 W State Road 46\, Sanford\, FL 32771 USA
GEO:28.8119424;-81.3469456
X-APPLE-STRUCTURED-LOCATION;VALUE=URI;X-ADDRESS=Riverwalk Pizzeria 5040 W State Road 46 Sanford FL 32771 USA;X-APPLE-RADIUS=500;X-TITLE=5040 W State Road 46\, Sanford\, FL 32771 USA:geo:-81.3469456,28.8119424
END:VEVENT
BEGIN:VEVENT
DTSTART;TZID=America/New_York:20280904T183000
DTEND;TZID=America/New_York:20280904T183000
DTSTAMP:20260420T071355
CREATED:20260105T003044Z
LAST-MODIFIED:20260105T055809Z
UID:10019122-1851705000-1851705000@epictriviafl.com
SUMMARY:Music Bingo
DESCRIPTION:
URL:https://epictriviafl.com/event/music-bingo-riverwalk/2028-09-04/
LOCATION:Riverwalk Pizzeria\, 5040 W State Road 46\, Sanford\, FL 32771 USA
GEO:28.8119424;-81.3469456
X-APPLE-STRUCTURED-LOCATION;VALUE=URI;X-ADDRESS=Riverwalk Pizzeria 5040 W State Road 46 Sanford FL 32771 USA;X-APPLE-RADIUS=500;X-TITLE=5040 W State Road 46\, Sanford\, FL 32771 USA:geo:-81.3469456,28.8119424
END:VEVENT
BEGIN:VEVENT
DTSTART;TZID=America/New_York:20280911T183000
DTEND;TZID=America/New_York:20280911T183000
DTSTAMP:20260420T071355
CREATED:20260105T003044Z
LAST-MODIFIED:20260105T055809Z
UID:10019123-1852309800-1852309800@epictriviafl.com
SUMMARY:Music Bingo
DESCRIPTION:
URL:https://epictriviafl.com/event/music-bingo-riverwalk/2028-09-11/
LOCATION:Riverwalk Pizzeria\, 5040 W State Road 46\, Sanford\, FL 32771 USA
GEO:28.8119424;-81.3469456
X-APPLE-STRUCTURED-LOCATION;VALUE=URI;X-ADDRESS=Riverwalk Pizzeria 5040 W State Road 46 Sanford FL 32771 USA;X-APPLE-RADIUS=500;X-TITLE=5040 W State Road 46\, Sanford\, FL 32771 USA:geo:-81.3469456,28.8119424
END:VEVENT
END:VCALENDAR