BEGIN:VCALENDAR
VERSION:2.0
PRODID:-//Epic Trivia - ECPv6.15.18//NONSGML v1.0//EN
CALSCALE:GREGORIAN
METHOD:PUBLISH
X-ORIGINAL-URL:https://epictriviafl.com
X-WR-CALDESC:Events for Epic Trivia
REFRESH-INTERVAL;VALUE=DURATION:PT1H
X-Robots-Tag:noindex
X-PUBLISHED-TTL:PT1H
BEGIN:VTIMEZONE
TZID:America/New_York
BEGIN:DAYLIGHT
TZOFFSETFROM:-0500
TZOFFSETTO:-0400
TZNAME:EDT
DTSTART:20260308T070000
END:DAYLIGHT
BEGIN:STANDARD
TZOFFSETFROM:-0400
TZOFFSETTO:-0500
TZNAME:EST
DTSTART:20261101T060000
END:STANDARD
BEGIN:DAYLIGHT
TZOFFSETFROM:-0500
TZOFFSETTO:-0400
TZNAME:EDT
DTSTART:20270314T070000
END:DAYLIGHT
BEGIN:STANDARD
TZOFFSETFROM:-0400
TZOFFSETTO:-0500
TZNAME:EST
DTSTART:20271107T060000
END:STANDARD
BEGIN:DAYLIGHT
TZOFFSETFROM:-0500
TZOFFSETTO:-0400
TZNAME:EDT
DTSTART:20280312T070000
END:DAYLIGHT
BEGIN:STANDARD
TZOFFSETFROM:-0400
TZOFFSETTO:-0500
TZNAME:EST
DTSTART:20281105T060000
END:STANDARD
BEGIN:DAYLIGHT
TZOFFSETFROM:-0500
TZOFFSETTO:-0400
TZNAME:EDT
DTSTART:20290311T070000
END:DAYLIGHT
BEGIN:STANDARD
TZOFFSETFROM:-0400
TZOFFSETTO:-0500
TZNAME:EST
DTSTART:20291104T060000
END:STANDARD
END:VTIMEZONE
BEGIN:VEVENT
DTSTART;TZID=America/New_York:20270906T183000
DTEND;TZID=America/New_York:20270906T183000
DTSTAMP:20260420T041416
CREATED:20260105T003044Z
LAST-MODIFIED:20260105T055809Z
UID:10019070-1820255400-1820255400@epictriviafl.com
SUMMARY:Music Bingo
DESCRIPTION:
URL:https://epictriviafl.com/event/music-bingo-riverwalk/2027-09-06/
LOCATION:Riverwalk Pizzeria\, 5040 W State Road 46\, Sanford\, FL 32771 USA
GEO:28.8119424;-81.3469456
X-APPLE-STRUCTURED-LOCATION;VALUE=URI;X-ADDRESS=Riverwalk Pizzeria 5040 W State Road 46 Sanford FL 32771 USA;X-APPLE-RADIUS=500;X-TITLE=5040 W State Road 46\, Sanford\, FL 32771 USA:geo:-81.3469456,28.8119424
END:VEVENT
BEGIN:VEVENT
DTSTART;TZID=America/New_York:20270913T183000
DTEND;TZID=America/New_York:20270913T183000
DTSTAMP:20260420T041416
CREATED:20260105T003044Z
LAST-MODIFIED:20260105T055809Z
UID:10019071-1820860200-1820860200@epictriviafl.com
SUMMARY:Music Bingo
DESCRIPTION:
URL:https://epictriviafl.com/event/music-bingo-riverwalk/2027-09-13/
LOCATION:Riverwalk Pizzeria\, 5040 W State Road 46\, Sanford\, FL 32771 USA
GEO:28.8119424;-81.3469456
X-APPLE-STRUCTURED-LOCATION;VALUE=URI;X-ADDRESS=Riverwalk Pizzeria 5040 W State Road 46 Sanford FL 32771 USA;X-APPLE-RADIUS=500;X-TITLE=5040 W State Road 46\, Sanford\, FL 32771 USA:geo:-81.3469456,28.8119424
END:VEVENT
BEGIN:VEVENT
DTSTART;TZID=America/New_York:20270920T183000
DTEND;TZID=America/New_York:20270920T183000
DTSTAMP:20260420T041416
CREATED:20260105T003044Z
LAST-MODIFIED:20260105T055809Z
UID:10019072-1821465000-1821465000@epictriviafl.com
SUMMARY:Music Bingo
DESCRIPTION:
URL:https://epictriviafl.com/event/music-bingo-riverwalk/2027-09-20/
LOCATION:Riverwalk Pizzeria\, 5040 W State Road 46\, Sanford\, FL 32771 USA
GEO:28.8119424;-81.3469456
X-APPLE-STRUCTURED-LOCATION;VALUE=URI;X-ADDRESS=Riverwalk Pizzeria 5040 W State Road 46 Sanford FL 32771 USA;X-APPLE-RADIUS=500;X-TITLE=5040 W State Road 46\, Sanford\, FL 32771 USA:geo:-81.3469456,28.8119424
END:VEVENT
BEGIN:VEVENT
DTSTART;TZID=America/New_York:20270927T183000
DTEND;TZID=America/New_York:20270927T183000
DTSTAMP:20260420T041416
CREATED:20260105T003044Z
LAST-MODIFIED:20260105T055809Z
UID:10019073-1822069800-1822069800@epictriviafl.com
SUMMARY:Music Bingo
DESCRIPTION:
URL:https://epictriviafl.com/event/music-bingo-riverwalk/2027-09-27/
LOCATION:Riverwalk Pizzeria\, 5040 W State Road 46\, Sanford\, FL 32771 USA
GEO:28.8119424;-81.3469456
X-APPLE-STRUCTURED-LOCATION;VALUE=URI;X-ADDRESS=Riverwalk Pizzeria 5040 W State Road 46 Sanford FL 32771 USA;X-APPLE-RADIUS=500;X-TITLE=5040 W State Road 46\, Sanford\, FL 32771 USA:geo:-81.3469456,28.8119424
END:VEVENT
BEGIN:VEVENT
DTSTART;TZID=America/New_York:20271004T183000
DTEND;TZID=America/New_York:20271004T183000
DTSTAMP:20260420T041416
CREATED:20260105T003044Z
LAST-MODIFIED:20260105T055809Z
UID:10019074-1822674600-1822674600@epictriviafl.com
SUMMARY:Music Bingo
DESCRIPTION:
URL:https://epictriviafl.com/event/music-bingo-riverwalk/2027-10-04/
LOCATION:Riverwalk Pizzeria\, 5040 W State Road 46\, Sanford\, FL 32771 USA
GEO:28.8119424;-81.3469456
X-APPLE-STRUCTURED-LOCATION;VALUE=URI;X-ADDRESS=Riverwalk Pizzeria 5040 W State Road 46 Sanford FL 32771 USA;X-APPLE-RADIUS=500;X-TITLE=5040 W State Road 46\, Sanford\, FL 32771 USA:geo:-81.3469456,28.8119424
END:VEVENT
BEGIN:VEVENT
DTSTART;TZID=America/New_York:20271011T183000
DTEND;TZID=America/New_York:20271011T183000
DTSTAMP:20260420T041416
CREATED:20260105T003044Z
LAST-MODIFIED:20260105T055809Z
UID:10019075-1823279400-1823279400@epictriviafl.com
SUMMARY:Music Bingo
DESCRIPTION:
URL:https://epictriviafl.com/event/music-bingo-riverwalk/2027-10-11/
LOCATION:Riverwalk Pizzeria\, 5040 W State Road 46\, Sanford\, FL 32771 USA
GEO:28.8119424;-81.3469456
X-APPLE-STRUCTURED-LOCATION;VALUE=URI;X-ADDRESS=Riverwalk Pizzeria 5040 W State Road 46 Sanford FL 32771 USA;X-APPLE-RADIUS=500;X-TITLE=5040 W State Road 46\, Sanford\, FL 32771 USA:geo:-81.3469456,28.8119424
END:VEVENT
BEGIN:VEVENT
DTSTART;TZID=America/New_York:20271018T183000
DTEND;TZID=America/New_York:20271018T183000
DTSTAMP:20260420T041416
CREATED:20260105T003044Z
LAST-MODIFIED:20260105T055809Z
UID:10019076-1823884200-1823884200@epictriviafl.com
SUMMARY:Music Bingo
DESCRIPTION:
URL:https://epictriviafl.com/event/music-bingo-riverwalk/2027-10-18/
LOCATION:Riverwalk Pizzeria\, 5040 W State Road 46\, Sanford\, FL 32771 USA
GEO:28.8119424;-81.3469456
X-APPLE-STRUCTURED-LOCATION;VALUE=URI;X-ADDRESS=Riverwalk Pizzeria 5040 W State Road 46 Sanford FL 32771 USA;X-APPLE-RADIUS=500;X-TITLE=5040 W State Road 46\, Sanford\, FL 32771 USA:geo:-81.3469456,28.8119424
END:VEVENT
BEGIN:VEVENT
DTSTART;TZID=America/New_York:20271025T183000
DTEND;TZID=America/New_York:20271025T183000
DTSTAMP:20260420T041416
CREATED:20260105T003044Z
LAST-MODIFIED:20260105T055809Z
UID:10019077-1824489000-1824489000@epictriviafl.com
SUMMARY:Music Bingo
DESCRIPTION:
URL:https://epictriviafl.com/event/music-bingo-riverwalk/2027-10-25/
LOCATION:Riverwalk Pizzeria\, 5040 W State Road 46\, Sanford\, FL 32771 USA
GEO:28.8119424;-81.3469456
X-APPLE-STRUCTURED-LOCATION;VALUE=URI;X-ADDRESS=Riverwalk Pizzeria 5040 W State Road 46 Sanford FL 32771 USA;X-APPLE-RADIUS=500;X-TITLE=5040 W State Road 46\, Sanford\, FL 32771 USA:geo:-81.3469456,28.8119424
END:VEVENT
BEGIN:VEVENT
DTSTART;TZID=America/New_York:20271101T183000
DTEND;TZID=America/New_York:20271101T183000
DTSTAMP:20260420T041416
CREATED:20260105T003044Z
LAST-MODIFIED:20260105T055809Z
UID:10019078-1825093800-1825093800@epictriviafl.com
SUMMARY:Music Bingo
DESCRIPTION:
URL:https://epictriviafl.com/event/music-bingo-riverwalk/2027-11-01/
LOCATION:Riverwalk Pizzeria\, 5040 W State Road 46\, Sanford\, FL 32771 USA
GEO:28.8119424;-81.3469456
X-APPLE-STRUCTURED-LOCATION;VALUE=URI;X-ADDRESS=Riverwalk Pizzeria 5040 W State Road 46 Sanford FL 32771 USA;X-APPLE-RADIUS=500;X-TITLE=5040 W State Road 46\, Sanford\, FL 32771 USA:geo:-81.3469456,28.8119424
END:VEVENT
BEGIN:VEVENT
DTSTART;TZID=America/New_York:20271108T183000
DTEND;TZID=America/New_York:20271108T183000
DTSTAMP:20260420T041416
CREATED:20260105T003044Z
LAST-MODIFIED:20260105T055809Z
UID:10019079-1825698600-1825698600@epictriviafl.com
SUMMARY:Music Bingo
DESCRIPTION:
URL:https://epictriviafl.com/event/music-bingo-riverwalk/2027-11-08/
LOCATION:Riverwalk Pizzeria\, 5040 W State Road 46\, Sanford\, FL 32771 USA
GEO:28.8119424;-81.3469456
X-APPLE-STRUCTURED-LOCATION;VALUE=URI;X-ADDRESS=Riverwalk Pizzeria 5040 W State Road 46 Sanford FL 32771 USA;X-APPLE-RADIUS=500;X-TITLE=5040 W State Road 46\, Sanford\, FL 32771 USA:geo:-81.3469456,28.8119424
END:VEVENT
BEGIN:VEVENT
DTSTART;TZID=America/New_York:20271115T183000
DTEND;TZID=America/New_York:20271115T183000
DTSTAMP:20260420T041416
CREATED:20260105T003044Z
LAST-MODIFIED:20260105T055809Z
UID:10019080-1826303400-1826303400@epictriviafl.com
SUMMARY:Music Bingo
DESCRIPTION:
URL:https://epictriviafl.com/event/music-bingo-riverwalk/2027-11-15/
LOCATION:Riverwalk Pizzeria\, 5040 W State Road 46\, Sanford\, FL 32771 USA
GEO:28.8119424;-81.3469456
X-APPLE-STRUCTURED-LOCATION;VALUE=URI;X-ADDRESS=Riverwalk Pizzeria 5040 W State Road 46 Sanford FL 32771 USA;X-APPLE-RADIUS=500;X-TITLE=5040 W State Road 46\, Sanford\, FL 32771 USA:geo:-81.3469456,28.8119424
END:VEVENT
BEGIN:VEVENT
DTSTART;TZID=America/New_York:20271122T183000
DTEND;TZID=America/New_York:20271122T183000
DTSTAMP:20260420T041416
CREATED:20260105T003044Z
LAST-MODIFIED:20260105T055809Z
UID:10019081-1826908200-1826908200@epictriviafl.com
SUMMARY:Music Bingo
DESCRIPTION:
URL:https://epictriviafl.com/event/music-bingo-riverwalk/2027-11-22/
LOCATION:Riverwalk Pizzeria\, 5040 W State Road 46\, Sanford\, FL 32771 USA
GEO:28.8119424;-81.3469456
X-APPLE-STRUCTURED-LOCATION;VALUE=URI;X-ADDRESS=Riverwalk Pizzeria 5040 W State Road 46 Sanford FL 32771 USA;X-APPLE-RADIUS=500;X-TITLE=5040 W State Road 46\, Sanford\, FL 32771 USA:geo:-81.3469456,28.8119424
END:VEVENT
BEGIN:VEVENT
DTSTART;TZID=America/New_York:20271129T183000
DTEND;TZID=America/New_York:20271129T183000
DTSTAMP:20260420T041416
CREATED:20260105T003044Z
LAST-MODIFIED:20260105T055809Z
UID:10019082-1827513000-1827513000@epictriviafl.com
SUMMARY:Music Bingo
DESCRIPTION:
URL:https://epictriviafl.com/event/music-bingo-riverwalk/2027-11-29/
LOCATION:Riverwalk Pizzeria\, 5040 W State Road 46\, Sanford\, FL 32771 USA
GEO:28.8119424;-81.3469456
X-APPLE-STRUCTURED-LOCATION;VALUE=URI;X-ADDRESS=Riverwalk Pizzeria 5040 W State Road 46 Sanford FL 32771 USA;X-APPLE-RADIUS=500;X-TITLE=5040 W State Road 46\, Sanford\, FL 32771 USA:geo:-81.3469456,28.8119424
END:VEVENT
BEGIN:VEVENT
DTSTART;TZID=America/New_York:20271206T183000
DTEND;TZID=America/New_York:20271206T183000
DTSTAMP:20260420T041416
CREATED:20260105T003044Z
LAST-MODIFIED:20260105T055809Z
UID:10019083-1828117800-1828117800@epictriviafl.com
SUMMARY:Music Bingo
DESCRIPTION:
URL:https://epictriviafl.com/event/music-bingo-riverwalk/2027-12-06/
LOCATION:Riverwalk Pizzeria\, 5040 W State Road 46\, Sanford\, FL 32771 USA
GEO:28.8119424;-81.3469456
X-APPLE-STRUCTURED-LOCATION;VALUE=URI;X-ADDRESS=Riverwalk Pizzeria 5040 W State Road 46 Sanford FL 32771 USA;X-APPLE-RADIUS=500;X-TITLE=5040 W State Road 46\, Sanford\, FL 32771 USA:geo:-81.3469456,28.8119424
END:VEVENT
BEGIN:VEVENT
DTSTART;TZID=America/New_York:20271213T183000
DTEND;TZID=America/New_York:20271213T183000
DTSTAMP:20260420T041416
CREATED:20260105T003044Z
LAST-MODIFIED:20260105T055809Z
UID:10019084-1828722600-1828722600@epictriviafl.com
SUMMARY:Music Bingo
DESCRIPTION:
URL:https://epictriviafl.com/event/music-bingo-riverwalk/2027-12-13/
LOCATION:Riverwalk Pizzeria\, 5040 W State Road 46\, Sanford\, FL 32771 USA
GEO:28.8119424;-81.3469456
X-APPLE-STRUCTURED-LOCATION;VALUE=URI;X-ADDRESS=Riverwalk Pizzeria 5040 W State Road 46 Sanford FL 32771 USA;X-APPLE-RADIUS=500;X-TITLE=5040 W State Road 46\, Sanford\, FL 32771 USA:geo:-81.3469456,28.8119424
END:VEVENT
BEGIN:VEVENT
DTSTART;TZID=America/New_York:20271220T183000
DTEND;TZID=America/New_York:20271220T183000
DTSTAMP:20260420T041416
CREATED:20260105T003044Z
LAST-MODIFIED:20260105T055809Z
UID:10019085-1829327400-1829327400@epictriviafl.com
SUMMARY:Music Bingo
DESCRIPTION:
URL:https://epictriviafl.com/event/music-bingo-riverwalk/2027-12-20/
LOCATION:Riverwalk Pizzeria\, 5040 W State Road 46\, Sanford\, FL 32771 USA
GEO:28.8119424;-81.3469456
X-APPLE-STRUCTURED-LOCATION;VALUE=URI;X-ADDRESS=Riverwalk Pizzeria 5040 W State Road 46 Sanford FL 32771 USA;X-APPLE-RADIUS=500;X-TITLE=5040 W State Road 46\, Sanford\, FL 32771 USA:geo:-81.3469456,28.8119424
END:VEVENT
BEGIN:VEVENT
DTSTART;TZID=America/New_York:20271227T183000
DTEND;TZID=America/New_York:20271227T183000
DTSTAMP:20260420T041416
CREATED:20260105T003044Z
LAST-MODIFIED:20260105T055809Z
UID:10019086-1829932200-1829932200@epictriviafl.com
SUMMARY:Music Bingo
DESCRIPTION:
URL:https://epictriviafl.com/event/music-bingo-riverwalk/2027-12-27/
LOCATION:Riverwalk Pizzeria\, 5040 W State Road 46\, Sanford\, FL 32771 USA
GEO:28.8119424;-81.3469456
X-APPLE-STRUCTURED-LOCATION;VALUE=URI;X-ADDRESS=Riverwalk Pizzeria 5040 W State Road 46 Sanford FL 32771 USA;X-APPLE-RADIUS=500;X-TITLE=5040 W State Road 46\, Sanford\, FL 32771 USA:geo:-81.3469456,28.8119424
END:VEVENT
BEGIN:VEVENT
DTSTART;TZID=America/New_York:20280103T183000
DTEND;TZID=America/New_York:20280103T183000
DTSTAMP:20260420T041416
CREATED:20260105T003044Z
LAST-MODIFIED:20260105T055809Z
UID:10019087-1830537000-1830537000@epictriviafl.com
SUMMARY:Music Bingo
DESCRIPTION:
URL:https://epictriviafl.com/event/music-bingo-riverwalk/2028-01-03/
LOCATION:Riverwalk Pizzeria\, 5040 W State Road 46\, Sanford\, FL 32771 USA
GEO:28.8119424;-81.3469456
X-APPLE-STRUCTURED-LOCATION;VALUE=URI;X-ADDRESS=Riverwalk Pizzeria 5040 W State Road 46 Sanford FL 32771 USA;X-APPLE-RADIUS=500;X-TITLE=5040 W State Road 46\, Sanford\, FL 32771 USA:geo:-81.3469456,28.8119424
END:VEVENT
BEGIN:VEVENT
DTSTART;TZID=America/New_York:20280110T183000
DTEND;TZID=America/New_York:20280110T183000
DTSTAMP:20260420T041416
CREATED:20260105T003044Z
LAST-MODIFIED:20260105T055809Z
UID:10019088-1831141800-1831141800@epictriviafl.com
SUMMARY:Music Bingo
DESCRIPTION:
URL:https://epictriviafl.com/event/music-bingo-riverwalk/2028-01-10/
LOCATION:Riverwalk Pizzeria\, 5040 W State Road 46\, Sanford\, FL 32771 USA
GEO:28.8119424;-81.3469456
X-APPLE-STRUCTURED-LOCATION;VALUE=URI;X-ADDRESS=Riverwalk Pizzeria 5040 W State Road 46 Sanford FL 32771 USA;X-APPLE-RADIUS=500;X-TITLE=5040 W State Road 46\, Sanford\, FL 32771 USA:geo:-81.3469456,28.8119424
END:VEVENT
BEGIN:VEVENT
DTSTART;TZID=America/New_York:20280117T183000
DTEND;TZID=America/New_York:20280117T183000
DTSTAMP:20260420T041416
CREATED:20260105T003044Z
LAST-MODIFIED:20260105T055809Z
UID:10019089-1831746600-1831746600@epictriviafl.com
SUMMARY:Music Bingo
DESCRIPTION:
URL:https://epictriviafl.com/event/music-bingo-riverwalk/2028-01-17/
LOCATION:Riverwalk Pizzeria\, 5040 W State Road 46\, Sanford\, FL 32771 USA
GEO:28.8119424;-81.3469456
X-APPLE-STRUCTURED-LOCATION;VALUE=URI;X-ADDRESS=Riverwalk Pizzeria 5040 W State Road 46 Sanford FL 32771 USA;X-APPLE-RADIUS=500;X-TITLE=5040 W State Road 46\, Sanford\, FL 32771 USA:geo:-81.3469456,28.8119424
END:VEVENT
BEGIN:VEVENT
DTSTART;TZID=America/New_York:20280124T183000
DTEND;TZID=America/New_York:20280124T183000
DTSTAMP:20260420T041416
CREATED:20260105T003044Z
LAST-MODIFIED:20260105T055809Z
UID:10019090-1832351400-1832351400@epictriviafl.com
SUMMARY:Music Bingo
DESCRIPTION:
URL:https://epictriviafl.com/event/music-bingo-riverwalk/2028-01-24/
LOCATION:Riverwalk Pizzeria\, 5040 W State Road 46\, Sanford\, FL 32771 USA
GEO:28.8119424;-81.3469456
X-APPLE-STRUCTURED-LOCATION;VALUE=URI;X-ADDRESS=Riverwalk Pizzeria 5040 W State Road 46 Sanford FL 32771 USA;X-APPLE-RADIUS=500;X-TITLE=5040 W State Road 46\, Sanford\, FL 32771 USA:geo:-81.3469456,28.8119424
END:VEVENT
BEGIN:VEVENT
DTSTART;TZID=America/New_York:20280131T183000
DTEND;TZID=America/New_York:20280131T183000
DTSTAMP:20260420T041416
CREATED:20260105T003044Z
LAST-MODIFIED:20260105T055809Z
UID:10019091-1832956200-1832956200@epictriviafl.com
SUMMARY:Music Bingo
DESCRIPTION:
URL:https://epictriviafl.com/event/music-bingo-riverwalk/2028-01-31/
LOCATION:Riverwalk Pizzeria\, 5040 W State Road 46\, Sanford\, FL 32771 USA
GEO:28.8119424;-81.3469456
X-APPLE-STRUCTURED-LOCATION;VALUE=URI;X-ADDRESS=Riverwalk Pizzeria 5040 W State Road 46 Sanford FL 32771 USA;X-APPLE-RADIUS=500;X-TITLE=5040 W State Road 46\, Sanford\, FL 32771 USA:geo:-81.3469456,28.8119424
END:VEVENT
BEGIN:VEVENT
DTSTART;TZID=America/New_York:20280207T183000
DTEND;TZID=America/New_York:20280207T183000
DTSTAMP:20260420T041416
CREATED:20260105T003044Z
LAST-MODIFIED:20260105T055809Z
UID:10019092-1833561000-1833561000@epictriviafl.com
SUMMARY:Music Bingo
DESCRIPTION:
URL:https://epictriviafl.com/event/music-bingo-riverwalk/2028-02-07/
LOCATION:Riverwalk Pizzeria\, 5040 W State Road 46\, Sanford\, FL 32771 USA
GEO:28.8119424;-81.3469456
X-APPLE-STRUCTURED-LOCATION;VALUE=URI;X-ADDRESS=Riverwalk Pizzeria 5040 W State Road 46 Sanford FL 32771 USA;X-APPLE-RADIUS=500;X-TITLE=5040 W State Road 46\, Sanford\, FL 32771 USA:geo:-81.3469456,28.8119424
END:VEVENT
BEGIN:VEVENT
DTSTART;TZID=America/New_York:20280214T183000
DTEND;TZID=America/New_York:20280214T183000
DTSTAMP:20260420T041416
CREATED:20260105T003044Z
LAST-MODIFIED:20260105T055809Z
UID:10019093-1834165800-1834165800@epictriviafl.com
SUMMARY:Music Bingo
DESCRIPTION:
URL:https://epictriviafl.com/event/music-bingo-riverwalk/2028-02-14/
LOCATION:Riverwalk Pizzeria\, 5040 W State Road 46\, Sanford\, FL 32771 USA
GEO:28.8119424;-81.3469456
X-APPLE-STRUCTURED-LOCATION;VALUE=URI;X-ADDRESS=Riverwalk Pizzeria 5040 W State Road 46 Sanford FL 32771 USA;X-APPLE-RADIUS=500;X-TITLE=5040 W State Road 46\, Sanford\, FL 32771 USA:geo:-81.3469456,28.8119424
END:VEVENT
BEGIN:VEVENT
DTSTART;TZID=America/New_York:20280221T183000
DTEND;TZID=America/New_York:20280221T183000
DTSTAMP:20260420T041416
CREATED:20260105T003044Z
LAST-MODIFIED:20260105T055809Z
UID:10019094-1834770600-1834770600@epictriviafl.com
SUMMARY:Music Bingo
DESCRIPTION:
URL:https://epictriviafl.com/event/music-bingo-riverwalk/2028-02-21/
LOCATION:Riverwalk Pizzeria\, 5040 W State Road 46\, Sanford\, FL 32771 USA
GEO:28.8119424;-81.3469456
X-APPLE-STRUCTURED-LOCATION;VALUE=URI;X-ADDRESS=Riverwalk Pizzeria 5040 W State Road 46 Sanford FL 32771 USA;X-APPLE-RADIUS=500;X-TITLE=5040 W State Road 46\, Sanford\, FL 32771 USA:geo:-81.3469456,28.8119424
END:VEVENT
BEGIN:VEVENT
DTSTART;TZID=America/New_York:20280228T183000
DTEND;TZID=America/New_York:20280228T183000
DTSTAMP:20260420T041416
CREATED:20260105T003044Z
LAST-MODIFIED:20260105T055809Z
UID:10019095-1835375400-1835375400@epictriviafl.com
SUMMARY:Music Bingo
DESCRIPTION:
URL:https://epictriviafl.com/event/music-bingo-riverwalk/2028-02-28/
LOCATION:Riverwalk Pizzeria\, 5040 W State Road 46\, Sanford\, FL 32771 USA
GEO:28.8119424;-81.3469456
X-APPLE-STRUCTURED-LOCATION;VALUE=URI;X-ADDRESS=Riverwalk Pizzeria 5040 W State Road 46 Sanford FL 32771 USA;X-APPLE-RADIUS=500;X-TITLE=5040 W State Road 46\, Sanford\, FL 32771 USA:geo:-81.3469456,28.8119424
END:VEVENT
BEGIN:VEVENT
DTSTART;TZID=America/New_York:20280306T183000
DTEND;TZID=America/New_York:20280306T183000
DTSTAMP:20260420T041416
CREATED:20260105T003044Z
LAST-MODIFIED:20260105T055809Z
UID:10019096-1835980200-1835980200@epictriviafl.com
SUMMARY:Music Bingo
DESCRIPTION:
URL:https://epictriviafl.com/event/music-bingo-riverwalk/2028-03-06/
LOCATION:Riverwalk Pizzeria\, 5040 W State Road 46\, Sanford\, FL 32771 USA
GEO:28.8119424;-81.3469456
X-APPLE-STRUCTURED-LOCATION;VALUE=URI;X-ADDRESS=Riverwalk Pizzeria 5040 W State Road 46 Sanford FL 32771 USA;X-APPLE-RADIUS=500;X-TITLE=5040 W State Road 46\, Sanford\, FL 32771 USA:geo:-81.3469456,28.8119424
END:VEVENT
BEGIN:VEVENT
DTSTART;TZID=America/New_York:20280313T183000
DTEND;TZID=America/New_York:20280313T183000
DTSTAMP:20260420T041416
CREATED:20260105T003044Z
LAST-MODIFIED:20260105T055809Z
UID:10019097-1836585000-1836585000@epictriviafl.com
SUMMARY:Music Bingo
DESCRIPTION:
URL:https://epictriviafl.com/event/music-bingo-riverwalk/2028-03-13/
LOCATION:Riverwalk Pizzeria\, 5040 W State Road 46\, Sanford\, FL 32771 USA
GEO:28.8119424;-81.3469456
X-APPLE-STRUCTURED-LOCATION;VALUE=URI;X-ADDRESS=Riverwalk Pizzeria 5040 W State Road 46 Sanford FL 32771 USA;X-APPLE-RADIUS=500;X-TITLE=5040 W State Road 46\, Sanford\, FL 32771 USA:geo:-81.3469456,28.8119424
END:VEVENT
BEGIN:VEVENT
DTSTART;TZID=America/New_York:20280320T183000
DTEND;TZID=America/New_York:20280320T183000
DTSTAMP:20260420T041416
CREATED:20260105T003044Z
LAST-MODIFIED:20260105T055809Z
UID:10019098-1837189800-1837189800@epictriviafl.com
SUMMARY:Music Bingo
DESCRIPTION:
URL:https://epictriviafl.com/event/music-bingo-riverwalk/2028-03-20/
LOCATION:Riverwalk Pizzeria\, 5040 W State Road 46\, Sanford\, FL 32771 USA
GEO:28.8119424;-81.3469456
X-APPLE-STRUCTURED-LOCATION;VALUE=URI;X-ADDRESS=Riverwalk Pizzeria 5040 W State Road 46 Sanford FL 32771 USA;X-APPLE-RADIUS=500;X-TITLE=5040 W State Road 46\, Sanford\, FL 32771 USA:geo:-81.3469456,28.8119424
END:VEVENT
BEGIN:VEVENT
DTSTART;TZID=America/New_York:20280327T183000
DTEND;TZID=America/New_York:20280327T183000
DTSTAMP:20260420T041416
CREATED:20260105T003044Z
LAST-MODIFIED:20260105T055809Z
UID:10019099-1837794600-1837794600@epictriviafl.com
SUMMARY:Music Bingo
DESCRIPTION:
URL:https://epictriviafl.com/event/music-bingo-riverwalk/2028-03-27/
LOCATION:Riverwalk Pizzeria\, 5040 W State Road 46\, Sanford\, FL 32771 USA
GEO:28.8119424;-81.3469456
X-APPLE-STRUCTURED-LOCATION;VALUE=URI;X-ADDRESS=Riverwalk Pizzeria 5040 W State Road 46 Sanford FL 32771 USA;X-APPLE-RADIUS=500;X-TITLE=5040 W State Road 46\, Sanford\, FL 32771 USA:geo:-81.3469456,28.8119424
END:VEVENT
END:VCALENDAR