BEGIN:VCALENDAR
VERSION:2.0
PRODID:-//Epic Trivia - ECPv6.15.18//NONSGML v1.0//EN
CALSCALE:GREGORIAN
METHOD:PUBLISH
X-ORIGINAL-URL:https://epictriviafl.com
X-WR-CALDESC:Events for Epic Trivia
REFRESH-INTERVAL;VALUE=DURATION:PT1H
X-Robots-Tag:noindex
X-PUBLISHED-TTL:PT1H
BEGIN:VTIMEZONE
TZID:America/New_York
BEGIN:DAYLIGHT
TZOFFSETFROM:-0500
TZOFFSETTO:-0400
TZNAME:EDT
DTSTART:20250309T070000
END:DAYLIGHT
BEGIN:STANDARD
TZOFFSETFROM:-0400
TZOFFSETTO:-0500
TZNAME:EST
DTSTART:20251102T060000
END:STANDARD
BEGIN:DAYLIGHT
TZOFFSETFROM:-0500
TZOFFSETTO:-0400
TZNAME:EDT
DTSTART:20260308T070000
END:DAYLIGHT
BEGIN:STANDARD
TZOFFSETFROM:-0400
TZOFFSETTO:-0500
TZNAME:EST
DTSTART:20261101T060000
END:STANDARD
BEGIN:DAYLIGHT
TZOFFSETFROM:-0500
TZOFFSETTO:-0400
TZNAME:EDT
DTSTART:20270314T070000
END:DAYLIGHT
BEGIN:STANDARD
TZOFFSETFROM:-0400
TZOFFSETTO:-0500
TZNAME:EST
DTSTART:20271107T060000
END:STANDARD
BEGIN:DAYLIGHT
TZOFFSETFROM:-0500
TZOFFSETTO:-0400
TZNAME:EDT
DTSTART:20280312T070000
END:DAYLIGHT
BEGIN:STANDARD
TZOFFSETFROM:-0400
TZOFFSETTO:-0500
TZNAME:EST
DTSTART:20281105T060000
END:STANDARD
END:VTIMEZONE
BEGIN:VEVENT
DTSTART;TZID=America/New_York:20261005T183000
DTEND;TZID=America/New_York:20261005T183000
DTSTAMP:20260419T221228
CREATED:20260105T003044Z
LAST-MODIFIED:20260105T055809Z
UID:10019022-1791225000-1791225000@epictriviafl.com
SUMMARY:Music Bingo
DESCRIPTION:
URL:https://epictriviafl.com/event/music-bingo-riverwalk/2026-10-05/
LOCATION:Riverwalk Pizzeria\, 5040 W State Road 46\, Sanford\, FL 32771 USA
GEO:28.8119424;-81.3469456
X-APPLE-STRUCTURED-LOCATION;VALUE=URI;X-ADDRESS=Riverwalk Pizzeria 5040 W State Road 46 Sanford FL 32771 USA;X-APPLE-RADIUS=500;X-TITLE=5040 W State Road 46\, Sanford\, FL 32771 USA:geo:-81.3469456,28.8119424
END:VEVENT
BEGIN:VEVENT
DTSTART;TZID=America/New_York:20261012T183000
DTEND;TZID=America/New_York:20261012T183000
DTSTAMP:20260419T221228
CREATED:20260105T003044Z
LAST-MODIFIED:20260105T055809Z
UID:10019023-1791829800-1791829800@epictriviafl.com
SUMMARY:Music Bingo
DESCRIPTION:
URL:https://epictriviafl.com/event/music-bingo-riverwalk/2026-10-12/
LOCATION:Riverwalk Pizzeria\, 5040 W State Road 46\, Sanford\, FL 32771 USA
GEO:28.8119424;-81.3469456
X-APPLE-STRUCTURED-LOCATION;VALUE=URI;X-ADDRESS=Riverwalk Pizzeria 5040 W State Road 46 Sanford FL 32771 USA;X-APPLE-RADIUS=500;X-TITLE=5040 W State Road 46\, Sanford\, FL 32771 USA:geo:-81.3469456,28.8119424
END:VEVENT
BEGIN:VEVENT
DTSTART;TZID=America/New_York:20261019T183000
DTEND;TZID=America/New_York:20261019T183000
DTSTAMP:20260419T221228
CREATED:20260105T003044Z
LAST-MODIFIED:20260105T055809Z
UID:10019024-1792434600-1792434600@epictriviafl.com
SUMMARY:Music Bingo
DESCRIPTION:
URL:https://epictriviafl.com/event/music-bingo-riverwalk/2026-10-19/
LOCATION:Riverwalk Pizzeria\, 5040 W State Road 46\, Sanford\, FL 32771 USA
GEO:28.8119424;-81.3469456
X-APPLE-STRUCTURED-LOCATION;VALUE=URI;X-ADDRESS=Riverwalk Pizzeria 5040 W State Road 46 Sanford FL 32771 USA;X-APPLE-RADIUS=500;X-TITLE=5040 W State Road 46\, Sanford\, FL 32771 USA:geo:-81.3469456,28.8119424
END:VEVENT
BEGIN:VEVENT
DTSTART;TZID=America/New_York:20261026T183000
DTEND;TZID=America/New_York:20261026T183000
DTSTAMP:20260419T221228
CREATED:20260105T003044Z
LAST-MODIFIED:20260105T055809Z
UID:10019025-1793039400-1793039400@epictriviafl.com
SUMMARY:Music Bingo
DESCRIPTION:
URL:https://epictriviafl.com/event/music-bingo-riverwalk/2026-10-26/
LOCATION:Riverwalk Pizzeria\, 5040 W State Road 46\, Sanford\, FL 32771 USA
GEO:28.8119424;-81.3469456
X-APPLE-STRUCTURED-LOCATION;VALUE=URI;X-ADDRESS=Riverwalk Pizzeria 5040 W State Road 46 Sanford FL 32771 USA;X-APPLE-RADIUS=500;X-TITLE=5040 W State Road 46\, Sanford\, FL 32771 USA:geo:-81.3469456,28.8119424
END:VEVENT
BEGIN:VEVENT
DTSTART;TZID=America/New_York:20261102T183000
DTEND;TZID=America/New_York:20261102T183000
DTSTAMP:20260419T221228
CREATED:20260105T003044Z
LAST-MODIFIED:20260105T055809Z
UID:10019026-1793644200-1793644200@epictriviafl.com
SUMMARY:Music Bingo
DESCRIPTION:
URL:https://epictriviafl.com/event/music-bingo-riverwalk/2026-11-02/
LOCATION:Riverwalk Pizzeria\, 5040 W State Road 46\, Sanford\, FL 32771 USA
GEO:28.8119424;-81.3469456
X-APPLE-STRUCTURED-LOCATION;VALUE=URI;X-ADDRESS=Riverwalk Pizzeria 5040 W State Road 46 Sanford FL 32771 USA;X-APPLE-RADIUS=500;X-TITLE=5040 W State Road 46\, Sanford\, FL 32771 USA:geo:-81.3469456,28.8119424
END:VEVENT
BEGIN:VEVENT
DTSTART;TZID=America/New_York:20261109T183000
DTEND;TZID=America/New_York:20261109T183000
DTSTAMP:20260419T221228
CREATED:20260105T003044Z
LAST-MODIFIED:20260105T055809Z
UID:10019027-1794249000-1794249000@epictriviafl.com
SUMMARY:Music Bingo
DESCRIPTION:
URL:https://epictriviafl.com/event/music-bingo-riverwalk/2026-11-09/
LOCATION:Riverwalk Pizzeria\, 5040 W State Road 46\, Sanford\, FL 32771 USA
GEO:28.8119424;-81.3469456
X-APPLE-STRUCTURED-LOCATION;VALUE=URI;X-ADDRESS=Riverwalk Pizzeria 5040 W State Road 46 Sanford FL 32771 USA;X-APPLE-RADIUS=500;X-TITLE=5040 W State Road 46\, Sanford\, FL 32771 USA:geo:-81.3469456,28.8119424
END:VEVENT
BEGIN:VEVENT
DTSTART;TZID=America/New_York:20261116T183000
DTEND;TZID=America/New_York:20261116T183000
DTSTAMP:20260419T221228
CREATED:20260105T003044Z
LAST-MODIFIED:20260105T055809Z
UID:10019028-1794853800-1794853800@epictriviafl.com
SUMMARY:Music Bingo
DESCRIPTION:
URL:https://epictriviafl.com/event/music-bingo-riverwalk/2026-11-16/
LOCATION:Riverwalk Pizzeria\, 5040 W State Road 46\, Sanford\, FL 32771 USA
GEO:28.8119424;-81.3469456
X-APPLE-STRUCTURED-LOCATION;VALUE=URI;X-ADDRESS=Riverwalk Pizzeria 5040 W State Road 46 Sanford FL 32771 USA;X-APPLE-RADIUS=500;X-TITLE=5040 W State Road 46\, Sanford\, FL 32771 USA:geo:-81.3469456,28.8119424
END:VEVENT
BEGIN:VEVENT
DTSTART;TZID=America/New_York:20261123T183000
DTEND;TZID=America/New_York:20261123T183000
DTSTAMP:20260419T221228
CREATED:20260105T003044Z
LAST-MODIFIED:20260105T055809Z
UID:10019029-1795458600-1795458600@epictriviafl.com
SUMMARY:Music Bingo
DESCRIPTION:
URL:https://epictriviafl.com/event/music-bingo-riverwalk/2026-11-23/
LOCATION:Riverwalk Pizzeria\, 5040 W State Road 46\, Sanford\, FL 32771 USA
GEO:28.8119424;-81.3469456
X-APPLE-STRUCTURED-LOCATION;VALUE=URI;X-ADDRESS=Riverwalk Pizzeria 5040 W State Road 46 Sanford FL 32771 USA;X-APPLE-RADIUS=500;X-TITLE=5040 W State Road 46\, Sanford\, FL 32771 USA:geo:-81.3469456,28.8119424
END:VEVENT
BEGIN:VEVENT
DTSTART;TZID=America/New_York:20261130T183000
DTEND;TZID=America/New_York:20261130T183000
DTSTAMP:20260419T221228
CREATED:20260105T003044Z
LAST-MODIFIED:20260105T055809Z
UID:10019030-1796063400-1796063400@epictriviafl.com
SUMMARY:Music Bingo
DESCRIPTION:
URL:https://epictriviafl.com/event/music-bingo-riverwalk/2026-11-30/
LOCATION:Riverwalk Pizzeria\, 5040 W State Road 46\, Sanford\, FL 32771 USA
GEO:28.8119424;-81.3469456
X-APPLE-STRUCTURED-LOCATION;VALUE=URI;X-ADDRESS=Riverwalk Pizzeria 5040 W State Road 46 Sanford FL 32771 USA;X-APPLE-RADIUS=500;X-TITLE=5040 W State Road 46\, Sanford\, FL 32771 USA:geo:-81.3469456,28.8119424
END:VEVENT
BEGIN:VEVENT
DTSTART;TZID=America/New_York:20261207T183000
DTEND;TZID=America/New_York:20261207T183000
DTSTAMP:20260419T221228
CREATED:20260105T003044Z
LAST-MODIFIED:20260105T055809Z
UID:10019031-1796668200-1796668200@epictriviafl.com
SUMMARY:Music Bingo
DESCRIPTION:
URL:https://epictriviafl.com/event/music-bingo-riverwalk/2026-12-07/
LOCATION:Riverwalk Pizzeria\, 5040 W State Road 46\, Sanford\, FL 32771 USA
GEO:28.8119424;-81.3469456
X-APPLE-STRUCTURED-LOCATION;VALUE=URI;X-ADDRESS=Riverwalk Pizzeria 5040 W State Road 46 Sanford FL 32771 USA;X-APPLE-RADIUS=500;X-TITLE=5040 W State Road 46\, Sanford\, FL 32771 USA:geo:-81.3469456,28.8119424
END:VEVENT
BEGIN:VEVENT
DTSTART;TZID=America/New_York:20261214T183000
DTEND;TZID=America/New_York:20261214T183000
DTSTAMP:20260419T221228
CREATED:20260105T003044Z
LAST-MODIFIED:20260105T055809Z
UID:10019032-1797273000-1797273000@epictriviafl.com
SUMMARY:Music Bingo
DESCRIPTION:
URL:https://epictriviafl.com/event/music-bingo-riverwalk/2026-12-14/
LOCATION:Riverwalk Pizzeria\, 5040 W State Road 46\, Sanford\, FL 32771 USA
GEO:28.8119424;-81.3469456
X-APPLE-STRUCTURED-LOCATION;VALUE=URI;X-ADDRESS=Riverwalk Pizzeria 5040 W State Road 46 Sanford FL 32771 USA;X-APPLE-RADIUS=500;X-TITLE=5040 W State Road 46\, Sanford\, FL 32771 USA:geo:-81.3469456,28.8119424
END:VEVENT
BEGIN:VEVENT
DTSTART;TZID=America/New_York:20261221T183000
DTEND;TZID=America/New_York:20261221T183000
DTSTAMP:20260419T221228
CREATED:20260105T003044Z
LAST-MODIFIED:20260105T055809Z
UID:10019033-1797877800-1797877800@epictriviafl.com
SUMMARY:Music Bingo
DESCRIPTION:
URL:https://epictriviafl.com/event/music-bingo-riverwalk/2026-12-21/
LOCATION:Riverwalk Pizzeria\, 5040 W State Road 46\, Sanford\, FL 32771 USA
GEO:28.8119424;-81.3469456
X-APPLE-STRUCTURED-LOCATION;VALUE=URI;X-ADDRESS=Riverwalk Pizzeria 5040 W State Road 46 Sanford FL 32771 USA;X-APPLE-RADIUS=500;X-TITLE=5040 W State Road 46\, Sanford\, FL 32771 USA:geo:-81.3469456,28.8119424
END:VEVENT
BEGIN:VEVENT
DTSTART;TZID=America/New_York:20261228T183000
DTEND;TZID=America/New_York:20261228T183000
DTSTAMP:20260419T221228
CREATED:20260105T003044Z
LAST-MODIFIED:20260105T055809Z
UID:10019034-1798482600-1798482600@epictriviafl.com
SUMMARY:Music Bingo
DESCRIPTION:
URL:https://epictriviafl.com/event/music-bingo-riverwalk/2026-12-28/
LOCATION:Riverwalk Pizzeria\, 5040 W State Road 46\, Sanford\, FL 32771 USA
GEO:28.8119424;-81.3469456
X-APPLE-STRUCTURED-LOCATION;VALUE=URI;X-ADDRESS=Riverwalk Pizzeria 5040 W State Road 46 Sanford FL 32771 USA;X-APPLE-RADIUS=500;X-TITLE=5040 W State Road 46\, Sanford\, FL 32771 USA:geo:-81.3469456,28.8119424
END:VEVENT
BEGIN:VEVENT
DTSTART;TZID=America/New_York:20270104T183000
DTEND;TZID=America/New_York:20270104T183000
DTSTAMP:20260419T221228
CREATED:20260105T003044Z
LAST-MODIFIED:20260105T055809Z
UID:10019035-1799087400-1799087400@epictriviafl.com
SUMMARY:Music Bingo
DESCRIPTION:
URL:https://epictriviafl.com/event/music-bingo-riverwalk/2027-01-04/
LOCATION:Riverwalk Pizzeria\, 5040 W State Road 46\, Sanford\, FL 32771 USA
GEO:28.8119424;-81.3469456
X-APPLE-STRUCTURED-LOCATION;VALUE=URI;X-ADDRESS=Riverwalk Pizzeria 5040 W State Road 46 Sanford FL 32771 USA;X-APPLE-RADIUS=500;X-TITLE=5040 W State Road 46\, Sanford\, FL 32771 USA:geo:-81.3469456,28.8119424
END:VEVENT
BEGIN:VEVENT
DTSTART;TZID=America/New_York:20270111T183000
DTEND;TZID=America/New_York:20270111T183000
DTSTAMP:20260419T221228
CREATED:20260105T003044Z
LAST-MODIFIED:20260105T055809Z
UID:10019036-1799692200-1799692200@epictriviafl.com
SUMMARY:Music Bingo
DESCRIPTION:
URL:https://epictriviafl.com/event/music-bingo-riverwalk/2027-01-11/
LOCATION:Riverwalk Pizzeria\, 5040 W State Road 46\, Sanford\, FL 32771 USA
GEO:28.8119424;-81.3469456
X-APPLE-STRUCTURED-LOCATION;VALUE=URI;X-ADDRESS=Riverwalk Pizzeria 5040 W State Road 46 Sanford FL 32771 USA;X-APPLE-RADIUS=500;X-TITLE=5040 W State Road 46\, Sanford\, FL 32771 USA:geo:-81.3469456,28.8119424
END:VEVENT
BEGIN:VEVENT
DTSTART;TZID=America/New_York:20270118T183000
DTEND;TZID=America/New_York:20270118T183000
DTSTAMP:20260419T221228
CREATED:20260105T003044Z
LAST-MODIFIED:20260105T055809Z
UID:10019037-1800297000-1800297000@epictriviafl.com
SUMMARY:Music Bingo
DESCRIPTION:
URL:https://epictriviafl.com/event/music-bingo-riverwalk/2027-01-18/
LOCATION:Riverwalk Pizzeria\, 5040 W State Road 46\, Sanford\, FL 32771 USA
GEO:28.8119424;-81.3469456
X-APPLE-STRUCTURED-LOCATION;VALUE=URI;X-ADDRESS=Riverwalk Pizzeria 5040 W State Road 46 Sanford FL 32771 USA;X-APPLE-RADIUS=500;X-TITLE=5040 W State Road 46\, Sanford\, FL 32771 USA:geo:-81.3469456,28.8119424
END:VEVENT
BEGIN:VEVENT
DTSTART;TZID=America/New_York:20270125T183000
DTEND;TZID=America/New_York:20270125T183000
DTSTAMP:20260419T221228
CREATED:20260105T003044Z
LAST-MODIFIED:20260105T055809Z
UID:10019038-1800901800-1800901800@epictriviafl.com
SUMMARY:Music Bingo
DESCRIPTION:
URL:https://epictriviafl.com/event/music-bingo-riverwalk/2027-01-25/
LOCATION:Riverwalk Pizzeria\, 5040 W State Road 46\, Sanford\, FL 32771 USA
GEO:28.8119424;-81.3469456
X-APPLE-STRUCTURED-LOCATION;VALUE=URI;X-ADDRESS=Riverwalk Pizzeria 5040 W State Road 46 Sanford FL 32771 USA;X-APPLE-RADIUS=500;X-TITLE=5040 W State Road 46\, Sanford\, FL 32771 USA:geo:-81.3469456,28.8119424
END:VEVENT
BEGIN:VEVENT
DTSTART;TZID=America/New_York:20270201T183000
DTEND;TZID=America/New_York:20270201T183000
DTSTAMP:20260419T221228
CREATED:20260105T003044Z
LAST-MODIFIED:20260105T055809Z
UID:10019039-1801506600-1801506600@epictriviafl.com
SUMMARY:Music Bingo
DESCRIPTION:
URL:https://epictriviafl.com/event/music-bingo-riverwalk/2027-02-01/
LOCATION:Riverwalk Pizzeria\, 5040 W State Road 46\, Sanford\, FL 32771 USA
GEO:28.8119424;-81.3469456
X-APPLE-STRUCTURED-LOCATION;VALUE=URI;X-ADDRESS=Riverwalk Pizzeria 5040 W State Road 46 Sanford FL 32771 USA;X-APPLE-RADIUS=500;X-TITLE=5040 W State Road 46\, Sanford\, FL 32771 USA:geo:-81.3469456,28.8119424
END:VEVENT
BEGIN:VEVENT
DTSTART;TZID=America/New_York:20270208T183000
DTEND;TZID=America/New_York:20270208T183000
DTSTAMP:20260419T221228
CREATED:20260105T003044Z
LAST-MODIFIED:20260105T055809Z
UID:10019040-1802111400-1802111400@epictriviafl.com
SUMMARY:Music Bingo
DESCRIPTION:
URL:https://epictriviafl.com/event/music-bingo-riverwalk/2027-02-08/
LOCATION:Riverwalk Pizzeria\, 5040 W State Road 46\, Sanford\, FL 32771 USA
GEO:28.8119424;-81.3469456
X-APPLE-STRUCTURED-LOCATION;VALUE=URI;X-ADDRESS=Riverwalk Pizzeria 5040 W State Road 46 Sanford FL 32771 USA;X-APPLE-RADIUS=500;X-TITLE=5040 W State Road 46\, Sanford\, FL 32771 USA:geo:-81.3469456,28.8119424
END:VEVENT
BEGIN:VEVENT
DTSTART;TZID=America/New_York:20270215T183000
DTEND;TZID=America/New_York:20270215T183000
DTSTAMP:20260419T221228
CREATED:20260105T003044Z
LAST-MODIFIED:20260105T055809Z
UID:10019041-1802716200-1802716200@epictriviafl.com
SUMMARY:Music Bingo
DESCRIPTION:
URL:https://epictriviafl.com/event/music-bingo-riverwalk/2027-02-15/
LOCATION:Riverwalk Pizzeria\, 5040 W State Road 46\, Sanford\, FL 32771 USA
GEO:28.8119424;-81.3469456
X-APPLE-STRUCTURED-LOCATION;VALUE=URI;X-ADDRESS=Riverwalk Pizzeria 5040 W State Road 46 Sanford FL 32771 USA;X-APPLE-RADIUS=500;X-TITLE=5040 W State Road 46\, Sanford\, FL 32771 USA:geo:-81.3469456,28.8119424
END:VEVENT
BEGIN:VEVENT
DTSTART;TZID=America/New_York:20270222T183000
DTEND;TZID=America/New_York:20270222T183000
DTSTAMP:20260419T221228
CREATED:20260105T003044Z
LAST-MODIFIED:20260105T055809Z
UID:10019042-1803321000-1803321000@epictriviafl.com
SUMMARY:Music Bingo
DESCRIPTION:
URL:https://epictriviafl.com/event/music-bingo-riverwalk/2027-02-22/
LOCATION:Riverwalk Pizzeria\, 5040 W State Road 46\, Sanford\, FL 32771 USA
GEO:28.8119424;-81.3469456
X-APPLE-STRUCTURED-LOCATION;VALUE=URI;X-ADDRESS=Riverwalk Pizzeria 5040 W State Road 46 Sanford FL 32771 USA;X-APPLE-RADIUS=500;X-TITLE=5040 W State Road 46\, Sanford\, FL 32771 USA:geo:-81.3469456,28.8119424
END:VEVENT
BEGIN:VEVENT
DTSTART;TZID=America/New_York:20270301T183000
DTEND;TZID=America/New_York:20270301T183000
DTSTAMP:20260419T221228
CREATED:20260105T003044Z
LAST-MODIFIED:20260105T055809Z
UID:10019043-1803925800-1803925800@epictriviafl.com
SUMMARY:Music Bingo
DESCRIPTION:
URL:https://epictriviafl.com/event/music-bingo-riverwalk/2027-03-01/
LOCATION:Riverwalk Pizzeria\, 5040 W State Road 46\, Sanford\, FL 32771 USA
GEO:28.8119424;-81.3469456
X-APPLE-STRUCTURED-LOCATION;VALUE=URI;X-ADDRESS=Riverwalk Pizzeria 5040 W State Road 46 Sanford FL 32771 USA;X-APPLE-RADIUS=500;X-TITLE=5040 W State Road 46\, Sanford\, FL 32771 USA:geo:-81.3469456,28.8119424
END:VEVENT
BEGIN:VEVENT
DTSTART;TZID=America/New_York:20270308T183000
DTEND;TZID=America/New_York:20270308T183000
DTSTAMP:20260419T221228
CREATED:20260105T003044Z
LAST-MODIFIED:20260105T055809Z
UID:10019044-1804530600-1804530600@epictriviafl.com
SUMMARY:Music Bingo
DESCRIPTION:
URL:https://epictriviafl.com/event/music-bingo-riverwalk/2027-03-08/
LOCATION:Riverwalk Pizzeria\, 5040 W State Road 46\, Sanford\, FL 32771 USA
GEO:28.8119424;-81.3469456
X-APPLE-STRUCTURED-LOCATION;VALUE=URI;X-ADDRESS=Riverwalk Pizzeria 5040 W State Road 46 Sanford FL 32771 USA;X-APPLE-RADIUS=500;X-TITLE=5040 W State Road 46\, Sanford\, FL 32771 USA:geo:-81.3469456,28.8119424
END:VEVENT
BEGIN:VEVENT
DTSTART;TZID=America/New_York:20270315T183000
DTEND;TZID=America/New_York:20270315T183000
DTSTAMP:20260419T221228
CREATED:20260105T003044Z
LAST-MODIFIED:20260105T055809Z
UID:10019045-1805135400-1805135400@epictriviafl.com
SUMMARY:Music Bingo
DESCRIPTION:
URL:https://epictriviafl.com/event/music-bingo-riverwalk/2027-03-15/
LOCATION:Riverwalk Pizzeria\, 5040 W State Road 46\, Sanford\, FL 32771 USA
GEO:28.8119424;-81.3469456
X-APPLE-STRUCTURED-LOCATION;VALUE=URI;X-ADDRESS=Riverwalk Pizzeria 5040 W State Road 46 Sanford FL 32771 USA;X-APPLE-RADIUS=500;X-TITLE=5040 W State Road 46\, Sanford\, FL 32771 USA:geo:-81.3469456,28.8119424
END:VEVENT
BEGIN:VEVENT
DTSTART;TZID=America/New_York:20270322T183000
DTEND;TZID=America/New_York:20270322T183000
DTSTAMP:20260419T221228
CREATED:20260105T003044Z
LAST-MODIFIED:20260105T055809Z
UID:10019046-1805740200-1805740200@epictriviafl.com
SUMMARY:Music Bingo
DESCRIPTION:
URL:https://epictriviafl.com/event/music-bingo-riverwalk/2027-03-22/
LOCATION:Riverwalk Pizzeria\, 5040 W State Road 46\, Sanford\, FL 32771 USA
GEO:28.8119424;-81.3469456
X-APPLE-STRUCTURED-LOCATION;VALUE=URI;X-ADDRESS=Riverwalk Pizzeria 5040 W State Road 46 Sanford FL 32771 USA;X-APPLE-RADIUS=500;X-TITLE=5040 W State Road 46\, Sanford\, FL 32771 USA:geo:-81.3469456,28.8119424
END:VEVENT
BEGIN:VEVENT
DTSTART;TZID=America/New_York:20270329T183000
DTEND;TZID=America/New_York:20270329T183000
DTSTAMP:20260419T221228
CREATED:20260105T003044Z
LAST-MODIFIED:20260105T055809Z
UID:10019047-1806345000-1806345000@epictriviafl.com
SUMMARY:Music Bingo
DESCRIPTION:
URL:https://epictriviafl.com/event/music-bingo-riverwalk/2027-03-29/
LOCATION:Riverwalk Pizzeria\, 5040 W State Road 46\, Sanford\, FL 32771 USA
GEO:28.8119424;-81.3469456
X-APPLE-STRUCTURED-LOCATION;VALUE=URI;X-ADDRESS=Riverwalk Pizzeria 5040 W State Road 46 Sanford FL 32771 USA;X-APPLE-RADIUS=500;X-TITLE=5040 W State Road 46\, Sanford\, FL 32771 USA:geo:-81.3469456,28.8119424
END:VEVENT
BEGIN:VEVENT
DTSTART;TZID=America/New_York:20270405T183000
DTEND;TZID=America/New_York:20270405T183000
DTSTAMP:20260419T221228
CREATED:20260105T003044Z
LAST-MODIFIED:20260105T055809Z
UID:10019048-1806949800-1806949800@epictriviafl.com
SUMMARY:Music Bingo
DESCRIPTION:
URL:https://epictriviafl.com/event/music-bingo-riverwalk/2027-04-05/
LOCATION:Riverwalk Pizzeria\, 5040 W State Road 46\, Sanford\, FL 32771 USA
GEO:28.8119424;-81.3469456
X-APPLE-STRUCTURED-LOCATION;VALUE=URI;X-ADDRESS=Riverwalk Pizzeria 5040 W State Road 46 Sanford FL 32771 USA;X-APPLE-RADIUS=500;X-TITLE=5040 W State Road 46\, Sanford\, FL 32771 USA:geo:-81.3469456,28.8119424
END:VEVENT
BEGIN:VEVENT
DTSTART;TZID=America/New_York:20270412T183000
DTEND;TZID=America/New_York:20270412T183000
DTSTAMP:20260419T221228
CREATED:20260105T003044Z
LAST-MODIFIED:20260105T055809Z
UID:10019049-1807554600-1807554600@epictriviafl.com
SUMMARY:Music Bingo
DESCRIPTION:
URL:https://epictriviafl.com/event/music-bingo-riverwalk/2027-04-12/
LOCATION:Riverwalk Pizzeria\, 5040 W State Road 46\, Sanford\, FL 32771 USA
GEO:28.8119424;-81.3469456
X-APPLE-STRUCTURED-LOCATION;VALUE=URI;X-ADDRESS=Riverwalk Pizzeria 5040 W State Road 46 Sanford FL 32771 USA;X-APPLE-RADIUS=500;X-TITLE=5040 W State Road 46\, Sanford\, FL 32771 USA:geo:-81.3469456,28.8119424
END:VEVENT
BEGIN:VEVENT
DTSTART;TZID=America/New_York:20270419T183000
DTEND;TZID=America/New_York:20270419T183000
DTSTAMP:20260419T221228
CREATED:20260105T003044Z
LAST-MODIFIED:20260105T055809Z
UID:10019050-1808159400-1808159400@epictriviafl.com
SUMMARY:Music Bingo
DESCRIPTION:
URL:https://epictriviafl.com/event/music-bingo-riverwalk/2027-04-19/
LOCATION:Riverwalk Pizzeria\, 5040 W State Road 46\, Sanford\, FL 32771 USA
GEO:28.8119424;-81.3469456
X-APPLE-STRUCTURED-LOCATION;VALUE=URI;X-ADDRESS=Riverwalk Pizzeria 5040 W State Road 46 Sanford FL 32771 USA;X-APPLE-RADIUS=500;X-TITLE=5040 W State Road 46\, Sanford\, FL 32771 USA:geo:-81.3469456,28.8119424
END:VEVENT
BEGIN:VEVENT
DTSTART;TZID=America/New_York:20270426T183000
DTEND;TZID=America/New_York:20270426T183000
DTSTAMP:20260419T221228
CREATED:20260105T003044Z
LAST-MODIFIED:20260105T055809Z
UID:10019051-1808764200-1808764200@epictriviafl.com
SUMMARY:Music Bingo
DESCRIPTION:
URL:https://epictriviafl.com/event/music-bingo-riverwalk/2027-04-26/
LOCATION:Riverwalk Pizzeria\, 5040 W State Road 46\, Sanford\, FL 32771 USA
GEO:28.8119424;-81.3469456
X-APPLE-STRUCTURED-LOCATION;VALUE=URI;X-ADDRESS=Riverwalk Pizzeria 5040 W State Road 46 Sanford FL 32771 USA;X-APPLE-RADIUS=500;X-TITLE=5040 W State Road 46\, Sanford\, FL 32771 USA:geo:-81.3469456,28.8119424
END:VEVENT
END:VCALENDAR