BEGIN:VCALENDAR
VERSION:2.0
PRODID:-//Epic Trivia - ECPv6.15.18//NONSGML v1.0//EN
CALSCALE:GREGORIAN
METHOD:PUBLISH
X-ORIGINAL-URL:https://epictriviafl.com
X-WR-CALDESC:Events for Epic Trivia
REFRESH-INTERVAL;VALUE=DURATION:PT1H
X-Robots-Tag:noindex
X-PUBLISHED-TTL:PT1H
BEGIN:VTIMEZONE
TZID:America/New_York
BEGIN:DAYLIGHT
TZOFFSETFROM:-0500
TZOFFSETTO:-0400
TZNAME:EDT
DTSTART:20290311T070000
END:DAYLIGHT
BEGIN:STANDARD
TZOFFSETFROM:-0400
TZOFFSETTO:-0500
TZNAME:EST
DTSTART:20291104T060000
END:STANDARD
BEGIN:DAYLIGHT
TZOFFSETFROM:-0500
TZOFFSETTO:-0400
TZNAME:EDT
DTSTART:20300310T070000
END:DAYLIGHT
BEGIN:STANDARD
TZOFFSETFROM:-0400
TZOFFSETTO:-0500
TZNAME:EST
DTSTART:20301103T060000
END:STANDARD
BEGIN:DAYLIGHT
TZOFFSETFROM:-0500
TZOFFSETTO:-0400
TZNAME:EDT
DTSTART:20310309T070000
END:DAYLIGHT
BEGIN:STANDARD
TZOFFSETFROM:-0400
TZOFFSETTO:-0500
TZNAME:EST
DTSTART:20311102T060000
END:STANDARD
END:VTIMEZONE
BEGIN:VEVENT
DTSTART;TZID=America/New_York:20300325T183000
DTEND;TZID=America/New_York:20300325T183000
DTSTAMP:20260420T212329
CREATED:20260105T003044Z
LAST-MODIFIED:20260105T055809Z
UID:10019203-1900693800-1900693800@epictriviafl.com
SUMMARY:Music Bingo
DESCRIPTION:
URL:https://epictriviafl.com/event/music-bingo-riverwalk/2030-03-25/
LOCATION:Riverwalk Pizzeria\, 5040 W State Road 46\, Sanford\, FL 32771 USA
GEO:28.8119424;-81.3469456
X-APPLE-STRUCTURED-LOCATION;VALUE=URI;X-ADDRESS=Riverwalk Pizzeria 5040 W State Road 46 Sanford FL 32771 USA;X-APPLE-RADIUS=500;X-TITLE=5040 W State Road 46\, Sanford\, FL 32771 USA:geo:-81.3469456,28.8119424
END:VEVENT
BEGIN:VEVENT
DTSTART;TZID=America/New_York:20300401T183000
DTEND;TZID=America/New_York:20300401T183000
DTSTAMP:20260420T212329
CREATED:20260105T003044Z
LAST-MODIFIED:20260105T055809Z
UID:10019204-1901298600-1901298600@epictriviafl.com
SUMMARY:Music Bingo
DESCRIPTION:
URL:https://epictriviafl.com/event/music-bingo-riverwalk/2030-04-01/
LOCATION:Riverwalk Pizzeria\, 5040 W State Road 46\, Sanford\, FL 32771 USA
GEO:28.8119424;-81.3469456
X-APPLE-STRUCTURED-LOCATION;VALUE=URI;X-ADDRESS=Riverwalk Pizzeria 5040 W State Road 46 Sanford FL 32771 USA;X-APPLE-RADIUS=500;X-TITLE=5040 W State Road 46\, Sanford\, FL 32771 USA:geo:-81.3469456,28.8119424
END:VEVENT
BEGIN:VEVENT
DTSTART;TZID=America/New_York:20300408T183000
DTEND;TZID=America/New_York:20300408T183000
DTSTAMP:20260420T212329
CREATED:20260105T003044Z
LAST-MODIFIED:20260105T055809Z
UID:10019205-1901903400-1901903400@epictriviafl.com
SUMMARY:Music Bingo
DESCRIPTION:
URL:https://epictriviafl.com/event/music-bingo-riverwalk/2030-04-08/
LOCATION:Riverwalk Pizzeria\, 5040 W State Road 46\, Sanford\, FL 32771 USA
GEO:28.8119424;-81.3469456
X-APPLE-STRUCTURED-LOCATION;VALUE=URI;X-ADDRESS=Riverwalk Pizzeria 5040 W State Road 46 Sanford FL 32771 USA;X-APPLE-RADIUS=500;X-TITLE=5040 W State Road 46\, Sanford\, FL 32771 USA:geo:-81.3469456,28.8119424
END:VEVENT
BEGIN:VEVENT
DTSTART;TZID=America/New_York:20300415T183000
DTEND;TZID=America/New_York:20300415T183000
DTSTAMP:20260420T212329
CREATED:20260105T003044Z
LAST-MODIFIED:20260105T055809Z
UID:10019206-1902508200-1902508200@epictriviafl.com
SUMMARY:Music Bingo
DESCRIPTION:
URL:https://epictriviafl.com/event/music-bingo-riverwalk/2030-04-15/
LOCATION:Riverwalk Pizzeria\, 5040 W State Road 46\, Sanford\, FL 32771 USA
GEO:28.8119424;-81.3469456
X-APPLE-STRUCTURED-LOCATION;VALUE=URI;X-ADDRESS=Riverwalk Pizzeria 5040 W State Road 46 Sanford FL 32771 USA;X-APPLE-RADIUS=500;X-TITLE=5040 W State Road 46\, Sanford\, FL 32771 USA:geo:-81.3469456,28.8119424
END:VEVENT
BEGIN:VEVENT
DTSTART;TZID=America/New_York:20300422T183000
DTEND;TZID=America/New_York:20300422T183000
DTSTAMP:20260420T212329
CREATED:20260105T003044Z
LAST-MODIFIED:20260105T055809Z
UID:10019207-1903113000-1903113000@epictriviafl.com
SUMMARY:Music Bingo
DESCRIPTION:
URL:https://epictriviafl.com/event/music-bingo-riverwalk/2030-04-22/
LOCATION:Riverwalk Pizzeria\, 5040 W State Road 46\, Sanford\, FL 32771 USA
GEO:28.8119424;-81.3469456
X-APPLE-STRUCTURED-LOCATION;VALUE=URI;X-ADDRESS=Riverwalk Pizzeria 5040 W State Road 46 Sanford FL 32771 USA;X-APPLE-RADIUS=500;X-TITLE=5040 W State Road 46\, Sanford\, FL 32771 USA:geo:-81.3469456,28.8119424
END:VEVENT
BEGIN:VEVENT
DTSTART;TZID=America/New_York:20300429T183000
DTEND;TZID=America/New_York:20300429T183000
DTSTAMP:20260420T212329
CREATED:20260105T003044Z
LAST-MODIFIED:20260105T055809Z
UID:10019208-1903717800-1903717800@epictriviafl.com
SUMMARY:Music Bingo
DESCRIPTION:
URL:https://epictriviafl.com/event/music-bingo-riverwalk/2030-04-29/
LOCATION:Riverwalk Pizzeria\, 5040 W State Road 46\, Sanford\, FL 32771 USA
GEO:28.8119424;-81.3469456
X-APPLE-STRUCTURED-LOCATION;VALUE=URI;X-ADDRESS=Riverwalk Pizzeria 5040 W State Road 46 Sanford FL 32771 USA;X-APPLE-RADIUS=500;X-TITLE=5040 W State Road 46\, Sanford\, FL 32771 USA:geo:-81.3469456,28.8119424
END:VEVENT
BEGIN:VEVENT
DTSTART;TZID=America/New_York:20300506T183000
DTEND;TZID=America/New_York:20300506T183000
DTSTAMP:20260420T212329
CREATED:20260105T003044Z
LAST-MODIFIED:20260105T055809Z
UID:10019209-1904322600-1904322600@epictriviafl.com
SUMMARY:Music Bingo
DESCRIPTION:
URL:https://epictriviafl.com/event/music-bingo-riverwalk/2030-05-06/
LOCATION:Riverwalk Pizzeria\, 5040 W State Road 46\, Sanford\, FL 32771 USA
GEO:28.8119424;-81.3469456
X-APPLE-STRUCTURED-LOCATION;VALUE=URI;X-ADDRESS=Riverwalk Pizzeria 5040 W State Road 46 Sanford FL 32771 USA;X-APPLE-RADIUS=500;X-TITLE=5040 W State Road 46\, Sanford\, FL 32771 USA:geo:-81.3469456,28.8119424
END:VEVENT
BEGIN:VEVENT
DTSTART;TZID=America/New_York:20300513T183000
DTEND;TZID=America/New_York:20300513T183000
DTSTAMP:20260420T212329
CREATED:20260105T003044Z
LAST-MODIFIED:20260105T055809Z
UID:10019210-1904927400-1904927400@epictriviafl.com
SUMMARY:Music Bingo
DESCRIPTION:
URL:https://epictriviafl.com/event/music-bingo-riverwalk/2030-05-13/
LOCATION:Riverwalk Pizzeria\, 5040 W State Road 46\, Sanford\, FL 32771 USA
GEO:28.8119424;-81.3469456
X-APPLE-STRUCTURED-LOCATION;VALUE=URI;X-ADDRESS=Riverwalk Pizzeria 5040 W State Road 46 Sanford FL 32771 USA;X-APPLE-RADIUS=500;X-TITLE=5040 W State Road 46\, Sanford\, FL 32771 USA:geo:-81.3469456,28.8119424
END:VEVENT
BEGIN:VEVENT
DTSTART;TZID=America/New_York:20300520T183000
DTEND;TZID=America/New_York:20300520T183000
DTSTAMP:20260420T212329
CREATED:20260105T003044Z
LAST-MODIFIED:20260105T055809Z
UID:10019211-1905532200-1905532200@epictriviafl.com
SUMMARY:Music Bingo
DESCRIPTION:
URL:https://epictriviafl.com/event/music-bingo-riverwalk/2030-05-20/
LOCATION:Riverwalk Pizzeria\, 5040 W State Road 46\, Sanford\, FL 32771 USA
GEO:28.8119424;-81.3469456
X-APPLE-STRUCTURED-LOCATION;VALUE=URI;X-ADDRESS=Riverwalk Pizzeria 5040 W State Road 46 Sanford FL 32771 USA;X-APPLE-RADIUS=500;X-TITLE=5040 W State Road 46\, Sanford\, FL 32771 USA:geo:-81.3469456,28.8119424
END:VEVENT
BEGIN:VEVENT
DTSTART;TZID=America/New_York:20300527T183000
DTEND;TZID=America/New_York:20300527T183000
DTSTAMP:20260420T212329
CREATED:20260105T003044Z
LAST-MODIFIED:20260105T055809Z
UID:10019212-1906137000-1906137000@epictriviafl.com
SUMMARY:Music Bingo
DESCRIPTION:
URL:https://epictriviafl.com/event/music-bingo-riverwalk/2030-05-27/
LOCATION:Riverwalk Pizzeria\, 5040 W State Road 46\, Sanford\, FL 32771 USA
GEO:28.8119424;-81.3469456
X-APPLE-STRUCTURED-LOCATION;VALUE=URI;X-ADDRESS=Riverwalk Pizzeria 5040 W State Road 46 Sanford FL 32771 USA;X-APPLE-RADIUS=500;X-TITLE=5040 W State Road 46\, Sanford\, FL 32771 USA:geo:-81.3469456,28.8119424
END:VEVENT
BEGIN:VEVENT
DTSTART;TZID=America/New_York:20300603T183000
DTEND;TZID=America/New_York:20300603T183000
DTSTAMP:20260420T212329
CREATED:20260105T003044Z
LAST-MODIFIED:20260105T055809Z
UID:10019213-1906741800-1906741800@epictriviafl.com
SUMMARY:Music Bingo
DESCRIPTION:
URL:https://epictriviafl.com/event/music-bingo-riverwalk/2030-06-03/
LOCATION:Riverwalk Pizzeria\, 5040 W State Road 46\, Sanford\, FL 32771 USA
GEO:28.8119424;-81.3469456
X-APPLE-STRUCTURED-LOCATION;VALUE=URI;X-ADDRESS=Riverwalk Pizzeria 5040 W State Road 46 Sanford FL 32771 USA;X-APPLE-RADIUS=500;X-TITLE=5040 W State Road 46\, Sanford\, FL 32771 USA:geo:-81.3469456,28.8119424
END:VEVENT
BEGIN:VEVENT
DTSTART;TZID=America/New_York:20300610T183000
DTEND;TZID=America/New_York:20300610T183000
DTSTAMP:20260420T212329
CREATED:20260105T003044Z
LAST-MODIFIED:20260105T055809Z
UID:10019214-1907346600-1907346600@epictriviafl.com
SUMMARY:Music Bingo
DESCRIPTION:
URL:https://epictriviafl.com/event/music-bingo-riverwalk/2030-06-10/
LOCATION:Riverwalk Pizzeria\, 5040 W State Road 46\, Sanford\, FL 32771 USA
GEO:28.8119424;-81.3469456
X-APPLE-STRUCTURED-LOCATION;VALUE=URI;X-ADDRESS=Riverwalk Pizzeria 5040 W State Road 46 Sanford FL 32771 USA;X-APPLE-RADIUS=500;X-TITLE=5040 W State Road 46\, Sanford\, FL 32771 USA:geo:-81.3469456,28.8119424
END:VEVENT
BEGIN:VEVENT
DTSTART;TZID=America/New_York:20300617T183000
DTEND;TZID=America/New_York:20300617T183000
DTSTAMP:20260420T212329
CREATED:20260105T003044Z
LAST-MODIFIED:20260105T055809Z
UID:10019215-1907951400-1907951400@epictriviafl.com
SUMMARY:Music Bingo
DESCRIPTION:
URL:https://epictriviafl.com/event/music-bingo-riverwalk/2030-06-17/
LOCATION:Riverwalk Pizzeria\, 5040 W State Road 46\, Sanford\, FL 32771 USA
GEO:28.8119424;-81.3469456
X-APPLE-STRUCTURED-LOCATION;VALUE=URI;X-ADDRESS=Riverwalk Pizzeria 5040 W State Road 46 Sanford FL 32771 USA;X-APPLE-RADIUS=500;X-TITLE=5040 W State Road 46\, Sanford\, FL 32771 USA:geo:-81.3469456,28.8119424
END:VEVENT
BEGIN:VEVENT
DTSTART;TZID=America/New_York:20300624T183000
DTEND;TZID=America/New_York:20300624T183000
DTSTAMP:20260420T212329
CREATED:20260105T003044Z
LAST-MODIFIED:20260105T055809Z
UID:10019216-1908556200-1908556200@epictriviafl.com
SUMMARY:Music Bingo
DESCRIPTION:
URL:https://epictriviafl.com/event/music-bingo-riverwalk/2030-06-24/
LOCATION:Riverwalk Pizzeria\, 5040 W State Road 46\, Sanford\, FL 32771 USA
GEO:28.8119424;-81.3469456
X-APPLE-STRUCTURED-LOCATION;VALUE=URI;X-ADDRESS=Riverwalk Pizzeria 5040 W State Road 46 Sanford FL 32771 USA;X-APPLE-RADIUS=500;X-TITLE=5040 W State Road 46\, Sanford\, FL 32771 USA:geo:-81.3469456,28.8119424
END:VEVENT
BEGIN:VEVENT
DTSTART;TZID=America/New_York:20300701T183000
DTEND;TZID=America/New_York:20300701T183000
DTSTAMP:20260420T212329
CREATED:20260105T003044Z
LAST-MODIFIED:20260105T055809Z
UID:10019217-1909161000-1909161000@epictriviafl.com
SUMMARY:Music Bingo
DESCRIPTION:
URL:https://epictriviafl.com/event/music-bingo-riverwalk/2030-07-01/
LOCATION:Riverwalk Pizzeria\, 5040 W State Road 46\, Sanford\, FL 32771 USA
GEO:28.8119424;-81.3469456
X-APPLE-STRUCTURED-LOCATION;VALUE=URI;X-ADDRESS=Riverwalk Pizzeria 5040 W State Road 46 Sanford FL 32771 USA;X-APPLE-RADIUS=500;X-TITLE=5040 W State Road 46\, Sanford\, FL 32771 USA:geo:-81.3469456,28.8119424
END:VEVENT
BEGIN:VEVENT
DTSTART;TZID=America/New_York:20300708T183000
DTEND;TZID=America/New_York:20300708T183000
DTSTAMP:20260420T212329
CREATED:20260105T003044Z
LAST-MODIFIED:20260105T055809Z
UID:10019218-1909765800-1909765800@epictriviafl.com
SUMMARY:Music Bingo
DESCRIPTION:
URL:https://epictriviafl.com/event/music-bingo-riverwalk/2030-07-08/
LOCATION:Riverwalk Pizzeria\, 5040 W State Road 46\, Sanford\, FL 32771 USA
GEO:28.8119424;-81.3469456
X-APPLE-STRUCTURED-LOCATION;VALUE=URI;X-ADDRESS=Riverwalk Pizzeria 5040 W State Road 46 Sanford FL 32771 USA;X-APPLE-RADIUS=500;X-TITLE=5040 W State Road 46\, Sanford\, FL 32771 USA:geo:-81.3469456,28.8119424
END:VEVENT
BEGIN:VEVENT
DTSTART;TZID=America/New_York:20300715T183000
DTEND;TZID=America/New_York:20300715T183000
DTSTAMP:20260420T212329
CREATED:20260105T003044Z
LAST-MODIFIED:20260105T055809Z
UID:10019219-1910370600-1910370600@epictriviafl.com
SUMMARY:Music Bingo
DESCRIPTION:
URL:https://epictriviafl.com/event/music-bingo-riverwalk/2030-07-15/
LOCATION:Riverwalk Pizzeria\, 5040 W State Road 46\, Sanford\, FL 32771 USA
GEO:28.8119424;-81.3469456
X-APPLE-STRUCTURED-LOCATION;VALUE=URI;X-ADDRESS=Riverwalk Pizzeria 5040 W State Road 46 Sanford FL 32771 USA;X-APPLE-RADIUS=500;X-TITLE=5040 W State Road 46\, Sanford\, FL 32771 USA:geo:-81.3469456,28.8119424
END:VEVENT
BEGIN:VEVENT
DTSTART;TZID=America/New_York:20300722T183000
DTEND;TZID=America/New_York:20300722T183000
DTSTAMP:20260420T212329
CREATED:20260105T003044Z
LAST-MODIFIED:20260105T055809Z
UID:10019220-1910975400-1910975400@epictriviafl.com
SUMMARY:Music Bingo
DESCRIPTION:
URL:https://epictriviafl.com/event/music-bingo-riverwalk/2030-07-22/
LOCATION:Riverwalk Pizzeria\, 5040 W State Road 46\, Sanford\, FL 32771 USA
GEO:28.8119424;-81.3469456
X-APPLE-STRUCTURED-LOCATION;VALUE=URI;X-ADDRESS=Riverwalk Pizzeria 5040 W State Road 46 Sanford FL 32771 USA;X-APPLE-RADIUS=500;X-TITLE=5040 W State Road 46\, Sanford\, FL 32771 USA:geo:-81.3469456,28.8119424
END:VEVENT
BEGIN:VEVENT
DTSTART;TZID=America/New_York:20300729T183000
DTEND;TZID=America/New_York:20300729T183000
DTSTAMP:20260420T212329
CREATED:20260105T003044Z
LAST-MODIFIED:20260105T055809Z
UID:10019221-1911580200-1911580200@epictriviafl.com
SUMMARY:Music Bingo
DESCRIPTION:
URL:https://epictriviafl.com/event/music-bingo-riverwalk/2030-07-29/
LOCATION:Riverwalk Pizzeria\, 5040 W State Road 46\, Sanford\, FL 32771 USA
GEO:28.8119424;-81.3469456
X-APPLE-STRUCTURED-LOCATION;VALUE=URI;X-ADDRESS=Riverwalk Pizzeria 5040 W State Road 46 Sanford FL 32771 USA;X-APPLE-RADIUS=500;X-TITLE=5040 W State Road 46\, Sanford\, FL 32771 USA:geo:-81.3469456,28.8119424
END:VEVENT
BEGIN:VEVENT
DTSTART;TZID=America/New_York:20300805T183000
DTEND;TZID=America/New_York:20300805T183000
DTSTAMP:20260420T212329
CREATED:20260105T003044Z
LAST-MODIFIED:20260105T055809Z
UID:10019222-1912185000-1912185000@epictriviafl.com
SUMMARY:Music Bingo
DESCRIPTION:
URL:https://epictriviafl.com/event/music-bingo-riverwalk/2030-08-05/
LOCATION:Riverwalk Pizzeria\, 5040 W State Road 46\, Sanford\, FL 32771 USA
GEO:28.8119424;-81.3469456
X-APPLE-STRUCTURED-LOCATION;VALUE=URI;X-ADDRESS=Riverwalk Pizzeria 5040 W State Road 46 Sanford FL 32771 USA;X-APPLE-RADIUS=500;X-TITLE=5040 W State Road 46\, Sanford\, FL 32771 USA:geo:-81.3469456,28.8119424
END:VEVENT
BEGIN:VEVENT
DTSTART;TZID=America/New_York:20300812T183000
DTEND;TZID=America/New_York:20300812T183000
DTSTAMP:20260420T212329
CREATED:20260105T003044Z
LAST-MODIFIED:20260105T055809Z
UID:10019223-1912789800-1912789800@epictriviafl.com
SUMMARY:Music Bingo
DESCRIPTION:
URL:https://epictriviafl.com/event/music-bingo-riverwalk/2030-08-12/
LOCATION:Riverwalk Pizzeria\, 5040 W State Road 46\, Sanford\, FL 32771 USA
GEO:28.8119424;-81.3469456
X-APPLE-STRUCTURED-LOCATION;VALUE=URI;X-ADDRESS=Riverwalk Pizzeria 5040 W State Road 46 Sanford FL 32771 USA;X-APPLE-RADIUS=500;X-TITLE=5040 W State Road 46\, Sanford\, FL 32771 USA:geo:-81.3469456,28.8119424
END:VEVENT
BEGIN:VEVENT
DTSTART;TZID=America/New_York:20300819T183000
DTEND;TZID=America/New_York:20300819T183000
DTSTAMP:20260420T212329
CREATED:20260105T003044Z
LAST-MODIFIED:20260105T055809Z
UID:10019224-1913394600-1913394600@epictriviafl.com
SUMMARY:Music Bingo
DESCRIPTION:
URL:https://epictriviafl.com/event/music-bingo-riverwalk/2030-08-19/
LOCATION:Riverwalk Pizzeria\, 5040 W State Road 46\, Sanford\, FL 32771 USA
GEO:28.8119424;-81.3469456
X-APPLE-STRUCTURED-LOCATION;VALUE=URI;X-ADDRESS=Riverwalk Pizzeria 5040 W State Road 46 Sanford FL 32771 USA;X-APPLE-RADIUS=500;X-TITLE=5040 W State Road 46\, Sanford\, FL 32771 USA:geo:-81.3469456,28.8119424
END:VEVENT
BEGIN:VEVENT
DTSTART;TZID=America/New_York:20300826T183000
DTEND;TZID=America/New_York:20300826T183000
DTSTAMP:20260420T212329
CREATED:20260105T003044Z
LAST-MODIFIED:20260105T055809Z
UID:10019225-1913999400-1913999400@epictriviafl.com
SUMMARY:Music Bingo
DESCRIPTION:
URL:https://epictriviafl.com/event/music-bingo-riverwalk/2030-08-26/
LOCATION:Riverwalk Pizzeria\, 5040 W State Road 46\, Sanford\, FL 32771 USA
GEO:28.8119424;-81.3469456
X-APPLE-STRUCTURED-LOCATION;VALUE=URI;X-ADDRESS=Riverwalk Pizzeria 5040 W State Road 46 Sanford FL 32771 USA;X-APPLE-RADIUS=500;X-TITLE=5040 W State Road 46\, Sanford\, FL 32771 USA:geo:-81.3469456,28.8119424
END:VEVENT
BEGIN:VEVENT
DTSTART;TZID=America/New_York:20300902T183000
DTEND;TZID=America/New_York:20300902T183000
DTSTAMP:20260420T212329
CREATED:20260105T003044Z
LAST-MODIFIED:20260105T055809Z
UID:10019226-1914604200-1914604200@epictriviafl.com
SUMMARY:Music Bingo
DESCRIPTION:
URL:https://epictriviafl.com/event/music-bingo-riverwalk/2030-09-02/
LOCATION:Riverwalk Pizzeria\, 5040 W State Road 46\, Sanford\, FL 32771 USA
GEO:28.8119424;-81.3469456
X-APPLE-STRUCTURED-LOCATION;VALUE=URI;X-ADDRESS=Riverwalk Pizzeria 5040 W State Road 46 Sanford FL 32771 USA;X-APPLE-RADIUS=500;X-TITLE=5040 W State Road 46\, Sanford\, FL 32771 USA:geo:-81.3469456,28.8119424
END:VEVENT
BEGIN:VEVENT
DTSTART;TZID=America/New_York:20300909T183000
DTEND;TZID=America/New_York:20300909T183000
DTSTAMP:20260420T212329
CREATED:20260105T003044Z
LAST-MODIFIED:20260105T055809Z
UID:10019227-1915209000-1915209000@epictriviafl.com
SUMMARY:Music Bingo
DESCRIPTION:
URL:https://epictriviafl.com/event/music-bingo-riverwalk/2030-09-09/
LOCATION:Riverwalk Pizzeria\, 5040 W State Road 46\, Sanford\, FL 32771 USA
GEO:28.8119424;-81.3469456
X-APPLE-STRUCTURED-LOCATION;VALUE=URI;X-ADDRESS=Riverwalk Pizzeria 5040 W State Road 46 Sanford FL 32771 USA;X-APPLE-RADIUS=500;X-TITLE=5040 W State Road 46\, Sanford\, FL 32771 USA:geo:-81.3469456,28.8119424
END:VEVENT
BEGIN:VEVENT
DTSTART;TZID=America/New_York:20300916T183000
DTEND;TZID=America/New_York:20300916T183000
DTSTAMP:20260420T212329
CREATED:20260105T003044Z
LAST-MODIFIED:20260105T055809Z
UID:10019228-1915813800-1915813800@epictriviafl.com
SUMMARY:Music Bingo
DESCRIPTION:
URL:https://epictriviafl.com/event/music-bingo-riverwalk/2030-09-16/
LOCATION:Riverwalk Pizzeria\, 5040 W State Road 46\, Sanford\, FL 32771 USA
GEO:28.8119424;-81.3469456
X-APPLE-STRUCTURED-LOCATION;VALUE=URI;X-ADDRESS=Riverwalk Pizzeria 5040 W State Road 46 Sanford FL 32771 USA;X-APPLE-RADIUS=500;X-TITLE=5040 W State Road 46\, Sanford\, FL 32771 USA:geo:-81.3469456,28.8119424
END:VEVENT
BEGIN:VEVENT
DTSTART;TZID=America/New_York:20300923T183000
DTEND;TZID=America/New_York:20300923T183000
DTSTAMP:20260420T212329
CREATED:20260105T003044Z
LAST-MODIFIED:20260105T055809Z
UID:10019229-1916418600-1916418600@epictriviafl.com
SUMMARY:Music Bingo
DESCRIPTION:
URL:https://epictriviafl.com/event/music-bingo-riverwalk/2030-09-23/
LOCATION:Riverwalk Pizzeria\, 5040 W State Road 46\, Sanford\, FL 32771 USA
GEO:28.8119424;-81.3469456
X-APPLE-STRUCTURED-LOCATION;VALUE=URI;X-ADDRESS=Riverwalk Pizzeria 5040 W State Road 46 Sanford FL 32771 USA;X-APPLE-RADIUS=500;X-TITLE=5040 W State Road 46\, Sanford\, FL 32771 USA:geo:-81.3469456,28.8119424
END:VEVENT
BEGIN:VEVENT
DTSTART;TZID=America/New_York:20300930T183000
DTEND;TZID=America/New_York:20300930T183000
DTSTAMP:20260420T212329
CREATED:20260105T003044Z
LAST-MODIFIED:20260105T055809Z
UID:10019230-1917023400-1917023400@epictriviafl.com
SUMMARY:Music Bingo
DESCRIPTION:
URL:https://epictriviafl.com/event/music-bingo-riverwalk/2030-09-30/
LOCATION:Riverwalk Pizzeria\, 5040 W State Road 46\, Sanford\, FL 32771 USA
GEO:28.8119424;-81.3469456
X-APPLE-STRUCTURED-LOCATION;VALUE=URI;X-ADDRESS=Riverwalk Pizzeria 5040 W State Road 46 Sanford FL 32771 USA;X-APPLE-RADIUS=500;X-TITLE=5040 W State Road 46\, Sanford\, FL 32771 USA:geo:-81.3469456,28.8119424
END:VEVENT
BEGIN:VEVENT
DTSTART;TZID=America/New_York:20301007T183000
DTEND;TZID=America/New_York:20301007T183000
DTSTAMP:20260420T212329
CREATED:20260105T003044Z
LAST-MODIFIED:20260105T055809Z
UID:10019231-1917628200-1917628200@epictriviafl.com
SUMMARY:Music Bingo
DESCRIPTION:
URL:https://epictriviafl.com/event/music-bingo-riverwalk/2030-10-07/
LOCATION:Riverwalk Pizzeria\, 5040 W State Road 46\, Sanford\, FL 32771 USA
GEO:28.8119424;-81.3469456
X-APPLE-STRUCTURED-LOCATION;VALUE=URI;X-ADDRESS=Riverwalk Pizzeria 5040 W State Road 46 Sanford FL 32771 USA;X-APPLE-RADIUS=500;X-TITLE=5040 W State Road 46\, Sanford\, FL 32771 USA:geo:-81.3469456,28.8119424
END:VEVENT
BEGIN:VEVENT
DTSTART;TZID=America/New_York:20301014T183000
DTEND;TZID=America/New_York:20301014T183000
DTSTAMP:20260420T212329
CREATED:20260105T003044Z
LAST-MODIFIED:20260105T055809Z
UID:10019232-1918233000-1918233000@epictriviafl.com
SUMMARY:Music Bingo
DESCRIPTION:
URL:https://epictriviafl.com/event/music-bingo-riverwalk/2030-10-14/
LOCATION:Riverwalk Pizzeria\, 5040 W State Road 46\, Sanford\, FL 32771 USA
GEO:28.8119424;-81.3469456
X-APPLE-STRUCTURED-LOCATION;VALUE=URI;X-ADDRESS=Riverwalk Pizzeria 5040 W State Road 46 Sanford FL 32771 USA;X-APPLE-RADIUS=500;X-TITLE=5040 W State Road 46\, Sanford\, FL 32771 USA:geo:-81.3469456,28.8119424
END:VEVENT
END:VCALENDAR