BEGIN:VCALENDAR
VERSION:2.0
PRODID:-//Epic Trivia - ECPv6.15.18//NONSGML v1.0//EN
CALSCALE:GREGORIAN
METHOD:PUBLISH
X-ORIGINAL-URL:https://epictriviafl.com
X-WR-CALDESC:Events for Epic Trivia
REFRESH-INTERVAL;VALUE=DURATION:PT1H
X-Robots-Tag:noindex
X-PUBLISHED-TTL:PT1H
BEGIN:VTIMEZONE
TZID:America/New_York
BEGIN:DAYLIGHT
TZOFFSETFROM:-0500
TZOFFSETTO:-0400
TZNAME:EDT
DTSTART:20280312T070000
END:DAYLIGHT
BEGIN:STANDARD
TZOFFSETFROM:-0400
TZOFFSETTO:-0500
TZNAME:EST
DTSTART:20281105T060000
END:STANDARD
BEGIN:DAYLIGHT
TZOFFSETFROM:-0500
TZOFFSETTO:-0400
TZNAME:EDT
DTSTART:20290311T070000
END:DAYLIGHT
BEGIN:STANDARD
TZOFFSETFROM:-0400
TZOFFSETTO:-0500
TZNAME:EST
DTSTART:20291104T060000
END:STANDARD
BEGIN:DAYLIGHT
TZOFFSETFROM:-0500
TZOFFSETTO:-0400
TZNAME:EDT
DTSTART:20300310T070000
END:DAYLIGHT
BEGIN:STANDARD
TZOFFSETFROM:-0400
TZOFFSETTO:-0500
TZNAME:EST
DTSTART:20301103T060000
END:STANDARD
END:VTIMEZONE
BEGIN:VEVENT
DTSTART;TZID=America/New_York:20290416T183000
DTEND;TZID=America/New_York:20290416T183000
DTSTAMP:20260420T145347
CREATED:20260105T003044Z
LAST-MODIFIED:20260105T055809Z
UID:10019154-1871058600-1871058600@epictriviafl.com
SUMMARY:Music Bingo
DESCRIPTION:
URL:https://epictriviafl.com/event/music-bingo-riverwalk/2029-04-16/
LOCATION:Riverwalk Pizzeria\, 5040 W State Road 46\, Sanford\, FL 32771 USA
GEO:28.8119424;-81.3469456
X-APPLE-STRUCTURED-LOCATION;VALUE=URI;X-ADDRESS=Riverwalk Pizzeria 5040 W State Road 46 Sanford FL 32771 USA;X-APPLE-RADIUS=500;X-TITLE=5040 W State Road 46\, Sanford\, FL 32771 USA:geo:-81.3469456,28.8119424
END:VEVENT
BEGIN:VEVENT
DTSTART;TZID=America/New_York:20290423T183000
DTEND;TZID=America/New_York:20290423T183000
DTSTAMP:20260420T145347
CREATED:20260105T003044Z
LAST-MODIFIED:20260105T055809Z
UID:10019155-1871663400-1871663400@epictriviafl.com
SUMMARY:Music Bingo
DESCRIPTION:
URL:https://epictriviafl.com/event/music-bingo-riverwalk/2029-04-23/
LOCATION:Riverwalk Pizzeria\, 5040 W State Road 46\, Sanford\, FL 32771 USA
GEO:28.8119424;-81.3469456
X-APPLE-STRUCTURED-LOCATION;VALUE=URI;X-ADDRESS=Riverwalk Pizzeria 5040 W State Road 46 Sanford FL 32771 USA;X-APPLE-RADIUS=500;X-TITLE=5040 W State Road 46\, Sanford\, FL 32771 USA:geo:-81.3469456,28.8119424
END:VEVENT
BEGIN:VEVENT
DTSTART;TZID=America/New_York:20290430T183000
DTEND;TZID=America/New_York:20290430T183000
DTSTAMP:20260420T145347
CREATED:20260105T003044Z
LAST-MODIFIED:20260105T055809Z
UID:10019156-1872268200-1872268200@epictriviafl.com
SUMMARY:Music Bingo
DESCRIPTION:
URL:https://epictriviafl.com/event/music-bingo-riverwalk/2029-04-30/
LOCATION:Riverwalk Pizzeria\, 5040 W State Road 46\, Sanford\, FL 32771 USA
GEO:28.8119424;-81.3469456
X-APPLE-STRUCTURED-LOCATION;VALUE=URI;X-ADDRESS=Riverwalk Pizzeria 5040 W State Road 46 Sanford FL 32771 USA;X-APPLE-RADIUS=500;X-TITLE=5040 W State Road 46\, Sanford\, FL 32771 USA:geo:-81.3469456,28.8119424
END:VEVENT
BEGIN:VEVENT
DTSTART;TZID=America/New_York:20290507T183000
DTEND;TZID=America/New_York:20290507T183000
DTSTAMP:20260420T145347
CREATED:20260105T003044Z
LAST-MODIFIED:20260105T055809Z
UID:10019157-1872873000-1872873000@epictriviafl.com
SUMMARY:Music Bingo
DESCRIPTION:
URL:https://epictriviafl.com/event/music-bingo-riverwalk/2029-05-07/
LOCATION:Riverwalk Pizzeria\, 5040 W State Road 46\, Sanford\, FL 32771 USA
GEO:28.8119424;-81.3469456
X-APPLE-STRUCTURED-LOCATION;VALUE=URI;X-ADDRESS=Riverwalk Pizzeria 5040 W State Road 46 Sanford FL 32771 USA;X-APPLE-RADIUS=500;X-TITLE=5040 W State Road 46\, Sanford\, FL 32771 USA:geo:-81.3469456,28.8119424
END:VEVENT
BEGIN:VEVENT
DTSTART;TZID=America/New_York:20290514T183000
DTEND;TZID=America/New_York:20290514T183000
DTSTAMP:20260420T145347
CREATED:20260105T003044Z
LAST-MODIFIED:20260105T055809Z
UID:10019158-1873477800-1873477800@epictriviafl.com
SUMMARY:Music Bingo
DESCRIPTION:
URL:https://epictriviafl.com/event/music-bingo-riverwalk/2029-05-14/
LOCATION:Riverwalk Pizzeria\, 5040 W State Road 46\, Sanford\, FL 32771 USA
GEO:28.8119424;-81.3469456
X-APPLE-STRUCTURED-LOCATION;VALUE=URI;X-ADDRESS=Riverwalk Pizzeria 5040 W State Road 46 Sanford FL 32771 USA;X-APPLE-RADIUS=500;X-TITLE=5040 W State Road 46\, Sanford\, FL 32771 USA:geo:-81.3469456,28.8119424
END:VEVENT
BEGIN:VEVENT
DTSTART;TZID=America/New_York:20290521T183000
DTEND;TZID=America/New_York:20290521T183000
DTSTAMP:20260420T145347
CREATED:20260105T003044Z
LAST-MODIFIED:20260105T055809Z
UID:10019159-1874082600-1874082600@epictriviafl.com
SUMMARY:Music Bingo
DESCRIPTION:
URL:https://epictriviafl.com/event/music-bingo-riverwalk/2029-05-21/
LOCATION:Riverwalk Pizzeria\, 5040 W State Road 46\, Sanford\, FL 32771 USA
GEO:28.8119424;-81.3469456
X-APPLE-STRUCTURED-LOCATION;VALUE=URI;X-ADDRESS=Riverwalk Pizzeria 5040 W State Road 46 Sanford FL 32771 USA;X-APPLE-RADIUS=500;X-TITLE=5040 W State Road 46\, Sanford\, FL 32771 USA:geo:-81.3469456,28.8119424
END:VEVENT
BEGIN:VEVENT
DTSTART;TZID=America/New_York:20290528T183000
DTEND;TZID=America/New_York:20290528T183000
DTSTAMP:20260420T145347
CREATED:20260105T003044Z
LAST-MODIFIED:20260105T055809Z
UID:10019160-1874687400-1874687400@epictriviafl.com
SUMMARY:Music Bingo
DESCRIPTION:
URL:https://epictriviafl.com/event/music-bingo-riverwalk/2029-05-28/
LOCATION:Riverwalk Pizzeria\, 5040 W State Road 46\, Sanford\, FL 32771 USA
GEO:28.8119424;-81.3469456
X-APPLE-STRUCTURED-LOCATION;VALUE=URI;X-ADDRESS=Riverwalk Pizzeria 5040 W State Road 46 Sanford FL 32771 USA;X-APPLE-RADIUS=500;X-TITLE=5040 W State Road 46\, Sanford\, FL 32771 USA:geo:-81.3469456,28.8119424
END:VEVENT
BEGIN:VEVENT
DTSTART;TZID=America/New_York:20290604T183000
DTEND;TZID=America/New_York:20290604T183000
DTSTAMP:20260420T145347
CREATED:20260105T003044Z
LAST-MODIFIED:20260105T055809Z
UID:10019161-1875292200-1875292200@epictriviafl.com
SUMMARY:Music Bingo
DESCRIPTION:
URL:https://epictriviafl.com/event/music-bingo-riverwalk/2029-06-04/
LOCATION:Riverwalk Pizzeria\, 5040 W State Road 46\, Sanford\, FL 32771 USA
GEO:28.8119424;-81.3469456
X-APPLE-STRUCTURED-LOCATION;VALUE=URI;X-ADDRESS=Riverwalk Pizzeria 5040 W State Road 46 Sanford FL 32771 USA;X-APPLE-RADIUS=500;X-TITLE=5040 W State Road 46\, Sanford\, FL 32771 USA:geo:-81.3469456,28.8119424
END:VEVENT
BEGIN:VEVENT
DTSTART;TZID=America/New_York:20290611T183000
DTEND;TZID=America/New_York:20290611T183000
DTSTAMP:20260420T145347
CREATED:20260105T003044Z
LAST-MODIFIED:20260105T055809Z
UID:10019162-1875897000-1875897000@epictriviafl.com
SUMMARY:Music Bingo
DESCRIPTION:
URL:https://epictriviafl.com/event/music-bingo-riverwalk/2029-06-11/
LOCATION:Riverwalk Pizzeria\, 5040 W State Road 46\, Sanford\, FL 32771 USA
GEO:28.8119424;-81.3469456
X-APPLE-STRUCTURED-LOCATION;VALUE=URI;X-ADDRESS=Riverwalk Pizzeria 5040 W State Road 46 Sanford FL 32771 USA;X-APPLE-RADIUS=500;X-TITLE=5040 W State Road 46\, Sanford\, FL 32771 USA:geo:-81.3469456,28.8119424
END:VEVENT
BEGIN:VEVENT
DTSTART;TZID=America/New_York:20290618T183000
DTEND;TZID=America/New_York:20290618T183000
DTSTAMP:20260420T145347
CREATED:20260105T003044Z
LAST-MODIFIED:20260105T055809Z
UID:10019163-1876501800-1876501800@epictriviafl.com
SUMMARY:Music Bingo
DESCRIPTION:
URL:https://epictriviafl.com/event/music-bingo-riverwalk/2029-06-18/
LOCATION:Riverwalk Pizzeria\, 5040 W State Road 46\, Sanford\, FL 32771 USA
GEO:28.8119424;-81.3469456
X-APPLE-STRUCTURED-LOCATION;VALUE=URI;X-ADDRESS=Riverwalk Pizzeria 5040 W State Road 46 Sanford FL 32771 USA;X-APPLE-RADIUS=500;X-TITLE=5040 W State Road 46\, Sanford\, FL 32771 USA:geo:-81.3469456,28.8119424
END:VEVENT
BEGIN:VEVENT
DTSTART;TZID=America/New_York:20290625T183000
DTEND;TZID=America/New_York:20290625T183000
DTSTAMP:20260420T145347
CREATED:20260105T003044Z
LAST-MODIFIED:20260105T055809Z
UID:10019164-1877106600-1877106600@epictriviafl.com
SUMMARY:Music Bingo
DESCRIPTION:
URL:https://epictriviafl.com/event/music-bingo-riverwalk/2029-06-25/
LOCATION:Riverwalk Pizzeria\, 5040 W State Road 46\, Sanford\, FL 32771 USA
GEO:28.8119424;-81.3469456
X-APPLE-STRUCTURED-LOCATION;VALUE=URI;X-ADDRESS=Riverwalk Pizzeria 5040 W State Road 46 Sanford FL 32771 USA;X-APPLE-RADIUS=500;X-TITLE=5040 W State Road 46\, Sanford\, FL 32771 USA:geo:-81.3469456,28.8119424
END:VEVENT
BEGIN:VEVENT
DTSTART;TZID=America/New_York:20290702T183000
DTEND;TZID=America/New_York:20290702T183000
DTSTAMP:20260420T145347
CREATED:20260105T003044Z
LAST-MODIFIED:20260105T055809Z
UID:10019165-1877711400-1877711400@epictriviafl.com
SUMMARY:Music Bingo
DESCRIPTION:
URL:https://epictriviafl.com/event/music-bingo-riverwalk/2029-07-02/
LOCATION:Riverwalk Pizzeria\, 5040 W State Road 46\, Sanford\, FL 32771 USA
GEO:28.8119424;-81.3469456
X-APPLE-STRUCTURED-LOCATION;VALUE=URI;X-ADDRESS=Riverwalk Pizzeria 5040 W State Road 46 Sanford FL 32771 USA;X-APPLE-RADIUS=500;X-TITLE=5040 W State Road 46\, Sanford\, FL 32771 USA:geo:-81.3469456,28.8119424
END:VEVENT
BEGIN:VEVENT
DTSTART;TZID=America/New_York:20290709T183000
DTEND;TZID=America/New_York:20290709T183000
DTSTAMP:20260420T145347
CREATED:20260105T003044Z
LAST-MODIFIED:20260105T055809Z
UID:10019166-1878316200-1878316200@epictriviafl.com
SUMMARY:Music Bingo
DESCRIPTION:
URL:https://epictriviafl.com/event/music-bingo-riverwalk/2029-07-09/
LOCATION:Riverwalk Pizzeria\, 5040 W State Road 46\, Sanford\, FL 32771 USA
GEO:28.8119424;-81.3469456
X-APPLE-STRUCTURED-LOCATION;VALUE=URI;X-ADDRESS=Riverwalk Pizzeria 5040 W State Road 46 Sanford FL 32771 USA;X-APPLE-RADIUS=500;X-TITLE=5040 W State Road 46\, Sanford\, FL 32771 USA:geo:-81.3469456,28.8119424
END:VEVENT
BEGIN:VEVENT
DTSTART;TZID=America/New_York:20290716T183000
DTEND;TZID=America/New_York:20290716T183000
DTSTAMP:20260420T145347
CREATED:20260105T003044Z
LAST-MODIFIED:20260105T055809Z
UID:10019167-1878921000-1878921000@epictriviafl.com
SUMMARY:Music Bingo
DESCRIPTION:
URL:https://epictriviafl.com/event/music-bingo-riverwalk/2029-07-16/
LOCATION:Riverwalk Pizzeria\, 5040 W State Road 46\, Sanford\, FL 32771 USA
GEO:28.8119424;-81.3469456
X-APPLE-STRUCTURED-LOCATION;VALUE=URI;X-ADDRESS=Riverwalk Pizzeria 5040 W State Road 46 Sanford FL 32771 USA;X-APPLE-RADIUS=500;X-TITLE=5040 W State Road 46\, Sanford\, FL 32771 USA:geo:-81.3469456,28.8119424
END:VEVENT
BEGIN:VEVENT
DTSTART;TZID=America/New_York:20290723T183000
DTEND;TZID=America/New_York:20290723T183000
DTSTAMP:20260420T145347
CREATED:20260105T003044Z
LAST-MODIFIED:20260105T055809Z
UID:10019168-1879525800-1879525800@epictriviafl.com
SUMMARY:Music Bingo
DESCRIPTION:
URL:https://epictriviafl.com/event/music-bingo-riverwalk/2029-07-23/
LOCATION:Riverwalk Pizzeria\, 5040 W State Road 46\, Sanford\, FL 32771 USA
GEO:28.8119424;-81.3469456
X-APPLE-STRUCTURED-LOCATION;VALUE=URI;X-ADDRESS=Riverwalk Pizzeria 5040 W State Road 46 Sanford FL 32771 USA;X-APPLE-RADIUS=500;X-TITLE=5040 W State Road 46\, Sanford\, FL 32771 USA:geo:-81.3469456,28.8119424
END:VEVENT
BEGIN:VEVENT
DTSTART;TZID=America/New_York:20290730T183000
DTEND;TZID=America/New_York:20290730T183000
DTSTAMP:20260420T145347
CREATED:20260105T003044Z
LAST-MODIFIED:20260105T055809Z
UID:10019169-1880130600-1880130600@epictriviafl.com
SUMMARY:Music Bingo
DESCRIPTION:
URL:https://epictriviafl.com/event/music-bingo-riverwalk/2029-07-30/
LOCATION:Riverwalk Pizzeria\, 5040 W State Road 46\, Sanford\, FL 32771 USA
GEO:28.8119424;-81.3469456
X-APPLE-STRUCTURED-LOCATION;VALUE=URI;X-ADDRESS=Riverwalk Pizzeria 5040 W State Road 46 Sanford FL 32771 USA;X-APPLE-RADIUS=500;X-TITLE=5040 W State Road 46\, Sanford\, FL 32771 USA:geo:-81.3469456,28.8119424
END:VEVENT
BEGIN:VEVENT
DTSTART;TZID=America/New_York:20290806T183000
DTEND;TZID=America/New_York:20290806T183000
DTSTAMP:20260420T145347
CREATED:20260105T003044Z
LAST-MODIFIED:20260105T055809Z
UID:10019170-1880735400-1880735400@epictriviafl.com
SUMMARY:Music Bingo
DESCRIPTION:
URL:https://epictriviafl.com/event/music-bingo-riverwalk/2029-08-06/
LOCATION:Riverwalk Pizzeria\, 5040 W State Road 46\, Sanford\, FL 32771 USA
GEO:28.8119424;-81.3469456
X-APPLE-STRUCTURED-LOCATION;VALUE=URI;X-ADDRESS=Riverwalk Pizzeria 5040 W State Road 46 Sanford FL 32771 USA;X-APPLE-RADIUS=500;X-TITLE=5040 W State Road 46\, Sanford\, FL 32771 USA:geo:-81.3469456,28.8119424
END:VEVENT
BEGIN:VEVENT
DTSTART;TZID=America/New_York:20290813T183000
DTEND;TZID=America/New_York:20290813T183000
DTSTAMP:20260420T145347
CREATED:20260105T003044Z
LAST-MODIFIED:20260105T055809Z
UID:10019171-1881340200-1881340200@epictriviafl.com
SUMMARY:Music Bingo
DESCRIPTION:
URL:https://epictriviafl.com/event/music-bingo-riverwalk/2029-08-13/
LOCATION:Riverwalk Pizzeria\, 5040 W State Road 46\, Sanford\, FL 32771 USA
GEO:28.8119424;-81.3469456
X-APPLE-STRUCTURED-LOCATION;VALUE=URI;X-ADDRESS=Riverwalk Pizzeria 5040 W State Road 46 Sanford FL 32771 USA;X-APPLE-RADIUS=500;X-TITLE=5040 W State Road 46\, Sanford\, FL 32771 USA:geo:-81.3469456,28.8119424
END:VEVENT
BEGIN:VEVENT
DTSTART;TZID=America/New_York:20290820T183000
DTEND;TZID=America/New_York:20290820T183000
DTSTAMP:20260420T145347
CREATED:20260105T003044Z
LAST-MODIFIED:20260105T055809Z
UID:10019172-1881945000-1881945000@epictriviafl.com
SUMMARY:Music Bingo
DESCRIPTION:
URL:https://epictriviafl.com/event/music-bingo-riverwalk/2029-08-20/
LOCATION:Riverwalk Pizzeria\, 5040 W State Road 46\, Sanford\, FL 32771 USA
GEO:28.8119424;-81.3469456
X-APPLE-STRUCTURED-LOCATION;VALUE=URI;X-ADDRESS=Riverwalk Pizzeria 5040 W State Road 46 Sanford FL 32771 USA;X-APPLE-RADIUS=500;X-TITLE=5040 W State Road 46\, Sanford\, FL 32771 USA:geo:-81.3469456,28.8119424
END:VEVENT
BEGIN:VEVENT
DTSTART;TZID=America/New_York:20290827T183000
DTEND;TZID=America/New_York:20290827T183000
DTSTAMP:20260420T145347
CREATED:20260105T003044Z
LAST-MODIFIED:20260105T055809Z
UID:10019173-1882549800-1882549800@epictriviafl.com
SUMMARY:Music Bingo
DESCRIPTION:
URL:https://epictriviafl.com/event/music-bingo-riverwalk/2029-08-27/
LOCATION:Riverwalk Pizzeria\, 5040 W State Road 46\, Sanford\, FL 32771 USA
GEO:28.8119424;-81.3469456
X-APPLE-STRUCTURED-LOCATION;VALUE=URI;X-ADDRESS=Riverwalk Pizzeria 5040 W State Road 46 Sanford FL 32771 USA;X-APPLE-RADIUS=500;X-TITLE=5040 W State Road 46\, Sanford\, FL 32771 USA:geo:-81.3469456,28.8119424
END:VEVENT
BEGIN:VEVENT
DTSTART;TZID=America/New_York:20290903T183000
DTEND;TZID=America/New_York:20290903T183000
DTSTAMP:20260420T145347
CREATED:20260105T003044Z
LAST-MODIFIED:20260105T055809Z
UID:10019174-1883154600-1883154600@epictriviafl.com
SUMMARY:Music Bingo
DESCRIPTION:
URL:https://epictriviafl.com/event/music-bingo-riverwalk/2029-09-03/
LOCATION:Riverwalk Pizzeria\, 5040 W State Road 46\, Sanford\, FL 32771 USA
GEO:28.8119424;-81.3469456
X-APPLE-STRUCTURED-LOCATION;VALUE=URI;X-ADDRESS=Riverwalk Pizzeria 5040 W State Road 46 Sanford FL 32771 USA;X-APPLE-RADIUS=500;X-TITLE=5040 W State Road 46\, Sanford\, FL 32771 USA:geo:-81.3469456,28.8119424
END:VEVENT
BEGIN:VEVENT
DTSTART;TZID=America/New_York:20290910T183000
DTEND;TZID=America/New_York:20290910T183000
DTSTAMP:20260420T145347
CREATED:20260105T003044Z
LAST-MODIFIED:20260105T055809Z
UID:10019175-1883759400-1883759400@epictriviafl.com
SUMMARY:Music Bingo
DESCRIPTION:
URL:https://epictriviafl.com/event/music-bingo-riverwalk/2029-09-10/
LOCATION:Riverwalk Pizzeria\, 5040 W State Road 46\, Sanford\, FL 32771 USA
GEO:28.8119424;-81.3469456
X-APPLE-STRUCTURED-LOCATION;VALUE=URI;X-ADDRESS=Riverwalk Pizzeria 5040 W State Road 46 Sanford FL 32771 USA;X-APPLE-RADIUS=500;X-TITLE=5040 W State Road 46\, Sanford\, FL 32771 USA:geo:-81.3469456,28.8119424
END:VEVENT
BEGIN:VEVENT
DTSTART;TZID=America/New_York:20290917T183000
DTEND;TZID=America/New_York:20290917T183000
DTSTAMP:20260420T145347
CREATED:20260105T003044Z
LAST-MODIFIED:20260105T055809Z
UID:10019176-1884364200-1884364200@epictriviafl.com
SUMMARY:Music Bingo
DESCRIPTION:
URL:https://epictriviafl.com/event/music-bingo-riverwalk/2029-09-17/
LOCATION:Riverwalk Pizzeria\, 5040 W State Road 46\, Sanford\, FL 32771 USA
GEO:28.8119424;-81.3469456
X-APPLE-STRUCTURED-LOCATION;VALUE=URI;X-ADDRESS=Riverwalk Pizzeria 5040 W State Road 46 Sanford FL 32771 USA;X-APPLE-RADIUS=500;X-TITLE=5040 W State Road 46\, Sanford\, FL 32771 USA:geo:-81.3469456,28.8119424
END:VEVENT
BEGIN:VEVENT
DTSTART;TZID=America/New_York:20290924T183000
DTEND;TZID=America/New_York:20290924T183000
DTSTAMP:20260420T145347
CREATED:20260105T003044Z
LAST-MODIFIED:20260105T055809Z
UID:10019177-1884969000-1884969000@epictriviafl.com
SUMMARY:Music Bingo
DESCRIPTION:
URL:https://epictriviafl.com/event/music-bingo-riverwalk/2029-09-24/
LOCATION:Riverwalk Pizzeria\, 5040 W State Road 46\, Sanford\, FL 32771 USA
GEO:28.8119424;-81.3469456
X-APPLE-STRUCTURED-LOCATION;VALUE=URI;X-ADDRESS=Riverwalk Pizzeria 5040 W State Road 46 Sanford FL 32771 USA;X-APPLE-RADIUS=500;X-TITLE=5040 W State Road 46\, Sanford\, FL 32771 USA:geo:-81.3469456,28.8119424
END:VEVENT
BEGIN:VEVENT
DTSTART;TZID=America/New_York:20291001T183000
DTEND;TZID=America/New_York:20291001T183000
DTSTAMP:20260420T145347
CREATED:20260105T003044Z
LAST-MODIFIED:20260105T055809Z
UID:10019178-1885573800-1885573800@epictriviafl.com
SUMMARY:Music Bingo
DESCRIPTION:
URL:https://epictriviafl.com/event/music-bingo-riverwalk/2029-10-01/
LOCATION:Riverwalk Pizzeria\, 5040 W State Road 46\, Sanford\, FL 32771 USA
GEO:28.8119424;-81.3469456
X-APPLE-STRUCTURED-LOCATION;VALUE=URI;X-ADDRESS=Riverwalk Pizzeria 5040 W State Road 46 Sanford FL 32771 USA;X-APPLE-RADIUS=500;X-TITLE=5040 W State Road 46\, Sanford\, FL 32771 USA:geo:-81.3469456,28.8119424
END:VEVENT
BEGIN:VEVENT
DTSTART;TZID=America/New_York:20291008T183000
DTEND;TZID=America/New_York:20291008T183000
DTSTAMP:20260420T145347
CREATED:20260105T003044Z
LAST-MODIFIED:20260105T055809Z
UID:10019179-1886178600-1886178600@epictriviafl.com
SUMMARY:Music Bingo
DESCRIPTION:
URL:https://epictriviafl.com/event/music-bingo-riverwalk/2029-10-08/
LOCATION:Riverwalk Pizzeria\, 5040 W State Road 46\, Sanford\, FL 32771 USA
GEO:28.8119424;-81.3469456
X-APPLE-STRUCTURED-LOCATION;VALUE=URI;X-ADDRESS=Riverwalk Pizzeria 5040 W State Road 46 Sanford FL 32771 USA;X-APPLE-RADIUS=500;X-TITLE=5040 W State Road 46\, Sanford\, FL 32771 USA:geo:-81.3469456,28.8119424
END:VEVENT
BEGIN:VEVENT
DTSTART;TZID=America/New_York:20291015T183000
DTEND;TZID=America/New_York:20291015T183000
DTSTAMP:20260420T145347
CREATED:20260105T003044Z
LAST-MODIFIED:20260105T055809Z
UID:10019180-1886783400-1886783400@epictriviafl.com
SUMMARY:Music Bingo
DESCRIPTION:
URL:https://epictriviafl.com/event/music-bingo-riverwalk/2029-10-15/
LOCATION:Riverwalk Pizzeria\, 5040 W State Road 46\, Sanford\, FL 32771 USA
GEO:28.8119424;-81.3469456
X-APPLE-STRUCTURED-LOCATION;VALUE=URI;X-ADDRESS=Riverwalk Pizzeria 5040 W State Road 46 Sanford FL 32771 USA;X-APPLE-RADIUS=500;X-TITLE=5040 W State Road 46\, Sanford\, FL 32771 USA:geo:-81.3469456,28.8119424
END:VEVENT
BEGIN:VEVENT
DTSTART;TZID=America/New_York:20291022T183000
DTEND;TZID=America/New_York:20291022T183000
DTSTAMP:20260420T145347
CREATED:20260105T003044Z
LAST-MODIFIED:20260105T055809Z
UID:10019181-1887388200-1887388200@epictriviafl.com
SUMMARY:Music Bingo
DESCRIPTION:
URL:https://epictriviafl.com/event/music-bingo-riverwalk/2029-10-22/
LOCATION:Riverwalk Pizzeria\, 5040 W State Road 46\, Sanford\, FL 32771 USA
GEO:28.8119424;-81.3469456
X-APPLE-STRUCTURED-LOCATION;VALUE=URI;X-ADDRESS=Riverwalk Pizzeria 5040 W State Road 46 Sanford FL 32771 USA;X-APPLE-RADIUS=500;X-TITLE=5040 W State Road 46\, Sanford\, FL 32771 USA:geo:-81.3469456,28.8119424
END:VEVENT
BEGIN:VEVENT
DTSTART;TZID=America/New_York:20291029T183000
DTEND;TZID=America/New_York:20291029T183000
DTSTAMP:20260420T145347
CREATED:20260105T003044Z
LAST-MODIFIED:20260105T055809Z
UID:10019182-1887993000-1887993000@epictriviafl.com
SUMMARY:Music Bingo
DESCRIPTION:
URL:https://epictriviafl.com/event/music-bingo-riverwalk/2029-10-29/
LOCATION:Riverwalk Pizzeria\, 5040 W State Road 46\, Sanford\, FL 32771 USA
GEO:28.8119424;-81.3469456
X-APPLE-STRUCTURED-LOCATION;VALUE=URI;X-ADDRESS=Riverwalk Pizzeria 5040 W State Road 46 Sanford FL 32771 USA;X-APPLE-RADIUS=500;X-TITLE=5040 W State Road 46\, Sanford\, FL 32771 USA:geo:-81.3469456,28.8119424
END:VEVENT
BEGIN:VEVENT
DTSTART;TZID=America/New_York:20291105T183000
DTEND;TZID=America/New_York:20291105T183000
DTSTAMP:20260420T145347
CREATED:20260105T003044Z
LAST-MODIFIED:20260105T055809Z
UID:10019183-1888597800-1888597800@epictriviafl.com
SUMMARY:Music Bingo
DESCRIPTION:
URL:https://epictriviafl.com/event/music-bingo-riverwalk/2029-11-05/
LOCATION:Riverwalk Pizzeria\, 5040 W State Road 46\, Sanford\, FL 32771 USA
GEO:28.8119424;-81.3469456
X-APPLE-STRUCTURED-LOCATION;VALUE=URI;X-ADDRESS=Riverwalk Pizzeria 5040 W State Road 46 Sanford FL 32771 USA;X-APPLE-RADIUS=500;X-TITLE=5040 W State Road 46\, Sanford\, FL 32771 USA:geo:-81.3469456,28.8119424
END:VEVENT
END:VCALENDAR