BEGIN:VCALENDAR
VERSION:2.0
PRODID:-//Epic Trivia - ECPv6.15.18//NONSGML v1.0//EN
CALSCALE:GREGORIAN
METHOD:PUBLISH
X-ORIGINAL-URL:https://epictriviafl.com
X-WR-CALDESC:Events for Epic Trivia
REFRESH-INTERVAL;VALUE=DURATION:PT1H
X-Robots-Tag:noindex
X-PUBLISHED-TTL:PT1H
BEGIN:VTIMEZONE
TZID:America/New_York
BEGIN:DAYLIGHT
TZOFFSETFROM:-0500
TZOFFSETTO:-0400
TZNAME:EDT
DTSTART:20250309T070000
END:DAYLIGHT
BEGIN:STANDARD
TZOFFSETFROM:-0400
TZOFFSETTO:-0500
TZNAME:EST
DTSTART:20251102T060000
END:STANDARD
BEGIN:DAYLIGHT
TZOFFSETFROM:-0500
TZOFFSETTO:-0400
TZNAME:EDT
DTSTART:20260308T070000
END:DAYLIGHT
BEGIN:STANDARD
TZOFFSETFROM:-0400
TZOFFSETTO:-0500
TZNAME:EST
DTSTART:20261101T060000
END:STANDARD
BEGIN:DAYLIGHT
TZOFFSETFROM:-0500
TZOFFSETTO:-0400
TZNAME:EDT
DTSTART:20270314T070000
END:DAYLIGHT
BEGIN:STANDARD
TZOFFSETFROM:-0400
TZOFFSETTO:-0500
TZNAME:EST
DTSTART:20271107T060000
END:STANDARD
BEGIN:DAYLIGHT
TZOFFSETFROM:-0500
TZOFFSETTO:-0400
TZNAME:EDT
DTSTART:20280312T070000
END:DAYLIGHT
BEGIN:STANDARD
TZOFFSETFROM:-0400
TZOFFSETTO:-0500
TZNAME:EST
DTSTART:20281105T060000
END:STANDARD
END:VTIMEZONE
BEGIN:VEVENT
DTSTART;TZID=America/New_York:20261119T200000
DTEND;TZID=America/New_York:20261119T200000
DTSTAMP:20260419T210414
CREATED:20260105T003204Z
LAST-MODIFIED:20260105T053854Z
UID:10010188-1795118400-1795118400@epictriviafl.com
SUMMARY:Trivia
DESCRIPTION:
URL:https://epictriviafl.com/event/trivia-pocha/2026-11-19/
LOCATION:Pocha 93\, 7379 W Colonial Dr\, Orlando FL 32818 USA
GEO:28.5526374;-81.4808195
X-APPLE-STRUCTURED-LOCATION;VALUE=URI;X-ADDRESS=Pocha 93 7379 W Colonial Dr Orlando FL 32818 USA;X-APPLE-RADIUS=500;X-TITLE=7379 W Colonial Dr\, Orlando FL 32818 USA:geo:-81.4808195,28.5526374
END:VEVENT
BEGIN:VEVENT
DTSTART;TZID=America/New_York:20261120T200000
DTEND;TZID=America/New_York:20261120T200000
DTSTAMP:20260419T210414
CREATED:20260105T003218Z
LAST-MODIFIED:20260105T053720Z
UID:10009148-1795204800-1795204800@epictriviafl.com
SUMMARY:Music Bingo
DESCRIPTION:
URL:https://epictriviafl.com/event/music-bingo-pocha/2026-11-20/
LOCATION:Pocha 93\, 7379 W Colonial Dr\, Orlando FL 32818 USA
GEO:28.5526374;-81.4808195
X-APPLE-STRUCTURED-LOCATION;VALUE=URI;X-ADDRESS=Pocha 93 7379 W Colonial Dr Orlando FL 32818 USA;X-APPLE-RADIUS=500;X-TITLE=7379 W Colonial Dr\, Orlando FL 32818 USA:geo:-81.4808195,28.5526374
END:VEVENT
BEGIN:VEVENT
DTSTART;TZID=America/New_York:20261126T200000
DTEND;TZID=America/New_York:20261126T200000
DTSTAMP:20260419T210414
CREATED:20260105T003204Z
LAST-MODIFIED:20260105T053854Z
UID:10010189-1795723200-1795723200@epictriviafl.com
SUMMARY:Trivia
DESCRIPTION:
URL:https://epictriviafl.com/event/trivia-pocha/2026-11-26/
LOCATION:Pocha 93\, 7379 W Colonial Dr\, Orlando FL 32818 USA
GEO:28.5526374;-81.4808195
X-APPLE-STRUCTURED-LOCATION;VALUE=URI;X-ADDRESS=Pocha 93 7379 W Colonial Dr Orlando FL 32818 USA;X-APPLE-RADIUS=500;X-TITLE=7379 W Colonial Dr\, Orlando FL 32818 USA:geo:-81.4808195,28.5526374
END:VEVENT
BEGIN:VEVENT
DTSTART;TZID=America/New_York:20261127T200000
DTEND;TZID=America/New_York:20261127T200000
DTSTAMP:20260419T210414
CREATED:20260105T003218Z
LAST-MODIFIED:20260105T053720Z
UID:10009149-1795809600-1795809600@epictriviafl.com
SUMMARY:Music Bingo
DESCRIPTION:
URL:https://epictriviafl.com/event/music-bingo-pocha/2026-11-27/
LOCATION:Pocha 93\, 7379 W Colonial Dr\, Orlando FL 32818 USA
GEO:28.5526374;-81.4808195
X-APPLE-STRUCTURED-LOCATION;VALUE=URI;X-ADDRESS=Pocha 93 7379 W Colonial Dr Orlando FL 32818 USA;X-APPLE-RADIUS=500;X-TITLE=7379 W Colonial Dr\, Orlando FL 32818 USA:geo:-81.4808195,28.5526374
END:VEVENT
BEGIN:VEVENT
DTSTART;TZID=America/New_York:20261203T200000
DTEND;TZID=America/New_York:20261203T200000
DTSTAMP:20260419T210414
CREATED:20260105T003204Z
LAST-MODIFIED:20260105T053854Z
UID:10010190-1796328000-1796328000@epictriviafl.com
SUMMARY:Trivia
DESCRIPTION:
URL:https://epictriviafl.com/event/trivia-pocha/2026-12-03/
LOCATION:Pocha 93\, 7379 W Colonial Dr\, Orlando FL 32818 USA
GEO:28.5526374;-81.4808195
X-APPLE-STRUCTURED-LOCATION;VALUE=URI;X-ADDRESS=Pocha 93 7379 W Colonial Dr Orlando FL 32818 USA;X-APPLE-RADIUS=500;X-TITLE=7379 W Colonial Dr\, Orlando FL 32818 USA:geo:-81.4808195,28.5526374
END:VEVENT
BEGIN:VEVENT
DTSTART;TZID=America/New_York:20261204T200000
DTEND;TZID=America/New_York:20261204T200000
DTSTAMP:20260419T210414
CREATED:20260105T003218Z
LAST-MODIFIED:20260105T053720Z
UID:10009150-1796414400-1796414400@epictriviafl.com
SUMMARY:Music Bingo
DESCRIPTION:
URL:https://epictriviafl.com/event/music-bingo-pocha/2026-12-04/
LOCATION:Pocha 93\, 7379 W Colonial Dr\, Orlando FL 32818 USA
GEO:28.5526374;-81.4808195
X-APPLE-STRUCTURED-LOCATION;VALUE=URI;X-ADDRESS=Pocha 93 7379 W Colonial Dr Orlando FL 32818 USA;X-APPLE-RADIUS=500;X-TITLE=7379 W Colonial Dr\, Orlando FL 32818 USA:geo:-81.4808195,28.5526374
END:VEVENT
BEGIN:VEVENT
DTSTART;TZID=America/New_York:20261210T200000
DTEND;TZID=America/New_York:20261210T200000
DTSTAMP:20260419T210414
CREATED:20260105T003204Z
LAST-MODIFIED:20260105T053854Z
UID:10010191-1796932800-1796932800@epictriviafl.com
SUMMARY:Trivia
DESCRIPTION:
URL:https://epictriviafl.com/event/trivia-pocha/2026-12-10/
LOCATION:Pocha 93\, 7379 W Colonial Dr\, Orlando FL 32818 USA
GEO:28.5526374;-81.4808195
X-APPLE-STRUCTURED-LOCATION;VALUE=URI;X-ADDRESS=Pocha 93 7379 W Colonial Dr Orlando FL 32818 USA;X-APPLE-RADIUS=500;X-TITLE=7379 W Colonial Dr\, Orlando FL 32818 USA:geo:-81.4808195,28.5526374
END:VEVENT
BEGIN:VEVENT
DTSTART;TZID=America/New_York:20261211T200000
DTEND;TZID=America/New_York:20261211T200000
DTSTAMP:20260419T210414
CREATED:20260105T003218Z
LAST-MODIFIED:20260105T053720Z
UID:10009151-1797019200-1797019200@epictriviafl.com
SUMMARY:Music Bingo
DESCRIPTION:
URL:https://epictriviafl.com/event/music-bingo-pocha/2026-12-11/
LOCATION:Pocha 93\, 7379 W Colonial Dr\, Orlando FL 32818 USA
GEO:28.5526374;-81.4808195
X-APPLE-STRUCTURED-LOCATION;VALUE=URI;X-ADDRESS=Pocha 93 7379 W Colonial Dr Orlando FL 32818 USA;X-APPLE-RADIUS=500;X-TITLE=7379 W Colonial Dr\, Orlando FL 32818 USA:geo:-81.4808195,28.5526374
END:VEVENT
BEGIN:VEVENT
DTSTART;TZID=America/New_York:20261217T200000
DTEND;TZID=America/New_York:20261217T200000
DTSTAMP:20260419T210414
CREATED:20260105T003204Z
LAST-MODIFIED:20260105T053854Z
UID:10010192-1797537600-1797537600@epictriviafl.com
SUMMARY:Trivia
DESCRIPTION:
URL:https://epictriviafl.com/event/trivia-pocha/2026-12-17/
LOCATION:Pocha 93\, 7379 W Colonial Dr\, Orlando FL 32818 USA
GEO:28.5526374;-81.4808195
X-APPLE-STRUCTURED-LOCATION;VALUE=URI;X-ADDRESS=Pocha 93 7379 W Colonial Dr Orlando FL 32818 USA;X-APPLE-RADIUS=500;X-TITLE=7379 W Colonial Dr\, Orlando FL 32818 USA:geo:-81.4808195,28.5526374
END:VEVENT
BEGIN:VEVENT
DTSTART;TZID=America/New_York:20261218T200000
DTEND;TZID=America/New_York:20261218T200000
DTSTAMP:20260419T210414
CREATED:20260105T003218Z
LAST-MODIFIED:20260105T053720Z
UID:10009152-1797624000-1797624000@epictriviafl.com
SUMMARY:Music Bingo
DESCRIPTION:
URL:https://epictriviafl.com/event/music-bingo-pocha/2026-12-18/
LOCATION:Pocha 93\, 7379 W Colonial Dr\, Orlando FL 32818 USA
GEO:28.5526374;-81.4808195
X-APPLE-STRUCTURED-LOCATION;VALUE=URI;X-ADDRESS=Pocha 93 7379 W Colonial Dr Orlando FL 32818 USA;X-APPLE-RADIUS=500;X-TITLE=7379 W Colonial Dr\, Orlando FL 32818 USA:geo:-81.4808195,28.5526374
END:VEVENT
BEGIN:VEVENT
DTSTART;TZID=America/New_York:20261224T200000
DTEND;TZID=America/New_York:20261224T200000
DTSTAMP:20260419T210414
CREATED:20260105T003204Z
LAST-MODIFIED:20260105T053854Z
UID:10010193-1798142400-1798142400@epictriviafl.com
SUMMARY:Trivia
DESCRIPTION:
URL:https://epictriviafl.com/event/trivia-pocha/2026-12-24/
LOCATION:Pocha 93\, 7379 W Colonial Dr\, Orlando FL 32818 USA
GEO:28.5526374;-81.4808195
X-APPLE-STRUCTURED-LOCATION;VALUE=URI;X-ADDRESS=Pocha 93 7379 W Colonial Dr Orlando FL 32818 USA;X-APPLE-RADIUS=500;X-TITLE=7379 W Colonial Dr\, Orlando FL 32818 USA:geo:-81.4808195,28.5526374
END:VEVENT
BEGIN:VEVENT
DTSTART;TZID=America/New_York:20261225T200000
DTEND;TZID=America/New_York:20261225T200000
DTSTAMP:20260419T210414
CREATED:20260105T003218Z
LAST-MODIFIED:20260105T053720Z
UID:10009153-1798228800-1798228800@epictriviafl.com
SUMMARY:Music Bingo
DESCRIPTION:
URL:https://epictriviafl.com/event/music-bingo-pocha/2026-12-25/
LOCATION:Pocha 93\, 7379 W Colonial Dr\, Orlando FL 32818 USA
GEO:28.5526374;-81.4808195
X-APPLE-STRUCTURED-LOCATION;VALUE=URI;X-ADDRESS=Pocha 93 7379 W Colonial Dr Orlando FL 32818 USA;X-APPLE-RADIUS=500;X-TITLE=7379 W Colonial Dr\, Orlando FL 32818 USA:geo:-81.4808195,28.5526374
END:VEVENT
BEGIN:VEVENT
DTSTART;TZID=America/New_York:20261231T200000
DTEND;TZID=America/New_York:20261231T200000
DTSTAMP:20260419T210414
CREATED:20260105T003204Z
LAST-MODIFIED:20260105T053854Z
UID:10010194-1798747200-1798747200@epictriviafl.com
SUMMARY:Trivia
DESCRIPTION:
URL:https://epictriviafl.com/event/trivia-pocha/2026-12-31/
LOCATION:Pocha 93\, 7379 W Colonial Dr\, Orlando FL 32818 USA
GEO:28.5526374;-81.4808195
X-APPLE-STRUCTURED-LOCATION;VALUE=URI;X-ADDRESS=Pocha 93 7379 W Colonial Dr Orlando FL 32818 USA;X-APPLE-RADIUS=500;X-TITLE=7379 W Colonial Dr\, Orlando FL 32818 USA:geo:-81.4808195,28.5526374
END:VEVENT
BEGIN:VEVENT
DTSTART;TZID=America/New_York:20270101T200000
DTEND;TZID=America/New_York:20270101T200000
DTSTAMP:20260419T210414
CREATED:20260105T003218Z
LAST-MODIFIED:20260105T053720Z
UID:10009154-1798833600-1798833600@epictriviafl.com
SUMMARY:Music Bingo
DESCRIPTION:
URL:https://epictriviafl.com/event/music-bingo-pocha/2027-01-01/
LOCATION:Pocha 93\, 7379 W Colonial Dr\, Orlando FL 32818 USA
GEO:28.5526374;-81.4808195
X-APPLE-STRUCTURED-LOCATION;VALUE=URI;X-ADDRESS=Pocha 93 7379 W Colonial Dr Orlando FL 32818 USA;X-APPLE-RADIUS=500;X-TITLE=7379 W Colonial Dr\, Orlando FL 32818 USA:geo:-81.4808195,28.5526374
END:VEVENT
BEGIN:VEVENT
DTSTART;TZID=America/New_York:20270107T200000
DTEND;TZID=America/New_York:20270107T200000
DTSTAMP:20260419T210414
CREATED:20260105T003204Z
LAST-MODIFIED:20260105T053854Z
UID:10010195-1799352000-1799352000@epictriviafl.com
SUMMARY:Trivia
DESCRIPTION:
URL:https://epictriviafl.com/event/trivia-pocha/2027-01-07/
LOCATION:Pocha 93\, 7379 W Colonial Dr\, Orlando FL 32818 USA
GEO:28.5526374;-81.4808195
X-APPLE-STRUCTURED-LOCATION;VALUE=URI;X-ADDRESS=Pocha 93 7379 W Colonial Dr Orlando FL 32818 USA;X-APPLE-RADIUS=500;X-TITLE=7379 W Colonial Dr\, Orlando FL 32818 USA:geo:-81.4808195,28.5526374
END:VEVENT
BEGIN:VEVENT
DTSTART;TZID=America/New_York:20270108T200000
DTEND;TZID=America/New_York:20270108T200000
DTSTAMP:20260419T210414
CREATED:20260105T003218Z
LAST-MODIFIED:20260105T053720Z
UID:10009155-1799438400-1799438400@epictriviafl.com
SUMMARY:Music Bingo
DESCRIPTION:
URL:https://epictriviafl.com/event/music-bingo-pocha/2027-01-08/
LOCATION:Pocha 93\, 7379 W Colonial Dr\, Orlando FL 32818 USA
GEO:28.5526374;-81.4808195
X-APPLE-STRUCTURED-LOCATION;VALUE=URI;X-ADDRESS=Pocha 93 7379 W Colonial Dr Orlando FL 32818 USA;X-APPLE-RADIUS=500;X-TITLE=7379 W Colonial Dr\, Orlando FL 32818 USA:geo:-81.4808195,28.5526374
END:VEVENT
BEGIN:VEVENT
DTSTART;TZID=America/New_York:20270114T200000
DTEND;TZID=America/New_York:20270114T200000
DTSTAMP:20260419T210414
CREATED:20260105T003204Z
LAST-MODIFIED:20260105T053854Z
UID:10010196-1799956800-1799956800@epictriviafl.com
SUMMARY:Trivia
DESCRIPTION:
URL:https://epictriviafl.com/event/trivia-pocha/2027-01-14/
LOCATION:Pocha 93\, 7379 W Colonial Dr\, Orlando FL 32818 USA
GEO:28.5526374;-81.4808195
X-APPLE-STRUCTURED-LOCATION;VALUE=URI;X-ADDRESS=Pocha 93 7379 W Colonial Dr Orlando FL 32818 USA;X-APPLE-RADIUS=500;X-TITLE=7379 W Colonial Dr\, Orlando FL 32818 USA:geo:-81.4808195,28.5526374
END:VEVENT
BEGIN:VEVENT
DTSTART;TZID=America/New_York:20270115T200000
DTEND;TZID=America/New_York:20270115T200000
DTSTAMP:20260419T210414
CREATED:20260105T003218Z
LAST-MODIFIED:20260105T053720Z
UID:10009156-1800043200-1800043200@epictriviafl.com
SUMMARY:Music Bingo
DESCRIPTION:
URL:https://epictriviafl.com/event/music-bingo-pocha/2027-01-15/
LOCATION:Pocha 93\, 7379 W Colonial Dr\, Orlando FL 32818 USA
GEO:28.5526374;-81.4808195
X-APPLE-STRUCTURED-LOCATION;VALUE=URI;X-ADDRESS=Pocha 93 7379 W Colonial Dr Orlando FL 32818 USA;X-APPLE-RADIUS=500;X-TITLE=7379 W Colonial Dr\, Orlando FL 32818 USA:geo:-81.4808195,28.5526374
END:VEVENT
BEGIN:VEVENT
DTSTART;TZID=America/New_York:20270121T200000
DTEND;TZID=America/New_York:20270121T200000
DTSTAMP:20260419T210414
CREATED:20260105T003204Z
LAST-MODIFIED:20260105T053854Z
UID:10010197-1800561600-1800561600@epictriviafl.com
SUMMARY:Trivia
DESCRIPTION:
URL:https://epictriviafl.com/event/trivia-pocha/2027-01-21/
LOCATION:Pocha 93\, 7379 W Colonial Dr\, Orlando FL 32818 USA
GEO:28.5526374;-81.4808195
X-APPLE-STRUCTURED-LOCATION;VALUE=URI;X-ADDRESS=Pocha 93 7379 W Colonial Dr Orlando FL 32818 USA;X-APPLE-RADIUS=500;X-TITLE=7379 W Colonial Dr\, Orlando FL 32818 USA:geo:-81.4808195,28.5526374
END:VEVENT
BEGIN:VEVENT
DTSTART;TZID=America/New_York:20270122T200000
DTEND;TZID=America/New_York:20270122T200000
DTSTAMP:20260419T210414
CREATED:20260105T003218Z
LAST-MODIFIED:20260105T053720Z
UID:10009157-1800648000-1800648000@epictriviafl.com
SUMMARY:Music Bingo
DESCRIPTION:
URL:https://epictriviafl.com/event/music-bingo-pocha/2027-01-22/
LOCATION:Pocha 93\, 7379 W Colonial Dr\, Orlando FL 32818 USA
GEO:28.5526374;-81.4808195
X-APPLE-STRUCTURED-LOCATION;VALUE=URI;X-ADDRESS=Pocha 93 7379 W Colonial Dr Orlando FL 32818 USA;X-APPLE-RADIUS=500;X-TITLE=7379 W Colonial Dr\, Orlando FL 32818 USA:geo:-81.4808195,28.5526374
END:VEVENT
BEGIN:VEVENT
DTSTART;TZID=America/New_York:20270128T200000
DTEND;TZID=America/New_York:20270128T200000
DTSTAMP:20260419T210414
CREATED:20260105T003204Z
LAST-MODIFIED:20260105T053854Z
UID:10010198-1801166400-1801166400@epictriviafl.com
SUMMARY:Trivia
DESCRIPTION:
URL:https://epictriviafl.com/event/trivia-pocha/2027-01-28/
LOCATION:Pocha 93\, 7379 W Colonial Dr\, Orlando FL 32818 USA
GEO:28.5526374;-81.4808195
X-APPLE-STRUCTURED-LOCATION;VALUE=URI;X-ADDRESS=Pocha 93 7379 W Colonial Dr Orlando FL 32818 USA;X-APPLE-RADIUS=500;X-TITLE=7379 W Colonial Dr\, Orlando FL 32818 USA:geo:-81.4808195,28.5526374
END:VEVENT
BEGIN:VEVENT
DTSTART;TZID=America/New_York:20270129T200000
DTEND;TZID=America/New_York:20270129T200000
DTSTAMP:20260419T210414
CREATED:20260105T003218Z
LAST-MODIFIED:20260105T053720Z
UID:10009158-1801252800-1801252800@epictriviafl.com
SUMMARY:Music Bingo
DESCRIPTION:
URL:https://epictriviafl.com/event/music-bingo-pocha/2027-01-29/
LOCATION:Pocha 93\, 7379 W Colonial Dr\, Orlando FL 32818 USA
GEO:28.5526374;-81.4808195
X-APPLE-STRUCTURED-LOCATION;VALUE=URI;X-ADDRESS=Pocha 93 7379 W Colonial Dr Orlando FL 32818 USA;X-APPLE-RADIUS=500;X-TITLE=7379 W Colonial Dr\, Orlando FL 32818 USA:geo:-81.4808195,28.5526374
END:VEVENT
BEGIN:VEVENT
DTSTART;TZID=America/New_York:20270204T200000
DTEND;TZID=America/New_York:20270204T200000
DTSTAMP:20260419T210414
CREATED:20260105T003204Z
LAST-MODIFIED:20260105T053854Z
UID:10010199-1801771200-1801771200@epictriviafl.com
SUMMARY:Trivia
DESCRIPTION:
URL:https://epictriviafl.com/event/trivia-pocha/2027-02-04/
LOCATION:Pocha 93\, 7379 W Colonial Dr\, Orlando FL 32818 USA
GEO:28.5526374;-81.4808195
X-APPLE-STRUCTURED-LOCATION;VALUE=URI;X-ADDRESS=Pocha 93 7379 W Colonial Dr Orlando FL 32818 USA;X-APPLE-RADIUS=500;X-TITLE=7379 W Colonial Dr\, Orlando FL 32818 USA:geo:-81.4808195,28.5526374
END:VEVENT
BEGIN:VEVENT
DTSTART;TZID=America/New_York:20270205T200000
DTEND;TZID=America/New_York:20270205T200000
DTSTAMP:20260419T210414
CREATED:20260105T003218Z
LAST-MODIFIED:20260105T053720Z
UID:10009159-1801857600-1801857600@epictriviafl.com
SUMMARY:Music Bingo
DESCRIPTION:
URL:https://epictriviafl.com/event/music-bingo-pocha/2027-02-05/
LOCATION:Pocha 93\, 7379 W Colonial Dr\, Orlando FL 32818 USA
GEO:28.5526374;-81.4808195
X-APPLE-STRUCTURED-LOCATION;VALUE=URI;X-ADDRESS=Pocha 93 7379 W Colonial Dr Orlando FL 32818 USA;X-APPLE-RADIUS=500;X-TITLE=7379 W Colonial Dr\, Orlando FL 32818 USA:geo:-81.4808195,28.5526374
END:VEVENT
BEGIN:VEVENT
DTSTART;TZID=America/New_York:20270211T200000
DTEND;TZID=America/New_York:20270211T200000
DTSTAMP:20260419T210414
CREATED:20260105T003204Z
LAST-MODIFIED:20260105T053854Z
UID:10010200-1802376000-1802376000@epictriviafl.com
SUMMARY:Trivia
DESCRIPTION:
URL:https://epictriviafl.com/event/trivia-pocha/2027-02-11/
LOCATION:Pocha 93\, 7379 W Colonial Dr\, Orlando FL 32818 USA
GEO:28.5526374;-81.4808195
X-APPLE-STRUCTURED-LOCATION;VALUE=URI;X-ADDRESS=Pocha 93 7379 W Colonial Dr Orlando FL 32818 USA;X-APPLE-RADIUS=500;X-TITLE=7379 W Colonial Dr\, Orlando FL 32818 USA:geo:-81.4808195,28.5526374
END:VEVENT
BEGIN:VEVENT
DTSTART;TZID=America/New_York:20270212T200000
DTEND;TZID=America/New_York:20270212T200000
DTSTAMP:20260419T210414
CREATED:20260105T003218Z
LAST-MODIFIED:20260105T053720Z
UID:10009160-1802462400-1802462400@epictriviafl.com
SUMMARY:Music Bingo
DESCRIPTION:
URL:https://epictriviafl.com/event/music-bingo-pocha/2027-02-12/
LOCATION:Pocha 93\, 7379 W Colonial Dr\, Orlando FL 32818 USA
GEO:28.5526374;-81.4808195
X-APPLE-STRUCTURED-LOCATION;VALUE=URI;X-ADDRESS=Pocha 93 7379 W Colonial Dr Orlando FL 32818 USA;X-APPLE-RADIUS=500;X-TITLE=7379 W Colonial Dr\, Orlando FL 32818 USA:geo:-81.4808195,28.5526374
END:VEVENT
BEGIN:VEVENT
DTSTART;TZID=America/New_York:20270218T200000
DTEND;TZID=America/New_York:20270218T200000
DTSTAMP:20260419T210414
CREATED:20260105T003204Z
LAST-MODIFIED:20260105T053854Z
UID:10010201-1802980800-1802980800@epictriviafl.com
SUMMARY:Trivia
DESCRIPTION:
URL:https://epictriviafl.com/event/trivia-pocha/2027-02-18/
LOCATION:Pocha 93\, 7379 W Colonial Dr\, Orlando FL 32818 USA
GEO:28.5526374;-81.4808195
X-APPLE-STRUCTURED-LOCATION;VALUE=URI;X-ADDRESS=Pocha 93 7379 W Colonial Dr Orlando FL 32818 USA;X-APPLE-RADIUS=500;X-TITLE=7379 W Colonial Dr\, Orlando FL 32818 USA:geo:-81.4808195,28.5526374
END:VEVENT
BEGIN:VEVENT
DTSTART;TZID=America/New_York:20270219T200000
DTEND;TZID=America/New_York:20270219T200000
DTSTAMP:20260419T210414
CREATED:20260105T003218Z
LAST-MODIFIED:20260105T053720Z
UID:10009161-1803067200-1803067200@epictriviafl.com
SUMMARY:Music Bingo
DESCRIPTION:
URL:https://epictriviafl.com/event/music-bingo-pocha/2027-02-19/
LOCATION:Pocha 93\, 7379 W Colonial Dr\, Orlando FL 32818 USA
GEO:28.5526374;-81.4808195
X-APPLE-STRUCTURED-LOCATION;VALUE=URI;X-ADDRESS=Pocha 93 7379 W Colonial Dr Orlando FL 32818 USA;X-APPLE-RADIUS=500;X-TITLE=7379 W Colonial Dr\, Orlando FL 32818 USA:geo:-81.4808195,28.5526374
END:VEVENT
BEGIN:VEVENT
DTSTART;TZID=America/New_York:20270225T200000
DTEND;TZID=America/New_York:20270225T200000
DTSTAMP:20260419T210415
CREATED:20260105T003204Z
LAST-MODIFIED:20260105T053854Z
UID:10010202-1803585600-1803585600@epictriviafl.com
SUMMARY:Trivia
DESCRIPTION:
URL:https://epictriviafl.com/event/trivia-pocha/2027-02-25/
LOCATION:Pocha 93\, 7379 W Colonial Dr\, Orlando FL 32818 USA
GEO:28.5526374;-81.4808195
X-APPLE-STRUCTURED-LOCATION;VALUE=URI;X-ADDRESS=Pocha 93 7379 W Colonial Dr Orlando FL 32818 USA;X-APPLE-RADIUS=500;X-TITLE=7379 W Colonial Dr\, Orlando FL 32818 USA:geo:-81.4808195,28.5526374
END:VEVENT
BEGIN:VEVENT
DTSTART;TZID=America/New_York:20270226T200000
DTEND;TZID=America/New_York:20270226T200000
DTSTAMP:20260419T210415
CREATED:20260105T003218Z
LAST-MODIFIED:20260105T053720Z
UID:10009162-1803672000-1803672000@epictriviafl.com
SUMMARY:Music Bingo
DESCRIPTION:
URL:https://epictriviafl.com/event/music-bingo-pocha/2027-02-26/
LOCATION:Pocha 93\, 7379 W Colonial Dr\, Orlando FL 32818 USA
GEO:28.5526374;-81.4808195
X-APPLE-STRUCTURED-LOCATION;VALUE=URI;X-ADDRESS=Pocha 93 7379 W Colonial Dr Orlando FL 32818 USA;X-APPLE-RADIUS=500;X-TITLE=7379 W Colonial Dr\, Orlando FL 32818 USA:geo:-81.4808195,28.5526374
END:VEVENT
END:VCALENDAR