BEGIN:VCALENDAR
VERSION:2.0
PRODID:-//Epic Trivia - ECPv6.15.18//NONSGML v1.0//EN
CALSCALE:GREGORIAN
METHOD:PUBLISH
X-WR-CALNAME:Epic Trivia
X-ORIGINAL-URL:https://epictriviafl.com
X-WR-CALDESC:Events for Epic Trivia
REFRESH-INTERVAL;VALUE=DURATION:PT1H
X-Robots-Tag:noindex
X-PUBLISHED-TTL:PT1H
BEGIN:VTIMEZONE
TZID:America/New_York
BEGIN:DAYLIGHT
TZOFFSETFROM:-0500
TZOFFSETTO:-0400
TZNAME:EDT
DTSTART:20290311T070000
END:DAYLIGHT
BEGIN:STANDARD
TZOFFSETFROM:-0400
TZOFFSETTO:-0500
TZNAME:EST
DTSTART:20291104T060000
END:STANDARD
BEGIN:DAYLIGHT
TZOFFSETFROM:-0500
TZOFFSETTO:-0400
TZNAME:EDT
DTSTART:20300310T070000
END:DAYLIGHT
BEGIN:STANDARD
TZOFFSETFROM:-0400
TZOFFSETTO:-0500
TZNAME:EST
DTSTART:20301103T060000
END:STANDARD
BEGIN:DAYLIGHT
TZOFFSETFROM:-0500
TZOFFSETTO:-0400
TZNAME:EDT
DTSTART:20310309T070000
END:DAYLIGHT
BEGIN:STANDARD
TZOFFSETFROM:-0400
TZOFFSETTO:-0500
TZNAME:EST
DTSTART:20311102T060000
END:STANDARD
END:VTIMEZONE
BEGIN:VEVENT
DTSTART;TZID=America/New_York:20300905T200000
DTEND;TZID=America/New_York:20300905T200000
DTSTAMP:20260422T005254
CREATED:20260105T003204Z
LAST-MODIFIED:20260105T053854Z
UID:10010386-1914868800-1914868800@epictriviafl.com
SUMMARY:Trivia
DESCRIPTION:
URL:https://epictriviafl.com/event/trivia-pocha/2030-09-05/
LOCATION:Pocha 93\, 7379 W Colonial Dr\, Orlando FL 32818 USA
GEO:28.5526374;-81.4808195
X-APPLE-STRUCTURED-LOCATION;VALUE=URI;X-ADDRESS=Pocha 93 7379 W Colonial Dr Orlando FL 32818 USA;X-APPLE-RADIUS=500;X-TITLE=7379 W Colonial Dr\, Orlando FL 32818 USA:geo:-81.4808195,28.5526374
END:VEVENT
BEGIN:VEVENT
DTSTART;TZID=America/New_York:20300906T200000
DTEND;TZID=America/New_York:20300906T200000
DTSTAMP:20260422T005254
CREATED:20260105T003218Z
LAST-MODIFIED:20260105T053720Z
UID:10009346-1914955200-1914955200@epictriviafl.com
SUMMARY:Music Bingo
DESCRIPTION:
URL:https://epictriviafl.com/event/music-bingo-pocha/2030-09-06/
LOCATION:Pocha 93\, 7379 W Colonial Dr\, Orlando FL 32818 USA
GEO:28.5526374;-81.4808195
X-APPLE-STRUCTURED-LOCATION;VALUE=URI;X-ADDRESS=Pocha 93 7379 W Colonial Dr Orlando FL 32818 USA;X-APPLE-RADIUS=500;X-TITLE=7379 W Colonial Dr\, Orlando FL 32818 USA:geo:-81.4808195,28.5526374
END:VEVENT
BEGIN:VEVENT
DTSTART;TZID=America/New_York:20300912T200000
DTEND;TZID=America/New_York:20300912T200000
DTSTAMP:20260422T005254
CREATED:20260105T003204Z
LAST-MODIFIED:20260105T053854Z
UID:10010387-1915473600-1915473600@epictriviafl.com
SUMMARY:Trivia
DESCRIPTION:
URL:https://epictriviafl.com/event/trivia-pocha/2030-09-12/
LOCATION:Pocha 93\, 7379 W Colonial Dr\, Orlando FL 32818 USA
GEO:28.5526374;-81.4808195
X-APPLE-STRUCTURED-LOCATION;VALUE=URI;X-ADDRESS=Pocha 93 7379 W Colonial Dr Orlando FL 32818 USA;X-APPLE-RADIUS=500;X-TITLE=7379 W Colonial Dr\, Orlando FL 32818 USA:geo:-81.4808195,28.5526374
END:VEVENT
BEGIN:VEVENT
DTSTART;TZID=America/New_York:20300913T200000
DTEND;TZID=America/New_York:20300913T200000
DTSTAMP:20260422T005254
CREATED:20260105T003218Z
LAST-MODIFIED:20260105T053720Z
UID:10009347-1915560000-1915560000@epictriviafl.com
SUMMARY:Music Bingo
DESCRIPTION:
URL:https://epictriviafl.com/event/music-bingo-pocha/2030-09-13/
LOCATION:Pocha 93\, 7379 W Colonial Dr\, Orlando FL 32818 USA
GEO:28.5526374;-81.4808195
X-APPLE-STRUCTURED-LOCATION;VALUE=URI;X-ADDRESS=Pocha 93 7379 W Colonial Dr Orlando FL 32818 USA;X-APPLE-RADIUS=500;X-TITLE=7379 W Colonial Dr\, Orlando FL 32818 USA:geo:-81.4808195,28.5526374
END:VEVENT
BEGIN:VEVENT
DTSTART;TZID=America/New_York:20300919T200000
DTEND;TZID=America/New_York:20300919T200000
DTSTAMP:20260422T005254
CREATED:20260105T003204Z
LAST-MODIFIED:20260105T053854Z
UID:10010388-1916078400-1916078400@epictriviafl.com
SUMMARY:Trivia
DESCRIPTION:
URL:https://epictriviafl.com/event/trivia-pocha/2030-09-19/
LOCATION:Pocha 93\, 7379 W Colonial Dr\, Orlando FL 32818 USA
GEO:28.5526374;-81.4808195
X-APPLE-STRUCTURED-LOCATION;VALUE=URI;X-ADDRESS=Pocha 93 7379 W Colonial Dr Orlando FL 32818 USA;X-APPLE-RADIUS=500;X-TITLE=7379 W Colonial Dr\, Orlando FL 32818 USA:geo:-81.4808195,28.5526374
END:VEVENT
BEGIN:VEVENT
DTSTART;TZID=America/New_York:20300920T200000
DTEND;TZID=America/New_York:20300920T200000
DTSTAMP:20260422T005254
CREATED:20260105T003218Z
LAST-MODIFIED:20260105T053720Z
UID:10009348-1916164800-1916164800@epictriviafl.com
SUMMARY:Music Bingo
DESCRIPTION:
URL:https://epictriviafl.com/event/music-bingo-pocha/2030-09-20/
LOCATION:Pocha 93\, 7379 W Colonial Dr\, Orlando FL 32818 USA
GEO:28.5526374;-81.4808195
X-APPLE-STRUCTURED-LOCATION;VALUE=URI;X-ADDRESS=Pocha 93 7379 W Colonial Dr Orlando FL 32818 USA;X-APPLE-RADIUS=500;X-TITLE=7379 W Colonial Dr\, Orlando FL 32818 USA:geo:-81.4808195,28.5526374
END:VEVENT
BEGIN:VEVENT
DTSTART;TZID=America/New_York:20300926T200000
DTEND;TZID=America/New_York:20300926T200000
DTSTAMP:20260422T005254
CREATED:20260105T003204Z
LAST-MODIFIED:20260105T053854Z
UID:10010389-1916683200-1916683200@epictriviafl.com
SUMMARY:Trivia
DESCRIPTION:
URL:https://epictriviafl.com/event/trivia-pocha/2030-09-26/
LOCATION:Pocha 93\, 7379 W Colonial Dr\, Orlando FL 32818 USA
GEO:28.5526374;-81.4808195
X-APPLE-STRUCTURED-LOCATION;VALUE=URI;X-ADDRESS=Pocha 93 7379 W Colonial Dr Orlando FL 32818 USA;X-APPLE-RADIUS=500;X-TITLE=7379 W Colonial Dr\, Orlando FL 32818 USA:geo:-81.4808195,28.5526374
END:VEVENT
BEGIN:VEVENT
DTSTART;TZID=America/New_York:20300927T200000
DTEND;TZID=America/New_York:20300927T200000
DTSTAMP:20260422T005254
CREATED:20260105T003218Z
LAST-MODIFIED:20260105T053720Z
UID:10009349-1916769600-1916769600@epictriviafl.com
SUMMARY:Music Bingo
DESCRIPTION:
URL:https://epictriviafl.com/event/music-bingo-pocha/2030-09-27/
LOCATION:Pocha 93\, 7379 W Colonial Dr\, Orlando FL 32818 USA
GEO:28.5526374;-81.4808195
X-APPLE-STRUCTURED-LOCATION;VALUE=URI;X-ADDRESS=Pocha 93 7379 W Colonial Dr Orlando FL 32818 USA;X-APPLE-RADIUS=500;X-TITLE=7379 W Colonial Dr\, Orlando FL 32818 USA:geo:-81.4808195,28.5526374
END:VEVENT
BEGIN:VEVENT
DTSTART;TZID=America/New_York:20301003T200000
DTEND;TZID=America/New_York:20301003T200000
DTSTAMP:20260422T005254
CREATED:20260105T003204Z
LAST-MODIFIED:20260105T053854Z
UID:10010390-1917288000-1917288000@epictriviafl.com
SUMMARY:Trivia
DESCRIPTION:
URL:https://epictriviafl.com/event/trivia-pocha/2030-10-03/
LOCATION:Pocha 93\, 7379 W Colonial Dr\, Orlando FL 32818 USA
GEO:28.5526374;-81.4808195
X-APPLE-STRUCTURED-LOCATION;VALUE=URI;X-ADDRESS=Pocha 93 7379 W Colonial Dr Orlando FL 32818 USA;X-APPLE-RADIUS=500;X-TITLE=7379 W Colonial Dr\, Orlando FL 32818 USA:geo:-81.4808195,28.5526374
END:VEVENT
BEGIN:VEVENT
DTSTART;TZID=America/New_York:20301004T200000
DTEND;TZID=America/New_York:20301004T200000
DTSTAMP:20260422T005254
CREATED:20260105T003218Z
LAST-MODIFIED:20260105T053720Z
UID:10009350-1917374400-1917374400@epictriviafl.com
SUMMARY:Music Bingo
DESCRIPTION:
URL:https://epictriviafl.com/event/music-bingo-pocha/2030-10-04/
LOCATION:Pocha 93\, 7379 W Colonial Dr\, Orlando FL 32818 USA
GEO:28.5526374;-81.4808195
X-APPLE-STRUCTURED-LOCATION;VALUE=URI;X-ADDRESS=Pocha 93 7379 W Colonial Dr Orlando FL 32818 USA;X-APPLE-RADIUS=500;X-TITLE=7379 W Colonial Dr\, Orlando FL 32818 USA:geo:-81.4808195,28.5526374
END:VEVENT
BEGIN:VEVENT
DTSTART;TZID=America/New_York:20301010T200000
DTEND;TZID=America/New_York:20301010T200000
DTSTAMP:20260422T005254
CREATED:20260105T003204Z
LAST-MODIFIED:20260105T053854Z
UID:10010391-1917892800-1917892800@epictriviafl.com
SUMMARY:Trivia
DESCRIPTION:
URL:https://epictriviafl.com/event/trivia-pocha/2030-10-10/
LOCATION:Pocha 93\, 7379 W Colonial Dr\, Orlando FL 32818 USA
GEO:28.5526374;-81.4808195
X-APPLE-STRUCTURED-LOCATION;VALUE=URI;X-ADDRESS=Pocha 93 7379 W Colonial Dr Orlando FL 32818 USA;X-APPLE-RADIUS=500;X-TITLE=7379 W Colonial Dr\, Orlando FL 32818 USA:geo:-81.4808195,28.5526374
END:VEVENT
BEGIN:VEVENT
DTSTART;TZID=America/New_York:20301011T200000
DTEND;TZID=America/New_York:20301011T200000
DTSTAMP:20260422T005254
CREATED:20260105T003218Z
LAST-MODIFIED:20260105T053720Z
UID:10009351-1917979200-1917979200@epictriviafl.com
SUMMARY:Music Bingo
DESCRIPTION:
URL:https://epictriviafl.com/event/music-bingo-pocha/2030-10-11/
LOCATION:Pocha 93\, 7379 W Colonial Dr\, Orlando FL 32818 USA
GEO:28.5526374;-81.4808195
X-APPLE-STRUCTURED-LOCATION;VALUE=URI;X-ADDRESS=Pocha 93 7379 W Colonial Dr Orlando FL 32818 USA;X-APPLE-RADIUS=500;X-TITLE=7379 W Colonial Dr\, Orlando FL 32818 USA:geo:-81.4808195,28.5526374
END:VEVENT
BEGIN:VEVENT
DTSTART;TZID=America/New_York:20301017T200000
DTEND;TZID=America/New_York:20301017T200000
DTSTAMP:20260422T005254
CREATED:20260105T003204Z
LAST-MODIFIED:20260105T053854Z
UID:10010392-1918497600-1918497600@epictriviafl.com
SUMMARY:Trivia
DESCRIPTION:
URL:https://epictriviafl.com/event/trivia-pocha/2030-10-17/
LOCATION:Pocha 93\, 7379 W Colonial Dr\, Orlando FL 32818 USA
GEO:28.5526374;-81.4808195
X-APPLE-STRUCTURED-LOCATION;VALUE=URI;X-ADDRESS=Pocha 93 7379 W Colonial Dr Orlando FL 32818 USA;X-APPLE-RADIUS=500;X-TITLE=7379 W Colonial Dr\, Orlando FL 32818 USA:geo:-81.4808195,28.5526374
END:VEVENT
BEGIN:VEVENT
DTSTART;TZID=America/New_York:20301018T200000
DTEND;TZID=America/New_York:20301018T200000
DTSTAMP:20260422T005254
CREATED:20260105T003218Z
LAST-MODIFIED:20260105T053720Z
UID:10009352-1918584000-1918584000@epictriviafl.com
SUMMARY:Music Bingo
DESCRIPTION:
URL:https://epictriviafl.com/event/music-bingo-pocha/2030-10-18/
LOCATION:Pocha 93\, 7379 W Colonial Dr\, Orlando FL 32818 USA
GEO:28.5526374;-81.4808195
X-APPLE-STRUCTURED-LOCATION;VALUE=URI;X-ADDRESS=Pocha 93 7379 W Colonial Dr Orlando FL 32818 USA;X-APPLE-RADIUS=500;X-TITLE=7379 W Colonial Dr\, Orlando FL 32818 USA:geo:-81.4808195,28.5526374
END:VEVENT
BEGIN:VEVENT
DTSTART;TZID=America/New_York:20301024T200000
DTEND;TZID=America/New_York:20301024T200000
DTSTAMP:20260422T005254
CREATED:20260105T003204Z
LAST-MODIFIED:20260105T053854Z
UID:10010393-1919102400-1919102400@epictriviafl.com
SUMMARY:Trivia
DESCRIPTION:
URL:https://epictriviafl.com/event/trivia-pocha/2030-10-24/
LOCATION:Pocha 93\, 7379 W Colonial Dr\, Orlando FL 32818 USA
GEO:28.5526374;-81.4808195
X-APPLE-STRUCTURED-LOCATION;VALUE=URI;X-ADDRESS=Pocha 93 7379 W Colonial Dr Orlando FL 32818 USA;X-APPLE-RADIUS=500;X-TITLE=7379 W Colonial Dr\, Orlando FL 32818 USA:geo:-81.4808195,28.5526374
END:VEVENT
BEGIN:VEVENT
DTSTART;TZID=America/New_York:20301025T200000
DTEND;TZID=America/New_York:20301025T200000
DTSTAMP:20260422T005254
CREATED:20260105T003218Z
LAST-MODIFIED:20260105T053720Z
UID:10009353-1919188800-1919188800@epictriviafl.com
SUMMARY:Music Bingo
DESCRIPTION:
URL:https://epictriviafl.com/event/music-bingo-pocha/2030-10-25/
LOCATION:Pocha 93\, 7379 W Colonial Dr\, Orlando FL 32818 USA
GEO:28.5526374;-81.4808195
X-APPLE-STRUCTURED-LOCATION;VALUE=URI;X-ADDRESS=Pocha 93 7379 W Colonial Dr Orlando FL 32818 USA;X-APPLE-RADIUS=500;X-TITLE=7379 W Colonial Dr\, Orlando FL 32818 USA:geo:-81.4808195,28.5526374
END:VEVENT
BEGIN:VEVENT
DTSTART;TZID=America/New_York:20301031T200000
DTEND;TZID=America/New_York:20301031T200000
DTSTAMP:20260422T005254
CREATED:20260105T003204Z
LAST-MODIFIED:20260105T053854Z
UID:10010394-1919707200-1919707200@epictriviafl.com
SUMMARY:Trivia
DESCRIPTION:
URL:https://epictriviafl.com/event/trivia-pocha/2030-10-31/
LOCATION:Pocha 93\, 7379 W Colonial Dr\, Orlando FL 32818 USA
GEO:28.5526374;-81.4808195
X-APPLE-STRUCTURED-LOCATION;VALUE=URI;X-ADDRESS=Pocha 93 7379 W Colonial Dr Orlando FL 32818 USA;X-APPLE-RADIUS=500;X-TITLE=7379 W Colonial Dr\, Orlando FL 32818 USA:geo:-81.4808195,28.5526374
END:VEVENT
BEGIN:VEVENT
DTSTART;TZID=America/New_York:20301101T200000
DTEND;TZID=America/New_York:20301101T200000
DTSTAMP:20260422T005254
CREATED:20260105T003218Z
LAST-MODIFIED:20260105T053720Z
UID:10009354-1919793600-1919793600@epictriviafl.com
SUMMARY:Music Bingo
DESCRIPTION:
URL:https://epictriviafl.com/event/music-bingo-pocha/2030-11-01/
LOCATION:Pocha 93\, 7379 W Colonial Dr\, Orlando FL 32818 USA
GEO:28.5526374;-81.4808195
X-APPLE-STRUCTURED-LOCATION;VALUE=URI;X-ADDRESS=Pocha 93 7379 W Colonial Dr Orlando FL 32818 USA;X-APPLE-RADIUS=500;X-TITLE=7379 W Colonial Dr\, Orlando FL 32818 USA:geo:-81.4808195,28.5526374
END:VEVENT
BEGIN:VEVENT
DTSTART;TZID=America/New_York:20301107T200000
DTEND;TZID=America/New_York:20301107T200000
DTSTAMP:20260422T005254
CREATED:20260105T003204Z
LAST-MODIFIED:20260105T053854Z
UID:10010395-1920312000-1920312000@epictriviafl.com
SUMMARY:Trivia
DESCRIPTION:
URL:https://epictriviafl.com/event/trivia-pocha/2030-11-07/
LOCATION:Pocha 93\, 7379 W Colonial Dr\, Orlando FL 32818 USA
GEO:28.5526374;-81.4808195
X-APPLE-STRUCTURED-LOCATION;VALUE=URI;X-ADDRESS=Pocha 93 7379 W Colonial Dr Orlando FL 32818 USA;X-APPLE-RADIUS=500;X-TITLE=7379 W Colonial Dr\, Orlando FL 32818 USA:geo:-81.4808195,28.5526374
END:VEVENT
BEGIN:VEVENT
DTSTART;TZID=America/New_York:20301108T200000
DTEND;TZID=America/New_York:20301108T200000
DTSTAMP:20260422T005254
CREATED:20260105T003218Z
LAST-MODIFIED:20260105T053720Z
UID:10009355-1920398400-1920398400@epictriviafl.com
SUMMARY:Music Bingo
DESCRIPTION:
URL:https://epictriviafl.com/event/music-bingo-pocha/2030-11-08/
LOCATION:Pocha 93\, 7379 W Colonial Dr\, Orlando FL 32818 USA
GEO:28.5526374;-81.4808195
X-APPLE-STRUCTURED-LOCATION;VALUE=URI;X-ADDRESS=Pocha 93 7379 W Colonial Dr Orlando FL 32818 USA;X-APPLE-RADIUS=500;X-TITLE=7379 W Colonial Dr\, Orlando FL 32818 USA:geo:-81.4808195,28.5526374
END:VEVENT
BEGIN:VEVENT
DTSTART;TZID=America/New_York:20301114T200000
DTEND;TZID=America/New_York:20301114T200000
DTSTAMP:20260422T005254
CREATED:20260105T003204Z
LAST-MODIFIED:20260105T053854Z
UID:10010396-1920916800-1920916800@epictriviafl.com
SUMMARY:Trivia
DESCRIPTION:
URL:https://epictriviafl.com/event/trivia-pocha/2030-11-14/
LOCATION:Pocha 93\, 7379 W Colonial Dr\, Orlando FL 32818 USA
GEO:28.5526374;-81.4808195
X-APPLE-STRUCTURED-LOCATION;VALUE=URI;X-ADDRESS=Pocha 93 7379 W Colonial Dr Orlando FL 32818 USA;X-APPLE-RADIUS=500;X-TITLE=7379 W Colonial Dr\, Orlando FL 32818 USA:geo:-81.4808195,28.5526374
END:VEVENT
BEGIN:VEVENT
DTSTART;TZID=America/New_York:20301115T200000
DTEND;TZID=America/New_York:20301115T200000
DTSTAMP:20260422T005254
CREATED:20260105T003218Z
LAST-MODIFIED:20260105T053720Z
UID:10009356-1921003200-1921003200@epictriviafl.com
SUMMARY:Music Bingo
DESCRIPTION:
URL:https://epictriviafl.com/event/music-bingo-pocha/2030-11-15/
LOCATION:Pocha 93\, 7379 W Colonial Dr\, Orlando FL 32818 USA
GEO:28.5526374;-81.4808195
X-APPLE-STRUCTURED-LOCATION;VALUE=URI;X-ADDRESS=Pocha 93 7379 W Colonial Dr Orlando FL 32818 USA;X-APPLE-RADIUS=500;X-TITLE=7379 W Colonial Dr\, Orlando FL 32818 USA:geo:-81.4808195,28.5526374
END:VEVENT
BEGIN:VEVENT
DTSTART;TZID=America/New_York:20301121T200000
DTEND;TZID=America/New_York:20301121T200000
DTSTAMP:20260422T005254
CREATED:20260105T003204Z
LAST-MODIFIED:20260105T053854Z
UID:10010397-1921521600-1921521600@epictriviafl.com
SUMMARY:Trivia
DESCRIPTION:
URL:https://epictriviafl.com/event/trivia-pocha/2030-11-21/
LOCATION:Pocha 93\, 7379 W Colonial Dr\, Orlando FL 32818 USA
GEO:28.5526374;-81.4808195
X-APPLE-STRUCTURED-LOCATION;VALUE=URI;X-ADDRESS=Pocha 93 7379 W Colonial Dr Orlando FL 32818 USA;X-APPLE-RADIUS=500;X-TITLE=7379 W Colonial Dr\, Orlando FL 32818 USA:geo:-81.4808195,28.5526374
END:VEVENT
BEGIN:VEVENT
DTSTART;TZID=America/New_York:20301122T200000
DTEND;TZID=America/New_York:20301122T200000
DTSTAMP:20260422T005254
CREATED:20260105T003218Z
LAST-MODIFIED:20260105T053720Z
UID:10009357-1921608000-1921608000@epictriviafl.com
SUMMARY:Music Bingo
DESCRIPTION:
URL:https://epictriviafl.com/event/music-bingo-pocha/2030-11-22/
LOCATION:Pocha 93\, 7379 W Colonial Dr\, Orlando FL 32818 USA
GEO:28.5526374;-81.4808195
X-APPLE-STRUCTURED-LOCATION;VALUE=URI;X-ADDRESS=Pocha 93 7379 W Colonial Dr Orlando FL 32818 USA;X-APPLE-RADIUS=500;X-TITLE=7379 W Colonial Dr\, Orlando FL 32818 USA:geo:-81.4808195,28.5526374
END:VEVENT
BEGIN:VEVENT
DTSTART;TZID=America/New_York:20301128T200000
DTEND;TZID=America/New_York:20301128T200000
DTSTAMP:20260422T005254
CREATED:20260105T003204Z
LAST-MODIFIED:20260105T053854Z
UID:10010398-1922126400-1922126400@epictriviafl.com
SUMMARY:Trivia
DESCRIPTION:
URL:https://epictriviafl.com/event/trivia-pocha/2030-11-28/
LOCATION:Pocha 93\, 7379 W Colonial Dr\, Orlando FL 32818 USA
GEO:28.5526374;-81.4808195
X-APPLE-STRUCTURED-LOCATION;VALUE=URI;X-ADDRESS=Pocha 93 7379 W Colonial Dr Orlando FL 32818 USA;X-APPLE-RADIUS=500;X-TITLE=7379 W Colonial Dr\, Orlando FL 32818 USA:geo:-81.4808195,28.5526374
END:VEVENT
BEGIN:VEVENT
DTSTART;TZID=America/New_York:20301129T200000
DTEND;TZID=America/New_York:20301129T200000
DTSTAMP:20260422T005254
CREATED:20260105T003218Z
LAST-MODIFIED:20260105T053720Z
UID:10009358-1922212800-1922212800@epictriviafl.com
SUMMARY:Music Bingo
DESCRIPTION:
URL:https://epictriviafl.com/event/music-bingo-pocha/2030-11-29/
LOCATION:Pocha 93\, 7379 W Colonial Dr\, Orlando FL 32818 USA
GEO:28.5526374;-81.4808195
X-APPLE-STRUCTURED-LOCATION;VALUE=URI;X-ADDRESS=Pocha 93 7379 W Colonial Dr Orlando FL 32818 USA;X-APPLE-RADIUS=500;X-TITLE=7379 W Colonial Dr\, Orlando FL 32818 USA:geo:-81.4808195,28.5526374
END:VEVENT
BEGIN:VEVENT
DTSTART;TZID=America/New_York:20301205T200000
DTEND;TZID=America/New_York:20301205T200000
DTSTAMP:20260422T005254
CREATED:20260105T003204Z
LAST-MODIFIED:20260105T053854Z
UID:10010399-1922731200-1922731200@epictriviafl.com
SUMMARY:Trivia
DESCRIPTION:
URL:https://epictriviafl.com/event/trivia-pocha/2030-12-05/
LOCATION:Pocha 93\, 7379 W Colonial Dr\, Orlando FL 32818 USA
GEO:28.5526374;-81.4808195
X-APPLE-STRUCTURED-LOCATION;VALUE=URI;X-ADDRESS=Pocha 93 7379 W Colonial Dr Orlando FL 32818 USA;X-APPLE-RADIUS=500;X-TITLE=7379 W Colonial Dr\, Orlando FL 32818 USA:geo:-81.4808195,28.5526374
END:VEVENT
BEGIN:VEVENT
DTSTART;TZID=America/New_York:20301206T200000
DTEND;TZID=America/New_York:20301206T200000
DTSTAMP:20260422T005254
CREATED:20260105T003218Z
LAST-MODIFIED:20260105T053720Z
UID:10009359-1922817600-1922817600@epictriviafl.com
SUMMARY:Music Bingo
DESCRIPTION:
URL:https://epictriviafl.com/event/music-bingo-pocha/2030-12-06/
LOCATION:Pocha 93\, 7379 W Colonial Dr\, Orlando FL 32818 USA
GEO:28.5526374;-81.4808195
X-APPLE-STRUCTURED-LOCATION;VALUE=URI;X-ADDRESS=Pocha 93 7379 W Colonial Dr Orlando FL 32818 USA;X-APPLE-RADIUS=500;X-TITLE=7379 W Colonial Dr\, Orlando FL 32818 USA:geo:-81.4808195,28.5526374
END:VEVENT
BEGIN:VEVENT
DTSTART;TZID=America/New_York:20301212T200000
DTEND;TZID=America/New_York:20301212T200000
DTSTAMP:20260422T005254
CREATED:20260105T003204Z
LAST-MODIFIED:20260105T053854Z
UID:10010400-1923336000-1923336000@epictriviafl.com
SUMMARY:Trivia
DESCRIPTION:
URL:https://epictriviafl.com/event/trivia-pocha/2030-12-12/
LOCATION:Pocha 93\, 7379 W Colonial Dr\, Orlando FL 32818 USA
GEO:28.5526374;-81.4808195
X-APPLE-STRUCTURED-LOCATION;VALUE=URI;X-ADDRESS=Pocha 93 7379 W Colonial Dr Orlando FL 32818 USA;X-APPLE-RADIUS=500;X-TITLE=7379 W Colonial Dr\, Orlando FL 32818 USA:geo:-81.4808195,28.5526374
END:VEVENT
BEGIN:VEVENT
DTSTART;TZID=America/New_York:20301213T200000
DTEND;TZID=America/New_York:20301213T200000
DTSTAMP:20260422T005254
CREATED:20260105T003218Z
LAST-MODIFIED:20260105T053720Z
UID:10009360-1923422400-1923422400@epictriviafl.com
SUMMARY:Music Bingo
DESCRIPTION:
URL:https://epictriviafl.com/event/music-bingo-pocha/2030-12-13/
LOCATION:Pocha 93\, 7379 W Colonial Dr\, Orlando FL 32818 USA
GEO:28.5526374;-81.4808195
X-APPLE-STRUCTURED-LOCATION;VALUE=URI;X-ADDRESS=Pocha 93 7379 W Colonial Dr Orlando FL 32818 USA;X-APPLE-RADIUS=500;X-TITLE=7379 W Colonial Dr\, Orlando FL 32818 USA:geo:-81.4808195,28.5526374
END:VEVENT
END:VCALENDAR