BEGIN:VCALENDAR
VERSION:2.0
PRODID:-//Epic Trivia - ECPv6.15.18//NONSGML v1.0//EN
CALSCALE:GREGORIAN
METHOD:PUBLISH
X-WR-CALNAME:Epic Trivia
X-ORIGINAL-URL:https://epictriviafl.com
X-WR-CALDESC:Events for Epic Trivia
REFRESH-INTERVAL;VALUE=DURATION:PT1H
X-Robots-Tag:noindex
X-PUBLISHED-TTL:PT1H
BEGIN:VTIMEZONE
TZID:America/New_York
BEGIN:DAYLIGHT
TZOFFSETFROM:-0500
TZOFFSETTO:-0400
TZNAME:EDT
DTSTART:20280312T070000
END:DAYLIGHT
BEGIN:STANDARD
TZOFFSETFROM:-0400
TZOFFSETTO:-0500
TZNAME:EST
DTSTART:20281105T060000
END:STANDARD
BEGIN:DAYLIGHT
TZOFFSETFROM:-0500
TZOFFSETTO:-0400
TZNAME:EDT
DTSTART:20290311T070000
END:DAYLIGHT
BEGIN:STANDARD
TZOFFSETFROM:-0400
TZOFFSETTO:-0500
TZNAME:EST
DTSTART:20291104T060000
END:STANDARD
BEGIN:DAYLIGHT
TZOFFSETFROM:-0500
TZOFFSETTO:-0400
TZNAME:EDT
DTSTART:20300310T070000
END:DAYLIGHT
BEGIN:STANDARD
TZOFFSETFROM:-0400
TZOFFSETTO:-0500
TZNAME:EST
DTSTART:20301103T060000
END:STANDARD
BEGIN:DAYLIGHT
TZOFFSETFROM:-0500
TZOFFSETTO:-0400
TZNAME:EDT
DTSTART:20310309T070000
END:DAYLIGHT
BEGIN:STANDARD
TZOFFSETFROM:-0400
TZOFFSETTO:-0500
TZNAME:EST
DTSTART:20311102T060000
END:STANDARD
END:VTIMEZONE
BEGIN:VEVENT
DTSTART;TZID=America/New_York:20291115T200000
DTEND;TZID=America/New_York:20291115T200000
DTSTAMP:20260421T142013
CREATED:20260105T003204Z
LAST-MODIFIED:20260105T053854Z
UID:10010344-1889467200-1889467200@epictriviafl.com
SUMMARY:Trivia
DESCRIPTION:
URL:https://epictriviafl.com/event/trivia-pocha/2029-11-15/
LOCATION:Pocha 93\, 7379 W Colonial Dr\, Orlando FL 32818 USA
GEO:28.5526374;-81.4808195
X-APPLE-STRUCTURED-LOCATION;VALUE=URI;X-ADDRESS=Pocha 93 7379 W Colonial Dr Orlando FL 32818 USA;X-APPLE-RADIUS=500;X-TITLE=7379 W Colonial Dr\, Orlando FL 32818 USA:geo:-81.4808195,28.5526374
END:VEVENT
BEGIN:VEVENT
DTSTART;TZID=America/New_York:20291116T200000
DTEND;TZID=America/New_York:20291116T200000
DTSTAMP:20260421T142013
CREATED:20260105T003218Z
LAST-MODIFIED:20260105T053720Z
UID:10009304-1889553600-1889553600@epictriviafl.com
SUMMARY:Music Bingo
DESCRIPTION:
URL:https://epictriviafl.com/event/music-bingo-pocha/2029-11-16/
LOCATION:Pocha 93\, 7379 W Colonial Dr\, Orlando FL 32818 USA
GEO:28.5526374;-81.4808195
X-APPLE-STRUCTURED-LOCATION;VALUE=URI;X-ADDRESS=Pocha 93 7379 W Colonial Dr Orlando FL 32818 USA;X-APPLE-RADIUS=500;X-TITLE=7379 W Colonial Dr\, Orlando FL 32818 USA:geo:-81.4808195,28.5526374
END:VEVENT
BEGIN:VEVENT
DTSTART;TZID=America/New_York:20291122T200000
DTEND;TZID=America/New_York:20291122T200000
DTSTAMP:20260421T142013
CREATED:20260105T003204Z
LAST-MODIFIED:20260105T053854Z
UID:10010345-1890072000-1890072000@epictriviafl.com
SUMMARY:Trivia
DESCRIPTION:
URL:https://epictriviafl.com/event/trivia-pocha/2029-11-22/
LOCATION:Pocha 93\, 7379 W Colonial Dr\, Orlando FL 32818 USA
GEO:28.5526374;-81.4808195
X-APPLE-STRUCTURED-LOCATION;VALUE=URI;X-ADDRESS=Pocha 93 7379 W Colonial Dr Orlando FL 32818 USA;X-APPLE-RADIUS=500;X-TITLE=7379 W Colonial Dr\, Orlando FL 32818 USA:geo:-81.4808195,28.5526374
END:VEVENT
BEGIN:VEVENT
DTSTART;TZID=America/New_York:20291123T200000
DTEND;TZID=America/New_York:20291123T200000
DTSTAMP:20260421T142013
CREATED:20260105T003218Z
LAST-MODIFIED:20260105T053720Z
UID:10009305-1890158400-1890158400@epictriviafl.com
SUMMARY:Music Bingo
DESCRIPTION:
URL:https://epictriviafl.com/event/music-bingo-pocha/2029-11-23/
LOCATION:Pocha 93\, 7379 W Colonial Dr\, Orlando FL 32818 USA
GEO:28.5526374;-81.4808195
X-APPLE-STRUCTURED-LOCATION;VALUE=URI;X-ADDRESS=Pocha 93 7379 W Colonial Dr Orlando FL 32818 USA;X-APPLE-RADIUS=500;X-TITLE=7379 W Colonial Dr\, Orlando FL 32818 USA:geo:-81.4808195,28.5526374
END:VEVENT
BEGIN:VEVENT
DTSTART;TZID=America/New_York:20291129T200000
DTEND;TZID=America/New_York:20291129T200000
DTSTAMP:20260421T142013
CREATED:20260105T003204Z
LAST-MODIFIED:20260105T053854Z
UID:10010346-1890676800-1890676800@epictriviafl.com
SUMMARY:Trivia
DESCRIPTION:
URL:https://epictriviafl.com/event/trivia-pocha/2029-11-29/
LOCATION:Pocha 93\, 7379 W Colonial Dr\, Orlando FL 32818 USA
GEO:28.5526374;-81.4808195
X-APPLE-STRUCTURED-LOCATION;VALUE=URI;X-ADDRESS=Pocha 93 7379 W Colonial Dr Orlando FL 32818 USA;X-APPLE-RADIUS=500;X-TITLE=7379 W Colonial Dr\, Orlando FL 32818 USA:geo:-81.4808195,28.5526374
END:VEVENT
BEGIN:VEVENT
DTSTART;TZID=America/New_York:20291130T200000
DTEND;TZID=America/New_York:20291130T200000
DTSTAMP:20260421T142013
CREATED:20260105T003218Z
LAST-MODIFIED:20260105T053720Z
UID:10009306-1890763200-1890763200@epictriviafl.com
SUMMARY:Music Bingo
DESCRIPTION:
URL:https://epictriviafl.com/event/music-bingo-pocha/2029-11-30/
LOCATION:Pocha 93\, 7379 W Colonial Dr\, Orlando FL 32818 USA
GEO:28.5526374;-81.4808195
X-APPLE-STRUCTURED-LOCATION;VALUE=URI;X-ADDRESS=Pocha 93 7379 W Colonial Dr Orlando FL 32818 USA;X-APPLE-RADIUS=500;X-TITLE=7379 W Colonial Dr\, Orlando FL 32818 USA:geo:-81.4808195,28.5526374
END:VEVENT
BEGIN:VEVENT
DTSTART;TZID=America/New_York:20291206T200000
DTEND;TZID=America/New_York:20291206T200000
DTSTAMP:20260421T142013
CREATED:20260105T003204Z
LAST-MODIFIED:20260105T053854Z
UID:10010347-1891281600-1891281600@epictriviafl.com
SUMMARY:Trivia
DESCRIPTION:
URL:https://epictriviafl.com/event/trivia-pocha/2029-12-06/
LOCATION:Pocha 93\, 7379 W Colonial Dr\, Orlando FL 32818 USA
GEO:28.5526374;-81.4808195
X-APPLE-STRUCTURED-LOCATION;VALUE=URI;X-ADDRESS=Pocha 93 7379 W Colonial Dr Orlando FL 32818 USA;X-APPLE-RADIUS=500;X-TITLE=7379 W Colonial Dr\, Orlando FL 32818 USA:geo:-81.4808195,28.5526374
END:VEVENT
BEGIN:VEVENT
DTSTART;TZID=America/New_York:20291207T200000
DTEND;TZID=America/New_York:20291207T200000
DTSTAMP:20260421T142013
CREATED:20260105T003218Z
LAST-MODIFIED:20260105T053720Z
UID:10009307-1891368000-1891368000@epictriviafl.com
SUMMARY:Music Bingo
DESCRIPTION:
URL:https://epictriviafl.com/event/music-bingo-pocha/2029-12-07/
LOCATION:Pocha 93\, 7379 W Colonial Dr\, Orlando FL 32818 USA
GEO:28.5526374;-81.4808195
X-APPLE-STRUCTURED-LOCATION;VALUE=URI;X-ADDRESS=Pocha 93 7379 W Colonial Dr Orlando FL 32818 USA;X-APPLE-RADIUS=500;X-TITLE=7379 W Colonial Dr\, Orlando FL 32818 USA:geo:-81.4808195,28.5526374
END:VEVENT
BEGIN:VEVENT
DTSTART;TZID=America/New_York:20291213T200000
DTEND;TZID=America/New_York:20291213T200000
DTSTAMP:20260421T142013
CREATED:20260105T003204Z
LAST-MODIFIED:20260105T053854Z
UID:10010348-1891886400-1891886400@epictriviafl.com
SUMMARY:Trivia
DESCRIPTION:
URL:https://epictriviafl.com/event/trivia-pocha/2029-12-13/
LOCATION:Pocha 93\, 7379 W Colonial Dr\, Orlando FL 32818 USA
GEO:28.5526374;-81.4808195
X-APPLE-STRUCTURED-LOCATION;VALUE=URI;X-ADDRESS=Pocha 93 7379 W Colonial Dr Orlando FL 32818 USA;X-APPLE-RADIUS=500;X-TITLE=7379 W Colonial Dr\, Orlando FL 32818 USA:geo:-81.4808195,28.5526374
END:VEVENT
BEGIN:VEVENT
DTSTART;TZID=America/New_York:20291214T200000
DTEND;TZID=America/New_York:20291214T200000
DTSTAMP:20260421T142013
CREATED:20260105T003218Z
LAST-MODIFIED:20260105T053720Z
UID:10009308-1891972800-1891972800@epictriviafl.com
SUMMARY:Music Bingo
DESCRIPTION:
URL:https://epictriviafl.com/event/music-bingo-pocha/2029-12-14/
LOCATION:Pocha 93\, 7379 W Colonial Dr\, Orlando FL 32818 USA
GEO:28.5526374;-81.4808195
X-APPLE-STRUCTURED-LOCATION;VALUE=URI;X-ADDRESS=Pocha 93 7379 W Colonial Dr Orlando FL 32818 USA;X-APPLE-RADIUS=500;X-TITLE=7379 W Colonial Dr\, Orlando FL 32818 USA:geo:-81.4808195,28.5526374
END:VEVENT
BEGIN:VEVENT
DTSTART;TZID=America/New_York:20291220T200000
DTEND;TZID=America/New_York:20291220T200000
DTSTAMP:20260421T142013
CREATED:20260105T003204Z
LAST-MODIFIED:20260105T053854Z
UID:10010349-1892491200-1892491200@epictriviafl.com
SUMMARY:Trivia
DESCRIPTION:
URL:https://epictriviafl.com/event/trivia-pocha/2029-12-20/
LOCATION:Pocha 93\, 7379 W Colonial Dr\, Orlando FL 32818 USA
GEO:28.5526374;-81.4808195
X-APPLE-STRUCTURED-LOCATION;VALUE=URI;X-ADDRESS=Pocha 93 7379 W Colonial Dr Orlando FL 32818 USA;X-APPLE-RADIUS=500;X-TITLE=7379 W Colonial Dr\, Orlando FL 32818 USA:geo:-81.4808195,28.5526374
END:VEVENT
BEGIN:VEVENT
DTSTART;TZID=America/New_York:20291221T200000
DTEND;TZID=America/New_York:20291221T200000
DTSTAMP:20260421T142013
CREATED:20260105T003218Z
LAST-MODIFIED:20260105T053720Z
UID:10009309-1892577600-1892577600@epictriviafl.com
SUMMARY:Music Bingo
DESCRIPTION:
URL:https://epictriviafl.com/event/music-bingo-pocha/2029-12-21/
LOCATION:Pocha 93\, 7379 W Colonial Dr\, Orlando FL 32818 USA
GEO:28.5526374;-81.4808195
X-APPLE-STRUCTURED-LOCATION;VALUE=URI;X-ADDRESS=Pocha 93 7379 W Colonial Dr Orlando FL 32818 USA;X-APPLE-RADIUS=500;X-TITLE=7379 W Colonial Dr\, Orlando FL 32818 USA:geo:-81.4808195,28.5526374
END:VEVENT
BEGIN:VEVENT
DTSTART;TZID=America/New_York:20291227T200000
DTEND;TZID=America/New_York:20291227T200000
DTSTAMP:20260421T142013
CREATED:20260105T003204Z
LAST-MODIFIED:20260105T053854Z
UID:10010350-1893096000-1893096000@epictriviafl.com
SUMMARY:Trivia
DESCRIPTION:
URL:https://epictriviafl.com/event/trivia-pocha/2029-12-27/
LOCATION:Pocha 93\, 7379 W Colonial Dr\, Orlando FL 32818 USA
GEO:28.5526374;-81.4808195
X-APPLE-STRUCTURED-LOCATION;VALUE=URI;X-ADDRESS=Pocha 93 7379 W Colonial Dr Orlando FL 32818 USA;X-APPLE-RADIUS=500;X-TITLE=7379 W Colonial Dr\, Orlando FL 32818 USA:geo:-81.4808195,28.5526374
END:VEVENT
BEGIN:VEVENT
DTSTART;TZID=America/New_York:20291228T200000
DTEND;TZID=America/New_York:20291228T200000
DTSTAMP:20260421T142013
CREATED:20260105T003218Z
LAST-MODIFIED:20260105T053720Z
UID:10009310-1893182400-1893182400@epictriviafl.com
SUMMARY:Music Bingo
DESCRIPTION:
URL:https://epictriviafl.com/event/music-bingo-pocha/2029-12-28/
LOCATION:Pocha 93\, 7379 W Colonial Dr\, Orlando FL 32818 USA
GEO:28.5526374;-81.4808195
X-APPLE-STRUCTURED-LOCATION;VALUE=URI;X-ADDRESS=Pocha 93 7379 W Colonial Dr Orlando FL 32818 USA;X-APPLE-RADIUS=500;X-TITLE=7379 W Colonial Dr\, Orlando FL 32818 USA:geo:-81.4808195,28.5526374
END:VEVENT
BEGIN:VEVENT
DTSTART;TZID=America/New_York:20300103T200000
DTEND;TZID=America/New_York:20300103T200000
DTSTAMP:20260421T142013
CREATED:20260105T003204Z
LAST-MODIFIED:20260105T053854Z
UID:10010351-1893700800-1893700800@epictriviafl.com
SUMMARY:Trivia
DESCRIPTION:
URL:https://epictriviafl.com/event/trivia-pocha/2030-01-03/
LOCATION:Pocha 93\, 7379 W Colonial Dr\, Orlando FL 32818 USA
GEO:28.5526374;-81.4808195
X-APPLE-STRUCTURED-LOCATION;VALUE=URI;X-ADDRESS=Pocha 93 7379 W Colonial Dr Orlando FL 32818 USA;X-APPLE-RADIUS=500;X-TITLE=7379 W Colonial Dr\, Orlando FL 32818 USA:geo:-81.4808195,28.5526374
END:VEVENT
BEGIN:VEVENT
DTSTART;TZID=America/New_York:20300104T200000
DTEND;TZID=America/New_York:20300104T200000
DTSTAMP:20260421T142013
CREATED:20260105T003218Z
LAST-MODIFIED:20260105T053720Z
UID:10009311-1893787200-1893787200@epictriviafl.com
SUMMARY:Music Bingo
DESCRIPTION:
URL:https://epictriviafl.com/event/music-bingo-pocha/2030-01-04/
LOCATION:Pocha 93\, 7379 W Colonial Dr\, Orlando FL 32818 USA
GEO:28.5526374;-81.4808195
X-APPLE-STRUCTURED-LOCATION;VALUE=URI;X-ADDRESS=Pocha 93 7379 W Colonial Dr Orlando FL 32818 USA;X-APPLE-RADIUS=500;X-TITLE=7379 W Colonial Dr\, Orlando FL 32818 USA:geo:-81.4808195,28.5526374
END:VEVENT
BEGIN:VEVENT
DTSTART;TZID=America/New_York:20300110T200000
DTEND;TZID=America/New_York:20300110T200000
DTSTAMP:20260421T142013
CREATED:20260105T003204Z
LAST-MODIFIED:20260105T053854Z
UID:10010352-1894305600-1894305600@epictriviafl.com
SUMMARY:Trivia
DESCRIPTION:
URL:https://epictriviafl.com/event/trivia-pocha/2030-01-10/
LOCATION:Pocha 93\, 7379 W Colonial Dr\, Orlando FL 32818 USA
GEO:28.5526374;-81.4808195
X-APPLE-STRUCTURED-LOCATION;VALUE=URI;X-ADDRESS=Pocha 93 7379 W Colonial Dr Orlando FL 32818 USA;X-APPLE-RADIUS=500;X-TITLE=7379 W Colonial Dr\, Orlando FL 32818 USA:geo:-81.4808195,28.5526374
END:VEVENT
BEGIN:VEVENT
DTSTART;TZID=America/New_York:20300111T200000
DTEND;TZID=America/New_York:20300111T200000
DTSTAMP:20260421T142013
CREATED:20260105T003218Z
LAST-MODIFIED:20260105T053720Z
UID:10009312-1894392000-1894392000@epictriviafl.com
SUMMARY:Music Bingo
DESCRIPTION:
URL:https://epictriviafl.com/event/music-bingo-pocha/2030-01-11/
LOCATION:Pocha 93\, 7379 W Colonial Dr\, Orlando FL 32818 USA
GEO:28.5526374;-81.4808195
X-APPLE-STRUCTURED-LOCATION;VALUE=URI;X-ADDRESS=Pocha 93 7379 W Colonial Dr Orlando FL 32818 USA;X-APPLE-RADIUS=500;X-TITLE=7379 W Colonial Dr\, Orlando FL 32818 USA:geo:-81.4808195,28.5526374
END:VEVENT
BEGIN:VEVENT
DTSTART;TZID=America/New_York:20300117T200000
DTEND;TZID=America/New_York:20300117T200000
DTSTAMP:20260421T142013
CREATED:20260105T003204Z
LAST-MODIFIED:20260105T053854Z
UID:10010353-1894910400-1894910400@epictriviafl.com
SUMMARY:Trivia
DESCRIPTION:
URL:https://epictriviafl.com/event/trivia-pocha/2030-01-17/
LOCATION:Pocha 93\, 7379 W Colonial Dr\, Orlando FL 32818 USA
GEO:28.5526374;-81.4808195
X-APPLE-STRUCTURED-LOCATION;VALUE=URI;X-ADDRESS=Pocha 93 7379 W Colonial Dr Orlando FL 32818 USA;X-APPLE-RADIUS=500;X-TITLE=7379 W Colonial Dr\, Orlando FL 32818 USA:geo:-81.4808195,28.5526374
END:VEVENT
BEGIN:VEVENT
DTSTART;TZID=America/New_York:20300118T200000
DTEND;TZID=America/New_York:20300118T200000
DTSTAMP:20260421T142013
CREATED:20260105T003218Z
LAST-MODIFIED:20260105T053720Z
UID:10009313-1894996800-1894996800@epictriviafl.com
SUMMARY:Music Bingo
DESCRIPTION:
URL:https://epictriviafl.com/event/music-bingo-pocha/2030-01-18/
LOCATION:Pocha 93\, 7379 W Colonial Dr\, Orlando FL 32818 USA
GEO:28.5526374;-81.4808195
X-APPLE-STRUCTURED-LOCATION;VALUE=URI;X-ADDRESS=Pocha 93 7379 W Colonial Dr Orlando FL 32818 USA;X-APPLE-RADIUS=500;X-TITLE=7379 W Colonial Dr\, Orlando FL 32818 USA:geo:-81.4808195,28.5526374
END:VEVENT
BEGIN:VEVENT
DTSTART;TZID=America/New_York:20300124T200000
DTEND;TZID=America/New_York:20300124T200000
DTSTAMP:20260421T142013
CREATED:20260105T003204Z
LAST-MODIFIED:20260105T053854Z
UID:10010354-1895515200-1895515200@epictriviafl.com
SUMMARY:Trivia
DESCRIPTION:
URL:https://epictriviafl.com/event/trivia-pocha/2030-01-24/
LOCATION:Pocha 93\, 7379 W Colonial Dr\, Orlando FL 32818 USA
GEO:28.5526374;-81.4808195
X-APPLE-STRUCTURED-LOCATION;VALUE=URI;X-ADDRESS=Pocha 93 7379 W Colonial Dr Orlando FL 32818 USA;X-APPLE-RADIUS=500;X-TITLE=7379 W Colonial Dr\, Orlando FL 32818 USA:geo:-81.4808195,28.5526374
END:VEVENT
BEGIN:VEVENT
DTSTART;TZID=America/New_York:20300125T200000
DTEND;TZID=America/New_York:20300125T200000
DTSTAMP:20260421T142013
CREATED:20260105T003218Z
LAST-MODIFIED:20260105T053720Z
UID:10009314-1895601600-1895601600@epictriviafl.com
SUMMARY:Music Bingo
DESCRIPTION:
URL:https://epictriviafl.com/event/music-bingo-pocha/2030-01-25/
LOCATION:Pocha 93\, 7379 W Colonial Dr\, Orlando FL 32818 USA
GEO:28.5526374;-81.4808195
X-APPLE-STRUCTURED-LOCATION;VALUE=URI;X-ADDRESS=Pocha 93 7379 W Colonial Dr Orlando FL 32818 USA;X-APPLE-RADIUS=500;X-TITLE=7379 W Colonial Dr\, Orlando FL 32818 USA:geo:-81.4808195,28.5526374
END:VEVENT
BEGIN:VEVENT
DTSTART;TZID=America/New_York:20300131T200000
DTEND;TZID=America/New_York:20300131T200000
DTSTAMP:20260421T142013
CREATED:20260105T003204Z
LAST-MODIFIED:20260105T053854Z
UID:10010355-1896120000-1896120000@epictriviafl.com
SUMMARY:Trivia
DESCRIPTION:
URL:https://epictriviafl.com/event/trivia-pocha/2030-01-31/
LOCATION:Pocha 93\, 7379 W Colonial Dr\, Orlando FL 32818 USA
GEO:28.5526374;-81.4808195
X-APPLE-STRUCTURED-LOCATION;VALUE=URI;X-ADDRESS=Pocha 93 7379 W Colonial Dr Orlando FL 32818 USA;X-APPLE-RADIUS=500;X-TITLE=7379 W Colonial Dr\, Orlando FL 32818 USA:geo:-81.4808195,28.5526374
END:VEVENT
BEGIN:VEVENT
DTSTART;TZID=America/New_York:20300201T200000
DTEND;TZID=America/New_York:20300201T200000
DTSTAMP:20260421T142013
CREATED:20260105T003218Z
LAST-MODIFIED:20260105T053720Z
UID:10009315-1896206400-1896206400@epictriviafl.com
SUMMARY:Music Bingo
DESCRIPTION:
URL:https://epictriviafl.com/event/music-bingo-pocha/2030-02-01/
LOCATION:Pocha 93\, 7379 W Colonial Dr\, Orlando FL 32818 USA
GEO:28.5526374;-81.4808195
X-APPLE-STRUCTURED-LOCATION;VALUE=URI;X-ADDRESS=Pocha 93 7379 W Colonial Dr Orlando FL 32818 USA;X-APPLE-RADIUS=500;X-TITLE=7379 W Colonial Dr\, Orlando FL 32818 USA:geo:-81.4808195,28.5526374
END:VEVENT
BEGIN:VEVENT
DTSTART;TZID=America/New_York:20300207T200000
DTEND;TZID=America/New_York:20300207T200000
DTSTAMP:20260421T142013
CREATED:20260105T003204Z
LAST-MODIFIED:20260105T053854Z
UID:10010356-1896724800-1896724800@epictriviafl.com
SUMMARY:Trivia
DESCRIPTION:
URL:https://epictriviafl.com/event/trivia-pocha/2030-02-07/
LOCATION:Pocha 93\, 7379 W Colonial Dr\, Orlando FL 32818 USA
GEO:28.5526374;-81.4808195
X-APPLE-STRUCTURED-LOCATION;VALUE=URI;X-ADDRESS=Pocha 93 7379 W Colonial Dr Orlando FL 32818 USA;X-APPLE-RADIUS=500;X-TITLE=7379 W Colonial Dr\, Orlando FL 32818 USA:geo:-81.4808195,28.5526374
END:VEVENT
BEGIN:VEVENT
DTSTART;TZID=America/New_York:20300208T200000
DTEND;TZID=America/New_York:20300208T200000
DTSTAMP:20260421T142013
CREATED:20260105T003218Z
LAST-MODIFIED:20260105T053720Z
UID:10009316-1896811200-1896811200@epictriviafl.com
SUMMARY:Music Bingo
DESCRIPTION:
URL:https://epictriviafl.com/event/music-bingo-pocha/2030-02-08/
LOCATION:Pocha 93\, 7379 W Colonial Dr\, Orlando FL 32818 USA
GEO:28.5526374;-81.4808195
X-APPLE-STRUCTURED-LOCATION;VALUE=URI;X-ADDRESS=Pocha 93 7379 W Colonial Dr Orlando FL 32818 USA;X-APPLE-RADIUS=500;X-TITLE=7379 W Colonial Dr\, Orlando FL 32818 USA:geo:-81.4808195,28.5526374
END:VEVENT
BEGIN:VEVENT
DTSTART;TZID=America/New_York:20300214T200000
DTEND;TZID=America/New_York:20300214T200000
DTSTAMP:20260421T142013
CREATED:20260105T003204Z
LAST-MODIFIED:20260105T053854Z
UID:10010357-1897329600-1897329600@epictriviafl.com
SUMMARY:Trivia
DESCRIPTION:
URL:https://epictriviafl.com/event/trivia-pocha/2030-02-14/
LOCATION:Pocha 93\, 7379 W Colonial Dr\, Orlando FL 32818 USA
GEO:28.5526374;-81.4808195
X-APPLE-STRUCTURED-LOCATION;VALUE=URI;X-ADDRESS=Pocha 93 7379 W Colonial Dr Orlando FL 32818 USA;X-APPLE-RADIUS=500;X-TITLE=7379 W Colonial Dr\, Orlando FL 32818 USA:geo:-81.4808195,28.5526374
END:VEVENT
BEGIN:VEVENT
DTSTART;TZID=America/New_York:20300215T200000
DTEND;TZID=America/New_York:20300215T200000
DTSTAMP:20260421T142013
CREATED:20260105T003218Z
LAST-MODIFIED:20260105T053720Z
UID:10009317-1897416000-1897416000@epictriviafl.com
SUMMARY:Music Bingo
DESCRIPTION:
URL:https://epictriviafl.com/event/music-bingo-pocha/2030-02-15/
LOCATION:Pocha 93\, 7379 W Colonial Dr\, Orlando FL 32818 USA
GEO:28.5526374;-81.4808195
X-APPLE-STRUCTURED-LOCATION;VALUE=URI;X-ADDRESS=Pocha 93 7379 W Colonial Dr Orlando FL 32818 USA;X-APPLE-RADIUS=500;X-TITLE=7379 W Colonial Dr\, Orlando FL 32818 USA:geo:-81.4808195,28.5526374
END:VEVENT
BEGIN:VEVENT
DTSTART;TZID=America/New_York:20300221T200000
DTEND;TZID=America/New_York:20300221T200000
DTSTAMP:20260421T142013
CREATED:20260105T003204Z
LAST-MODIFIED:20260105T053854Z
UID:10010358-1897934400-1897934400@epictriviafl.com
SUMMARY:Trivia
DESCRIPTION:
URL:https://epictriviafl.com/event/trivia-pocha/2030-02-21/
LOCATION:Pocha 93\, 7379 W Colonial Dr\, Orlando FL 32818 USA
GEO:28.5526374;-81.4808195
X-APPLE-STRUCTURED-LOCATION;VALUE=URI;X-ADDRESS=Pocha 93 7379 W Colonial Dr Orlando FL 32818 USA;X-APPLE-RADIUS=500;X-TITLE=7379 W Colonial Dr\, Orlando FL 32818 USA:geo:-81.4808195,28.5526374
END:VEVENT
BEGIN:VEVENT
DTSTART;TZID=America/New_York:20300222T200000
DTEND;TZID=America/New_York:20300222T200000
DTSTAMP:20260421T142013
CREATED:20260105T003218Z
LAST-MODIFIED:20260105T053720Z
UID:10009318-1898020800-1898020800@epictriviafl.com
SUMMARY:Music Bingo
DESCRIPTION:
URL:https://epictriviafl.com/event/music-bingo-pocha/2030-02-22/
LOCATION:Pocha 93\, 7379 W Colonial Dr\, Orlando FL 32818 USA
GEO:28.5526374;-81.4808195
X-APPLE-STRUCTURED-LOCATION;VALUE=URI;X-ADDRESS=Pocha 93 7379 W Colonial Dr Orlando FL 32818 USA;X-APPLE-RADIUS=500;X-TITLE=7379 W Colonial Dr\, Orlando FL 32818 USA:geo:-81.4808195,28.5526374
END:VEVENT
END:VCALENDAR