BEGIN:VCALENDAR
VERSION:2.0
PRODID:-//Epic Trivia - ECPv6.15.18//NONSGML v1.0//EN
CALSCALE:GREGORIAN
METHOD:PUBLISH
X-WR-CALNAME:Epic Trivia
X-ORIGINAL-URL:https://epictriviafl.com
X-WR-CALDESC:Events for Epic Trivia
REFRESH-INTERVAL;VALUE=DURATION:PT1H
X-Robots-Tag:noindex
X-PUBLISHED-TTL:PT1H
BEGIN:VTIMEZONE
TZID:America/New_York
BEGIN:DAYLIGHT
TZOFFSETFROM:-0500
TZOFFSETTO:-0400
TZNAME:EDT
DTSTART:20280312T070000
END:DAYLIGHT
BEGIN:STANDARD
TZOFFSETFROM:-0400
TZOFFSETTO:-0500
TZNAME:EST
DTSTART:20281105T060000
END:STANDARD
BEGIN:DAYLIGHT
TZOFFSETFROM:-0500
TZOFFSETTO:-0400
TZNAME:EDT
DTSTART:20290311T070000
END:DAYLIGHT
BEGIN:STANDARD
TZOFFSETFROM:-0400
TZOFFSETTO:-0500
TZNAME:EST
DTSTART:20291104T060000
END:STANDARD
BEGIN:DAYLIGHT
TZOFFSETFROM:-0500
TZOFFSETTO:-0400
TZNAME:EDT
DTSTART:20300310T070000
END:DAYLIGHT
BEGIN:STANDARD
TZOFFSETFROM:-0400
TZOFFSETTO:-0500
TZNAME:EST
DTSTART:20301103T060000
END:STANDARD
END:VTIMEZONE
BEGIN:VEVENT
DTSTART;TZID=America/New_York:20290531T200000
DTEND;TZID=America/New_York:20290531T200000
DTSTAMP:20260421T075725
CREATED:20260105T003204Z
LAST-MODIFIED:20260105T053854Z
UID:10010320-1874952000-1874952000@epictriviafl.com
SUMMARY:Trivia
DESCRIPTION:
URL:https://epictriviafl.com/event/trivia-pocha/2029-05-31/
LOCATION:Pocha 93\, 7379 W Colonial Dr\, Orlando FL 32818 USA
GEO:28.5526374;-81.4808195
X-APPLE-STRUCTURED-LOCATION;VALUE=URI;X-ADDRESS=Pocha 93 7379 W Colonial Dr Orlando FL 32818 USA;X-APPLE-RADIUS=500;X-TITLE=7379 W Colonial Dr\, Orlando FL 32818 USA:geo:-81.4808195,28.5526374
END:VEVENT
BEGIN:VEVENT
DTSTART;TZID=America/New_York:20290601T200000
DTEND;TZID=America/New_York:20290601T200000
DTSTAMP:20260421T075725
CREATED:20260105T003218Z
LAST-MODIFIED:20260105T053720Z
UID:10009280-1875038400-1875038400@epictriviafl.com
SUMMARY:Music Bingo
DESCRIPTION:
URL:https://epictriviafl.com/event/music-bingo-pocha/2029-06-01/
LOCATION:Pocha 93\, 7379 W Colonial Dr\, Orlando FL 32818 USA
GEO:28.5526374;-81.4808195
X-APPLE-STRUCTURED-LOCATION;VALUE=URI;X-ADDRESS=Pocha 93 7379 W Colonial Dr Orlando FL 32818 USA;X-APPLE-RADIUS=500;X-TITLE=7379 W Colonial Dr\, Orlando FL 32818 USA:geo:-81.4808195,28.5526374
END:VEVENT
BEGIN:VEVENT
DTSTART;TZID=America/New_York:20290607T200000
DTEND;TZID=America/New_York:20290607T200000
DTSTAMP:20260421T075725
CREATED:20260105T003204Z
LAST-MODIFIED:20260105T053854Z
UID:10010321-1875556800-1875556800@epictriviafl.com
SUMMARY:Trivia
DESCRIPTION:
URL:https://epictriviafl.com/event/trivia-pocha/2029-06-07/
LOCATION:Pocha 93\, 7379 W Colonial Dr\, Orlando FL 32818 USA
GEO:28.5526374;-81.4808195
X-APPLE-STRUCTURED-LOCATION;VALUE=URI;X-ADDRESS=Pocha 93 7379 W Colonial Dr Orlando FL 32818 USA;X-APPLE-RADIUS=500;X-TITLE=7379 W Colonial Dr\, Orlando FL 32818 USA:geo:-81.4808195,28.5526374
END:VEVENT
BEGIN:VEVENT
DTSTART;TZID=America/New_York:20290608T200000
DTEND;TZID=America/New_York:20290608T200000
DTSTAMP:20260421T075725
CREATED:20260105T003218Z
LAST-MODIFIED:20260105T053720Z
UID:10009281-1875643200-1875643200@epictriviafl.com
SUMMARY:Music Bingo
DESCRIPTION:
URL:https://epictriviafl.com/event/music-bingo-pocha/2029-06-08/
LOCATION:Pocha 93\, 7379 W Colonial Dr\, Orlando FL 32818 USA
GEO:28.5526374;-81.4808195
X-APPLE-STRUCTURED-LOCATION;VALUE=URI;X-ADDRESS=Pocha 93 7379 W Colonial Dr Orlando FL 32818 USA;X-APPLE-RADIUS=500;X-TITLE=7379 W Colonial Dr\, Orlando FL 32818 USA:geo:-81.4808195,28.5526374
END:VEVENT
BEGIN:VEVENT
DTSTART;TZID=America/New_York:20290614T200000
DTEND;TZID=America/New_York:20290614T200000
DTSTAMP:20260421T075725
CREATED:20260105T003204Z
LAST-MODIFIED:20260105T053854Z
UID:10010322-1876161600-1876161600@epictriviafl.com
SUMMARY:Trivia
DESCRIPTION:
URL:https://epictriviafl.com/event/trivia-pocha/2029-06-14/
LOCATION:Pocha 93\, 7379 W Colonial Dr\, Orlando FL 32818 USA
GEO:28.5526374;-81.4808195
X-APPLE-STRUCTURED-LOCATION;VALUE=URI;X-ADDRESS=Pocha 93 7379 W Colonial Dr Orlando FL 32818 USA;X-APPLE-RADIUS=500;X-TITLE=7379 W Colonial Dr\, Orlando FL 32818 USA:geo:-81.4808195,28.5526374
END:VEVENT
BEGIN:VEVENT
DTSTART;TZID=America/New_York:20290615T200000
DTEND;TZID=America/New_York:20290615T200000
DTSTAMP:20260421T075725
CREATED:20260105T003218Z
LAST-MODIFIED:20260105T053720Z
UID:10009282-1876248000-1876248000@epictriviafl.com
SUMMARY:Music Bingo
DESCRIPTION:
URL:https://epictriviafl.com/event/music-bingo-pocha/2029-06-15/
LOCATION:Pocha 93\, 7379 W Colonial Dr\, Orlando FL 32818 USA
GEO:28.5526374;-81.4808195
X-APPLE-STRUCTURED-LOCATION;VALUE=URI;X-ADDRESS=Pocha 93 7379 W Colonial Dr Orlando FL 32818 USA;X-APPLE-RADIUS=500;X-TITLE=7379 W Colonial Dr\, Orlando FL 32818 USA:geo:-81.4808195,28.5526374
END:VEVENT
BEGIN:VEVENT
DTSTART;TZID=America/New_York:20290621T200000
DTEND;TZID=America/New_York:20290621T200000
DTSTAMP:20260421T075725
CREATED:20260105T003204Z
LAST-MODIFIED:20260105T053854Z
UID:10010323-1876766400-1876766400@epictriviafl.com
SUMMARY:Trivia
DESCRIPTION:
URL:https://epictriviafl.com/event/trivia-pocha/2029-06-21/
LOCATION:Pocha 93\, 7379 W Colonial Dr\, Orlando FL 32818 USA
GEO:28.5526374;-81.4808195
X-APPLE-STRUCTURED-LOCATION;VALUE=URI;X-ADDRESS=Pocha 93 7379 W Colonial Dr Orlando FL 32818 USA;X-APPLE-RADIUS=500;X-TITLE=7379 W Colonial Dr\, Orlando FL 32818 USA:geo:-81.4808195,28.5526374
END:VEVENT
BEGIN:VEVENT
DTSTART;TZID=America/New_York:20290622T200000
DTEND;TZID=America/New_York:20290622T200000
DTSTAMP:20260421T075725
CREATED:20260105T003218Z
LAST-MODIFIED:20260105T053720Z
UID:10009283-1876852800-1876852800@epictriviafl.com
SUMMARY:Music Bingo
DESCRIPTION:
URL:https://epictriviafl.com/event/music-bingo-pocha/2029-06-22/
LOCATION:Pocha 93\, 7379 W Colonial Dr\, Orlando FL 32818 USA
GEO:28.5526374;-81.4808195
X-APPLE-STRUCTURED-LOCATION;VALUE=URI;X-ADDRESS=Pocha 93 7379 W Colonial Dr Orlando FL 32818 USA;X-APPLE-RADIUS=500;X-TITLE=7379 W Colonial Dr\, Orlando FL 32818 USA:geo:-81.4808195,28.5526374
END:VEVENT
BEGIN:VEVENT
DTSTART;TZID=America/New_York:20290628T200000
DTEND;TZID=America/New_York:20290628T200000
DTSTAMP:20260421T075725
CREATED:20260105T003204Z
LAST-MODIFIED:20260105T053854Z
UID:10010324-1877371200-1877371200@epictriviafl.com
SUMMARY:Trivia
DESCRIPTION:
URL:https://epictriviafl.com/event/trivia-pocha/2029-06-28/
LOCATION:Pocha 93\, 7379 W Colonial Dr\, Orlando FL 32818 USA
GEO:28.5526374;-81.4808195
X-APPLE-STRUCTURED-LOCATION;VALUE=URI;X-ADDRESS=Pocha 93 7379 W Colonial Dr Orlando FL 32818 USA;X-APPLE-RADIUS=500;X-TITLE=7379 W Colonial Dr\, Orlando FL 32818 USA:geo:-81.4808195,28.5526374
END:VEVENT
BEGIN:VEVENT
DTSTART;TZID=America/New_York:20290629T200000
DTEND;TZID=America/New_York:20290629T200000
DTSTAMP:20260421T075725
CREATED:20260105T003218Z
LAST-MODIFIED:20260105T053720Z
UID:10009284-1877457600-1877457600@epictriviafl.com
SUMMARY:Music Bingo
DESCRIPTION:
URL:https://epictriviafl.com/event/music-bingo-pocha/2029-06-29/
LOCATION:Pocha 93\, 7379 W Colonial Dr\, Orlando FL 32818 USA
GEO:28.5526374;-81.4808195
X-APPLE-STRUCTURED-LOCATION;VALUE=URI;X-ADDRESS=Pocha 93 7379 W Colonial Dr Orlando FL 32818 USA;X-APPLE-RADIUS=500;X-TITLE=7379 W Colonial Dr\, Orlando FL 32818 USA:geo:-81.4808195,28.5526374
END:VEVENT
BEGIN:VEVENT
DTSTART;TZID=America/New_York:20290705T200000
DTEND;TZID=America/New_York:20290705T200000
DTSTAMP:20260421T075725
CREATED:20260105T003204Z
LAST-MODIFIED:20260105T053854Z
UID:10010325-1877976000-1877976000@epictriviafl.com
SUMMARY:Trivia
DESCRIPTION:
URL:https://epictriviafl.com/event/trivia-pocha/2029-07-05/
LOCATION:Pocha 93\, 7379 W Colonial Dr\, Orlando FL 32818 USA
GEO:28.5526374;-81.4808195
X-APPLE-STRUCTURED-LOCATION;VALUE=URI;X-ADDRESS=Pocha 93 7379 W Colonial Dr Orlando FL 32818 USA;X-APPLE-RADIUS=500;X-TITLE=7379 W Colonial Dr\, Orlando FL 32818 USA:geo:-81.4808195,28.5526374
END:VEVENT
BEGIN:VEVENT
DTSTART;TZID=America/New_York:20290706T200000
DTEND;TZID=America/New_York:20290706T200000
DTSTAMP:20260421T075725
CREATED:20260105T003218Z
LAST-MODIFIED:20260105T053720Z
UID:10009285-1878062400-1878062400@epictriviafl.com
SUMMARY:Music Bingo
DESCRIPTION:
URL:https://epictriviafl.com/event/music-bingo-pocha/2029-07-06/
LOCATION:Pocha 93\, 7379 W Colonial Dr\, Orlando FL 32818 USA
GEO:28.5526374;-81.4808195
X-APPLE-STRUCTURED-LOCATION;VALUE=URI;X-ADDRESS=Pocha 93 7379 W Colonial Dr Orlando FL 32818 USA;X-APPLE-RADIUS=500;X-TITLE=7379 W Colonial Dr\, Orlando FL 32818 USA:geo:-81.4808195,28.5526374
END:VEVENT
BEGIN:VEVENT
DTSTART;TZID=America/New_York:20290712T200000
DTEND;TZID=America/New_York:20290712T200000
DTSTAMP:20260421T075725
CREATED:20260105T003204Z
LAST-MODIFIED:20260105T053854Z
UID:10010326-1878580800-1878580800@epictriviafl.com
SUMMARY:Trivia
DESCRIPTION:
URL:https://epictriviafl.com/event/trivia-pocha/2029-07-12/
LOCATION:Pocha 93\, 7379 W Colonial Dr\, Orlando FL 32818 USA
GEO:28.5526374;-81.4808195
X-APPLE-STRUCTURED-LOCATION;VALUE=URI;X-ADDRESS=Pocha 93 7379 W Colonial Dr Orlando FL 32818 USA;X-APPLE-RADIUS=500;X-TITLE=7379 W Colonial Dr\, Orlando FL 32818 USA:geo:-81.4808195,28.5526374
END:VEVENT
BEGIN:VEVENT
DTSTART;TZID=America/New_York:20290713T200000
DTEND;TZID=America/New_York:20290713T200000
DTSTAMP:20260421T075725
CREATED:20260105T003218Z
LAST-MODIFIED:20260105T053720Z
UID:10009286-1878667200-1878667200@epictriviafl.com
SUMMARY:Music Bingo
DESCRIPTION:
URL:https://epictriviafl.com/event/music-bingo-pocha/2029-07-13/
LOCATION:Pocha 93\, 7379 W Colonial Dr\, Orlando FL 32818 USA
GEO:28.5526374;-81.4808195
X-APPLE-STRUCTURED-LOCATION;VALUE=URI;X-ADDRESS=Pocha 93 7379 W Colonial Dr Orlando FL 32818 USA;X-APPLE-RADIUS=500;X-TITLE=7379 W Colonial Dr\, Orlando FL 32818 USA:geo:-81.4808195,28.5526374
END:VEVENT
BEGIN:VEVENT
DTSTART;TZID=America/New_York:20290719T200000
DTEND;TZID=America/New_York:20290719T200000
DTSTAMP:20260421T075725
CREATED:20260105T003204Z
LAST-MODIFIED:20260105T053854Z
UID:10010327-1879185600-1879185600@epictriviafl.com
SUMMARY:Trivia
DESCRIPTION:
URL:https://epictriviafl.com/event/trivia-pocha/2029-07-19/
LOCATION:Pocha 93\, 7379 W Colonial Dr\, Orlando FL 32818 USA
GEO:28.5526374;-81.4808195
X-APPLE-STRUCTURED-LOCATION;VALUE=URI;X-ADDRESS=Pocha 93 7379 W Colonial Dr Orlando FL 32818 USA;X-APPLE-RADIUS=500;X-TITLE=7379 W Colonial Dr\, Orlando FL 32818 USA:geo:-81.4808195,28.5526374
END:VEVENT
BEGIN:VEVENT
DTSTART;TZID=America/New_York:20290720T200000
DTEND;TZID=America/New_York:20290720T200000
DTSTAMP:20260421T075725
CREATED:20260105T003218Z
LAST-MODIFIED:20260105T053720Z
UID:10009287-1879272000-1879272000@epictriviafl.com
SUMMARY:Music Bingo
DESCRIPTION:
URL:https://epictriviafl.com/event/music-bingo-pocha/2029-07-20/
LOCATION:Pocha 93\, 7379 W Colonial Dr\, Orlando FL 32818 USA
GEO:28.5526374;-81.4808195
X-APPLE-STRUCTURED-LOCATION;VALUE=URI;X-ADDRESS=Pocha 93 7379 W Colonial Dr Orlando FL 32818 USA;X-APPLE-RADIUS=500;X-TITLE=7379 W Colonial Dr\, Orlando FL 32818 USA:geo:-81.4808195,28.5526374
END:VEVENT
BEGIN:VEVENT
DTSTART;TZID=America/New_York:20290726T200000
DTEND;TZID=America/New_York:20290726T200000
DTSTAMP:20260421T075725
CREATED:20260105T003204Z
LAST-MODIFIED:20260105T053854Z
UID:10010328-1879790400-1879790400@epictriviafl.com
SUMMARY:Trivia
DESCRIPTION:
URL:https://epictriviafl.com/event/trivia-pocha/2029-07-26/
LOCATION:Pocha 93\, 7379 W Colonial Dr\, Orlando FL 32818 USA
GEO:28.5526374;-81.4808195
X-APPLE-STRUCTURED-LOCATION;VALUE=URI;X-ADDRESS=Pocha 93 7379 W Colonial Dr Orlando FL 32818 USA;X-APPLE-RADIUS=500;X-TITLE=7379 W Colonial Dr\, Orlando FL 32818 USA:geo:-81.4808195,28.5526374
END:VEVENT
BEGIN:VEVENT
DTSTART;TZID=America/New_York:20290727T200000
DTEND;TZID=America/New_York:20290727T200000
DTSTAMP:20260421T075725
CREATED:20260105T003218Z
LAST-MODIFIED:20260105T053720Z
UID:10009288-1879876800-1879876800@epictriviafl.com
SUMMARY:Music Bingo
DESCRIPTION:
URL:https://epictriviafl.com/event/music-bingo-pocha/2029-07-27/
LOCATION:Pocha 93\, 7379 W Colonial Dr\, Orlando FL 32818 USA
GEO:28.5526374;-81.4808195
X-APPLE-STRUCTURED-LOCATION;VALUE=URI;X-ADDRESS=Pocha 93 7379 W Colonial Dr Orlando FL 32818 USA;X-APPLE-RADIUS=500;X-TITLE=7379 W Colonial Dr\, Orlando FL 32818 USA:geo:-81.4808195,28.5526374
END:VEVENT
BEGIN:VEVENT
DTSTART;TZID=America/New_York:20290802T200000
DTEND;TZID=America/New_York:20290802T200000
DTSTAMP:20260421T075725
CREATED:20260105T003204Z
LAST-MODIFIED:20260105T053854Z
UID:10010329-1880395200-1880395200@epictriviafl.com
SUMMARY:Trivia
DESCRIPTION:
URL:https://epictriviafl.com/event/trivia-pocha/2029-08-02/
LOCATION:Pocha 93\, 7379 W Colonial Dr\, Orlando FL 32818 USA
GEO:28.5526374;-81.4808195
X-APPLE-STRUCTURED-LOCATION;VALUE=URI;X-ADDRESS=Pocha 93 7379 W Colonial Dr Orlando FL 32818 USA;X-APPLE-RADIUS=500;X-TITLE=7379 W Colonial Dr\, Orlando FL 32818 USA:geo:-81.4808195,28.5526374
END:VEVENT
BEGIN:VEVENT
DTSTART;TZID=America/New_York:20290803T200000
DTEND;TZID=America/New_York:20290803T200000
DTSTAMP:20260421T075725
CREATED:20260105T003218Z
LAST-MODIFIED:20260105T053720Z
UID:10009289-1880481600-1880481600@epictriviafl.com
SUMMARY:Music Bingo
DESCRIPTION:
URL:https://epictriviafl.com/event/music-bingo-pocha/2029-08-03/
LOCATION:Pocha 93\, 7379 W Colonial Dr\, Orlando FL 32818 USA
GEO:28.5526374;-81.4808195
X-APPLE-STRUCTURED-LOCATION;VALUE=URI;X-ADDRESS=Pocha 93 7379 W Colonial Dr Orlando FL 32818 USA;X-APPLE-RADIUS=500;X-TITLE=7379 W Colonial Dr\, Orlando FL 32818 USA:geo:-81.4808195,28.5526374
END:VEVENT
BEGIN:VEVENT
DTSTART;TZID=America/New_York:20290809T200000
DTEND;TZID=America/New_York:20290809T200000
DTSTAMP:20260421T075725
CREATED:20260105T003204Z
LAST-MODIFIED:20260105T053854Z
UID:10010330-1881000000-1881000000@epictriviafl.com
SUMMARY:Trivia
DESCRIPTION:
URL:https://epictriviafl.com/event/trivia-pocha/2029-08-09/
LOCATION:Pocha 93\, 7379 W Colonial Dr\, Orlando FL 32818 USA
GEO:28.5526374;-81.4808195
X-APPLE-STRUCTURED-LOCATION;VALUE=URI;X-ADDRESS=Pocha 93 7379 W Colonial Dr Orlando FL 32818 USA;X-APPLE-RADIUS=500;X-TITLE=7379 W Colonial Dr\, Orlando FL 32818 USA:geo:-81.4808195,28.5526374
END:VEVENT
BEGIN:VEVENT
DTSTART;TZID=America/New_York:20290810T200000
DTEND;TZID=America/New_York:20290810T200000
DTSTAMP:20260421T075725
CREATED:20260105T003218Z
LAST-MODIFIED:20260105T053720Z
UID:10009290-1881086400-1881086400@epictriviafl.com
SUMMARY:Music Bingo
DESCRIPTION:
URL:https://epictriviafl.com/event/music-bingo-pocha/2029-08-10/
LOCATION:Pocha 93\, 7379 W Colonial Dr\, Orlando FL 32818 USA
GEO:28.5526374;-81.4808195
X-APPLE-STRUCTURED-LOCATION;VALUE=URI;X-ADDRESS=Pocha 93 7379 W Colonial Dr Orlando FL 32818 USA;X-APPLE-RADIUS=500;X-TITLE=7379 W Colonial Dr\, Orlando FL 32818 USA:geo:-81.4808195,28.5526374
END:VEVENT
BEGIN:VEVENT
DTSTART;TZID=America/New_York:20290816T200000
DTEND;TZID=America/New_York:20290816T200000
DTSTAMP:20260421T075725
CREATED:20260105T003204Z
LAST-MODIFIED:20260105T053854Z
UID:10010331-1881604800-1881604800@epictriviafl.com
SUMMARY:Trivia
DESCRIPTION:
URL:https://epictriviafl.com/event/trivia-pocha/2029-08-16/
LOCATION:Pocha 93\, 7379 W Colonial Dr\, Orlando FL 32818 USA
GEO:28.5526374;-81.4808195
X-APPLE-STRUCTURED-LOCATION;VALUE=URI;X-ADDRESS=Pocha 93 7379 W Colonial Dr Orlando FL 32818 USA;X-APPLE-RADIUS=500;X-TITLE=7379 W Colonial Dr\, Orlando FL 32818 USA:geo:-81.4808195,28.5526374
END:VEVENT
BEGIN:VEVENT
DTSTART;TZID=America/New_York:20290817T200000
DTEND;TZID=America/New_York:20290817T200000
DTSTAMP:20260421T075725
CREATED:20260105T003218Z
LAST-MODIFIED:20260105T053720Z
UID:10009291-1881691200-1881691200@epictriviafl.com
SUMMARY:Music Bingo
DESCRIPTION:
URL:https://epictriviafl.com/event/music-bingo-pocha/2029-08-17/
LOCATION:Pocha 93\, 7379 W Colonial Dr\, Orlando FL 32818 USA
GEO:28.5526374;-81.4808195
X-APPLE-STRUCTURED-LOCATION;VALUE=URI;X-ADDRESS=Pocha 93 7379 W Colonial Dr Orlando FL 32818 USA;X-APPLE-RADIUS=500;X-TITLE=7379 W Colonial Dr\, Orlando FL 32818 USA:geo:-81.4808195,28.5526374
END:VEVENT
BEGIN:VEVENT
DTSTART;TZID=America/New_York:20290823T200000
DTEND;TZID=America/New_York:20290823T200000
DTSTAMP:20260421T075725
CREATED:20260105T003204Z
LAST-MODIFIED:20260105T053854Z
UID:10010332-1882209600-1882209600@epictriviafl.com
SUMMARY:Trivia
DESCRIPTION:
URL:https://epictriviafl.com/event/trivia-pocha/2029-08-23/
LOCATION:Pocha 93\, 7379 W Colonial Dr\, Orlando FL 32818 USA
GEO:28.5526374;-81.4808195
X-APPLE-STRUCTURED-LOCATION;VALUE=URI;X-ADDRESS=Pocha 93 7379 W Colonial Dr Orlando FL 32818 USA;X-APPLE-RADIUS=500;X-TITLE=7379 W Colonial Dr\, Orlando FL 32818 USA:geo:-81.4808195,28.5526374
END:VEVENT
BEGIN:VEVENT
DTSTART;TZID=America/New_York:20290824T200000
DTEND;TZID=America/New_York:20290824T200000
DTSTAMP:20260421T075725
CREATED:20260105T003218Z
LAST-MODIFIED:20260105T053720Z
UID:10009292-1882296000-1882296000@epictriviafl.com
SUMMARY:Music Bingo
DESCRIPTION:
URL:https://epictriviafl.com/event/music-bingo-pocha/2029-08-24/
LOCATION:Pocha 93\, 7379 W Colonial Dr\, Orlando FL 32818 USA
GEO:28.5526374;-81.4808195
X-APPLE-STRUCTURED-LOCATION;VALUE=URI;X-ADDRESS=Pocha 93 7379 W Colonial Dr Orlando FL 32818 USA;X-APPLE-RADIUS=500;X-TITLE=7379 W Colonial Dr\, Orlando FL 32818 USA:geo:-81.4808195,28.5526374
END:VEVENT
BEGIN:VEVENT
DTSTART;TZID=America/New_York:20290830T200000
DTEND;TZID=America/New_York:20290830T200000
DTSTAMP:20260421T075725
CREATED:20260105T003204Z
LAST-MODIFIED:20260105T053854Z
UID:10010333-1882814400-1882814400@epictriviafl.com
SUMMARY:Trivia
DESCRIPTION:
URL:https://epictriviafl.com/event/trivia-pocha/2029-08-30/
LOCATION:Pocha 93\, 7379 W Colonial Dr\, Orlando FL 32818 USA
GEO:28.5526374;-81.4808195
X-APPLE-STRUCTURED-LOCATION;VALUE=URI;X-ADDRESS=Pocha 93 7379 W Colonial Dr Orlando FL 32818 USA;X-APPLE-RADIUS=500;X-TITLE=7379 W Colonial Dr\, Orlando FL 32818 USA:geo:-81.4808195,28.5526374
END:VEVENT
BEGIN:VEVENT
DTSTART;TZID=America/New_York:20290831T200000
DTEND;TZID=America/New_York:20290831T200000
DTSTAMP:20260421T075725
CREATED:20260105T003218Z
LAST-MODIFIED:20260105T053720Z
UID:10009293-1882900800-1882900800@epictriviafl.com
SUMMARY:Music Bingo
DESCRIPTION:
URL:https://epictriviafl.com/event/music-bingo-pocha/2029-08-31/
LOCATION:Pocha 93\, 7379 W Colonial Dr\, Orlando FL 32818 USA
GEO:28.5526374;-81.4808195
X-APPLE-STRUCTURED-LOCATION;VALUE=URI;X-ADDRESS=Pocha 93 7379 W Colonial Dr Orlando FL 32818 USA;X-APPLE-RADIUS=500;X-TITLE=7379 W Colonial Dr\, Orlando FL 32818 USA:geo:-81.4808195,28.5526374
END:VEVENT
BEGIN:VEVENT
DTSTART;TZID=America/New_York:20290906T200000
DTEND;TZID=America/New_York:20290906T200000
DTSTAMP:20260421T075725
CREATED:20260105T003204Z
LAST-MODIFIED:20260105T053854Z
UID:10010334-1883419200-1883419200@epictriviafl.com
SUMMARY:Trivia
DESCRIPTION:
URL:https://epictriviafl.com/event/trivia-pocha/2029-09-06/
LOCATION:Pocha 93\, 7379 W Colonial Dr\, Orlando FL 32818 USA
GEO:28.5526374;-81.4808195
X-APPLE-STRUCTURED-LOCATION;VALUE=URI;X-ADDRESS=Pocha 93 7379 W Colonial Dr Orlando FL 32818 USA;X-APPLE-RADIUS=500;X-TITLE=7379 W Colonial Dr\, Orlando FL 32818 USA:geo:-81.4808195,28.5526374
END:VEVENT
BEGIN:VEVENT
DTSTART;TZID=America/New_York:20290907T200000
DTEND;TZID=America/New_York:20290907T200000
DTSTAMP:20260421T075725
CREATED:20260105T003218Z
LAST-MODIFIED:20260105T053720Z
UID:10009294-1883505600-1883505600@epictriviafl.com
SUMMARY:Music Bingo
DESCRIPTION:
URL:https://epictriviafl.com/event/music-bingo-pocha/2029-09-07/
LOCATION:Pocha 93\, 7379 W Colonial Dr\, Orlando FL 32818 USA
GEO:28.5526374;-81.4808195
X-APPLE-STRUCTURED-LOCATION;VALUE=URI;X-ADDRESS=Pocha 93 7379 W Colonial Dr Orlando FL 32818 USA;X-APPLE-RADIUS=500;X-TITLE=7379 W Colonial Dr\, Orlando FL 32818 USA:geo:-81.4808195,28.5526374
END:VEVENT
END:VCALENDAR