BEGIN:VCALENDAR
VERSION:2.0
PRODID:-//Epic Trivia - ECPv6.15.18//NONSGML v1.0//EN
CALSCALE:GREGORIAN
METHOD:PUBLISH
X-WR-CALNAME:Epic Trivia
X-ORIGINAL-URL:https://epictriviafl.com
X-WR-CALDESC:Events for Epic Trivia
REFRESH-INTERVAL;VALUE=DURATION:PT1H
X-Robots-Tag:noindex
X-PUBLISHED-TTL:PT1H
BEGIN:VTIMEZONE
TZID:America/New_York
BEGIN:DAYLIGHT
TZOFFSETFROM:-0500
TZOFFSETTO:-0400
TZNAME:EDT
DTSTART:20270314T070000
END:DAYLIGHT
BEGIN:STANDARD
TZOFFSETFROM:-0400
TZOFFSETTO:-0500
TZNAME:EST
DTSTART:20271107T060000
END:STANDARD
BEGIN:DAYLIGHT
TZOFFSETFROM:-0500
TZOFFSETTO:-0400
TZNAME:EDT
DTSTART:20280312T070000
END:DAYLIGHT
BEGIN:STANDARD
TZOFFSETFROM:-0400
TZOFFSETTO:-0500
TZNAME:EST
DTSTART:20281105T060000
END:STANDARD
BEGIN:DAYLIGHT
TZOFFSETFROM:-0500
TZOFFSETTO:-0400
TZNAME:EDT
DTSTART:20290311T070000
END:DAYLIGHT
BEGIN:STANDARD
TZOFFSETFROM:-0400
TZOFFSETTO:-0500
TZNAME:EST
DTSTART:20291104T060000
END:STANDARD
END:VTIMEZONE
BEGIN:VEVENT
DTSTART;TZID=America/New_York:20280406T200000
DTEND;TZID=America/New_York:20280406T200000
DTSTAMP:20260420T153805
CREATED:20260105T003204Z
LAST-MODIFIED:20260105T053854Z
UID:10010260-1838664000-1838664000@epictriviafl.com
SUMMARY:Trivia
DESCRIPTION:
URL:https://epictriviafl.com/event/trivia-pocha/2028-04-06/
LOCATION:Pocha 93\, 7379 W Colonial Dr\, Orlando FL 32818 USA
GEO:28.5526374;-81.4808195
X-APPLE-STRUCTURED-LOCATION;VALUE=URI;X-ADDRESS=Pocha 93 7379 W Colonial Dr Orlando FL 32818 USA;X-APPLE-RADIUS=500;X-TITLE=7379 W Colonial Dr\, Orlando FL 32818 USA:geo:-81.4808195,28.5526374
END:VEVENT
BEGIN:VEVENT
DTSTART;TZID=America/New_York:20280407T200000
DTEND;TZID=America/New_York:20280407T200000
DTSTAMP:20260420T153805
CREATED:20260105T003218Z
LAST-MODIFIED:20260105T053720Z
UID:10009220-1838750400-1838750400@epictriviafl.com
SUMMARY:Music Bingo
DESCRIPTION:
URL:https://epictriviafl.com/event/music-bingo-pocha/2028-04-07/
LOCATION:Pocha 93\, 7379 W Colonial Dr\, Orlando FL 32818 USA
GEO:28.5526374;-81.4808195
X-APPLE-STRUCTURED-LOCATION;VALUE=URI;X-ADDRESS=Pocha 93 7379 W Colonial Dr Orlando FL 32818 USA;X-APPLE-RADIUS=500;X-TITLE=7379 W Colonial Dr\, Orlando FL 32818 USA:geo:-81.4808195,28.5526374
END:VEVENT
BEGIN:VEVENT
DTSTART;TZID=America/New_York:20280413T200000
DTEND;TZID=America/New_York:20280413T200000
DTSTAMP:20260420T153805
CREATED:20260105T003204Z
LAST-MODIFIED:20260105T053854Z
UID:10010261-1839268800-1839268800@epictriviafl.com
SUMMARY:Trivia
DESCRIPTION:
URL:https://epictriviafl.com/event/trivia-pocha/2028-04-13/
LOCATION:Pocha 93\, 7379 W Colonial Dr\, Orlando FL 32818 USA
GEO:28.5526374;-81.4808195
X-APPLE-STRUCTURED-LOCATION;VALUE=URI;X-ADDRESS=Pocha 93 7379 W Colonial Dr Orlando FL 32818 USA;X-APPLE-RADIUS=500;X-TITLE=7379 W Colonial Dr\, Orlando FL 32818 USA:geo:-81.4808195,28.5526374
END:VEVENT
BEGIN:VEVENT
DTSTART;TZID=America/New_York:20280414T200000
DTEND;TZID=America/New_York:20280414T200000
DTSTAMP:20260420T153805
CREATED:20260105T003218Z
LAST-MODIFIED:20260105T053720Z
UID:10009221-1839355200-1839355200@epictriviafl.com
SUMMARY:Music Bingo
DESCRIPTION:
URL:https://epictriviafl.com/event/music-bingo-pocha/2028-04-14/
LOCATION:Pocha 93\, 7379 W Colonial Dr\, Orlando FL 32818 USA
GEO:28.5526374;-81.4808195
X-APPLE-STRUCTURED-LOCATION;VALUE=URI;X-ADDRESS=Pocha 93 7379 W Colonial Dr Orlando FL 32818 USA;X-APPLE-RADIUS=500;X-TITLE=7379 W Colonial Dr\, Orlando FL 32818 USA:geo:-81.4808195,28.5526374
END:VEVENT
BEGIN:VEVENT
DTSTART;TZID=America/New_York:20280420T200000
DTEND;TZID=America/New_York:20280420T200000
DTSTAMP:20260420T153805
CREATED:20260105T003204Z
LAST-MODIFIED:20260105T053854Z
UID:10010262-1839873600-1839873600@epictriviafl.com
SUMMARY:Trivia
DESCRIPTION:
URL:https://epictriviafl.com/event/trivia-pocha/2028-04-20/
LOCATION:Pocha 93\, 7379 W Colonial Dr\, Orlando FL 32818 USA
GEO:28.5526374;-81.4808195
X-APPLE-STRUCTURED-LOCATION;VALUE=URI;X-ADDRESS=Pocha 93 7379 W Colonial Dr Orlando FL 32818 USA;X-APPLE-RADIUS=500;X-TITLE=7379 W Colonial Dr\, Orlando FL 32818 USA:geo:-81.4808195,28.5526374
END:VEVENT
BEGIN:VEVENT
DTSTART;TZID=America/New_York:20280421T200000
DTEND;TZID=America/New_York:20280421T200000
DTSTAMP:20260420T153805
CREATED:20260105T003218Z
LAST-MODIFIED:20260105T053720Z
UID:10009222-1839960000-1839960000@epictriviafl.com
SUMMARY:Music Bingo
DESCRIPTION:
URL:https://epictriviafl.com/event/music-bingo-pocha/2028-04-21/
LOCATION:Pocha 93\, 7379 W Colonial Dr\, Orlando FL 32818 USA
GEO:28.5526374;-81.4808195
X-APPLE-STRUCTURED-LOCATION;VALUE=URI;X-ADDRESS=Pocha 93 7379 W Colonial Dr Orlando FL 32818 USA;X-APPLE-RADIUS=500;X-TITLE=7379 W Colonial Dr\, Orlando FL 32818 USA:geo:-81.4808195,28.5526374
END:VEVENT
BEGIN:VEVENT
DTSTART;TZID=America/New_York:20280427T200000
DTEND;TZID=America/New_York:20280427T200000
DTSTAMP:20260420T153805
CREATED:20260105T003204Z
LAST-MODIFIED:20260105T053854Z
UID:10010263-1840478400-1840478400@epictriviafl.com
SUMMARY:Trivia
DESCRIPTION:
URL:https://epictriviafl.com/event/trivia-pocha/2028-04-27/
LOCATION:Pocha 93\, 7379 W Colonial Dr\, Orlando FL 32818 USA
GEO:28.5526374;-81.4808195
X-APPLE-STRUCTURED-LOCATION;VALUE=URI;X-ADDRESS=Pocha 93 7379 W Colonial Dr Orlando FL 32818 USA;X-APPLE-RADIUS=500;X-TITLE=7379 W Colonial Dr\, Orlando FL 32818 USA:geo:-81.4808195,28.5526374
END:VEVENT
BEGIN:VEVENT
DTSTART;TZID=America/New_York:20280428T200000
DTEND;TZID=America/New_York:20280428T200000
DTSTAMP:20260420T153805
CREATED:20260105T003218Z
LAST-MODIFIED:20260105T053720Z
UID:10009223-1840564800-1840564800@epictriviafl.com
SUMMARY:Music Bingo
DESCRIPTION:
URL:https://epictriviafl.com/event/music-bingo-pocha/2028-04-28/
LOCATION:Pocha 93\, 7379 W Colonial Dr\, Orlando FL 32818 USA
GEO:28.5526374;-81.4808195
X-APPLE-STRUCTURED-LOCATION;VALUE=URI;X-ADDRESS=Pocha 93 7379 W Colonial Dr Orlando FL 32818 USA;X-APPLE-RADIUS=500;X-TITLE=7379 W Colonial Dr\, Orlando FL 32818 USA:geo:-81.4808195,28.5526374
END:VEVENT
BEGIN:VEVENT
DTSTART;TZID=America/New_York:20280504T200000
DTEND;TZID=America/New_York:20280504T200000
DTSTAMP:20260420T153805
CREATED:20260105T003204Z
LAST-MODIFIED:20260105T053854Z
UID:10010264-1841083200-1841083200@epictriviafl.com
SUMMARY:Trivia
DESCRIPTION:
URL:https://epictriviafl.com/event/trivia-pocha/2028-05-04/
LOCATION:Pocha 93\, 7379 W Colonial Dr\, Orlando FL 32818 USA
GEO:28.5526374;-81.4808195
X-APPLE-STRUCTURED-LOCATION;VALUE=URI;X-ADDRESS=Pocha 93 7379 W Colonial Dr Orlando FL 32818 USA;X-APPLE-RADIUS=500;X-TITLE=7379 W Colonial Dr\, Orlando FL 32818 USA:geo:-81.4808195,28.5526374
END:VEVENT
BEGIN:VEVENT
DTSTART;TZID=America/New_York:20280505T200000
DTEND;TZID=America/New_York:20280505T200000
DTSTAMP:20260420T153805
CREATED:20260105T003218Z
LAST-MODIFIED:20260105T053720Z
UID:10009224-1841169600-1841169600@epictriviafl.com
SUMMARY:Music Bingo
DESCRIPTION:
URL:https://epictriviafl.com/event/music-bingo-pocha/2028-05-05/
LOCATION:Pocha 93\, 7379 W Colonial Dr\, Orlando FL 32818 USA
GEO:28.5526374;-81.4808195
X-APPLE-STRUCTURED-LOCATION;VALUE=URI;X-ADDRESS=Pocha 93 7379 W Colonial Dr Orlando FL 32818 USA;X-APPLE-RADIUS=500;X-TITLE=7379 W Colonial Dr\, Orlando FL 32818 USA:geo:-81.4808195,28.5526374
END:VEVENT
BEGIN:VEVENT
DTSTART;TZID=America/New_York:20280511T200000
DTEND;TZID=America/New_York:20280511T200000
DTSTAMP:20260420T153805
CREATED:20260105T003204Z
LAST-MODIFIED:20260105T053854Z
UID:10010265-1841688000-1841688000@epictriviafl.com
SUMMARY:Trivia
DESCRIPTION:
URL:https://epictriviafl.com/event/trivia-pocha/2028-05-11/
LOCATION:Pocha 93\, 7379 W Colonial Dr\, Orlando FL 32818 USA
GEO:28.5526374;-81.4808195
X-APPLE-STRUCTURED-LOCATION;VALUE=URI;X-ADDRESS=Pocha 93 7379 W Colonial Dr Orlando FL 32818 USA;X-APPLE-RADIUS=500;X-TITLE=7379 W Colonial Dr\, Orlando FL 32818 USA:geo:-81.4808195,28.5526374
END:VEVENT
BEGIN:VEVENT
DTSTART;TZID=America/New_York:20280512T200000
DTEND;TZID=America/New_York:20280512T200000
DTSTAMP:20260420T153805
CREATED:20260105T003218Z
LAST-MODIFIED:20260105T053720Z
UID:10009225-1841774400-1841774400@epictriviafl.com
SUMMARY:Music Bingo
DESCRIPTION:
URL:https://epictriviafl.com/event/music-bingo-pocha/2028-05-12/
LOCATION:Pocha 93\, 7379 W Colonial Dr\, Orlando FL 32818 USA
GEO:28.5526374;-81.4808195
X-APPLE-STRUCTURED-LOCATION;VALUE=URI;X-ADDRESS=Pocha 93 7379 W Colonial Dr Orlando FL 32818 USA;X-APPLE-RADIUS=500;X-TITLE=7379 W Colonial Dr\, Orlando FL 32818 USA:geo:-81.4808195,28.5526374
END:VEVENT
BEGIN:VEVENT
DTSTART;TZID=America/New_York:20280518T200000
DTEND;TZID=America/New_York:20280518T200000
DTSTAMP:20260420T153805
CREATED:20260105T003204Z
LAST-MODIFIED:20260105T053854Z
UID:10010266-1842292800-1842292800@epictriviafl.com
SUMMARY:Trivia
DESCRIPTION:
URL:https://epictriviafl.com/event/trivia-pocha/2028-05-18/
LOCATION:Pocha 93\, 7379 W Colonial Dr\, Orlando FL 32818 USA
GEO:28.5526374;-81.4808195
X-APPLE-STRUCTURED-LOCATION;VALUE=URI;X-ADDRESS=Pocha 93 7379 W Colonial Dr Orlando FL 32818 USA;X-APPLE-RADIUS=500;X-TITLE=7379 W Colonial Dr\, Orlando FL 32818 USA:geo:-81.4808195,28.5526374
END:VEVENT
BEGIN:VEVENT
DTSTART;TZID=America/New_York:20280519T200000
DTEND;TZID=America/New_York:20280519T200000
DTSTAMP:20260420T153805
CREATED:20260105T003218Z
LAST-MODIFIED:20260105T053720Z
UID:10009226-1842379200-1842379200@epictriviafl.com
SUMMARY:Music Bingo
DESCRIPTION:
URL:https://epictriviafl.com/event/music-bingo-pocha/2028-05-19/
LOCATION:Pocha 93\, 7379 W Colonial Dr\, Orlando FL 32818 USA
GEO:28.5526374;-81.4808195
X-APPLE-STRUCTURED-LOCATION;VALUE=URI;X-ADDRESS=Pocha 93 7379 W Colonial Dr Orlando FL 32818 USA;X-APPLE-RADIUS=500;X-TITLE=7379 W Colonial Dr\, Orlando FL 32818 USA:geo:-81.4808195,28.5526374
END:VEVENT
BEGIN:VEVENT
DTSTART;TZID=America/New_York:20280525T200000
DTEND;TZID=America/New_York:20280525T200000
DTSTAMP:20260420T153805
CREATED:20260105T003204Z
LAST-MODIFIED:20260105T053854Z
UID:10010267-1842897600-1842897600@epictriviafl.com
SUMMARY:Trivia
DESCRIPTION:
URL:https://epictriviafl.com/event/trivia-pocha/2028-05-25/
LOCATION:Pocha 93\, 7379 W Colonial Dr\, Orlando FL 32818 USA
GEO:28.5526374;-81.4808195
X-APPLE-STRUCTURED-LOCATION;VALUE=URI;X-ADDRESS=Pocha 93 7379 W Colonial Dr Orlando FL 32818 USA;X-APPLE-RADIUS=500;X-TITLE=7379 W Colonial Dr\, Orlando FL 32818 USA:geo:-81.4808195,28.5526374
END:VEVENT
BEGIN:VEVENT
DTSTART;TZID=America/New_York:20280526T200000
DTEND;TZID=America/New_York:20280526T200000
DTSTAMP:20260420T153805
CREATED:20260105T003218Z
LAST-MODIFIED:20260105T053720Z
UID:10009227-1842984000-1842984000@epictriviafl.com
SUMMARY:Music Bingo
DESCRIPTION:
URL:https://epictriviafl.com/event/music-bingo-pocha/2028-05-26/
LOCATION:Pocha 93\, 7379 W Colonial Dr\, Orlando FL 32818 USA
GEO:28.5526374;-81.4808195
X-APPLE-STRUCTURED-LOCATION;VALUE=URI;X-ADDRESS=Pocha 93 7379 W Colonial Dr Orlando FL 32818 USA;X-APPLE-RADIUS=500;X-TITLE=7379 W Colonial Dr\, Orlando FL 32818 USA:geo:-81.4808195,28.5526374
END:VEVENT
BEGIN:VEVENT
DTSTART;TZID=America/New_York:20280601T200000
DTEND;TZID=America/New_York:20280601T200000
DTSTAMP:20260420T153805
CREATED:20260105T003204Z
LAST-MODIFIED:20260105T053854Z
UID:10010268-1843502400-1843502400@epictriviafl.com
SUMMARY:Trivia
DESCRIPTION:
URL:https://epictriviafl.com/event/trivia-pocha/2028-06-01/
LOCATION:Pocha 93\, 7379 W Colonial Dr\, Orlando FL 32818 USA
GEO:28.5526374;-81.4808195
X-APPLE-STRUCTURED-LOCATION;VALUE=URI;X-ADDRESS=Pocha 93 7379 W Colonial Dr Orlando FL 32818 USA;X-APPLE-RADIUS=500;X-TITLE=7379 W Colonial Dr\, Orlando FL 32818 USA:geo:-81.4808195,28.5526374
END:VEVENT
BEGIN:VEVENT
DTSTART;TZID=America/New_York:20280602T200000
DTEND;TZID=America/New_York:20280602T200000
DTSTAMP:20260420T153805
CREATED:20260105T003218Z
LAST-MODIFIED:20260105T053720Z
UID:10009228-1843588800-1843588800@epictriviafl.com
SUMMARY:Music Bingo
DESCRIPTION:
URL:https://epictriviafl.com/event/music-bingo-pocha/2028-06-02/
LOCATION:Pocha 93\, 7379 W Colonial Dr\, Orlando FL 32818 USA
GEO:28.5526374;-81.4808195
X-APPLE-STRUCTURED-LOCATION;VALUE=URI;X-ADDRESS=Pocha 93 7379 W Colonial Dr Orlando FL 32818 USA;X-APPLE-RADIUS=500;X-TITLE=7379 W Colonial Dr\, Orlando FL 32818 USA:geo:-81.4808195,28.5526374
END:VEVENT
BEGIN:VEVENT
DTSTART;TZID=America/New_York:20280608T200000
DTEND;TZID=America/New_York:20280608T200000
DTSTAMP:20260420T153805
CREATED:20260105T003204Z
LAST-MODIFIED:20260105T053854Z
UID:10010269-1844107200-1844107200@epictriviafl.com
SUMMARY:Trivia
DESCRIPTION:
URL:https://epictriviafl.com/event/trivia-pocha/2028-06-08/
LOCATION:Pocha 93\, 7379 W Colonial Dr\, Orlando FL 32818 USA
GEO:28.5526374;-81.4808195
X-APPLE-STRUCTURED-LOCATION;VALUE=URI;X-ADDRESS=Pocha 93 7379 W Colonial Dr Orlando FL 32818 USA;X-APPLE-RADIUS=500;X-TITLE=7379 W Colonial Dr\, Orlando FL 32818 USA:geo:-81.4808195,28.5526374
END:VEVENT
BEGIN:VEVENT
DTSTART;TZID=America/New_York:20280609T200000
DTEND;TZID=America/New_York:20280609T200000
DTSTAMP:20260420T153805
CREATED:20260105T003218Z
LAST-MODIFIED:20260105T053720Z
UID:10009229-1844193600-1844193600@epictriviafl.com
SUMMARY:Music Bingo
DESCRIPTION:
URL:https://epictriviafl.com/event/music-bingo-pocha/2028-06-09/
LOCATION:Pocha 93\, 7379 W Colonial Dr\, Orlando FL 32818 USA
GEO:28.5526374;-81.4808195
X-APPLE-STRUCTURED-LOCATION;VALUE=URI;X-ADDRESS=Pocha 93 7379 W Colonial Dr Orlando FL 32818 USA;X-APPLE-RADIUS=500;X-TITLE=7379 W Colonial Dr\, Orlando FL 32818 USA:geo:-81.4808195,28.5526374
END:VEVENT
BEGIN:VEVENT
DTSTART;TZID=America/New_York:20280615T200000
DTEND;TZID=America/New_York:20280615T200000
DTSTAMP:20260420T153806
CREATED:20260105T003204Z
LAST-MODIFIED:20260105T053854Z
UID:10010270-1844712000-1844712000@epictriviafl.com
SUMMARY:Trivia
DESCRIPTION:
URL:https://epictriviafl.com/event/trivia-pocha/2028-06-15/
LOCATION:Pocha 93\, 7379 W Colonial Dr\, Orlando FL 32818 USA
GEO:28.5526374;-81.4808195
X-APPLE-STRUCTURED-LOCATION;VALUE=URI;X-ADDRESS=Pocha 93 7379 W Colonial Dr Orlando FL 32818 USA;X-APPLE-RADIUS=500;X-TITLE=7379 W Colonial Dr\, Orlando FL 32818 USA:geo:-81.4808195,28.5526374
END:VEVENT
BEGIN:VEVENT
DTSTART;TZID=America/New_York:20280616T200000
DTEND;TZID=America/New_York:20280616T200000
DTSTAMP:20260420T153806
CREATED:20260105T003218Z
LAST-MODIFIED:20260105T053720Z
UID:10009230-1844798400-1844798400@epictriviafl.com
SUMMARY:Music Bingo
DESCRIPTION:
URL:https://epictriviafl.com/event/music-bingo-pocha/2028-06-16/
LOCATION:Pocha 93\, 7379 W Colonial Dr\, Orlando FL 32818 USA
GEO:28.5526374;-81.4808195
X-APPLE-STRUCTURED-LOCATION;VALUE=URI;X-ADDRESS=Pocha 93 7379 W Colonial Dr Orlando FL 32818 USA;X-APPLE-RADIUS=500;X-TITLE=7379 W Colonial Dr\, Orlando FL 32818 USA:geo:-81.4808195,28.5526374
END:VEVENT
BEGIN:VEVENT
DTSTART;TZID=America/New_York:20280622T200000
DTEND;TZID=America/New_York:20280622T200000
DTSTAMP:20260420T153806
CREATED:20260105T003204Z
LAST-MODIFIED:20260105T053854Z
UID:10010271-1845316800-1845316800@epictriviafl.com
SUMMARY:Trivia
DESCRIPTION:
URL:https://epictriviafl.com/event/trivia-pocha/2028-06-22/
LOCATION:Pocha 93\, 7379 W Colonial Dr\, Orlando FL 32818 USA
GEO:28.5526374;-81.4808195
X-APPLE-STRUCTURED-LOCATION;VALUE=URI;X-ADDRESS=Pocha 93 7379 W Colonial Dr Orlando FL 32818 USA;X-APPLE-RADIUS=500;X-TITLE=7379 W Colonial Dr\, Orlando FL 32818 USA:geo:-81.4808195,28.5526374
END:VEVENT
BEGIN:VEVENT
DTSTART;TZID=America/New_York:20280623T200000
DTEND;TZID=America/New_York:20280623T200000
DTSTAMP:20260420T153806
CREATED:20260105T003218Z
LAST-MODIFIED:20260105T053720Z
UID:10009231-1845403200-1845403200@epictriviafl.com
SUMMARY:Music Bingo
DESCRIPTION:
URL:https://epictriviafl.com/event/music-bingo-pocha/2028-06-23/
LOCATION:Pocha 93\, 7379 W Colonial Dr\, Orlando FL 32818 USA
GEO:28.5526374;-81.4808195
X-APPLE-STRUCTURED-LOCATION;VALUE=URI;X-ADDRESS=Pocha 93 7379 W Colonial Dr Orlando FL 32818 USA;X-APPLE-RADIUS=500;X-TITLE=7379 W Colonial Dr\, Orlando FL 32818 USA:geo:-81.4808195,28.5526374
END:VEVENT
BEGIN:VEVENT
DTSTART;TZID=America/New_York:20280629T200000
DTEND;TZID=America/New_York:20280629T200000
DTSTAMP:20260420T153806
CREATED:20260105T003204Z
LAST-MODIFIED:20260105T053854Z
UID:10010272-1845921600-1845921600@epictriviafl.com
SUMMARY:Trivia
DESCRIPTION:
URL:https://epictriviafl.com/event/trivia-pocha/2028-06-29/
LOCATION:Pocha 93\, 7379 W Colonial Dr\, Orlando FL 32818 USA
GEO:28.5526374;-81.4808195
X-APPLE-STRUCTURED-LOCATION;VALUE=URI;X-ADDRESS=Pocha 93 7379 W Colonial Dr Orlando FL 32818 USA;X-APPLE-RADIUS=500;X-TITLE=7379 W Colonial Dr\, Orlando FL 32818 USA:geo:-81.4808195,28.5526374
END:VEVENT
BEGIN:VEVENT
DTSTART;TZID=America/New_York:20280630T200000
DTEND;TZID=America/New_York:20280630T200000
DTSTAMP:20260420T153806
CREATED:20260105T003218Z
LAST-MODIFIED:20260105T053720Z
UID:10009232-1846008000-1846008000@epictriviafl.com
SUMMARY:Music Bingo
DESCRIPTION:
URL:https://epictriviafl.com/event/music-bingo-pocha/2028-06-30/
LOCATION:Pocha 93\, 7379 W Colonial Dr\, Orlando FL 32818 USA
GEO:28.5526374;-81.4808195
X-APPLE-STRUCTURED-LOCATION;VALUE=URI;X-ADDRESS=Pocha 93 7379 W Colonial Dr Orlando FL 32818 USA;X-APPLE-RADIUS=500;X-TITLE=7379 W Colonial Dr\, Orlando FL 32818 USA:geo:-81.4808195,28.5526374
END:VEVENT
BEGIN:VEVENT
DTSTART;TZID=America/New_York:20280706T200000
DTEND;TZID=America/New_York:20280706T200000
DTSTAMP:20260420T153806
CREATED:20260105T003204Z
LAST-MODIFIED:20260105T053854Z
UID:10010273-1846526400-1846526400@epictriviafl.com
SUMMARY:Trivia
DESCRIPTION:
URL:https://epictriviafl.com/event/trivia-pocha/2028-07-06/
LOCATION:Pocha 93\, 7379 W Colonial Dr\, Orlando FL 32818 USA
GEO:28.5526374;-81.4808195
X-APPLE-STRUCTURED-LOCATION;VALUE=URI;X-ADDRESS=Pocha 93 7379 W Colonial Dr Orlando FL 32818 USA;X-APPLE-RADIUS=500;X-TITLE=7379 W Colonial Dr\, Orlando FL 32818 USA:geo:-81.4808195,28.5526374
END:VEVENT
BEGIN:VEVENT
DTSTART;TZID=America/New_York:20280707T200000
DTEND;TZID=America/New_York:20280707T200000
DTSTAMP:20260420T153806
CREATED:20260105T003218Z
LAST-MODIFIED:20260105T053720Z
UID:10009233-1846612800-1846612800@epictriviafl.com
SUMMARY:Music Bingo
DESCRIPTION:
URL:https://epictriviafl.com/event/music-bingo-pocha/2028-07-07/
LOCATION:Pocha 93\, 7379 W Colonial Dr\, Orlando FL 32818 USA
GEO:28.5526374;-81.4808195
X-APPLE-STRUCTURED-LOCATION;VALUE=URI;X-ADDRESS=Pocha 93 7379 W Colonial Dr Orlando FL 32818 USA;X-APPLE-RADIUS=500;X-TITLE=7379 W Colonial Dr\, Orlando FL 32818 USA:geo:-81.4808195,28.5526374
END:VEVENT
BEGIN:VEVENT
DTSTART;TZID=America/New_York:20280713T200000
DTEND;TZID=America/New_York:20280713T200000
DTSTAMP:20260420T153806
CREATED:20260105T003204Z
LAST-MODIFIED:20260105T053854Z
UID:10010274-1847131200-1847131200@epictriviafl.com
SUMMARY:Trivia
DESCRIPTION:
URL:https://epictriviafl.com/event/trivia-pocha/2028-07-13/
LOCATION:Pocha 93\, 7379 W Colonial Dr\, Orlando FL 32818 USA
GEO:28.5526374;-81.4808195
X-APPLE-STRUCTURED-LOCATION;VALUE=URI;X-ADDRESS=Pocha 93 7379 W Colonial Dr Orlando FL 32818 USA;X-APPLE-RADIUS=500;X-TITLE=7379 W Colonial Dr\, Orlando FL 32818 USA:geo:-81.4808195,28.5526374
END:VEVENT
BEGIN:VEVENT
DTSTART;TZID=America/New_York:20280714T200000
DTEND;TZID=America/New_York:20280714T200000
DTSTAMP:20260420T153806
CREATED:20260105T003218Z
LAST-MODIFIED:20260105T053720Z
UID:10009234-1847217600-1847217600@epictriviafl.com
SUMMARY:Music Bingo
DESCRIPTION:
URL:https://epictriviafl.com/event/music-bingo-pocha/2028-07-14/
LOCATION:Pocha 93\, 7379 W Colonial Dr\, Orlando FL 32818 USA
GEO:28.5526374;-81.4808195
X-APPLE-STRUCTURED-LOCATION;VALUE=URI;X-ADDRESS=Pocha 93 7379 W Colonial Dr Orlando FL 32818 USA;X-APPLE-RADIUS=500;X-TITLE=7379 W Colonial Dr\, Orlando FL 32818 USA:geo:-81.4808195,28.5526374
END:VEVENT
END:VCALENDAR