BEGIN:VCALENDAR
VERSION:2.0
PRODID:-//Epic Trivia - ECPv6.15.18//NONSGML v1.0//EN
CALSCALE:GREGORIAN
METHOD:PUBLISH
X-WR-CALNAME:Epic Trivia
X-ORIGINAL-URL:https://epictriviafl.com
X-WR-CALDESC:Events for Epic Trivia
REFRESH-INTERVAL;VALUE=DURATION:PT1H
X-Robots-Tag:noindex
X-PUBLISHED-TTL:PT1H
BEGIN:VTIMEZONE
TZID:America/New_York
BEGIN:DAYLIGHT
TZOFFSETFROM:-0500
TZOFFSETTO:-0400
TZNAME:EDT
DTSTART:20260308T070000
END:DAYLIGHT
BEGIN:STANDARD
TZOFFSETFROM:-0400
TZOFFSETTO:-0500
TZNAME:EST
DTSTART:20261101T060000
END:STANDARD
BEGIN:DAYLIGHT
TZOFFSETFROM:-0500
TZOFFSETTO:-0400
TZNAME:EDT
DTSTART:20270314T070000
END:DAYLIGHT
BEGIN:STANDARD
TZOFFSETFROM:-0400
TZOFFSETTO:-0500
TZNAME:EST
DTSTART:20271107T060000
END:STANDARD
BEGIN:DAYLIGHT
TZOFFSETFROM:-0500
TZOFFSETTO:-0400
TZNAME:EDT
DTSTART:20280312T070000
END:DAYLIGHT
BEGIN:STANDARD
TZOFFSETFROM:-0400
TZOFFSETTO:-0500
TZNAME:EST
DTSTART:20281105T060000
END:STANDARD
BEGIN:DAYLIGHT
TZOFFSETFROM:-0500
TZOFFSETTO:-0400
TZNAME:EDT
DTSTART:20290311T070000
END:DAYLIGHT
BEGIN:STANDARD
TZOFFSETFROM:-0400
TZOFFSETTO:-0500
TZNAME:EST
DTSTART:20291104T060000
END:STANDARD
END:VTIMEZONE
BEGIN:VEVENT
DTSTART;TZID=America/New_York:20270615T183000
DTEND;TZID=America/New_York:20270615T183000
DTSTAMP:20260419T222140
CREATED:20260105T003048Z
LAST-MODIFIED:20260105T055427Z
UID:10017498-1813084200-1813084200@epictriviafl.com
SUMMARY:Trivia
DESCRIPTION:
URL:https://epictriviafl.com/event/trivia-olearys/2027-06-15/
LOCATION:O’Leary’s Irish Pub\, 24 N Charles Richard Beall Blvd #17-92\, DeBary\, FL 32713 USA
GEO:28.8915108;-81.30749
X-APPLE-STRUCTURED-LOCATION;VALUE=URI;X-ADDRESS=O’Leary’s Irish Pub 24 N Charles Richard Beall Blvd #17-92 DeBary FL 32713 USA;X-APPLE-RADIUS=500;X-TITLE=24 N Charles Richard Beall Blvd #17-92\, DeBary\, FL 32713 USA:geo:-81.30749,28.8915108
END:VEVENT
BEGIN:VEVENT
DTSTART;TZID=America/New_York:20270622T183000
DTEND;TZID=America/New_York:20270622T183000
DTSTAMP:20260419T222140
CREATED:20260105T003048Z
LAST-MODIFIED:20260105T055427Z
UID:10017499-1813689000-1813689000@epictriviafl.com
SUMMARY:Trivia
DESCRIPTION:
URL:https://epictriviafl.com/event/trivia-olearys/2027-06-22/
LOCATION:O’Leary’s Irish Pub\, 24 N Charles Richard Beall Blvd #17-92\, DeBary\, FL 32713 USA
GEO:28.8915108;-81.30749
X-APPLE-STRUCTURED-LOCATION;VALUE=URI;X-ADDRESS=O’Leary’s Irish Pub 24 N Charles Richard Beall Blvd #17-92 DeBary FL 32713 USA;X-APPLE-RADIUS=500;X-TITLE=24 N Charles Richard Beall Blvd #17-92\, DeBary\, FL 32713 USA:geo:-81.30749,28.8915108
END:VEVENT
BEGIN:VEVENT
DTSTART;TZID=America/New_York:20270629T183000
DTEND;TZID=America/New_York:20270629T183000
DTSTAMP:20260419T222140
CREATED:20260105T003048Z
LAST-MODIFIED:20260105T055427Z
UID:10017500-1814293800-1814293800@epictriviafl.com
SUMMARY:Trivia
DESCRIPTION:
URL:https://epictriviafl.com/event/trivia-olearys/2027-06-29/
LOCATION:O’Leary’s Irish Pub\, 24 N Charles Richard Beall Blvd #17-92\, DeBary\, FL 32713 USA
GEO:28.8915108;-81.30749
X-APPLE-STRUCTURED-LOCATION;VALUE=URI;X-ADDRESS=O’Leary’s Irish Pub 24 N Charles Richard Beall Blvd #17-92 DeBary FL 32713 USA;X-APPLE-RADIUS=500;X-TITLE=24 N Charles Richard Beall Blvd #17-92\, DeBary\, FL 32713 USA:geo:-81.30749,28.8915108
END:VEVENT
BEGIN:VEVENT
DTSTART;TZID=America/New_York:20270706T183000
DTEND;TZID=America/New_York:20270706T183000
DTSTAMP:20260419T222140
CREATED:20260105T003048Z
LAST-MODIFIED:20260105T055427Z
UID:10017501-1814898600-1814898600@epictriviafl.com
SUMMARY:Trivia
DESCRIPTION:
URL:https://epictriviafl.com/event/trivia-olearys/2027-07-06/
LOCATION:O’Leary’s Irish Pub\, 24 N Charles Richard Beall Blvd #17-92\, DeBary\, FL 32713 USA
GEO:28.8915108;-81.30749
X-APPLE-STRUCTURED-LOCATION;VALUE=URI;X-ADDRESS=O’Leary’s Irish Pub 24 N Charles Richard Beall Blvd #17-92 DeBary FL 32713 USA;X-APPLE-RADIUS=500;X-TITLE=24 N Charles Richard Beall Blvd #17-92\, DeBary\, FL 32713 USA:geo:-81.30749,28.8915108
END:VEVENT
BEGIN:VEVENT
DTSTART;TZID=America/New_York:20270713T183000
DTEND;TZID=America/New_York:20270713T183000
DTSTAMP:20260419T222140
CREATED:20260105T003048Z
LAST-MODIFIED:20260105T055427Z
UID:10017502-1815503400-1815503400@epictriviafl.com
SUMMARY:Trivia
DESCRIPTION:
URL:https://epictriviafl.com/event/trivia-olearys/2027-07-13/
LOCATION:O’Leary’s Irish Pub\, 24 N Charles Richard Beall Blvd #17-92\, DeBary\, FL 32713 USA
GEO:28.8915108;-81.30749
X-APPLE-STRUCTURED-LOCATION;VALUE=URI;X-ADDRESS=O’Leary’s Irish Pub 24 N Charles Richard Beall Blvd #17-92 DeBary FL 32713 USA;X-APPLE-RADIUS=500;X-TITLE=24 N Charles Richard Beall Blvd #17-92\, DeBary\, FL 32713 USA:geo:-81.30749,28.8915108
END:VEVENT
BEGIN:VEVENT
DTSTART;TZID=America/New_York:20270720T183000
DTEND;TZID=America/New_York:20270720T183000
DTSTAMP:20260419T222140
CREATED:20260105T003048Z
LAST-MODIFIED:20260105T055427Z
UID:10017503-1816108200-1816108200@epictriviafl.com
SUMMARY:Trivia
DESCRIPTION:
URL:https://epictriviafl.com/event/trivia-olearys/2027-07-20/
LOCATION:O’Leary’s Irish Pub\, 24 N Charles Richard Beall Blvd #17-92\, DeBary\, FL 32713 USA
GEO:28.8915108;-81.30749
X-APPLE-STRUCTURED-LOCATION;VALUE=URI;X-ADDRESS=O’Leary’s Irish Pub 24 N Charles Richard Beall Blvd #17-92 DeBary FL 32713 USA;X-APPLE-RADIUS=500;X-TITLE=24 N Charles Richard Beall Blvd #17-92\, DeBary\, FL 32713 USA:geo:-81.30749,28.8915108
END:VEVENT
BEGIN:VEVENT
DTSTART;TZID=America/New_York:20270727T183000
DTEND;TZID=America/New_York:20270727T183000
DTSTAMP:20260419T222140
CREATED:20260105T003048Z
LAST-MODIFIED:20260105T055427Z
UID:10017504-1816713000-1816713000@epictriviafl.com
SUMMARY:Trivia
DESCRIPTION:
URL:https://epictriviafl.com/event/trivia-olearys/2027-07-27/
LOCATION:O’Leary’s Irish Pub\, 24 N Charles Richard Beall Blvd #17-92\, DeBary\, FL 32713 USA
GEO:28.8915108;-81.30749
X-APPLE-STRUCTURED-LOCATION;VALUE=URI;X-ADDRESS=O’Leary’s Irish Pub 24 N Charles Richard Beall Blvd #17-92 DeBary FL 32713 USA;X-APPLE-RADIUS=500;X-TITLE=24 N Charles Richard Beall Blvd #17-92\, DeBary\, FL 32713 USA:geo:-81.30749,28.8915108
END:VEVENT
BEGIN:VEVENT
DTSTART;TZID=America/New_York:20270803T183000
DTEND;TZID=America/New_York:20270803T183000
DTSTAMP:20260419T222140
CREATED:20260105T003048Z
LAST-MODIFIED:20260105T055427Z
UID:10017505-1817317800-1817317800@epictriviafl.com
SUMMARY:Trivia
DESCRIPTION:
URL:https://epictriviafl.com/event/trivia-olearys/2027-08-03/
LOCATION:O’Leary’s Irish Pub\, 24 N Charles Richard Beall Blvd #17-92\, DeBary\, FL 32713 USA
GEO:28.8915108;-81.30749
X-APPLE-STRUCTURED-LOCATION;VALUE=URI;X-ADDRESS=O’Leary’s Irish Pub 24 N Charles Richard Beall Blvd #17-92 DeBary FL 32713 USA;X-APPLE-RADIUS=500;X-TITLE=24 N Charles Richard Beall Blvd #17-92\, DeBary\, FL 32713 USA:geo:-81.30749,28.8915108
END:VEVENT
BEGIN:VEVENT
DTSTART;TZID=America/New_York:20270810T183000
DTEND;TZID=America/New_York:20270810T183000
DTSTAMP:20260419T222140
CREATED:20260105T003048Z
LAST-MODIFIED:20260105T055427Z
UID:10017506-1817922600-1817922600@epictriviafl.com
SUMMARY:Trivia
DESCRIPTION:
URL:https://epictriviafl.com/event/trivia-olearys/2027-08-10/
LOCATION:O’Leary’s Irish Pub\, 24 N Charles Richard Beall Blvd #17-92\, DeBary\, FL 32713 USA
GEO:28.8915108;-81.30749
X-APPLE-STRUCTURED-LOCATION;VALUE=URI;X-ADDRESS=O’Leary’s Irish Pub 24 N Charles Richard Beall Blvd #17-92 DeBary FL 32713 USA;X-APPLE-RADIUS=500;X-TITLE=24 N Charles Richard Beall Blvd #17-92\, DeBary\, FL 32713 USA:geo:-81.30749,28.8915108
END:VEVENT
BEGIN:VEVENT
DTSTART;TZID=America/New_York:20270817T183000
DTEND;TZID=America/New_York:20270817T183000
DTSTAMP:20260419T222140
CREATED:20260105T003048Z
LAST-MODIFIED:20260105T055427Z
UID:10017507-1818527400-1818527400@epictriviafl.com
SUMMARY:Trivia
DESCRIPTION:
URL:https://epictriviafl.com/event/trivia-olearys/2027-08-17/
LOCATION:O’Leary’s Irish Pub\, 24 N Charles Richard Beall Blvd #17-92\, DeBary\, FL 32713 USA
GEO:28.8915108;-81.30749
X-APPLE-STRUCTURED-LOCATION;VALUE=URI;X-ADDRESS=O’Leary’s Irish Pub 24 N Charles Richard Beall Blvd #17-92 DeBary FL 32713 USA;X-APPLE-RADIUS=500;X-TITLE=24 N Charles Richard Beall Blvd #17-92\, DeBary\, FL 32713 USA:geo:-81.30749,28.8915108
END:VEVENT
BEGIN:VEVENT
DTSTART;TZID=America/New_York:20270824T183000
DTEND;TZID=America/New_York:20270824T183000
DTSTAMP:20260419T222140
CREATED:20260105T003048Z
LAST-MODIFIED:20260105T055427Z
UID:10017508-1819132200-1819132200@epictriviafl.com
SUMMARY:Trivia
DESCRIPTION:
URL:https://epictriviafl.com/event/trivia-olearys/2027-08-24/
LOCATION:O’Leary’s Irish Pub\, 24 N Charles Richard Beall Blvd #17-92\, DeBary\, FL 32713 USA
GEO:28.8915108;-81.30749
X-APPLE-STRUCTURED-LOCATION;VALUE=URI;X-ADDRESS=O’Leary’s Irish Pub 24 N Charles Richard Beall Blvd #17-92 DeBary FL 32713 USA;X-APPLE-RADIUS=500;X-TITLE=24 N Charles Richard Beall Blvd #17-92\, DeBary\, FL 32713 USA:geo:-81.30749,28.8915108
END:VEVENT
BEGIN:VEVENT
DTSTART;TZID=America/New_York:20270831T183000
DTEND;TZID=America/New_York:20270831T183000
DTSTAMP:20260419T222140
CREATED:20260105T003048Z
LAST-MODIFIED:20260105T055427Z
UID:10017509-1819737000-1819737000@epictriviafl.com
SUMMARY:Trivia
DESCRIPTION:
URL:https://epictriviafl.com/event/trivia-olearys/2027-08-31/
LOCATION:O’Leary’s Irish Pub\, 24 N Charles Richard Beall Blvd #17-92\, DeBary\, FL 32713 USA
GEO:28.8915108;-81.30749
X-APPLE-STRUCTURED-LOCATION;VALUE=URI;X-ADDRESS=O’Leary’s Irish Pub 24 N Charles Richard Beall Blvd #17-92 DeBary FL 32713 USA;X-APPLE-RADIUS=500;X-TITLE=24 N Charles Richard Beall Blvd #17-92\, DeBary\, FL 32713 USA:geo:-81.30749,28.8915108
END:VEVENT
BEGIN:VEVENT
DTSTART;TZID=America/New_York:20270907T183000
DTEND;TZID=America/New_York:20270907T183000
DTSTAMP:20260419T222140
CREATED:20260105T003048Z
LAST-MODIFIED:20260105T055427Z
UID:10017510-1820341800-1820341800@epictriviafl.com
SUMMARY:Trivia
DESCRIPTION:
URL:https://epictriviafl.com/event/trivia-olearys/2027-09-07/
LOCATION:O’Leary’s Irish Pub\, 24 N Charles Richard Beall Blvd #17-92\, DeBary\, FL 32713 USA
GEO:28.8915108;-81.30749
X-APPLE-STRUCTURED-LOCATION;VALUE=URI;X-ADDRESS=O’Leary’s Irish Pub 24 N Charles Richard Beall Blvd #17-92 DeBary FL 32713 USA;X-APPLE-RADIUS=500;X-TITLE=24 N Charles Richard Beall Blvd #17-92\, DeBary\, FL 32713 USA:geo:-81.30749,28.8915108
END:VEVENT
BEGIN:VEVENT
DTSTART;TZID=America/New_York:20270914T183000
DTEND;TZID=America/New_York:20270914T183000
DTSTAMP:20260419T222140
CREATED:20260105T003048Z
LAST-MODIFIED:20260105T055427Z
UID:10017511-1820946600-1820946600@epictriviafl.com
SUMMARY:Trivia
DESCRIPTION:
URL:https://epictriviafl.com/event/trivia-olearys/2027-09-14/
LOCATION:O’Leary’s Irish Pub\, 24 N Charles Richard Beall Blvd #17-92\, DeBary\, FL 32713 USA
GEO:28.8915108;-81.30749
X-APPLE-STRUCTURED-LOCATION;VALUE=URI;X-ADDRESS=O’Leary’s Irish Pub 24 N Charles Richard Beall Blvd #17-92 DeBary FL 32713 USA;X-APPLE-RADIUS=500;X-TITLE=24 N Charles Richard Beall Blvd #17-92\, DeBary\, FL 32713 USA:geo:-81.30749,28.8915108
END:VEVENT
BEGIN:VEVENT
DTSTART;TZID=America/New_York:20270921T183000
DTEND;TZID=America/New_York:20270921T183000
DTSTAMP:20260419T222140
CREATED:20260105T003048Z
LAST-MODIFIED:20260105T055427Z
UID:10017512-1821551400-1821551400@epictriviafl.com
SUMMARY:Trivia
DESCRIPTION:
URL:https://epictriviafl.com/event/trivia-olearys/2027-09-21/
LOCATION:O’Leary’s Irish Pub\, 24 N Charles Richard Beall Blvd #17-92\, DeBary\, FL 32713 USA
GEO:28.8915108;-81.30749
X-APPLE-STRUCTURED-LOCATION;VALUE=URI;X-ADDRESS=O’Leary’s Irish Pub 24 N Charles Richard Beall Blvd #17-92 DeBary FL 32713 USA;X-APPLE-RADIUS=500;X-TITLE=24 N Charles Richard Beall Blvd #17-92\, DeBary\, FL 32713 USA:geo:-81.30749,28.8915108
END:VEVENT
BEGIN:VEVENT
DTSTART;TZID=America/New_York:20270928T183000
DTEND;TZID=America/New_York:20270928T183000
DTSTAMP:20260419T222140
CREATED:20260105T003048Z
LAST-MODIFIED:20260105T055427Z
UID:10017513-1822156200-1822156200@epictriviafl.com
SUMMARY:Trivia
DESCRIPTION:
URL:https://epictriviafl.com/event/trivia-olearys/2027-09-28/
LOCATION:O’Leary’s Irish Pub\, 24 N Charles Richard Beall Blvd #17-92\, DeBary\, FL 32713 USA
GEO:28.8915108;-81.30749
X-APPLE-STRUCTURED-LOCATION;VALUE=URI;X-ADDRESS=O’Leary’s Irish Pub 24 N Charles Richard Beall Blvd #17-92 DeBary FL 32713 USA;X-APPLE-RADIUS=500;X-TITLE=24 N Charles Richard Beall Blvd #17-92\, DeBary\, FL 32713 USA:geo:-81.30749,28.8915108
END:VEVENT
BEGIN:VEVENT
DTSTART;TZID=America/New_York:20271005T183000
DTEND;TZID=America/New_York:20271005T183000
DTSTAMP:20260419T222140
CREATED:20260105T003048Z
LAST-MODIFIED:20260105T055427Z
UID:10017514-1822761000-1822761000@epictriviafl.com
SUMMARY:Trivia
DESCRIPTION:
URL:https://epictriviafl.com/event/trivia-olearys/2027-10-05/
LOCATION:O’Leary’s Irish Pub\, 24 N Charles Richard Beall Blvd #17-92\, DeBary\, FL 32713 USA
GEO:28.8915108;-81.30749
X-APPLE-STRUCTURED-LOCATION;VALUE=URI;X-ADDRESS=O’Leary’s Irish Pub 24 N Charles Richard Beall Blvd #17-92 DeBary FL 32713 USA;X-APPLE-RADIUS=500;X-TITLE=24 N Charles Richard Beall Blvd #17-92\, DeBary\, FL 32713 USA:geo:-81.30749,28.8915108
END:VEVENT
BEGIN:VEVENT
DTSTART;TZID=America/New_York:20271012T183000
DTEND;TZID=America/New_York:20271012T183000
DTSTAMP:20260419T222140
CREATED:20260105T003048Z
LAST-MODIFIED:20260105T055427Z
UID:10017515-1823365800-1823365800@epictriviafl.com
SUMMARY:Trivia
DESCRIPTION:
URL:https://epictriviafl.com/event/trivia-olearys/2027-10-12/
LOCATION:O’Leary’s Irish Pub\, 24 N Charles Richard Beall Blvd #17-92\, DeBary\, FL 32713 USA
GEO:28.8915108;-81.30749
X-APPLE-STRUCTURED-LOCATION;VALUE=URI;X-ADDRESS=O’Leary’s Irish Pub 24 N Charles Richard Beall Blvd #17-92 DeBary FL 32713 USA;X-APPLE-RADIUS=500;X-TITLE=24 N Charles Richard Beall Blvd #17-92\, DeBary\, FL 32713 USA:geo:-81.30749,28.8915108
END:VEVENT
BEGIN:VEVENT
DTSTART;TZID=America/New_York:20271019T183000
DTEND;TZID=America/New_York:20271019T183000
DTSTAMP:20260419T222140
CREATED:20260105T003048Z
LAST-MODIFIED:20260105T055427Z
UID:10017516-1823970600-1823970600@epictriviafl.com
SUMMARY:Trivia
DESCRIPTION:
URL:https://epictriviafl.com/event/trivia-olearys/2027-10-19/
LOCATION:O’Leary’s Irish Pub\, 24 N Charles Richard Beall Blvd #17-92\, DeBary\, FL 32713 USA
GEO:28.8915108;-81.30749
X-APPLE-STRUCTURED-LOCATION;VALUE=URI;X-ADDRESS=O’Leary’s Irish Pub 24 N Charles Richard Beall Blvd #17-92 DeBary FL 32713 USA;X-APPLE-RADIUS=500;X-TITLE=24 N Charles Richard Beall Blvd #17-92\, DeBary\, FL 32713 USA:geo:-81.30749,28.8915108
END:VEVENT
BEGIN:VEVENT
DTSTART;TZID=America/New_York:20271026T183000
DTEND;TZID=America/New_York:20271026T183000
DTSTAMP:20260419T222140
CREATED:20260105T003048Z
LAST-MODIFIED:20260105T055427Z
UID:10017517-1824575400-1824575400@epictriviafl.com
SUMMARY:Trivia
DESCRIPTION:
URL:https://epictriviafl.com/event/trivia-olearys/2027-10-26/
LOCATION:O’Leary’s Irish Pub\, 24 N Charles Richard Beall Blvd #17-92\, DeBary\, FL 32713 USA
GEO:28.8915108;-81.30749
X-APPLE-STRUCTURED-LOCATION;VALUE=URI;X-ADDRESS=O’Leary’s Irish Pub 24 N Charles Richard Beall Blvd #17-92 DeBary FL 32713 USA;X-APPLE-RADIUS=500;X-TITLE=24 N Charles Richard Beall Blvd #17-92\, DeBary\, FL 32713 USA:geo:-81.30749,28.8915108
END:VEVENT
BEGIN:VEVENT
DTSTART;TZID=America/New_York:20271102T183000
DTEND;TZID=America/New_York:20271102T183000
DTSTAMP:20260419T222140
CREATED:20260105T003048Z
LAST-MODIFIED:20260105T055427Z
UID:10017518-1825180200-1825180200@epictriviafl.com
SUMMARY:Trivia
DESCRIPTION:
URL:https://epictriviafl.com/event/trivia-olearys/2027-11-02/
LOCATION:O’Leary’s Irish Pub\, 24 N Charles Richard Beall Blvd #17-92\, DeBary\, FL 32713 USA
GEO:28.8915108;-81.30749
X-APPLE-STRUCTURED-LOCATION;VALUE=URI;X-ADDRESS=O’Leary’s Irish Pub 24 N Charles Richard Beall Blvd #17-92 DeBary FL 32713 USA;X-APPLE-RADIUS=500;X-TITLE=24 N Charles Richard Beall Blvd #17-92\, DeBary\, FL 32713 USA:geo:-81.30749,28.8915108
END:VEVENT
BEGIN:VEVENT
DTSTART;TZID=America/New_York:20271109T183000
DTEND;TZID=America/New_York:20271109T183000
DTSTAMP:20260419T222140
CREATED:20260105T003048Z
LAST-MODIFIED:20260105T055427Z
UID:10017519-1825785000-1825785000@epictriviafl.com
SUMMARY:Trivia
DESCRIPTION:
URL:https://epictriviafl.com/event/trivia-olearys/2027-11-09/
LOCATION:O’Leary’s Irish Pub\, 24 N Charles Richard Beall Blvd #17-92\, DeBary\, FL 32713 USA
GEO:28.8915108;-81.30749
X-APPLE-STRUCTURED-LOCATION;VALUE=URI;X-ADDRESS=O’Leary’s Irish Pub 24 N Charles Richard Beall Blvd #17-92 DeBary FL 32713 USA;X-APPLE-RADIUS=500;X-TITLE=24 N Charles Richard Beall Blvd #17-92\, DeBary\, FL 32713 USA:geo:-81.30749,28.8915108
END:VEVENT
BEGIN:VEVENT
DTSTART;TZID=America/New_York:20271116T183000
DTEND;TZID=America/New_York:20271116T183000
DTSTAMP:20260419T222140
CREATED:20260105T003048Z
LAST-MODIFIED:20260105T055427Z
UID:10017520-1826389800-1826389800@epictriviafl.com
SUMMARY:Trivia
DESCRIPTION:
URL:https://epictriviafl.com/event/trivia-olearys/2027-11-16/
LOCATION:O’Leary’s Irish Pub\, 24 N Charles Richard Beall Blvd #17-92\, DeBary\, FL 32713 USA
GEO:28.8915108;-81.30749
X-APPLE-STRUCTURED-LOCATION;VALUE=URI;X-ADDRESS=O’Leary’s Irish Pub 24 N Charles Richard Beall Blvd #17-92 DeBary FL 32713 USA;X-APPLE-RADIUS=500;X-TITLE=24 N Charles Richard Beall Blvd #17-92\, DeBary\, FL 32713 USA:geo:-81.30749,28.8915108
END:VEVENT
BEGIN:VEVENT
DTSTART;TZID=America/New_York:20271123T183000
DTEND;TZID=America/New_York:20271123T183000
DTSTAMP:20260419T222140
CREATED:20260105T003048Z
LAST-MODIFIED:20260105T055427Z
UID:10017521-1826994600-1826994600@epictriviafl.com
SUMMARY:Trivia
DESCRIPTION:
URL:https://epictriviafl.com/event/trivia-olearys/2027-11-23/
LOCATION:O’Leary’s Irish Pub\, 24 N Charles Richard Beall Blvd #17-92\, DeBary\, FL 32713 USA
GEO:28.8915108;-81.30749
X-APPLE-STRUCTURED-LOCATION;VALUE=URI;X-ADDRESS=O’Leary’s Irish Pub 24 N Charles Richard Beall Blvd #17-92 DeBary FL 32713 USA;X-APPLE-RADIUS=500;X-TITLE=24 N Charles Richard Beall Blvd #17-92\, DeBary\, FL 32713 USA:geo:-81.30749,28.8915108
END:VEVENT
BEGIN:VEVENT
DTSTART;TZID=America/New_York:20271130T183000
DTEND;TZID=America/New_York:20271130T183000
DTSTAMP:20260419T222140
CREATED:20260105T003048Z
LAST-MODIFIED:20260105T055427Z
UID:10017522-1827599400-1827599400@epictriviafl.com
SUMMARY:Trivia
DESCRIPTION:
URL:https://epictriviafl.com/event/trivia-olearys/2027-11-30/
LOCATION:O’Leary’s Irish Pub\, 24 N Charles Richard Beall Blvd #17-92\, DeBary\, FL 32713 USA
GEO:28.8915108;-81.30749
X-APPLE-STRUCTURED-LOCATION;VALUE=URI;X-ADDRESS=O’Leary’s Irish Pub 24 N Charles Richard Beall Blvd #17-92 DeBary FL 32713 USA;X-APPLE-RADIUS=500;X-TITLE=24 N Charles Richard Beall Blvd #17-92\, DeBary\, FL 32713 USA:geo:-81.30749,28.8915108
END:VEVENT
BEGIN:VEVENT
DTSTART;TZID=America/New_York:20271207T183000
DTEND;TZID=America/New_York:20271207T183000
DTSTAMP:20260419T222140
CREATED:20260105T003048Z
LAST-MODIFIED:20260105T055427Z
UID:10017523-1828204200-1828204200@epictriviafl.com
SUMMARY:Trivia
DESCRIPTION:
URL:https://epictriviafl.com/event/trivia-olearys/2027-12-07/
LOCATION:O’Leary’s Irish Pub\, 24 N Charles Richard Beall Blvd #17-92\, DeBary\, FL 32713 USA
GEO:28.8915108;-81.30749
X-APPLE-STRUCTURED-LOCATION;VALUE=URI;X-ADDRESS=O’Leary’s Irish Pub 24 N Charles Richard Beall Blvd #17-92 DeBary FL 32713 USA;X-APPLE-RADIUS=500;X-TITLE=24 N Charles Richard Beall Blvd #17-92\, DeBary\, FL 32713 USA:geo:-81.30749,28.8915108
END:VEVENT
BEGIN:VEVENT
DTSTART;TZID=America/New_York:20271214T183000
DTEND;TZID=America/New_York:20271214T183000
DTSTAMP:20260419T222140
CREATED:20260105T003048Z
LAST-MODIFIED:20260105T055427Z
UID:10017524-1828809000-1828809000@epictriviafl.com
SUMMARY:Trivia
DESCRIPTION:
URL:https://epictriviafl.com/event/trivia-olearys/2027-12-14/
LOCATION:O’Leary’s Irish Pub\, 24 N Charles Richard Beall Blvd #17-92\, DeBary\, FL 32713 USA
GEO:28.8915108;-81.30749
X-APPLE-STRUCTURED-LOCATION;VALUE=URI;X-ADDRESS=O’Leary’s Irish Pub 24 N Charles Richard Beall Blvd #17-92 DeBary FL 32713 USA;X-APPLE-RADIUS=500;X-TITLE=24 N Charles Richard Beall Blvd #17-92\, DeBary\, FL 32713 USA:geo:-81.30749,28.8915108
END:VEVENT
BEGIN:VEVENT
DTSTART;TZID=America/New_York:20271221T183000
DTEND;TZID=America/New_York:20271221T183000
DTSTAMP:20260419T222140
CREATED:20260105T003048Z
LAST-MODIFIED:20260105T055427Z
UID:10017525-1829413800-1829413800@epictriviafl.com
SUMMARY:Trivia
DESCRIPTION:
URL:https://epictriviafl.com/event/trivia-olearys/2027-12-21/
LOCATION:O’Leary’s Irish Pub\, 24 N Charles Richard Beall Blvd #17-92\, DeBary\, FL 32713 USA
GEO:28.8915108;-81.30749
X-APPLE-STRUCTURED-LOCATION;VALUE=URI;X-ADDRESS=O’Leary’s Irish Pub 24 N Charles Richard Beall Blvd #17-92 DeBary FL 32713 USA;X-APPLE-RADIUS=500;X-TITLE=24 N Charles Richard Beall Blvd #17-92\, DeBary\, FL 32713 USA:geo:-81.30749,28.8915108
END:VEVENT
BEGIN:VEVENT
DTSTART;TZID=America/New_York:20271228T183000
DTEND;TZID=America/New_York:20271228T183000
DTSTAMP:20260419T222140
CREATED:20260105T003048Z
LAST-MODIFIED:20260105T055427Z
UID:10017526-1830018600-1830018600@epictriviafl.com
SUMMARY:Trivia
DESCRIPTION:
URL:https://epictriviafl.com/event/trivia-olearys/2027-12-28/
LOCATION:O’Leary’s Irish Pub\, 24 N Charles Richard Beall Blvd #17-92\, DeBary\, FL 32713 USA
GEO:28.8915108;-81.30749
X-APPLE-STRUCTURED-LOCATION;VALUE=URI;X-ADDRESS=O’Leary’s Irish Pub 24 N Charles Richard Beall Blvd #17-92 DeBary FL 32713 USA;X-APPLE-RADIUS=500;X-TITLE=24 N Charles Richard Beall Blvd #17-92\, DeBary\, FL 32713 USA:geo:-81.30749,28.8915108
END:VEVENT
BEGIN:VEVENT
DTSTART;TZID=America/New_York:20280104T183000
DTEND;TZID=America/New_York:20280104T183000
DTSTAMP:20260419T222140
CREATED:20260105T003048Z
LAST-MODIFIED:20260105T055427Z
UID:10017527-1830623400-1830623400@epictriviafl.com
SUMMARY:Trivia
DESCRIPTION:
URL:https://epictriviafl.com/event/trivia-olearys/2028-01-04/
LOCATION:O’Leary’s Irish Pub\, 24 N Charles Richard Beall Blvd #17-92\, DeBary\, FL 32713 USA
GEO:28.8915108;-81.30749
X-APPLE-STRUCTURED-LOCATION;VALUE=URI;X-ADDRESS=O’Leary’s Irish Pub 24 N Charles Richard Beall Blvd #17-92 DeBary FL 32713 USA;X-APPLE-RADIUS=500;X-TITLE=24 N Charles Richard Beall Blvd #17-92\, DeBary\, FL 32713 USA:geo:-81.30749,28.8915108
END:VEVENT
END:VCALENDAR