BEGIN:VCALENDAR
VERSION:2.0
PRODID:-//Epic Trivia - ECPv6.15.18//NONSGML v1.0//EN
CALSCALE:GREGORIAN
METHOD:PUBLISH
X-WR-CALNAME:Epic Trivia
X-ORIGINAL-URL:https://epictriviafl.com
X-WR-CALDESC:Events for Epic Trivia
REFRESH-INTERVAL;VALUE=DURATION:PT1H
X-Robots-Tag:noindex
X-PUBLISHED-TTL:PT1H
BEGIN:VTIMEZONE
TZID:America/New_York
BEGIN:DAYLIGHT
TZOFFSETFROM:-0500
TZOFFSETTO:-0400
TZNAME:EDT
DTSTART:20250309T070000
END:DAYLIGHT
BEGIN:STANDARD
TZOFFSETFROM:-0400
TZOFFSETTO:-0500
TZNAME:EST
DTSTART:20251102T060000
END:STANDARD
BEGIN:DAYLIGHT
TZOFFSETFROM:-0500
TZOFFSETTO:-0400
TZNAME:EDT
DTSTART:20260308T070000
END:DAYLIGHT
BEGIN:STANDARD
TZOFFSETFROM:-0400
TZOFFSETTO:-0500
TZNAME:EST
DTSTART:20261101T060000
END:STANDARD
BEGIN:DAYLIGHT
TZOFFSETFROM:-0500
TZOFFSETTO:-0400
TZNAME:EDT
DTSTART:20270314T070000
END:DAYLIGHT
BEGIN:STANDARD
TZOFFSETFROM:-0400
TZOFFSETTO:-0500
TZNAME:EST
DTSTART:20271107T060000
END:STANDARD
BEGIN:DAYLIGHT
TZOFFSETFROM:-0500
TZOFFSETTO:-0400
TZNAME:EDT
DTSTART:20280312T070000
END:DAYLIGHT
BEGIN:STANDARD
TZOFFSETFROM:-0400
TZOFFSETTO:-0500
TZNAME:EST
DTSTART:20281105T060000
END:STANDARD
END:VTIMEZONE
BEGIN:VEVENT
DTSTART;TZID=America/New_York:20260714T183000
DTEND;TZID=America/New_York:20260714T183000
DTSTAMP:20260419T163125
CREATED:20260105T003048Z
LAST-MODIFIED:20260105T055427Z
UID:10017450-1784053800-1784053800@epictriviafl.com
SUMMARY:Trivia
DESCRIPTION:
URL:https://epictriviafl.com/event/trivia-olearys/2026-07-14/
LOCATION:O’Leary’s Irish Pub\, 24 N Charles Richard Beall Blvd #17-92\, DeBary\, FL 32713 USA
GEO:28.8915108;-81.30749
X-APPLE-STRUCTURED-LOCATION;VALUE=URI;X-ADDRESS=O’Leary’s Irish Pub 24 N Charles Richard Beall Blvd #17-92 DeBary FL 32713 USA;X-APPLE-RADIUS=500;X-TITLE=24 N Charles Richard Beall Blvd #17-92\, DeBary\, FL 32713 USA:geo:-81.30749,28.8915108
END:VEVENT
BEGIN:VEVENT
DTSTART;TZID=America/New_York:20260721T183000
DTEND;TZID=America/New_York:20260721T183000
DTSTAMP:20260419T163125
CREATED:20260105T003048Z
LAST-MODIFIED:20260105T055427Z
UID:10017451-1784658600-1784658600@epictriviafl.com
SUMMARY:Trivia
DESCRIPTION:
URL:https://epictriviafl.com/event/trivia-olearys/2026-07-21/
LOCATION:O’Leary’s Irish Pub\, 24 N Charles Richard Beall Blvd #17-92\, DeBary\, FL 32713 USA
GEO:28.8915108;-81.30749
X-APPLE-STRUCTURED-LOCATION;VALUE=URI;X-ADDRESS=O’Leary’s Irish Pub 24 N Charles Richard Beall Blvd #17-92 DeBary FL 32713 USA;X-APPLE-RADIUS=500;X-TITLE=24 N Charles Richard Beall Blvd #17-92\, DeBary\, FL 32713 USA:geo:-81.30749,28.8915108
END:VEVENT
BEGIN:VEVENT
DTSTART;TZID=America/New_York:20260728T183000
DTEND;TZID=America/New_York:20260728T183000
DTSTAMP:20260419T163125
CREATED:20260105T003048Z
LAST-MODIFIED:20260105T055427Z
UID:10017452-1785263400-1785263400@epictriviafl.com
SUMMARY:Trivia
DESCRIPTION:
URL:https://epictriviafl.com/event/trivia-olearys/2026-07-28/
LOCATION:O’Leary’s Irish Pub\, 24 N Charles Richard Beall Blvd #17-92\, DeBary\, FL 32713 USA
GEO:28.8915108;-81.30749
X-APPLE-STRUCTURED-LOCATION;VALUE=URI;X-ADDRESS=O’Leary’s Irish Pub 24 N Charles Richard Beall Blvd #17-92 DeBary FL 32713 USA;X-APPLE-RADIUS=500;X-TITLE=24 N Charles Richard Beall Blvd #17-92\, DeBary\, FL 32713 USA:geo:-81.30749,28.8915108
END:VEVENT
BEGIN:VEVENT
DTSTART;TZID=America/New_York:20260804T183000
DTEND;TZID=America/New_York:20260804T183000
DTSTAMP:20260419T163125
CREATED:20260105T003048Z
LAST-MODIFIED:20260105T055427Z
UID:10017453-1785868200-1785868200@epictriviafl.com
SUMMARY:Trivia
DESCRIPTION:
URL:https://epictriviafl.com/event/trivia-olearys/2026-08-04/
LOCATION:O’Leary’s Irish Pub\, 24 N Charles Richard Beall Blvd #17-92\, DeBary\, FL 32713 USA
GEO:28.8915108;-81.30749
X-APPLE-STRUCTURED-LOCATION;VALUE=URI;X-ADDRESS=O’Leary’s Irish Pub 24 N Charles Richard Beall Blvd #17-92 DeBary FL 32713 USA;X-APPLE-RADIUS=500;X-TITLE=24 N Charles Richard Beall Blvd #17-92\, DeBary\, FL 32713 USA:geo:-81.30749,28.8915108
END:VEVENT
BEGIN:VEVENT
DTSTART;TZID=America/New_York:20260811T183000
DTEND;TZID=America/New_York:20260811T183000
DTSTAMP:20260419T163125
CREATED:20260105T003048Z
LAST-MODIFIED:20260105T055427Z
UID:10017454-1786473000-1786473000@epictriviafl.com
SUMMARY:Trivia
DESCRIPTION:
URL:https://epictriviafl.com/event/trivia-olearys/2026-08-11/
LOCATION:O’Leary’s Irish Pub\, 24 N Charles Richard Beall Blvd #17-92\, DeBary\, FL 32713 USA
GEO:28.8915108;-81.30749
X-APPLE-STRUCTURED-LOCATION;VALUE=URI;X-ADDRESS=O’Leary’s Irish Pub 24 N Charles Richard Beall Blvd #17-92 DeBary FL 32713 USA;X-APPLE-RADIUS=500;X-TITLE=24 N Charles Richard Beall Blvd #17-92\, DeBary\, FL 32713 USA:geo:-81.30749,28.8915108
END:VEVENT
BEGIN:VEVENT
DTSTART;TZID=America/New_York:20260818T183000
DTEND;TZID=America/New_York:20260818T183000
DTSTAMP:20260419T163125
CREATED:20260105T003048Z
LAST-MODIFIED:20260105T055427Z
UID:10017455-1787077800-1787077800@epictriviafl.com
SUMMARY:Trivia
DESCRIPTION:
URL:https://epictriviafl.com/event/trivia-olearys/2026-08-18/
LOCATION:O’Leary’s Irish Pub\, 24 N Charles Richard Beall Blvd #17-92\, DeBary\, FL 32713 USA
GEO:28.8915108;-81.30749
X-APPLE-STRUCTURED-LOCATION;VALUE=URI;X-ADDRESS=O’Leary’s Irish Pub 24 N Charles Richard Beall Blvd #17-92 DeBary FL 32713 USA;X-APPLE-RADIUS=500;X-TITLE=24 N Charles Richard Beall Blvd #17-92\, DeBary\, FL 32713 USA:geo:-81.30749,28.8915108
END:VEVENT
BEGIN:VEVENT
DTSTART;TZID=America/New_York:20260825T183000
DTEND;TZID=America/New_York:20260825T183000
DTSTAMP:20260419T163125
CREATED:20260105T003048Z
LAST-MODIFIED:20260105T055427Z
UID:10017456-1787682600-1787682600@epictriviafl.com
SUMMARY:Trivia
DESCRIPTION:
URL:https://epictriviafl.com/event/trivia-olearys/2026-08-25/
LOCATION:O’Leary’s Irish Pub\, 24 N Charles Richard Beall Blvd #17-92\, DeBary\, FL 32713 USA
GEO:28.8915108;-81.30749
X-APPLE-STRUCTURED-LOCATION;VALUE=URI;X-ADDRESS=O’Leary’s Irish Pub 24 N Charles Richard Beall Blvd #17-92 DeBary FL 32713 USA;X-APPLE-RADIUS=500;X-TITLE=24 N Charles Richard Beall Blvd #17-92\, DeBary\, FL 32713 USA:geo:-81.30749,28.8915108
END:VEVENT
BEGIN:VEVENT
DTSTART;TZID=America/New_York:20260901T183000
DTEND;TZID=America/New_York:20260901T183000
DTSTAMP:20260419T163125
CREATED:20260105T003048Z
LAST-MODIFIED:20260105T055427Z
UID:10017457-1788287400-1788287400@epictriviafl.com
SUMMARY:Trivia
DESCRIPTION:
URL:https://epictriviafl.com/event/trivia-olearys/2026-09-01/
LOCATION:O’Leary’s Irish Pub\, 24 N Charles Richard Beall Blvd #17-92\, DeBary\, FL 32713 USA
GEO:28.8915108;-81.30749
X-APPLE-STRUCTURED-LOCATION;VALUE=URI;X-ADDRESS=O’Leary’s Irish Pub 24 N Charles Richard Beall Blvd #17-92 DeBary FL 32713 USA;X-APPLE-RADIUS=500;X-TITLE=24 N Charles Richard Beall Blvd #17-92\, DeBary\, FL 32713 USA:geo:-81.30749,28.8915108
END:VEVENT
BEGIN:VEVENT
DTSTART;TZID=America/New_York:20260908T183000
DTEND;TZID=America/New_York:20260908T183000
DTSTAMP:20260419T163125
CREATED:20260105T003048Z
LAST-MODIFIED:20260105T055427Z
UID:10017458-1788892200-1788892200@epictriviafl.com
SUMMARY:Trivia
DESCRIPTION:
URL:https://epictriviafl.com/event/trivia-olearys/2026-09-08/
LOCATION:O’Leary’s Irish Pub\, 24 N Charles Richard Beall Blvd #17-92\, DeBary\, FL 32713 USA
GEO:28.8915108;-81.30749
X-APPLE-STRUCTURED-LOCATION;VALUE=URI;X-ADDRESS=O’Leary’s Irish Pub 24 N Charles Richard Beall Blvd #17-92 DeBary FL 32713 USA;X-APPLE-RADIUS=500;X-TITLE=24 N Charles Richard Beall Blvd #17-92\, DeBary\, FL 32713 USA:geo:-81.30749,28.8915108
END:VEVENT
BEGIN:VEVENT
DTSTART;TZID=America/New_York:20260915T183000
DTEND;TZID=America/New_York:20260915T183000
DTSTAMP:20260419T163125
CREATED:20260105T003048Z
LAST-MODIFIED:20260105T055427Z
UID:10017459-1789497000-1789497000@epictriviafl.com
SUMMARY:Trivia
DESCRIPTION:
URL:https://epictriviafl.com/event/trivia-olearys/2026-09-15/
LOCATION:O’Leary’s Irish Pub\, 24 N Charles Richard Beall Blvd #17-92\, DeBary\, FL 32713 USA
GEO:28.8915108;-81.30749
X-APPLE-STRUCTURED-LOCATION;VALUE=URI;X-ADDRESS=O’Leary’s Irish Pub 24 N Charles Richard Beall Blvd #17-92 DeBary FL 32713 USA;X-APPLE-RADIUS=500;X-TITLE=24 N Charles Richard Beall Blvd #17-92\, DeBary\, FL 32713 USA:geo:-81.30749,28.8915108
END:VEVENT
BEGIN:VEVENT
DTSTART;TZID=America/New_York:20260922T183000
DTEND;TZID=America/New_York:20260922T183000
DTSTAMP:20260419T163125
CREATED:20260105T003048Z
LAST-MODIFIED:20260105T055427Z
UID:10017460-1790101800-1790101800@epictriviafl.com
SUMMARY:Trivia
DESCRIPTION:
URL:https://epictriviafl.com/event/trivia-olearys/2026-09-22/
LOCATION:O’Leary’s Irish Pub\, 24 N Charles Richard Beall Blvd #17-92\, DeBary\, FL 32713 USA
GEO:28.8915108;-81.30749
X-APPLE-STRUCTURED-LOCATION;VALUE=URI;X-ADDRESS=O’Leary’s Irish Pub 24 N Charles Richard Beall Blvd #17-92 DeBary FL 32713 USA;X-APPLE-RADIUS=500;X-TITLE=24 N Charles Richard Beall Blvd #17-92\, DeBary\, FL 32713 USA:geo:-81.30749,28.8915108
END:VEVENT
BEGIN:VEVENT
DTSTART;TZID=America/New_York:20260929T183000
DTEND;TZID=America/New_York:20260929T183000
DTSTAMP:20260419T163125
CREATED:20260105T003048Z
LAST-MODIFIED:20260105T055427Z
UID:10017461-1790706600-1790706600@epictriviafl.com
SUMMARY:Trivia
DESCRIPTION:
URL:https://epictriviafl.com/event/trivia-olearys/2026-09-29/
LOCATION:O’Leary’s Irish Pub\, 24 N Charles Richard Beall Blvd #17-92\, DeBary\, FL 32713 USA
GEO:28.8915108;-81.30749
X-APPLE-STRUCTURED-LOCATION;VALUE=URI;X-ADDRESS=O’Leary’s Irish Pub 24 N Charles Richard Beall Blvd #17-92 DeBary FL 32713 USA;X-APPLE-RADIUS=500;X-TITLE=24 N Charles Richard Beall Blvd #17-92\, DeBary\, FL 32713 USA:geo:-81.30749,28.8915108
END:VEVENT
BEGIN:VEVENT
DTSTART;TZID=America/New_York:20261006T183000
DTEND;TZID=America/New_York:20261006T183000
DTSTAMP:20260419T163125
CREATED:20260105T003048Z
LAST-MODIFIED:20260105T055427Z
UID:10017462-1791311400-1791311400@epictriviafl.com
SUMMARY:Trivia
DESCRIPTION:
URL:https://epictriviafl.com/event/trivia-olearys/2026-10-06/
LOCATION:O’Leary’s Irish Pub\, 24 N Charles Richard Beall Blvd #17-92\, DeBary\, FL 32713 USA
GEO:28.8915108;-81.30749
X-APPLE-STRUCTURED-LOCATION;VALUE=URI;X-ADDRESS=O’Leary’s Irish Pub 24 N Charles Richard Beall Blvd #17-92 DeBary FL 32713 USA;X-APPLE-RADIUS=500;X-TITLE=24 N Charles Richard Beall Blvd #17-92\, DeBary\, FL 32713 USA:geo:-81.30749,28.8915108
END:VEVENT
BEGIN:VEVENT
DTSTART;TZID=America/New_York:20261013T183000
DTEND;TZID=America/New_York:20261013T183000
DTSTAMP:20260419T163125
CREATED:20260105T003048Z
LAST-MODIFIED:20260105T055427Z
UID:10017463-1791916200-1791916200@epictriviafl.com
SUMMARY:Trivia
DESCRIPTION:
URL:https://epictriviafl.com/event/trivia-olearys/2026-10-13/
LOCATION:O’Leary’s Irish Pub\, 24 N Charles Richard Beall Blvd #17-92\, DeBary\, FL 32713 USA
GEO:28.8915108;-81.30749
X-APPLE-STRUCTURED-LOCATION;VALUE=URI;X-ADDRESS=O’Leary’s Irish Pub 24 N Charles Richard Beall Blvd #17-92 DeBary FL 32713 USA;X-APPLE-RADIUS=500;X-TITLE=24 N Charles Richard Beall Blvd #17-92\, DeBary\, FL 32713 USA:geo:-81.30749,28.8915108
END:VEVENT
BEGIN:VEVENT
DTSTART;TZID=America/New_York:20261020T183000
DTEND;TZID=America/New_York:20261020T183000
DTSTAMP:20260419T163125
CREATED:20260105T003048Z
LAST-MODIFIED:20260105T055427Z
UID:10017464-1792521000-1792521000@epictriviafl.com
SUMMARY:Trivia
DESCRIPTION:
URL:https://epictriviafl.com/event/trivia-olearys/2026-10-20/
LOCATION:O’Leary’s Irish Pub\, 24 N Charles Richard Beall Blvd #17-92\, DeBary\, FL 32713 USA
GEO:28.8915108;-81.30749
X-APPLE-STRUCTURED-LOCATION;VALUE=URI;X-ADDRESS=O’Leary’s Irish Pub 24 N Charles Richard Beall Blvd #17-92 DeBary FL 32713 USA;X-APPLE-RADIUS=500;X-TITLE=24 N Charles Richard Beall Blvd #17-92\, DeBary\, FL 32713 USA:geo:-81.30749,28.8915108
END:VEVENT
BEGIN:VEVENT
DTSTART;TZID=America/New_York:20261027T183000
DTEND;TZID=America/New_York:20261027T183000
DTSTAMP:20260419T163125
CREATED:20260105T003048Z
LAST-MODIFIED:20260105T055427Z
UID:10017465-1793125800-1793125800@epictriviafl.com
SUMMARY:Trivia
DESCRIPTION:
URL:https://epictriviafl.com/event/trivia-olearys/2026-10-27/
LOCATION:O’Leary’s Irish Pub\, 24 N Charles Richard Beall Blvd #17-92\, DeBary\, FL 32713 USA
GEO:28.8915108;-81.30749
X-APPLE-STRUCTURED-LOCATION;VALUE=URI;X-ADDRESS=O’Leary’s Irish Pub 24 N Charles Richard Beall Blvd #17-92 DeBary FL 32713 USA;X-APPLE-RADIUS=500;X-TITLE=24 N Charles Richard Beall Blvd #17-92\, DeBary\, FL 32713 USA:geo:-81.30749,28.8915108
END:VEVENT
BEGIN:VEVENT
DTSTART;TZID=America/New_York:20261103T183000
DTEND;TZID=America/New_York:20261103T183000
DTSTAMP:20260419T163125
CREATED:20260105T003048Z
LAST-MODIFIED:20260105T055427Z
UID:10017466-1793730600-1793730600@epictriviafl.com
SUMMARY:Trivia
DESCRIPTION:
URL:https://epictriviafl.com/event/trivia-olearys/2026-11-03/
LOCATION:O’Leary’s Irish Pub\, 24 N Charles Richard Beall Blvd #17-92\, DeBary\, FL 32713 USA
GEO:28.8915108;-81.30749
X-APPLE-STRUCTURED-LOCATION;VALUE=URI;X-ADDRESS=O’Leary’s Irish Pub 24 N Charles Richard Beall Blvd #17-92 DeBary FL 32713 USA;X-APPLE-RADIUS=500;X-TITLE=24 N Charles Richard Beall Blvd #17-92\, DeBary\, FL 32713 USA:geo:-81.30749,28.8915108
END:VEVENT
BEGIN:VEVENT
DTSTART;TZID=America/New_York:20261110T183000
DTEND;TZID=America/New_York:20261110T183000
DTSTAMP:20260419T163125
CREATED:20260105T003048Z
LAST-MODIFIED:20260105T055427Z
UID:10017467-1794335400-1794335400@epictriviafl.com
SUMMARY:Trivia
DESCRIPTION:
URL:https://epictriviafl.com/event/trivia-olearys/2026-11-10/
LOCATION:O’Leary’s Irish Pub\, 24 N Charles Richard Beall Blvd #17-92\, DeBary\, FL 32713 USA
GEO:28.8915108;-81.30749
X-APPLE-STRUCTURED-LOCATION;VALUE=URI;X-ADDRESS=O’Leary’s Irish Pub 24 N Charles Richard Beall Blvd #17-92 DeBary FL 32713 USA;X-APPLE-RADIUS=500;X-TITLE=24 N Charles Richard Beall Blvd #17-92\, DeBary\, FL 32713 USA:geo:-81.30749,28.8915108
END:VEVENT
BEGIN:VEVENT
DTSTART;TZID=America/New_York:20261117T183000
DTEND;TZID=America/New_York:20261117T183000
DTSTAMP:20260419T163125
CREATED:20260105T003048Z
LAST-MODIFIED:20260105T055427Z
UID:10017468-1794940200-1794940200@epictriviafl.com
SUMMARY:Trivia
DESCRIPTION:
URL:https://epictriviafl.com/event/trivia-olearys/2026-11-17/
LOCATION:O’Leary’s Irish Pub\, 24 N Charles Richard Beall Blvd #17-92\, DeBary\, FL 32713 USA
GEO:28.8915108;-81.30749
X-APPLE-STRUCTURED-LOCATION;VALUE=URI;X-ADDRESS=O’Leary’s Irish Pub 24 N Charles Richard Beall Blvd #17-92 DeBary FL 32713 USA;X-APPLE-RADIUS=500;X-TITLE=24 N Charles Richard Beall Blvd #17-92\, DeBary\, FL 32713 USA:geo:-81.30749,28.8915108
END:VEVENT
BEGIN:VEVENT
DTSTART;TZID=America/New_York:20261124T183000
DTEND;TZID=America/New_York:20261124T183000
DTSTAMP:20260419T163125
CREATED:20260105T003048Z
LAST-MODIFIED:20260105T055427Z
UID:10017469-1795545000-1795545000@epictriviafl.com
SUMMARY:Trivia
DESCRIPTION:
URL:https://epictriviafl.com/event/trivia-olearys/2026-11-24/
LOCATION:O’Leary’s Irish Pub\, 24 N Charles Richard Beall Blvd #17-92\, DeBary\, FL 32713 USA
GEO:28.8915108;-81.30749
X-APPLE-STRUCTURED-LOCATION;VALUE=URI;X-ADDRESS=O’Leary’s Irish Pub 24 N Charles Richard Beall Blvd #17-92 DeBary FL 32713 USA;X-APPLE-RADIUS=500;X-TITLE=24 N Charles Richard Beall Blvd #17-92\, DeBary\, FL 32713 USA:geo:-81.30749,28.8915108
END:VEVENT
BEGIN:VEVENT
DTSTART;TZID=America/New_York:20261201T183000
DTEND;TZID=America/New_York:20261201T183000
DTSTAMP:20260419T163125
CREATED:20260105T003048Z
LAST-MODIFIED:20260105T055427Z
UID:10017470-1796149800-1796149800@epictriviafl.com
SUMMARY:Trivia
DESCRIPTION:
URL:https://epictriviafl.com/event/trivia-olearys/2026-12-01/
LOCATION:O’Leary’s Irish Pub\, 24 N Charles Richard Beall Blvd #17-92\, DeBary\, FL 32713 USA
GEO:28.8915108;-81.30749
X-APPLE-STRUCTURED-LOCATION;VALUE=URI;X-ADDRESS=O’Leary’s Irish Pub 24 N Charles Richard Beall Blvd #17-92 DeBary FL 32713 USA;X-APPLE-RADIUS=500;X-TITLE=24 N Charles Richard Beall Blvd #17-92\, DeBary\, FL 32713 USA:geo:-81.30749,28.8915108
END:VEVENT
BEGIN:VEVENT
DTSTART;TZID=America/New_York:20261208T183000
DTEND;TZID=America/New_York:20261208T183000
DTSTAMP:20260419T163126
CREATED:20260105T003048Z
LAST-MODIFIED:20260105T055427Z
UID:10017471-1796754600-1796754600@epictriviafl.com
SUMMARY:Trivia
DESCRIPTION:
URL:https://epictriviafl.com/event/trivia-olearys/2026-12-08/
LOCATION:O’Leary’s Irish Pub\, 24 N Charles Richard Beall Blvd #17-92\, DeBary\, FL 32713 USA
GEO:28.8915108;-81.30749
X-APPLE-STRUCTURED-LOCATION;VALUE=URI;X-ADDRESS=O’Leary’s Irish Pub 24 N Charles Richard Beall Blvd #17-92 DeBary FL 32713 USA;X-APPLE-RADIUS=500;X-TITLE=24 N Charles Richard Beall Blvd #17-92\, DeBary\, FL 32713 USA:geo:-81.30749,28.8915108
END:VEVENT
BEGIN:VEVENT
DTSTART;TZID=America/New_York:20261215T183000
DTEND;TZID=America/New_York:20261215T183000
DTSTAMP:20260419T163126
CREATED:20260105T003048Z
LAST-MODIFIED:20260105T055427Z
UID:10017472-1797359400-1797359400@epictriviafl.com
SUMMARY:Trivia
DESCRIPTION:
URL:https://epictriviafl.com/event/trivia-olearys/2026-12-15/
LOCATION:O’Leary’s Irish Pub\, 24 N Charles Richard Beall Blvd #17-92\, DeBary\, FL 32713 USA
GEO:28.8915108;-81.30749
X-APPLE-STRUCTURED-LOCATION;VALUE=URI;X-ADDRESS=O’Leary’s Irish Pub 24 N Charles Richard Beall Blvd #17-92 DeBary FL 32713 USA;X-APPLE-RADIUS=500;X-TITLE=24 N Charles Richard Beall Blvd #17-92\, DeBary\, FL 32713 USA:geo:-81.30749,28.8915108
END:VEVENT
BEGIN:VEVENT
DTSTART;TZID=America/New_York:20261222T183000
DTEND;TZID=America/New_York:20261222T183000
DTSTAMP:20260419T163126
CREATED:20260105T003048Z
LAST-MODIFIED:20260105T055427Z
UID:10017473-1797964200-1797964200@epictriviafl.com
SUMMARY:Trivia
DESCRIPTION:
URL:https://epictriviafl.com/event/trivia-olearys/2026-12-22/
LOCATION:O’Leary’s Irish Pub\, 24 N Charles Richard Beall Blvd #17-92\, DeBary\, FL 32713 USA
GEO:28.8915108;-81.30749
X-APPLE-STRUCTURED-LOCATION;VALUE=URI;X-ADDRESS=O’Leary’s Irish Pub 24 N Charles Richard Beall Blvd #17-92 DeBary FL 32713 USA;X-APPLE-RADIUS=500;X-TITLE=24 N Charles Richard Beall Blvd #17-92\, DeBary\, FL 32713 USA:geo:-81.30749,28.8915108
END:VEVENT
BEGIN:VEVENT
DTSTART;TZID=America/New_York:20261229T183000
DTEND;TZID=America/New_York:20261229T183000
DTSTAMP:20260419T163126
CREATED:20260105T003048Z
LAST-MODIFIED:20260105T055427Z
UID:10017474-1798569000-1798569000@epictriviafl.com
SUMMARY:Trivia
DESCRIPTION:
URL:https://epictriviafl.com/event/trivia-olearys/2026-12-29/
LOCATION:O’Leary’s Irish Pub\, 24 N Charles Richard Beall Blvd #17-92\, DeBary\, FL 32713 USA
GEO:28.8915108;-81.30749
X-APPLE-STRUCTURED-LOCATION;VALUE=URI;X-ADDRESS=O’Leary’s Irish Pub 24 N Charles Richard Beall Blvd #17-92 DeBary FL 32713 USA;X-APPLE-RADIUS=500;X-TITLE=24 N Charles Richard Beall Blvd #17-92\, DeBary\, FL 32713 USA:geo:-81.30749,28.8915108
END:VEVENT
BEGIN:VEVENT
DTSTART;TZID=America/New_York:20270105T183000
DTEND;TZID=America/New_York:20270105T183000
DTSTAMP:20260419T163126
CREATED:20260105T003048Z
LAST-MODIFIED:20260105T055427Z
UID:10017475-1799173800-1799173800@epictriviafl.com
SUMMARY:Trivia
DESCRIPTION:
URL:https://epictriviafl.com/event/trivia-olearys/2027-01-05/
LOCATION:O’Leary’s Irish Pub\, 24 N Charles Richard Beall Blvd #17-92\, DeBary\, FL 32713 USA
GEO:28.8915108;-81.30749
X-APPLE-STRUCTURED-LOCATION;VALUE=URI;X-ADDRESS=O’Leary’s Irish Pub 24 N Charles Richard Beall Blvd #17-92 DeBary FL 32713 USA;X-APPLE-RADIUS=500;X-TITLE=24 N Charles Richard Beall Blvd #17-92\, DeBary\, FL 32713 USA:geo:-81.30749,28.8915108
END:VEVENT
BEGIN:VEVENT
DTSTART;TZID=America/New_York:20270112T183000
DTEND;TZID=America/New_York:20270112T183000
DTSTAMP:20260419T163126
CREATED:20260105T003048Z
LAST-MODIFIED:20260105T055427Z
UID:10017476-1799778600-1799778600@epictriviafl.com
SUMMARY:Trivia
DESCRIPTION:
URL:https://epictriviafl.com/event/trivia-olearys/2027-01-12/
LOCATION:O’Leary’s Irish Pub\, 24 N Charles Richard Beall Blvd #17-92\, DeBary\, FL 32713 USA
GEO:28.8915108;-81.30749
X-APPLE-STRUCTURED-LOCATION;VALUE=URI;X-ADDRESS=O’Leary’s Irish Pub 24 N Charles Richard Beall Blvd #17-92 DeBary FL 32713 USA;X-APPLE-RADIUS=500;X-TITLE=24 N Charles Richard Beall Blvd #17-92\, DeBary\, FL 32713 USA:geo:-81.30749,28.8915108
END:VEVENT
BEGIN:VEVENT
DTSTART;TZID=America/New_York:20270119T183000
DTEND;TZID=America/New_York:20270119T183000
DTSTAMP:20260419T163126
CREATED:20260105T003048Z
LAST-MODIFIED:20260105T055427Z
UID:10017477-1800383400-1800383400@epictriviafl.com
SUMMARY:Trivia
DESCRIPTION:
URL:https://epictriviafl.com/event/trivia-olearys/2027-01-19/
LOCATION:O’Leary’s Irish Pub\, 24 N Charles Richard Beall Blvd #17-92\, DeBary\, FL 32713 USA
GEO:28.8915108;-81.30749
X-APPLE-STRUCTURED-LOCATION;VALUE=URI;X-ADDRESS=O’Leary’s Irish Pub 24 N Charles Richard Beall Blvd #17-92 DeBary FL 32713 USA;X-APPLE-RADIUS=500;X-TITLE=24 N Charles Richard Beall Blvd #17-92\, DeBary\, FL 32713 USA:geo:-81.30749,28.8915108
END:VEVENT
BEGIN:VEVENT
DTSTART;TZID=America/New_York:20270126T183000
DTEND;TZID=America/New_York:20270126T183000
DTSTAMP:20260419T163126
CREATED:20260105T003048Z
LAST-MODIFIED:20260105T055427Z
UID:10017478-1800988200-1800988200@epictriviafl.com
SUMMARY:Trivia
DESCRIPTION:
URL:https://epictriviafl.com/event/trivia-olearys/2027-01-26/
LOCATION:O’Leary’s Irish Pub\, 24 N Charles Richard Beall Blvd #17-92\, DeBary\, FL 32713 USA
GEO:28.8915108;-81.30749
X-APPLE-STRUCTURED-LOCATION;VALUE=URI;X-ADDRESS=O’Leary’s Irish Pub 24 N Charles Richard Beall Blvd #17-92 DeBary FL 32713 USA;X-APPLE-RADIUS=500;X-TITLE=24 N Charles Richard Beall Blvd #17-92\, DeBary\, FL 32713 USA:geo:-81.30749,28.8915108
END:VEVENT
BEGIN:VEVENT
DTSTART;TZID=America/New_York:20270202T183000
DTEND;TZID=America/New_York:20270202T183000
DTSTAMP:20260419T163126
CREATED:20260105T003048Z
LAST-MODIFIED:20260105T055427Z
UID:10017479-1801593000-1801593000@epictriviafl.com
SUMMARY:Trivia
DESCRIPTION:
URL:https://epictriviafl.com/event/trivia-olearys/2027-02-02/
LOCATION:O’Leary’s Irish Pub\, 24 N Charles Richard Beall Blvd #17-92\, DeBary\, FL 32713 USA
GEO:28.8915108;-81.30749
X-APPLE-STRUCTURED-LOCATION;VALUE=URI;X-ADDRESS=O’Leary’s Irish Pub 24 N Charles Richard Beall Blvd #17-92 DeBary FL 32713 USA;X-APPLE-RADIUS=500;X-TITLE=24 N Charles Richard Beall Blvd #17-92\, DeBary\, FL 32713 USA:geo:-81.30749,28.8915108
END:VEVENT
END:VCALENDAR