BEGIN:VCALENDAR
VERSION:2.0
PRODID:-//Epic Trivia - ECPv6.15.18//NONSGML v1.0//EN
CALSCALE:GREGORIAN
METHOD:PUBLISH
X-ORIGINAL-URL:https://epictriviafl.com
X-WR-CALDESC:Events for Epic Trivia
REFRESH-INTERVAL;VALUE=DURATION:PT1H
X-Robots-Tag:noindex
X-PUBLISHED-TTL:PT1H
BEGIN:VTIMEZONE
TZID:America/New_York
BEGIN:DAYLIGHT
TZOFFSETFROM:-0500
TZOFFSETTO:-0400
TZNAME:EDT
DTSTART:20250309T070000
END:DAYLIGHT
BEGIN:STANDARD
TZOFFSETFROM:-0400
TZOFFSETTO:-0500
TZNAME:EST
DTSTART:20251102T060000
END:STANDARD
BEGIN:DAYLIGHT
TZOFFSETFROM:-0500
TZOFFSETTO:-0400
TZNAME:EDT
DTSTART:20260308T070000
END:DAYLIGHT
BEGIN:STANDARD
TZOFFSETFROM:-0400
TZOFFSETTO:-0500
TZNAME:EST
DTSTART:20261101T060000
END:STANDARD
BEGIN:DAYLIGHT
TZOFFSETFROM:-0500
TZOFFSETTO:-0400
TZNAME:EDT
DTSTART:20270314T070000
END:DAYLIGHT
BEGIN:STANDARD
TZOFFSETFROM:-0400
TZOFFSETTO:-0500
TZNAME:EST
DTSTART:20271107T060000
END:STANDARD
END:VTIMEZONE
BEGIN:VEVENT
DTSTART;TZID=America/New_York:20260120T183000
DTEND;TZID=America/New_York:20260120T183000
DTSTAMP:20260419T175401
CREATED:20260105T003048Z
LAST-MODIFIED:20260105T055427Z
UID:10017425-1768933800-1768933800@epictriviafl.com
SUMMARY:Trivia
DESCRIPTION:
URL:https://epictriviafl.com/event/trivia-olearys/2026-01-20/
LOCATION:O’Leary’s Irish Pub\, 24 N Charles Richard Beall Blvd #17-92\, DeBary\, FL 32713 USA
GEO:28.8915108;-81.30749
X-APPLE-STRUCTURED-LOCATION;VALUE=URI;X-ADDRESS=O’Leary’s Irish Pub 24 N Charles Richard Beall Blvd #17-92 DeBary FL 32713 USA;X-APPLE-RADIUS=500;X-TITLE=24 N Charles Richard Beall Blvd #17-92\, DeBary\, FL 32713 USA:geo:-81.30749,28.8915108
END:VEVENT
BEGIN:VEVENT
DTSTART;TZID=America/New_York:20260113T183000
DTEND;TZID=America/New_York:20260113T183000
DTSTAMP:20260419T175401
CREATED:20260105T003048Z
LAST-MODIFIED:20260105T055427Z
UID:10017424-1768329000-1768329000@epictriviafl.com
SUMMARY:Trivia
DESCRIPTION:
URL:https://epictriviafl.com/event/trivia-olearys/2026-01-13/
LOCATION:O’Leary’s Irish Pub\, 24 N Charles Richard Beall Blvd #17-92\, DeBary\, FL 32713 USA
GEO:28.8915108;-81.30749
X-APPLE-STRUCTURED-LOCATION;VALUE=URI;X-ADDRESS=O’Leary’s Irish Pub 24 N Charles Richard Beall Blvd #17-92 DeBary FL 32713 USA;X-APPLE-RADIUS=500;X-TITLE=24 N Charles Richard Beall Blvd #17-92\, DeBary\, FL 32713 USA:geo:-81.30749,28.8915108
END:VEVENT
BEGIN:VEVENT
DTSTART;TZID=America/New_York:20260106T183000
DTEND;TZID=America/New_York:20260106T183000
DTSTAMP:20260419T175401
CREATED:20260105T003048Z
LAST-MODIFIED:20260105T055427Z
UID:10008804-1767724200-1767724200@epictriviafl.com
SUMMARY:Trivia
DESCRIPTION:
URL:https://epictriviafl.com/event/trivia-olearys/2026-01-06/
LOCATION:O’Leary’s Irish Pub\, 24 N Charles Richard Beall Blvd #17-92\, DeBary\, FL 32713 USA
GEO:28.8915108;-81.30749
X-APPLE-STRUCTURED-LOCATION;VALUE=URI;X-ADDRESS=O’Leary’s Irish Pub 24 N Charles Richard Beall Blvd #17-92 DeBary FL 32713 USA;X-APPLE-RADIUS=500;X-TITLE=24 N Charles Richard Beall Blvd #17-92\, DeBary\, FL 32713 USA:geo:-81.30749,28.8915108
END:VEVENT
END:VCALENDAR