BEGIN:VCALENDAR
VERSION:2.0
PRODID:-//Epic Trivia - ECPv6.15.18//NONSGML v1.0//EN
CALSCALE:GREGORIAN
METHOD:PUBLISH
X-ORIGINAL-URL:https://epictriviafl.com
X-WR-CALDESC:Events for Epic Trivia
REFRESH-INTERVAL;VALUE=DURATION:PT1H
X-Robots-Tag:noindex
X-PUBLISHED-TTL:PT1H
BEGIN:VTIMEZONE
TZID:America/New_York
BEGIN:DAYLIGHT
TZOFFSETFROM:-0500
TZOFFSETTO:-0400
TZNAME:EDT
DTSTART:20280312T070000
END:DAYLIGHT
BEGIN:STANDARD
TZOFFSETFROM:-0400
TZOFFSETTO:-0500
TZNAME:EST
DTSTART:20281105T060000
END:STANDARD
BEGIN:DAYLIGHT
TZOFFSETFROM:-0500
TZOFFSETTO:-0400
TZNAME:EDT
DTSTART:20290311T070000
END:DAYLIGHT
BEGIN:STANDARD
TZOFFSETFROM:-0400
TZOFFSETTO:-0500
TZNAME:EST
DTSTART:20291104T060000
END:STANDARD
BEGIN:DAYLIGHT
TZOFFSETFROM:-0500
TZOFFSETTO:-0400
TZNAME:EDT
DTSTART:20300310T070000
END:DAYLIGHT
BEGIN:STANDARD
TZOFFSETFROM:-0400
TZOFFSETTO:-0500
TZNAME:EST
DTSTART:20301103T060000
END:STANDARD
BEGIN:DAYLIGHT
TZOFFSETFROM:-0500
TZOFFSETTO:-0400
TZNAME:EDT
DTSTART:20310309T070000
END:DAYLIGHT
BEGIN:STANDARD
TZOFFSETFROM:-0400
TZOFFSETTO:-0500
TZNAME:EST
DTSTART:20311102T060000
END:STANDARD
END:VTIMEZONE
BEGIN:VEVENT
DTSTART;TZID=America/New_York:20291225T183000
DTEND;TZID=America/New_York:20291225T183000
DTSTAMP:20260420T154015
CREATED:20260105T003048Z
LAST-MODIFIED:20260105T055427Z
UID:10017630-1892917800-1892917800@epictriviafl.com
SUMMARY:Trivia
DESCRIPTION:
URL:https://epictriviafl.com/event/trivia-olearys/2029-12-25/
LOCATION:O’Leary’s Irish Pub\, 24 N Charles Richard Beall Blvd #17-92\, DeBary\, FL 32713 USA
GEO:28.8915108;-81.30749
X-APPLE-STRUCTURED-LOCATION;VALUE=URI;X-ADDRESS=O’Leary’s Irish Pub 24 N Charles Richard Beall Blvd #17-92 DeBary FL 32713 USA;X-APPLE-RADIUS=500;X-TITLE=24 N Charles Richard Beall Blvd #17-92\, DeBary\, FL 32713 USA:geo:-81.30749,28.8915108
END:VEVENT
BEGIN:VEVENT
DTSTART;TZID=America/New_York:20300101T183000
DTEND;TZID=America/New_York:20300101T183000
DTSTAMP:20260420T154015
CREATED:20260105T003048Z
LAST-MODIFIED:20260105T055427Z
UID:10017631-1893522600-1893522600@epictriviafl.com
SUMMARY:Trivia
DESCRIPTION:
URL:https://epictriviafl.com/event/trivia-olearys/2030-01-01/
LOCATION:O’Leary’s Irish Pub\, 24 N Charles Richard Beall Blvd #17-92\, DeBary\, FL 32713 USA
GEO:28.8915108;-81.30749
X-APPLE-STRUCTURED-LOCATION;VALUE=URI;X-ADDRESS=O’Leary’s Irish Pub 24 N Charles Richard Beall Blvd #17-92 DeBary FL 32713 USA;X-APPLE-RADIUS=500;X-TITLE=24 N Charles Richard Beall Blvd #17-92\, DeBary\, FL 32713 USA:geo:-81.30749,28.8915108
END:VEVENT
BEGIN:VEVENT
DTSTART;TZID=America/New_York:20300108T183000
DTEND;TZID=America/New_York:20300108T183000
DTSTAMP:20260420T154015
CREATED:20260105T003048Z
LAST-MODIFIED:20260105T055427Z
UID:10017632-1894127400-1894127400@epictriviafl.com
SUMMARY:Trivia
DESCRIPTION:
URL:https://epictriviafl.com/event/trivia-olearys/2030-01-08/
LOCATION:O’Leary’s Irish Pub\, 24 N Charles Richard Beall Blvd #17-92\, DeBary\, FL 32713 USA
GEO:28.8915108;-81.30749
X-APPLE-STRUCTURED-LOCATION;VALUE=URI;X-ADDRESS=O’Leary’s Irish Pub 24 N Charles Richard Beall Blvd #17-92 DeBary FL 32713 USA;X-APPLE-RADIUS=500;X-TITLE=24 N Charles Richard Beall Blvd #17-92\, DeBary\, FL 32713 USA:geo:-81.30749,28.8915108
END:VEVENT
BEGIN:VEVENT
DTSTART;TZID=America/New_York:20300115T183000
DTEND;TZID=America/New_York:20300115T183000
DTSTAMP:20260420T154015
CREATED:20260105T003048Z
LAST-MODIFIED:20260105T055427Z
UID:10017633-1894732200-1894732200@epictriviafl.com
SUMMARY:Trivia
DESCRIPTION:
URL:https://epictriviafl.com/event/trivia-olearys/2030-01-15/
LOCATION:O’Leary’s Irish Pub\, 24 N Charles Richard Beall Blvd #17-92\, DeBary\, FL 32713 USA
GEO:28.8915108;-81.30749
X-APPLE-STRUCTURED-LOCATION;VALUE=URI;X-ADDRESS=O’Leary’s Irish Pub 24 N Charles Richard Beall Blvd #17-92 DeBary FL 32713 USA;X-APPLE-RADIUS=500;X-TITLE=24 N Charles Richard Beall Blvd #17-92\, DeBary\, FL 32713 USA:geo:-81.30749,28.8915108
END:VEVENT
BEGIN:VEVENT
DTSTART;TZID=America/New_York:20300122T183000
DTEND;TZID=America/New_York:20300122T183000
DTSTAMP:20260420T154015
CREATED:20260105T003048Z
LAST-MODIFIED:20260105T055427Z
UID:10017634-1895337000-1895337000@epictriviafl.com
SUMMARY:Trivia
DESCRIPTION:
URL:https://epictriviafl.com/event/trivia-olearys/2030-01-22/
LOCATION:O’Leary’s Irish Pub\, 24 N Charles Richard Beall Blvd #17-92\, DeBary\, FL 32713 USA
GEO:28.8915108;-81.30749
X-APPLE-STRUCTURED-LOCATION;VALUE=URI;X-ADDRESS=O’Leary’s Irish Pub 24 N Charles Richard Beall Blvd #17-92 DeBary FL 32713 USA;X-APPLE-RADIUS=500;X-TITLE=24 N Charles Richard Beall Blvd #17-92\, DeBary\, FL 32713 USA:geo:-81.30749,28.8915108
END:VEVENT
BEGIN:VEVENT
DTSTART;TZID=America/New_York:20300129T183000
DTEND;TZID=America/New_York:20300129T183000
DTSTAMP:20260420T154015
CREATED:20260105T003048Z
LAST-MODIFIED:20260105T055427Z
UID:10017635-1895941800-1895941800@epictriviafl.com
SUMMARY:Trivia
DESCRIPTION:
URL:https://epictriviafl.com/event/trivia-olearys/2030-01-29/
LOCATION:O’Leary’s Irish Pub\, 24 N Charles Richard Beall Blvd #17-92\, DeBary\, FL 32713 USA
GEO:28.8915108;-81.30749
X-APPLE-STRUCTURED-LOCATION;VALUE=URI;X-ADDRESS=O’Leary’s Irish Pub 24 N Charles Richard Beall Blvd #17-92 DeBary FL 32713 USA;X-APPLE-RADIUS=500;X-TITLE=24 N Charles Richard Beall Blvd #17-92\, DeBary\, FL 32713 USA:geo:-81.30749,28.8915108
END:VEVENT
BEGIN:VEVENT
DTSTART;TZID=America/New_York:20300205T183000
DTEND;TZID=America/New_York:20300205T183000
DTSTAMP:20260420T154015
CREATED:20260105T003048Z
LAST-MODIFIED:20260105T055427Z
UID:10017636-1896546600-1896546600@epictriviafl.com
SUMMARY:Trivia
DESCRIPTION:
URL:https://epictriviafl.com/event/trivia-olearys/2030-02-05/
LOCATION:O’Leary’s Irish Pub\, 24 N Charles Richard Beall Blvd #17-92\, DeBary\, FL 32713 USA
GEO:28.8915108;-81.30749
X-APPLE-STRUCTURED-LOCATION;VALUE=URI;X-ADDRESS=O’Leary’s Irish Pub 24 N Charles Richard Beall Blvd #17-92 DeBary FL 32713 USA;X-APPLE-RADIUS=500;X-TITLE=24 N Charles Richard Beall Blvd #17-92\, DeBary\, FL 32713 USA:geo:-81.30749,28.8915108
END:VEVENT
BEGIN:VEVENT
DTSTART;TZID=America/New_York:20300212T183000
DTEND;TZID=America/New_York:20300212T183000
DTSTAMP:20260420T154015
CREATED:20260105T003048Z
LAST-MODIFIED:20260105T055427Z
UID:10017637-1897151400-1897151400@epictriviafl.com
SUMMARY:Trivia
DESCRIPTION:
URL:https://epictriviafl.com/event/trivia-olearys/2030-02-12/
LOCATION:O’Leary’s Irish Pub\, 24 N Charles Richard Beall Blvd #17-92\, DeBary\, FL 32713 USA
GEO:28.8915108;-81.30749
X-APPLE-STRUCTURED-LOCATION;VALUE=URI;X-ADDRESS=O’Leary’s Irish Pub 24 N Charles Richard Beall Blvd #17-92 DeBary FL 32713 USA;X-APPLE-RADIUS=500;X-TITLE=24 N Charles Richard Beall Blvd #17-92\, DeBary\, FL 32713 USA:geo:-81.30749,28.8915108
END:VEVENT
BEGIN:VEVENT
DTSTART;TZID=America/New_York:20300219T183000
DTEND;TZID=America/New_York:20300219T183000
DTSTAMP:20260420T154015
CREATED:20260105T003048Z
LAST-MODIFIED:20260105T055427Z
UID:10017638-1897756200-1897756200@epictriviafl.com
SUMMARY:Trivia
DESCRIPTION:
URL:https://epictriviafl.com/event/trivia-olearys/2030-02-19/
LOCATION:O’Leary’s Irish Pub\, 24 N Charles Richard Beall Blvd #17-92\, DeBary\, FL 32713 USA
GEO:28.8915108;-81.30749
X-APPLE-STRUCTURED-LOCATION;VALUE=URI;X-ADDRESS=O’Leary’s Irish Pub 24 N Charles Richard Beall Blvd #17-92 DeBary FL 32713 USA;X-APPLE-RADIUS=500;X-TITLE=24 N Charles Richard Beall Blvd #17-92\, DeBary\, FL 32713 USA:geo:-81.30749,28.8915108
END:VEVENT
BEGIN:VEVENT
DTSTART;TZID=America/New_York:20300226T183000
DTEND;TZID=America/New_York:20300226T183000
DTSTAMP:20260420T154015
CREATED:20260105T003048Z
LAST-MODIFIED:20260105T055427Z
UID:10017639-1898361000-1898361000@epictriviafl.com
SUMMARY:Trivia
DESCRIPTION:
URL:https://epictriviafl.com/event/trivia-olearys/2030-02-26/
LOCATION:O’Leary’s Irish Pub\, 24 N Charles Richard Beall Blvd #17-92\, DeBary\, FL 32713 USA
GEO:28.8915108;-81.30749
X-APPLE-STRUCTURED-LOCATION;VALUE=URI;X-ADDRESS=O’Leary’s Irish Pub 24 N Charles Richard Beall Blvd #17-92 DeBary FL 32713 USA;X-APPLE-RADIUS=500;X-TITLE=24 N Charles Richard Beall Blvd #17-92\, DeBary\, FL 32713 USA:geo:-81.30749,28.8915108
END:VEVENT
BEGIN:VEVENT
DTSTART;TZID=America/New_York:20300305T183000
DTEND;TZID=America/New_York:20300305T183000
DTSTAMP:20260420T154015
CREATED:20260105T003048Z
LAST-MODIFIED:20260105T055427Z
UID:10017640-1898965800-1898965800@epictriviafl.com
SUMMARY:Trivia
DESCRIPTION:
URL:https://epictriviafl.com/event/trivia-olearys/2030-03-05/
LOCATION:O’Leary’s Irish Pub\, 24 N Charles Richard Beall Blvd #17-92\, DeBary\, FL 32713 USA
GEO:28.8915108;-81.30749
X-APPLE-STRUCTURED-LOCATION;VALUE=URI;X-ADDRESS=O’Leary’s Irish Pub 24 N Charles Richard Beall Blvd #17-92 DeBary FL 32713 USA;X-APPLE-RADIUS=500;X-TITLE=24 N Charles Richard Beall Blvd #17-92\, DeBary\, FL 32713 USA:geo:-81.30749,28.8915108
END:VEVENT
BEGIN:VEVENT
DTSTART;TZID=America/New_York:20300312T183000
DTEND;TZID=America/New_York:20300312T183000
DTSTAMP:20260420T154015
CREATED:20260105T003048Z
LAST-MODIFIED:20260105T055427Z
UID:10017641-1899570600-1899570600@epictriviafl.com
SUMMARY:Trivia
DESCRIPTION:
URL:https://epictriviafl.com/event/trivia-olearys/2030-03-12/
LOCATION:O’Leary’s Irish Pub\, 24 N Charles Richard Beall Blvd #17-92\, DeBary\, FL 32713 USA
GEO:28.8915108;-81.30749
X-APPLE-STRUCTURED-LOCATION;VALUE=URI;X-ADDRESS=O’Leary’s Irish Pub 24 N Charles Richard Beall Blvd #17-92 DeBary FL 32713 USA;X-APPLE-RADIUS=500;X-TITLE=24 N Charles Richard Beall Blvd #17-92\, DeBary\, FL 32713 USA:geo:-81.30749,28.8915108
END:VEVENT
BEGIN:VEVENT
DTSTART;TZID=America/New_York:20300319T183000
DTEND;TZID=America/New_York:20300319T183000
DTSTAMP:20260420T154015
CREATED:20260105T003048Z
LAST-MODIFIED:20260105T055427Z
UID:10017642-1900175400-1900175400@epictriviafl.com
SUMMARY:Trivia
DESCRIPTION:
URL:https://epictriviafl.com/event/trivia-olearys/2030-03-19/
LOCATION:O’Leary’s Irish Pub\, 24 N Charles Richard Beall Blvd #17-92\, DeBary\, FL 32713 USA
GEO:28.8915108;-81.30749
X-APPLE-STRUCTURED-LOCATION;VALUE=URI;X-ADDRESS=O’Leary’s Irish Pub 24 N Charles Richard Beall Blvd #17-92 DeBary FL 32713 USA;X-APPLE-RADIUS=500;X-TITLE=24 N Charles Richard Beall Blvd #17-92\, DeBary\, FL 32713 USA:geo:-81.30749,28.8915108
END:VEVENT
BEGIN:VEVENT
DTSTART;TZID=America/New_York:20300326T183000
DTEND;TZID=America/New_York:20300326T183000
DTSTAMP:20260420T154015
CREATED:20260105T003048Z
LAST-MODIFIED:20260105T055427Z
UID:10017643-1900780200-1900780200@epictriviafl.com
SUMMARY:Trivia
DESCRIPTION:
URL:https://epictriviafl.com/event/trivia-olearys/2030-03-26/
LOCATION:O’Leary’s Irish Pub\, 24 N Charles Richard Beall Blvd #17-92\, DeBary\, FL 32713 USA
GEO:28.8915108;-81.30749
X-APPLE-STRUCTURED-LOCATION;VALUE=URI;X-ADDRESS=O’Leary’s Irish Pub 24 N Charles Richard Beall Blvd #17-92 DeBary FL 32713 USA;X-APPLE-RADIUS=500;X-TITLE=24 N Charles Richard Beall Blvd #17-92\, DeBary\, FL 32713 USA:geo:-81.30749,28.8915108
END:VEVENT
BEGIN:VEVENT
DTSTART;TZID=America/New_York:20300402T183000
DTEND;TZID=America/New_York:20300402T183000
DTSTAMP:20260420T154015
CREATED:20260105T003048Z
LAST-MODIFIED:20260105T055427Z
UID:10017644-1901385000-1901385000@epictriviafl.com
SUMMARY:Trivia
DESCRIPTION:
URL:https://epictriviafl.com/event/trivia-olearys/2030-04-02/
LOCATION:O’Leary’s Irish Pub\, 24 N Charles Richard Beall Blvd #17-92\, DeBary\, FL 32713 USA
GEO:28.8915108;-81.30749
X-APPLE-STRUCTURED-LOCATION;VALUE=URI;X-ADDRESS=O’Leary’s Irish Pub 24 N Charles Richard Beall Blvd #17-92 DeBary FL 32713 USA;X-APPLE-RADIUS=500;X-TITLE=24 N Charles Richard Beall Blvd #17-92\, DeBary\, FL 32713 USA:geo:-81.30749,28.8915108
END:VEVENT
BEGIN:VEVENT
DTSTART;TZID=America/New_York:20300409T183000
DTEND;TZID=America/New_York:20300409T183000
DTSTAMP:20260420T154015
CREATED:20260105T003048Z
LAST-MODIFIED:20260105T055427Z
UID:10017645-1901989800-1901989800@epictriviafl.com
SUMMARY:Trivia
DESCRIPTION:
URL:https://epictriviafl.com/event/trivia-olearys/2030-04-09/
LOCATION:O’Leary’s Irish Pub\, 24 N Charles Richard Beall Blvd #17-92\, DeBary\, FL 32713 USA
GEO:28.8915108;-81.30749
X-APPLE-STRUCTURED-LOCATION;VALUE=URI;X-ADDRESS=O’Leary’s Irish Pub 24 N Charles Richard Beall Blvd #17-92 DeBary FL 32713 USA;X-APPLE-RADIUS=500;X-TITLE=24 N Charles Richard Beall Blvd #17-92\, DeBary\, FL 32713 USA:geo:-81.30749,28.8915108
END:VEVENT
BEGIN:VEVENT
DTSTART;TZID=America/New_York:20300416T183000
DTEND;TZID=America/New_York:20300416T183000
DTSTAMP:20260420T154015
CREATED:20260105T003048Z
LAST-MODIFIED:20260105T055427Z
UID:10017646-1902594600-1902594600@epictriviafl.com
SUMMARY:Trivia
DESCRIPTION:
URL:https://epictriviafl.com/event/trivia-olearys/2030-04-16/
LOCATION:O’Leary’s Irish Pub\, 24 N Charles Richard Beall Blvd #17-92\, DeBary\, FL 32713 USA
GEO:28.8915108;-81.30749
X-APPLE-STRUCTURED-LOCATION;VALUE=URI;X-ADDRESS=O’Leary’s Irish Pub 24 N Charles Richard Beall Blvd #17-92 DeBary FL 32713 USA;X-APPLE-RADIUS=500;X-TITLE=24 N Charles Richard Beall Blvd #17-92\, DeBary\, FL 32713 USA:geo:-81.30749,28.8915108
END:VEVENT
BEGIN:VEVENT
DTSTART;TZID=America/New_York:20300423T183000
DTEND;TZID=America/New_York:20300423T183000
DTSTAMP:20260420T154015
CREATED:20260105T003048Z
LAST-MODIFIED:20260105T055427Z
UID:10017647-1903199400-1903199400@epictriviafl.com
SUMMARY:Trivia
DESCRIPTION:
URL:https://epictriviafl.com/event/trivia-olearys/2030-04-23/
LOCATION:O’Leary’s Irish Pub\, 24 N Charles Richard Beall Blvd #17-92\, DeBary\, FL 32713 USA
GEO:28.8915108;-81.30749
X-APPLE-STRUCTURED-LOCATION;VALUE=URI;X-ADDRESS=O’Leary’s Irish Pub 24 N Charles Richard Beall Blvd #17-92 DeBary FL 32713 USA;X-APPLE-RADIUS=500;X-TITLE=24 N Charles Richard Beall Blvd #17-92\, DeBary\, FL 32713 USA:geo:-81.30749,28.8915108
END:VEVENT
BEGIN:VEVENT
DTSTART;TZID=America/New_York:20300430T183000
DTEND;TZID=America/New_York:20300430T183000
DTSTAMP:20260420T154015
CREATED:20260105T003048Z
LAST-MODIFIED:20260105T055427Z
UID:10017648-1903804200-1903804200@epictriviafl.com
SUMMARY:Trivia
DESCRIPTION:
URL:https://epictriviafl.com/event/trivia-olearys/2030-04-30/
LOCATION:O’Leary’s Irish Pub\, 24 N Charles Richard Beall Blvd #17-92\, DeBary\, FL 32713 USA
GEO:28.8915108;-81.30749
X-APPLE-STRUCTURED-LOCATION;VALUE=URI;X-ADDRESS=O’Leary’s Irish Pub 24 N Charles Richard Beall Blvd #17-92 DeBary FL 32713 USA;X-APPLE-RADIUS=500;X-TITLE=24 N Charles Richard Beall Blvd #17-92\, DeBary\, FL 32713 USA:geo:-81.30749,28.8915108
END:VEVENT
BEGIN:VEVENT
DTSTART;TZID=America/New_York:20300507T183000
DTEND;TZID=America/New_York:20300507T183000
DTSTAMP:20260420T154015
CREATED:20260105T003048Z
LAST-MODIFIED:20260105T055427Z
UID:10017649-1904409000-1904409000@epictriviafl.com
SUMMARY:Trivia
DESCRIPTION:
URL:https://epictriviafl.com/event/trivia-olearys/2030-05-07/
LOCATION:O’Leary’s Irish Pub\, 24 N Charles Richard Beall Blvd #17-92\, DeBary\, FL 32713 USA
GEO:28.8915108;-81.30749
X-APPLE-STRUCTURED-LOCATION;VALUE=URI;X-ADDRESS=O’Leary’s Irish Pub 24 N Charles Richard Beall Blvd #17-92 DeBary FL 32713 USA;X-APPLE-RADIUS=500;X-TITLE=24 N Charles Richard Beall Blvd #17-92\, DeBary\, FL 32713 USA:geo:-81.30749,28.8915108
END:VEVENT
BEGIN:VEVENT
DTSTART;TZID=America/New_York:20300514T183000
DTEND;TZID=America/New_York:20300514T183000
DTSTAMP:20260420T154015
CREATED:20260105T003048Z
LAST-MODIFIED:20260105T055427Z
UID:10017650-1905013800-1905013800@epictriviafl.com
SUMMARY:Trivia
DESCRIPTION:
URL:https://epictriviafl.com/event/trivia-olearys/2030-05-14/
LOCATION:O’Leary’s Irish Pub\, 24 N Charles Richard Beall Blvd #17-92\, DeBary\, FL 32713 USA
GEO:28.8915108;-81.30749
X-APPLE-STRUCTURED-LOCATION;VALUE=URI;X-ADDRESS=O’Leary’s Irish Pub 24 N Charles Richard Beall Blvd #17-92 DeBary FL 32713 USA;X-APPLE-RADIUS=500;X-TITLE=24 N Charles Richard Beall Blvd #17-92\, DeBary\, FL 32713 USA:geo:-81.30749,28.8915108
END:VEVENT
BEGIN:VEVENT
DTSTART;TZID=America/New_York:20300521T183000
DTEND;TZID=America/New_York:20300521T183000
DTSTAMP:20260420T154015
CREATED:20260105T003048Z
LAST-MODIFIED:20260105T055427Z
UID:10017651-1905618600-1905618600@epictriviafl.com
SUMMARY:Trivia
DESCRIPTION:
URL:https://epictriviafl.com/event/trivia-olearys/2030-05-21/
LOCATION:O’Leary’s Irish Pub\, 24 N Charles Richard Beall Blvd #17-92\, DeBary\, FL 32713 USA
GEO:28.8915108;-81.30749
X-APPLE-STRUCTURED-LOCATION;VALUE=URI;X-ADDRESS=O’Leary’s Irish Pub 24 N Charles Richard Beall Blvd #17-92 DeBary FL 32713 USA;X-APPLE-RADIUS=500;X-TITLE=24 N Charles Richard Beall Blvd #17-92\, DeBary\, FL 32713 USA:geo:-81.30749,28.8915108
END:VEVENT
BEGIN:VEVENT
DTSTART;TZID=America/New_York:20300528T183000
DTEND;TZID=America/New_York:20300528T183000
DTSTAMP:20260420T154015
CREATED:20260105T003048Z
LAST-MODIFIED:20260105T055427Z
UID:10017652-1906223400-1906223400@epictriviafl.com
SUMMARY:Trivia
DESCRIPTION:
URL:https://epictriviafl.com/event/trivia-olearys/2030-05-28/
LOCATION:O’Leary’s Irish Pub\, 24 N Charles Richard Beall Blvd #17-92\, DeBary\, FL 32713 USA
GEO:28.8915108;-81.30749
X-APPLE-STRUCTURED-LOCATION;VALUE=URI;X-ADDRESS=O’Leary’s Irish Pub 24 N Charles Richard Beall Blvd #17-92 DeBary FL 32713 USA;X-APPLE-RADIUS=500;X-TITLE=24 N Charles Richard Beall Blvd #17-92\, DeBary\, FL 32713 USA:geo:-81.30749,28.8915108
END:VEVENT
BEGIN:VEVENT
DTSTART;TZID=America/New_York:20300604T183000
DTEND;TZID=America/New_York:20300604T183000
DTSTAMP:20260420T154015
CREATED:20260105T003048Z
LAST-MODIFIED:20260105T055427Z
UID:10017653-1906828200-1906828200@epictriviafl.com
SUMMARY:Trivia
DESCRIPTION:
URL:https://epictriviafl.com/event/trivia-olearys/2030-06-04/
LOCATION:O’Leary’s Irish Pub\, 24 N Charles Richard Beall Blvd #17-92\, DeBary\, FL 32713 USA
GEO:28.8915108;-81.30749
X-APPLE-STRUCTURED-LOCATION;VALUE=URI;X-ADDRESS=O’Leary’s Irish Pub 24 N Charles Richard Beall Blvd #17-92 DeBary FL 32713 USA;X-APPLE-RADIUS=500;X-TITLE=24 N Charles Richard Beall Blvd #17-92\, DeBary\, FL 32713 USA:geo:-81.30749,28.8915108
END:VEVENT
BEGIN:VEVENT
DTSTART;TZID=America/New_York:20300611T183000
DTEND;TZID=America/New_York:20300611T183000
DTSTAMP:20260420T154015
CREATED:20260105T003048Z
LAST-MODIFIED:20260105T055427Z
UID:10017654-1907433000-1907433000@epictriviafl.com
SUMMARY:Trivia
DESCRIPTION:
URL:https://epictriviafl.com/event/trivia-olearys/2030-06-11/
LOCATION:O’Leary’s Irish Pub\, 24 N Charles Richard Beall Blvd #17-92\, DeBary\, FL 32713 USA
GEO:28.8915108;-81.30749
X-APPLE-STRUCTURED-LOCATION;VALUE=URI;X-ADDRESS=O’Leary’s Irish Pub 24 N Charles Richard Beall Blvd #17-92 DeBary FL 32713 USA;X-APPLE-RADIUS=500;X-TITLE=24 N Charles Richard Beall Blvd #17-92\, DeBary\, FL 32713 USA:geo:-81.30749,28.8915108
END:VEVENT
BEGIN:VEVENT
DTSTART;TZID=America/New_York:20300618T183000
DTEND;TZID=America/New_York:20300618T183000
DTSTAMP:20260420T154015
CREATED:20260105T003048Z
LAST-MODIFIED:20260105T055427Z
UID:10017655-1908037800-1908037800@epictriviafl.com
SUMMARY:Trivia
DESCRIPTION:
URL:https://epictriviafl.com/event/trivia-olearys/2030-06-18/
LOCATION:O’Leary’s Irish Pub\, 24 N Charles Richard Beall Blvd #17-92\, DeBary\, FL 32713 USA
GEO:28.8915108;-81.30749
X-APPLE-STRUCTURED-LOCATION;VALUE=URI;X-ADDRESS=O’Leary’s Irish Pub 24 N Charles Richard Beall Blvd #17-92 DeBary FL 32713 USA;X-APPLE-RADIUS=500;X-TITLE=24 N Charles Richard Beall Blvd #17-92\, DeBary\, FL 32713 USA:geo:-81.30749,28.8915108
END:VEVENT
BEGIN:VEVENT
DTSTART;TZID=America/New_York:20300625T183000
DTEND;TZID=America/New_York:20300625T183000
DTSTAMP:20260420T154015
CREATED:20260105T003048Z
LAST-MODIFIED:20260105T055427Z
UID:10017656-1908642600-1908642600@epictriviafl.com
SUMMARY:Trivia
DESCRIPTION:
URL:https://epictriviafl.com/event/trivia-olearys/2030-06-25/
LOCATION:O’Leary’s Irish Pub\, 24 N Charles Richard Beall Blvd #17-92\, DeBary\, FL 32713 USA
GEO:28.8915108;-81.30749
X-APPLE-STRUCTURED-LOCATION;VALUE=URI;X-ADDRESS=O’Leary’s Irish Pub 24 N Charles Richard Beall Blvd #17-92 DeBary FL 32713 USA;X-APPLE-RADIUS=500;X-TITLE=24 N Charles Richard Beall Blvd #17-92\, DeBary\, FL 32713 USA:geo:-81.30749,28.8915108
END:VEVENT
BEGIN:VEVENT
DTSTART;TZID=America/New_York:20300702T183000
DTEND;TZID=America/New_York:20300702T183000
DTSTAMP:20260420T154015
CREATED:20260105T003048Z
LAST-MODIFIED:20260105T055427Z
UID:10017657-1909247400-1909247400@epictriviafl.com
SUMMARY:Trivia
DESCRIPTION:
URL:https://epictriviafl.com/event/trivia-olearys/2030-07-02/
LOCATION:O’Leary’s Irish Pub\, 24 N Charles Richard Beall Blvd #17-92\, DeBary\, FL 32713 USA
GEO:28.8915108;-81.30749
X-APPLE-STRUCTURED-LOCATION;VALUE=URI;X-ADDRESS=O’Leary’s Irish Pub 24 N Charles Richard Beall Blvd #17-92 DeBary FL 32713 USA;X-APPLE-RADIUS=500;X-TITLE=24 N Charles Richard Beall Blvd #17-92\, DeBary\, FL 32713 USA:geo:-81.30749,28.8915108
END:VEVENT
BEGIN:VEVENT
DTSTART;TZID=America/New_York:20300709T183000
DTEND;TZID=America/New_York:20300709T183000
DTSTAMP:20260420T154015
CREATED:20260105T003048Z
LAST-MODIFIED:20260105T055427Z
UID:10017658-1909852200-1909852200@epictriviafl.com
SUMMARY:Trivia
DESCRIPTION:
URL:https://epictriviafl.com/event/trivia-olearys/2030-07-09/
LOCATION:O’Leary’s Irish Pub\, 24 N Charles Richard Beall Blvd #17-92\, DeBary\, FL 32713 USA
GEO:28.8915108;-81.30749
X-APPLE-STRUCTURED-LOCATION;VALUE=URI;X-ADDRESS=O’Leary’s Irish Pub 24 N Charles Richard Beall Blvd #17-92 DeBary FL 32713 USA;X-APPLE-RADIUS=500;X-TITLE=24 N Charles Richard Beall Blvd #17-92\, DeBary\, FL 32713 USA:geo:-81.30749,28.8915108
END:VEVENT
BEGIN:VEVENT
DTSTART;TZID=America/New_York:20300716T183000
DTEND;TZID=America/New_York:20300716T183000
DTSTAMP:20260420T154015
CREATED:20260105T003048Z
LAST-MODIFIED:20260105T055427Z
UID:10017659-1910457000-1910457000@epictriviafl.com
SUMMARY:Trivia
DESCRIPTION:
URL:https://epictriviafl.com/event/trivia-olearys/2030-07-16/
LOCATION:O’Leary’s Irish Pub\, 24 N Charles Richard Beall Blvd #17-92\, DeBary\, FL 32713 USA
GEO:28.8915108;-81.30749
X-APPLE-STRUCTURED-LOCATION;VALUE=URI;X-ADDRESS=O’Leary’s Irish Pub 24 N Charles Richard Beall Blvd #17-92 DeBary FL 32713 USA;X-APPLE-RADIUS=500;X-TITLE=24 N Charles Richard Beall Blvd #17-92\, DeBary\, FL 32713 USA:geo:-81.30749,28.8915108
END:VEVENT
END:VCALENDAR