BEGIN:VCALENDAR
VERSION:2.0
PRODID:-//Epic Trivia - ECPv6.15.18//NONSGML v1.0//EN
CALSCALE:GREGORIAN
METHOD:PUBLISH
X-WR-CALNAME:Epic Trivia
X-ORIGINAL-URL:https://epictriviafl.com
X-WR-CALDESC:Events for Epic Trivia
REFRESH-INTERVAL;VALUE=DURATION:PT1H
X-Robots-Tag:noindex
X-PUBLISHED-TTL:PT1H
BEGIN:VTIMEZONE
TZID:America/New_York
BEGIN:DAYLIGHT
TZOFFSETFROM:-0500
TZOFFSETTO:-0400
TZNAME:EDT
DTSTART:20270314T070000
END:DAYLIGHT
BEGIN:STANDARD
TZOFFSETFROM:-0400
TZOFFSETTO:-0500
TZNAME:EST
DTSTART:20271107T060000
END:STANDARD
BEGIN:DAYLIGHT
TZOFFSETFROM:-0500
TZOFFSETTO:-0400
TZNAME:EDT
DTSTART:20280312T070000
END:DAYLIGHT
BEGIN:STANDARD
TZOFFSETFROM:-0400
TZOFFSETTO:-0500
TZNAME:EST
DTSTART:20281105T060000
END:STANDARD
BEGIN:DAYLIGHT
TZOFFSETFROM:-0500
TZOFFSETTO:-0400
TZNAME:EDT
DTSTART:20290311T070000
END:DAYLIGHT
BEGIN:STANDARD
TZOFFSETFROM:-0400
TZOFFSETTO:-0500
TZNAME:EST
DTSTART:20291104T060000
END:STANDARD
END:VTIMEZONE
BEGIN:VEVENT
DTSTART;TZID=America/New_York:20280516T183000
DTEND;TZID=America/New_York:20280516T183000
DTSTAMP:20260420T050942
CREATED:20260105T003048Z
LAST-MODIFIED:20260105T055427Z
UID:10017546-1842114600-1842114600@epictriviafl.com
SUMMARY:Trivia
DESCRIPTION:
URL:https://epictriviafl.com/event/trivia-olearys/2028-05-16/
LOCATION:O’Leary’s Irish Pub\, 24 N Charles Richard Beall Blvd #17-92\, DeBary\, FL 32713 USA
GEO:28.8915108;-81.30749
X-APPLE-STRUCTURED-LOCATION;VALUE=URI;X-ADDRESS=O’Leary’s Irish Pub 24 N Charles Richard Beall Blvd #17-92 DeBary FL 32713 USA;X-APPLE-RADIUS=500;X-TITLE=24 N Charles Richard Beall Blvd #17-92\, DeBary\, FL 32713 USA:geo:-81.30749,28.8915108
END:VEVENT
BEGIN:VEVENT
DTSTART;TZID=America/New_York:20280523T183000
DTEND;TZID=America/New_York:20280523T183000
DTSTAMP:20260420T050942
CREATED:20260105T003048Z
LAST-MODIFIED:20260105T055427Z
UID:10017547-1842719400-1842719400@epictriviafl.com
SUMMARY:Trivia
DESCRIPTION:
URL:https://epictriviafl.com/event/trivia-olearys/2028-05-23/
LOCATION:O’Leary’s Irish Pub\, 24 N Charles Richard Beall Blvd #17-92\, DeBary\, FL 32713 USA
GEO:28.8915108;-81.30749
X-APPLE-STRUCTURED-LOCATION;VALUE=URI;X-ADDRESS=O’Leary’s Irish Pub 24 N Charles Richard Beall Blvd #17-92 DeBary FL 32713 USA;X-APPLE-RADIUS=500;X-TITLE=24 N Charles Richard Beall Blvd #17-92\, DeBary\, FL 32713 USA:geo:-81.30749,28.8915108
END:VEVENT
BEGIN:VEVENT
DTSTART;TZID=America/New_York:20280530T183000
DTEND;TZID=America/New_York:20280530T183000
DTSTAMP:20260420T050942
CREATED:20260105T003048Z
LAST-MODIFIED:20260105T055427Z
UID:10017548-1843324200-1843324200@epictriviafl.com
SUMMARY:Trivia
DESCRIPTION:
URL:https://epictriviafl.com/event/trivia-olearys/2028-05-30/
LOCATION:O’Leary’s Irish Pub\, 24 N Charles Richard Beall Blvd #17-92\, DeBary\, FL 32713 USA
GEO:28.8915108;-81.30749
X-APPLE-STRUCTURED-LOCATION;VALUE=URI;X-ADDRESS=O’Leary’s Irish Pub 24 N Charles Richard Beall Blvd #17-92 DeBary FL 32713 USA;X-APPLE-RADIUS=500;X-TITLE=24 N Charles Richard Beall Blvd #17-92\, DeBary\, FL 32713 USA:geo:-81.30749,28.8915108
END:VEVENT
BEGIN:VEVENT
DTSTART;TZID=America/New_York:20280606T183000
DTEND;TZID=America/New_York:20280606T183000
DTSTAMP:20260420T050942
CREATED:20260105T003048Z
LAST-MODIFIED:20260105T055427Z
UID:10017549-1843929000-1843929000@epictriviafl.com
SUMMARY:Trivia
DESCRIPTION:
URL:https://epictriviafl.com/event/trivia-olearys/2028-06-06/
LOCATION:O’Leary’s Irish Pub\, 24 N Charles Richard Beall Blvd #17-92\, DeBary\, FL 32713 USA
GEO:28.8915108;-81.30749
X-APPLE-STRUCTURED-LOCATION;VALUE=URI;X-ADDRESS=O’Leary’s Irish Pub 24 N Charles Richard Beall Blvd #17-92 DeBary FL 32713 USA;X-APPLE-RADIUS=500;X-TITLE=24 N Charles Richard Beall Blvd #17-92\, DeBary\, FL 32713 USA:geo:-81.30749,28.8915108
END:VEVENT
BEGIN:VEVENT
DTSTART;TZID=America/New_York:20280613T183000
DTEND;TZID=America/New_York:20280613T183000
DTSTAMP:20260420T050942
CREATED:20260105T003048Z
LAST-MODIFIED:20260105T055427Z
UID:10017550-1844533800-1844533800@epictriviafl.com
SUMMARY:Trivia
DESCRIPTION:
URL:https://epictriviafl.com/event/trivia-olearys/2028-06-13/
LOCATION:O’Leary’s Irish Pub\, 24 N Charles Richard Beall Blvd #17-92\, DeBary\, FL 32713 USA
GEO:28.8915108;-81.30749
X-APPLE-STRUCTURED-LOCATION;VALUE=URI;X-ADDRESS=O’Leary’s Irish Pub 24 N Charles Richard Beall Blvd #17-92 DeBary FL 32713 USA;X-APPLE-RADIUS=500;X-TITLE=24 N Charles Richard Beall Blvd #17-92\, DeBary\, FL 32713 USA:geo:-81.30749,28.8915108
END:VEVENT
BEGIN:VEVENT
DTSTART;TZID=America/New_York:20280620T183000
DTEND;TZID=America/New_York:20280620T183000
DTSTAMP:20260420T050942
CREATED:20260105T003048Z
LAST-MODIFIED:20260105T055427Z
UID:10017551-1845138600-1845138600@epictriviafl.com
SUMMARY:Trivia
DESCRIPTION:
URL:https://epictriviafl.com/event/trivia-olearys/2028-06-20/
LOCATION:O’Leary’s Irish Pub\, 24 N Charles Richard Beall Blvd #17-92\, DeBary\, FL 32713 USA
GEO:28.8915108;-81.30749
X-APPLE-STRUCTURED-LOCATION;VALUE=URI;X-ADDRESS=O’Leary’s Irish Pub 24 N Charles Richard Beall Blvd #17-92 DeBary FL 32713 USA;X-APPLE-RADIUS=500;X-TITLE=24 N Charles Richard Beall Blvd #17-92\, DeBary\, FL 32713 USA:geo:-81.30749,28.8915108
END:VEVENT
BEGIN:VEVENT
DTSTART;TZID=America/New_York:20280627T183000
DTEND;TZID=America/New_York:20280627T183000
DTSTAMP:20260420T050942
CREATED:20260105T003048Z
LAST-MODIFIED:20260105T055427Z
UID:10017552-1845743400-1845743400@epictriviafl.com
SUMMARY:Trivia
DESCRIPTION:
URL:https://epictriviafl.com/event/trivia-olearys/2028-06-27/
LOCATION:O’Leary’s Irish Pub\, 24 N Charles Richard Beall Blvd #17-92\, DeBary\, FL 32713 USA
GEO:28.8915108;-81.30749
X-APPLE-STRUCTURED-LOCATION;VALUE=URI;X-ADDRESS=O’Leary’s Irish Pub 24 N Charles Richard Beall Blvd #17-92 DeBary FL 32713 USA;X-APPLE-RADIUS=500;X-TITLE=24 N Charles Richard Beall Blvd #17-92\, DeBary\, FL 32713 USA:geo:-81.30749,28.8915108
END:VEVENT
BEGIN:VEVENT
DTSTART;TZID=America/New_York:20280704T183000
DTEND;TZID=America/New_York:20280704T183000
DTSTAMP:20260420T050942
CREATED:20260105T003048Z
LAST-MODIFIED:20260105T055427Z
UID:10017553-1846348200-1846348200@epictriviafl.com
SUMMARY:Trivia
DESCRIPTION:
URL:https://epictriviafl.com/event/trivia-olearys/2028-07-04/
LOCATION:O’Leary’s Irish Pub\, 24 N Charles Richard Beall Blvd #17-92\, DeBary\, FL 32713 USA
GEO:28.8915108;-81.30749
X-APPLE-STRUCTURED-LOCATION;VALUE=URI;X-ADDRESS=O’Leary’s Irish Pub 24 N Charles Richard Beall Blvd #17-92 DeBary FL 32713 USA;X-APPLE-RADIUS=500;X-TITLE=24 N Charles Richard Beall Blvd #17-92\, DeBary\, FL 32713 USA:geo:-81.30749,28.8915108
END:VEVENT
BEGIN:VEVENT
DTSTART;TZID=America/New_York:20280711T183000
DTEND;TZID=America/New_York:20280711T183000
DTSTAMP:20260420T050942
CREATED:20260105T003048Z
LAST-MODIFIED:20260105T055427Z
UID:10017554-1846953000-1846953000@epictriviafl.com
SUMMARY:Trivia
DESCRIPTION:
URL:https://epictriviafl.com/event/trivia-olearys/2028-07-11/
LOCATION:O’Leary’s Irish Pub\, 24 N Charles Richard Beall Blvd #17-92\, DeBary\, FL 32713 USA
GEO:28.8915108;-81.30749
X-APPLE-STRUCTURED-LOCATION;VALUE=URI;X-ADDRESS=O’Leary’s Irish Pub 24 N Charles Richard Beall Blvd #17-92 DeBary FL 32713 USA;X-APPLE-RADIUS=500;X-TITLE=24 N Charles Richard Beall Blvd #17-92\, DeBary\, FL 32713 USA:geo:-81.30749,28.8915108
END:VEVENT
BEGIN:VEVENT
DTSTART;TZID=America/New_York:20280718T183000
DTEND;TZID=America/New_York:20280718T183000
DTSTAMP:20260420T050942
CREATED:20260105T003048Z
LAST-MODIFIED:20260105T055427Z
UID:10017555-1847557800-1847557800@epictriviafl.com
SUMMARY:Trivia
DESCRIPTION:
URL:https://epictriviafl.com/event/trivia-olearys/2028-07-18/
LOCATION:O’Leary’s Irish Pub\, 24 N Charles Richard Beall Blvd #17-92\, DeBary\, FL 32713 USA
GEO:28.8915108;-81.30749
X-APPLE-STRUCTURED-LOCATION;VALUE=URI;X-ADDRESS=O’Leary’s Irish Pub 24 N Charles Richard Beall Blvd #17-92 DeBary FL 32713 USA;X-APPLE-RADIUS=500;X-TITLE=24 N Charles Richard Beall Blvd #17-92\, DeBary\, FL 32713 USA:geo:-81.30749,28.8915108
END:VEVENT
BEGIN:VEVENT
DTSTART;TZID=America/New_York:20280725T183000
DTEND;TZID=America/New_York:20280725T183000
DTSTAMP:20260420T050942
CREATED:20260105T003048Z
LAST-MODIFIED:20260105T055427Z
UID:10017556-1848162600-1848162600@epictriviafl.com
SUMMARY:Trivia
DESCRIPTION:
URL:https://epictriviafl.com/event/trivia-olearys/2028-07-25/
LOCATION:O’Leary’s Irish Pub\, 24 N Charles Richard Beall Blvd #17-92\, DeBary\, FL 32713 USA
GEO:28.8915108;-81.30749
X-APPLE-STRUCTURED-LOCATION;VALUE=URI;X-ADDRESS=O’Leary’s Irish Pub 24 N Charles Richard Beall Blvd #17-92 DeBary FL 32713 USA;X-APPLE-RADIUS=500;X-TITLE=24 N Charles Richard Beall Blvd #17-92\, DeBary\, FL 32713 USA:geo:-81.30749,28.8915108
END:VEVENT
BEGIN:VEVENT
DTSTART;TZID=America/New_York:20280801T183000
DTEND;TZID=America/New_York:20280801T183000
DTSTAMP:20260420T050942
CREATED:20260105T003048Z
LAST-MODIFIED:20260105T055427Z
UID:10017557-1848767400-1848767400@epictriviafl.com
SUMMARY:Trivia
DESCRIPTION:
URL:https://epictriviafl.com/event/trivia-olearys/2028-08-01/
LOCATION:O’Leary’s Irish Pub\, 24 N Charles Richard Beall Blvd #17-92\, DeBary\, FL 32713 USA
GEO:28.8915108;-81.30749
X-APPLE-STRUCTURED-LOCATION;VALUE=URI;X-ADDRESS=O’Leary’s Irish Pub 24 N Charles Richard Beall Blvd #17-92 DeBary FL 32713 USA;X-APPLE-RADIUS=500;X-TITLE=24 N Charles Richard Beall Blvd #17-92\, DeBary\, FL 32713 USA:geo:-81.30749,28.8915108
END:VEVENT
BEGIN:VEVENT
DTSTART;TZID=America/New_York:20280808T183000
DTEND;TZID=America/New_York:20280808T183000
DTSTAMP:20260420T050942
CREATED:20260105T003048Z
LAST-MODIFIED:20260105T055427Z
UID:10017558-1849372200-1849372200@epictriviafl.com
SUMMARY:Trivia
DESCRIPTION:
URL:https://epictriviafl.com/event/trivia-olearys/2028-08-08/
LOCATION:O’Leary’s Irish Pub\, 24 N Charles Richard Beall Blvd #17-92\, DeBary\, FL 32713 USA
GEO:28.8915108;-81.30749
X-APPLE-STRUCTURED-LOCATION;VALUE=URI;X-ADDRESS=O’Leary’s Irish Pub 24 N Charles Richard Beall Blvd #17-92 DeBary FL 32713 USA;X-APPLE-RADIUS=500;X-TITLE=24 N Charles Richard Beall Blvd #17-92\, DeBary\, FL 32713 USA:geo:-81.30749,28.8915108
END:VEVENT
BEGIN:VEVENT
DTSTART;TZID=America/New_York:20280815T183000
DTEND;TZID=America/New_York:20280815T183000
DTSTAMP:20260420T050942
CREATED:20260105T003048Z
LAST-MODIFIED:20260105T055427Z
UID:10017559-1849977000-1849977000@epictriviafl.com
SUMMARY:Trivia
DESCRIPTION:
URL:https://epictriviafl.com/event/trivia-olearys/2028-08-15/
LOCATION:O’Leary’s Irish Pub\, 24 N Charles Richard Beall Blvd #17-92\, DeBary\, FL 32713 USA
GEO:28.8915108;-81.30749
X-APPLE-STRUCTURED-LOCATION;VALUE=URI;X-ADDRESS=O’Leary’s Irish Pub 24 N Charles Richard Beall Blvd #17-92 DeBary FL 32713 USA;X-APPLE-RADIUS=500;X-TITLE=24 N Charles Richard Beall Blvd #17-92\, DeBary\, FL 32713 USA:geo:-81.30749,28.8915108
END:VEVENT
BEGIN:VEVENT
DTSTART;TZID=America/New_York:20280822T183000
DTEND;TZID=America/New_York:20280822T183000
DTSTAMP:20260420T050942
CREATED:20260105T003048Z
LAST-MODIFIED:20260105T055427Z
UID:10017560-1850581800-1850581800@epictriviafl.com
SUMMARY:Trivia
DESCRIPTION:
URL:https://epictriviafl.com/event/trivia-olearys/2028-08-22/
LOCATION:O’Leary’s Irish Pub\, 24 N Charles Richard Beall Blvd #17-92\, DeBary\, FL 32713 USA
GEO:28.8915108;-81.30749
X-APPLE-STRUCTURED-LOCATION;VALUE=URI;X-ADDRESS=O’Leary’s Irish Pub 24 N Charles Richard Beall Blvd #17-92 DeBary FL 32713 USA;X-APPLE-RADIUS=500;X-TITLE=24 N Charles Richard Beall Blvd #17-92\, DeBary\, FL 32713 USA:geo:-81.30749,28.8915108
END:VEVENT
BEGIN:VEVENT
DTSTART;TZID=America/New_York:20280829T183000
DTEND;TZID=America/New_York:20280829T183000
DTSTAMP:20260420T050942
CREATED:20260105T003048Z
LAST-MODIFIED:20260105T055427Z
UID:10017561-1851186600-1851186600@epictriviafl.com
SUMMARY:Trivia
DESCRIPTION:
URL:https://epictriviafl.com/event/trivia-olearys/2028-08-29/
LOCATION:O’Leary’s Irish Pub\, 24 N Charles Richard Beall Blvd #17-92\, DeBary\, FL 32713 USA
GEO:28.8915108;-81.30749
X-APPLE-STRUCTURED-LOCATION;VALUE=URI;X-ADDRESS=O’Leary’s Irish Pub 24 N Charles Richard Beall Blvd #17-92 DeBary FL 32713 USA;X-APPLE-RADIUS=500;X-TITLE=24 N Charles Richard Beall Blvd #17-92\, DeBary\, FL 32713 USA:geo:-81.30749,28.8915108
END:VEVENT
BEGIN:VEVENT
DTSTART;TZID=America/New_York:20280905T183000
DTEND;TZID=America/New_York:20280905T183000
DTSTAMP:20260420T050942
CREATED:20260105T003048Z
LAST-MODIFIED:20260105T055427Z
UID:10017562-1851791400-1851791400@epictriviafl.com
SUMMARY:Trivia
DESCRIPTION:
URL:https://epictriviafl.com/event/trivia-olearys/2028-09-05/
LOCATION:O’Leary’s Irish Pub\, 24 N Charles Richard Beall Blvd #17-92\, DeBary\, FL 32713 USA
GEO:28.8915108;-81.30749
X-APPLE-STRUCTURED-LOCATION;VALUE=URI;X-ADDRESS=O’Leary’s Irish Pub 24 N Charles Richard Beall Blvd #17-92 DeBary FL 32713 USA;X-APPLE-RADIUS=500;X-TITLE=24 N Charles Richard Beall Blvd #17-92\, DeBary\, FL 32713 USA:geo:-81.30749,28.8915108
END:VEVENT
BEGIN:VEVENT
DTSTART;TZID=America/New_York:20280912T183000
DTEND;TZID=America/New_York:20280912T183000
DTSTAMP:20260420T050942
CREATED:20260105T003048Z
LAST-MODIFIED:20260105T055427Z
UID:10017563-1852396200-1852396200@epictriviafl.com
SUMMARY:Trivia
DESCRIPTION:
URL:https://epictriviafl.com/event/trivia-olearys/2028-09-12/
LOCATION:O’Leary’s Irish Pub\, 24 N Charles Richard Beall Blvd #17-92\, DeBary\, FL 32713 USA
GEO:28.8915108;-81.30749
X-APPLE-STRUCTURED-LOCATION;VALUE=URI;X-ADDRESS=O’Leary’s Irish Pub 24 N Charles Richard Beall Blvd #17-92 DeBary FL 32713 USA;X-APPLE-RADIUS=500;X-TITLE=24 N Charles Richard Beall Blvd #17-92\, DeBary\, FL 32713 USA:geo:-81.30749,28.8915108
END:VEVENT
BEGIN:VEVENT
DTSTART;TZID=America/New_York:20280919T183000
DTEND;TZID=America/New_York:20280919T183000
DTSTAMP:20260420T050942
CREATED:20260105T003048Z
LAST-MODIFIED:20260105T055427Z
UID:10017564-1853001000-1853001000@epictriviafl.com
SUMMARY:Trivia
DESCRIPTION:
URL:https://epictriviafl.com/event/trivia-olearys/2028-09-19/
LOCATION:O’Leary’s Irish Pub\, 24 N Charles Richard Beall Blvd #17-92\, DeBary\, FL 32713 USA
GEO:28.8915108;-81.30749
X-APPLE-STRUCTURED-LOCATION;VALUE=URI;X-ADDRESS=O’Leary’s Irish Pub 24 N Charles Richard Beall Blvd #17-92 DeBary FL 32713 USA;X-APPLE-RADIUS=500;X-TITLE=24 N Charles Richard Beall Blvd #17-92\, DeBary\, FL 32713 USA:geo:-81.30749,28.8915108
END:VEVENT
BEGIN:VEVENT
DTSTART;TZID=America/New_York:20280926T183000
DTEND;TZID=America/New_York:20280926T183000
DTSTAMP:20260420T050942
CREATED:20260105T003048Z
LAST-MODIFIED:20260105T055427Z
UID:10017565-1853605800-1853605800@epictriviafl.com
SUMMARY:Trivia
DESCRIPTION:
URL:https://epictriviafl.com/event/trivia-olearys/2028-09-26/
LOCATION:O’Leary’s Irish Pub\, 24 N Charles Richard Beall Blvd #17-92\, DeBary\, FL 32713 USA
GEO:28.8915108;-81.30749
X-APPLE-STRUCTURED-LOCATION;VALUE=URI;X-ADDRESS=O’Leary’s Irish Pub 24 N Charles Richard Beall Blvd #17-92 DeBary FL 32713 USA;X-APPLE-RADIUS=500;X-TITLE=24 N Charles Richard Beall Blvd #17-92\, DeBary\, FL 32713 USA:geo:-81.30749,28.8915108
END:VEVENT
BEGIN:VEVENT
DTSTART;TZID=America/New_York:20281003T183000
DTEND;TZID=America/New_York:20281003T183000
DTSTAMP:20260420T050942
CREATED:20260105T003048Z
LAST-MODIFIED:20260105T055427Z
UID:10017566-1854210600-1854210600@epictriviafl.com
SUMMARY:Trivia
DESCRIPTION:
URL:https://epictriviafl.com/event/trivia-olearys/2028-10-03/
LOCATION:O’Leary’s Irish Pub\, 24 N Charles Richard Beall Blvd #17-92\, DeBary\, FL 32713 USA
GEO:28.8915108;-81.30749
X-APPLE-STRUCTURED-LOCATION;VALUE=URI;X-ADDRESS=O’Leary’s Irish Pub 24 N Charles Richard Beall Blvd #17-92 DeBary FL 32713 USA;X-APPLE-RADIUS=500;X-TITLE=24 N Charles Richard Beall Blvd #17-92\, DeBary\, FL 32713 USA:geo:-81.30749,28.8915108
END:VEVENT
BEGIN:VEVENT
DTSTART;TZID=America/New_York:20281010T183000
DTEND;TZID=America/New_York:20281010T183000
DTSTAMP:20260420T050942
CREATED:20260105T003048Z
LAST-MODIFIED:20260105T055427Z
UID:10017567-1854815400-1854815400@epictriviafl.com
SUMMARY:Trivia
DESCRIPTION:
URL:https://epictriviafl.com/event/trivia-olearys/2028-10-10/
LOCATION:O’Leary’s Irish Pub\, 24 N Charles Richard Beall Blvd #17-92\, DeBary\, FL 32713 USA
GEO:28.8915108;-81.30749
X-APPLE-STRUCTURED-LOCATION;VALUE=URI;X-ADDRESS=O’Leary’s Irish Pub 24 N Charles Richard Beall Blvd #17-92 DeBary FL 32713 USA;X-APPLE-RADIUS=500;X-TITLE=24 N Charles Richard Beall Blvd #17-92\, DeBary\, FL 32713 USA:geo:-81.30749,28.8915108
END:VEVENT
BEGIN:VEVENT
DTSTART;TZID=America/New_York:20281017T183000
DTEND;TZID=America/New_York:20281017T183000
DTSTAMP:20260420T050942
CREATED:20260105T003048Z
LAST-MODIFIED:20260105T055427Z
UID:10017568-1855420200-1855420200@epictriviafl.com
SUMMARY:Trivia
DESCRIPTION:
URL:https://epictriviafl.com/event/trivia-olearys/2028-10-17/
LOCATION:O’Leary’s Irish Pub\, 24 N Charles Richard Beall Blvd #17-92\, DeBary\, FL 32713 USA
GEO:28.8915108;-81.30749
X-APPLE-STRUCTURED-LOCATION;VALUE=URI;X-ADDRESS=O’Leary’s Irish Pub 24 N Charles Richard Beall Blvd #17-92 DeBary FL 32713 USA;X-APPLE-RADIUS=500;X-TITLE=24 N Charles Richard Beall Blvd #17-92\, DeBary\, FL 32713 USA:geo:-81.30749,28.8915108
END:VEVENT
BEGIN:VEVENT
DTSTART;TZID=America/New_York:20281024T183000
DTEND;TZID=America/New_York:20281024T183000
DTSTAMP:20260420T050942
CREATED:20260105T003048Z
LAST-MODIFIED:20260105T055427Z
UID:10017569-1856025000-1856025000@epictriviafl.com
SUMMARY:Trivia
DESCRIPTION:
URL:https://epictriviafl.com/event/trivia-olearys/2028-10-24/
LOCATION:O’Leary’s Irish Pub\, 24 N Charles Richard Beall Blvd #17-92\, DeBary\, FL 32713 USA
GEO:28.8915108;-81.30749
X-APPLE-STRUCTURED-LOCATION;VALUE=URI;X-ADDRESS=O’Leary’s Irish Pub 24 N Charles Richard Beall Blvd #17-92 DeBary FL 32713 USA;X-APPLE-RADIUS=500;X-TITLE=24 N Charles Richard Beall Blvd #17-92\, DeBary\, FL 32713 USA:geo:-81.30749,28.8915108
END:VEVENT
BEGIN:VEVENT
DTSTART;TZID=America/New_York:20281031T183000
DTEND;TZID=America/New_York:20281031T183000
DTSTAMP:20260420T050942
CREATED:20260105T003048Z
LAST-MODIFIED:20260105T055427Z
UID:10017570-1856629800-1856629800@epictriviafl.com
SUMMARY:Trivia
DESCRIPTION:
URL:https://epictriviafl.com/event/trivia-olearys/2028-10-31/
LOCATION:O’Leary’s Irish Pub\, 24 N Charles Richard Beall Blvd #17-92\, DeBary\, FL 32713 USA
GEO:28.8915108;-81.30749
X-APPLE-STRUCTURED-LOCATION;VALUE=URI;X-ADDRESS=O’Leary’s Irish Pub 24 N Charles Richard Beall Blvd #17-92 DeBary FL 32713 USA;X-APPLE-RADIUS=500;X-TITLE=24 N Charles Richard Beall Blvd #17-92\, DeBary\, FL 32713 USA:geo:-81.30749,28.8915108
END:VEVENT
BEGIN:VEVENT
DTSTART;TZID=America/New_York:20281107T183000
DTEND;TZID=America/New_York:20281107T183000
DTSTAMP:20260420T050942
CREATED:20260105T003048Z
LAST-MODIFIED:20260105T055427Z
UID:10017571-1857234600-1857234600@epictriviafl.com
SUMMARY:Trivia
DESCRIPTION:
URL:https://epictriviafl.com/event/trivia-olearys/2028-11-07/
LOCATION:O’Leary’s Irish Pub\, 24 N Charles Richard Beall Blvd #17-92\, DeBary\, FL 32713 USA
GEO:28.8915108;-81.30749
X-APPLE-STRUCTURED-LOCATION;VALUE=URI;X-ADDRESS=O’Leary’s Irish Pub 24 N Charles Richard Beall Blvd #17-92 DeBary FL 32713 USA;X-APPLE-RADIUS=500;X-TITLE=24 N Charles Richard Beall Blvd #17-92\, DeBary\, FL 32713 USA:geo:-81.30749,28.8915108
END:VEVENT
BEGIN:VEVENT
DTSTART;TZID=America/New_York:20281114T183000
DTEND;TZID=America/New_York:20281114T183000
DTSTAMP:20260420T050942
CREATED:20260105T003048Z
LAST-MODIFIED:20260105T055427Z
UID:10017572-1857839400-1857839400@epictriviafl.com
SUMMARY:Trivia
DESCRIPTION:
URL:https://epictriviafl.com/event/trivia-olearys/2028-11-14/
LOCATION:O’Leary’s Irish Pub\, 24 N Charles Richard Beall Blvd #17-92\, DeBary\, FL 32713 USA
GEO:28.8915108;-81.30749
X-APPLE-STRUCTURED-LOCATION;VALUE=URI;X-ADDRESS=O’Leary’s Irish Pub 24 N Charles Richard Beall Blvd #17-92 DeBary FL 32713 USA;X-APPLE-RADIUS=500;X-TITLE=24 N Charles Richard Beall Blvd #17-92\, DeBary\, FL 32713 USA:geo:-81.30749,28.8915108
END:VEVENT
BEGIN:VEVENT
DTSTART;TZID=America/New_York:20281121T183000
DTEND;TZID=America/New_York:20281121T183000
DTSTAMP:20260420T050942
CREATED:20260105T003048Z
LAST-MODIFIED:20260105T055427Z
UID:10017573-1858444200-1858444200@epictriviafl.com
SUMMARY:Trivia
DESCRIPTION:
URL:https://epictriviafl.com/event/trivia-olearys/2028-11-21/
LOCATION:O’Leary’s Irish Pub\, 24 N Charles Richard Beall Blvd #17-92\, DeBary\, FL 32713 USA
GEO:28.8915108;-81.30749
X-APPLE-STRUCTURED-LOCATION;VALUE=URI;X-ADDRESS=O’Leary’s Irish Pub 24 N Charles Richard Beall Blvd #17-92 DeBary FL 32713 USA;X-APPLE-RADIUS=500;X-TITLE=24 N Charles Richard Beall Blvd #17-92\, DeBary\, FL 32713 USA:geo:-81.30749,28.8915108
END:VEVENT
BEGIN:VEVENT
DTSTART;TZID=America/New_York:20281128T183000
DTEND;TZID=America/New_York:20281128T183000
DTSTAMP:20260420T050942
CREATED:20260105T003048Z
LAST-MODIFIED:20260105T055427Z
UID:10017574-1859049000-1859049000@epictriviafl.com
SUMMARY:Trivia
DESCRIPTION:
URL:https://epictriviafl.com/event/trivia-olearys/2028-11-28/
LOCATION:O’Leary’s Irish Pub\, 24 N Charles Richard Beall Blvd #17-92\, DeBary\, FL 32713 USA
GEO:28.8915108;-81.30749
X-APPLE-STRUCTURED-LOCATION;VALUE=URI;X-ADDRESS=O’Leary’s Irish Pub 24 N Charles Richard Beall Blvd #17-92 DeBary FL 32713 USA;X-APPLE-RADIUS=500;X-TITLE=24 N Charles Richard Beall Blvd #17-92\, DeBary\, FL 32713 USA:geo:-81.30749,28.8915108
END:VEVENT
BEGIN:VEVENT
DTSTART;TZID=America/New_York:20281205T183000
DTEND;TZID=America/New_York:20281205T183000
DTSTAMP:20260420T050942
CREATED:20260105T003048Z
LAST-MODIFIED:20260105T055427Z
UID:10017575-1859653800-1859653800@epictriviafl.com
SUMMARY:Trivia
DESCRIPTION:
URL:https://epictriviafl.com/event/trivia-olearys/2028-12-05/
LOCATION:O’Leary’s Irish Pub\, 24 N Charles Richard Beall Blvd #17-92\, DeBary\, FL 32713 USA
GEO:28.8915108;-81.30749
X-APPLE-STRUCTURED-LOCATION;VALUE=URI;X-ADDRESS=O’Leary’s Irish Pub 24 N Charles Richard Beall Blvd #17-92 DeBary FL 32713 USA;X-APPLE-RADIUS=500;X-TITLE=24 N Charles Richard Beall Blvd #17-92\, DeBary\, FL 32713 USA:geo:-81.30749,28.8915108
END:VEVENT
END:VCALENDAR