BEGIN:VCALENDAR
VERSION:2.0
PRODID:-//Epic Trivia - ECPv6.15.18//NONSGML v1.0//EN
CALSCALE:GREGORIAN
METHOD:PUBLISH
X-WR-CALNAME:Epic Trivia
X-ORIGINAL-URL:https://epictriviafl.com
X-WR-CALDESC:Events for Epic Trivia
REFRESH-INTERVAL;VALUE=DURATION:PT1H
X-Robots-Tag:noindex
X-PUBLISHED-TTL:PT1H
BEGIN:VTIMEZONE
TZID:America/New_York
BEGIN:DAYLIGHT
TZOFFSETFROM:-0500
TZOFFSETTO:-0400
TZNAME:EDT
DTSTART:20260308T070000
END:DAYLIGHT
BEGIN:STANDARD
TZOFFSETFROM:-0400
TZOFFSETTO:-0500
TZNAME:EST
DTSTART:20261101T060000
END:STANDARD
BEGIN:DAYLIGHT
TZOFFSETFROM:-0500
TZOFFSETTO:-0400
TZNAME:EDT
DTSTART:20270314T070000
END:DAYLIGHT
BEGIN:STANDARD
TZOFFSETFROM:-0400
TZOFFSETTO:-0500
TZNAME:EST
DTSTART:20271107T060000
END:STANDARD
BEGIN:DAYLIGHT
TZOFFSETFROM:-0500
TZOFFSETTO:-0400
TZNAME:EDT
DTSTART:20280312T070000
END:DAYLIGHT
BEGIN:STANDARD
TZOFFSETFROM:-0400
TZOFFSETTO:-0500
TZNAME:EST
DTSTART:20281105T060000
END:STANDARD
BEGIN:DAYLIGHT
TZOFFSETFROM:-0500
TZOFFSETTO:-0400
TZNAME:EDT
DTSTART:20290311T070000
END:DAYLIGHT
BEGIN:STANDARD
TZOFFSETFROM:-0400
TZOFFSETTO:-0500
TZNAME:EST
DTSTART:20291104T060000
END:STANDARD
END:VTIMEZONE
BEGIN:VEVENT
DTSTART;TZID=America/New_York:20271203T183000
DTEND;TZID=America/New_York:20271203T183000
DTSTAMP:20260420T021841
CREATED:20260105T003218Z
LAST-MODIFIED:20260105T053829Z
UID:10009982-1827858600-1827858600@epictriviafl.com
SUMMARY:Trivia
DESCRIPTION:
URL:https://epictriviafl.com/event/trivia-rooster/2027-12-03/
LOCATION:Just One More Rooster\, 1382 Howland Blvd\, Deltona\, FL 32738 USA
GEO:28.9035877;-81.1716624
X-APPLE-STRUCTURED-LOCATION;VALUE=URI;X-ADDRESS=Just One More Rooster 1382 Howland Blvd Deltona FL 32738 USA;X-APPLE-RADIUS=500;X-TITLE=1382 Howland Blvd\, Deltona\, FL 32738 USA:geo:-81.1716624,28.9035877
END:VEVENT
BEGIN:VEVENT
DTSTART;TZID=America/New_York:20271210T183000
DTEND;TZID=America/New_York:20271210T183000
DTSTAMP:20260420T021841
CREATED:20260105T003218Z
LAST-MODIFIED:20260105T053829Z
UID:10009983-1828463400-1828463400@epictriviafl.com
SUMMARY:Trivia
DESCRIPTION:
URL:https://epictriviafl.com/event/trivia-rooster/2027-12-10/
LOCATION:Just One More Rooster\, 1382 Howland Blvd\, Deltona\, FL 32738 USA
GEO:28.9035877;-81.1716624
X-APPLE-STRUCTURED-LOCATION;VALUE=URI;X-ADDRESS=Just One More Rooster 1382 Howland Blvd Deltona FL 32738 USA;X-APPLE-RADIUS=500;X-TITLE=1382 Howland Blvd\, Deltona\, FL 32738 USA:geo:-81.1716624,28.9035877
END:VEVENT
BEGIN:VEVENT
DTSTART;TZID=America/New_York:20271217T183000
DTEND;TZID=America/New_York:20271217T183000
DTSTAMP:20260420T021841
CREATED:20260105T003218Z
LAST-MODIFIED:20260105T053829Z
UID:10009984-1829068200-1829068200@epictriviafl.com
SUMMARY:Trivia
DESCRIPTION:
URL:https://epictriviafl.com/event/trivia-rooster/2027-12-17/
LOCATION:Just One More Rooster\, 1382 Howland Blvd\, Deltona\, FL 32738 USA
GEO:28.9035877;-81.1716624
X-APPLE-STRUCTURED-LOCATION;VALUE=URI;X-ADDRESS=Just One More Rooster 1382 Howland Blvd Deltona FL 32738 USA;X-APPLE-RADIUS=500;X-TITLE=1382 Howland Blvd\, Deltona\, FL 32738 USA:geo:-81.1716624,28.9035877
END:VEVENT
BEGIN:VEVENT
DTSTART;TZID=America/New_York:20271224T183000
DTEND;TZID=America/New_York:20271224T183000
DTSTAMP:20260420T021841
CREATED:20260105T003218Z
LAST-MODIFIED:20260105T053829Z
UID:10009985-1829673000-1829673000@epictriviafl.com
SUMMARY:Trivia
DESCRIPTION:
URL:https://epictriviafl.com/event/trivia-rooster/2027-12-24/
LOCATION:Just One More Rooster\, 1382 Howland Blvd\, Deltona\, FL 32738 USA
GEO:28.9035877;-81.1716624
X-APPLE-STRUCTURED-LOCATION;VALUE=URI;X-ADDRESS=Just One More Rooster 1382 Howland Blvd Deltona FL 32738 USA;X-APPLE-RADIUS=500;X-TITLE=1382 Howland Blvd\, Deltona\, FL 32738 USA:geo:-81.1716624,28.9035877
END:VEVENT
BEGIN:VEVENT
DTSTART;TZID=America/New_York:20271231T183000
DTEND;TZID=America/New_York:20271231T183000
DTSTAMP:20260420T021841
CREATED:20260105T003218Z
LAST-MODIFIED:20260105T053829Z
UID:10009986-1830277800-1830277800@epictriviafl.com
SUMMARY:Trivia
DESCRIPTION:
URL:https://epictriviafl.com/event/trivia-rooster/2027-12-31/
LOCATION:Just One More Rooster\, 1382 Howland Blvd\, Deltona\, FL 32738 USA
GEO:28.9035877;-81.1716624
X-APPLE-STRUCTURED-LOCATION;VALUE=URI;X-ADDRESS=Just One More Rooster 1382 Howland Blvd Deltona FL 32738 USA;X-APPLE-RADIUS=500;X-TITLE=1382 Howland Blvd\, Deltona\, FL 32738 USA:geo:-81.1716624,28.9035877
END:VEVENT
BEGIN:VEVENT
DTSTART;TZID=America/New_York:20280107T183000
DTEND;TZID=America/New_York:20280107T183000
DTSTAMP:20260420T021841
CREATED:20260105T003218Z
LAST-MODIFIED:20260105T053829Z
UID:10009987-1830882600-1830882600@epictriviafl.com
SUMMARY:Trivia
DESCRIPTION:
URL:https://epictriviafl.com/event/trivia-rooster/2028-01-07/
LOCATION:Just One More Rooster\, 1382 Howland Blvd\, Deltona\, FL 32738 USA
GEO:28.9035877;-81.1716624
X-APPLE-STRUCTURED-LOCATION;VALUE=URI;X-ADDRESS=Just One More Rooster 1382 Howland Blvd Deltona FL 32738 USA;X-APPLE-RADIUS=500;X-TITLE=1382 Howland Blvd\, Deltona\, FL 32738 USA:geo:-81.1716624,28.9035877
END:VEVENT
BEGIN:VEVENT
DTSTART;TZID=America/New_York:20280114T183000
DTEND;TZID=America/New_York:20280114T183000
DTSTAMP:20260420T021841
CREATED:20260105T003218Z
LAST-MODIFIED:20260105T053829Z
UID:10009988-1831487400-1831487400@epictriviafl.com
SUMMARY:Trivia
DESCRIPTION:
URL:https://epictriviafl.com/event/trivia-rooster/2028-01-14/
LOCATION:Just One More Rooster\, 1382 Howland Blvd\, Deltona\, FL 32738 USA
GEO:28.9035877;-81.1716624
X-APPLE-STRUCTURED-LOCATION;VALUE=URI;X-ADDRESS=Just One More Rooster 1382 Howland Blvd Deltona FL 32738 USA;X-APPLE-RADIUS=500;X-TITLE=1382 Howland Blvd\, Deltona\, FL 32738 USA:geo:-81.1716624,28.9035877
END:VEVENT
BEGIN:VEVENT
DTSTART;TZID=America/New_York:20280121T183000
DTEND;TZID=America/New_York:20280121T183000
DTSTAMP:20260420T021841
CREATED:20260105T003218Z
LAST-MODIFIED:20260105T053829Z
UID:10009989-1832092200-1832092200@epictriviafl.com
SUMMARY:Trivia
DESCRIPTION:
URL:https://epictriviafl.com/event/trivia-rooster/2028-01-21/
LOCATION:Just One More Rooster\, 1382 Howland Blvd\, Deltona\, FL 32738 USA
GEO:28.9035877;-81.1716624
X-APPLE-STRUCTURED-LOCATION;VALUE=URI;X-ADDRESS=Just One More Rooster 1382 Howland Blvd Deltona FL 32738 USA;X-APPLE-RADIUS=500;X-TITLE=1382 Howland Blvd\, Deltona\, FL 32738 USA:geo:-81.1716624,28.9035877
END:VEVENT
BEGIN:VEVENT
DTSTART;TZID=America/New_York:20280128T183000
DTEND;TZID=America/New_York:20280128T183000
DTSTAMP:20260420T021841
CREATED:20260105T003218Z
LAST-MODIFIED:20260105T053829Z
UID:10009990-1832697000-1832697000@epictriviafl.com
SUMMARY:Trivia
DESCRIPTION:
URL:https://epictriviafl.com/event/trivia-rooster/2028-01-28/
LOCATION:Just One More Rooster\, 1382 Howland Blvd\, Deltona\, FL 32738 USA
GEO:28.9035877;-81.1716624
X-APPLE-STRUCTURED-LOCATION;VALUE=URI;X-ADDRESS=Just One More Rooster 1382 Howland Blvd Deltona FL 32738 USA;X-APPLE-RADIUS=500;X-TITLE=1382 Howland Blvd\, Deltona\, FL 32738 USA:geo:-81.1716624,28.9035877
END:VEVENT
BEGIN:VEVENT
DTSTART;TZID=America/New_York:20280204T183000
DTEND;TZID=America/New_York:20280204T183000
DTSTAMP:20260420T021841
CREATED:20260105T003218Z
LAST-MODIFIED:20260105T053829Z
UID:10009991-1833301800-1833301800@epictriviafl.com
SUMMARY:Trivia
DESCRIPTION:
URL:https://epictriviafl.com/event/trivia-rooster/2028-02-04/
LOCATION:Just One More Rooster\, 1382 Howland Blvd\, Deltona\, FL 32738 USA
GEO:28.9035877;-81.1716624
X-APPLE-STRUCTURED-LOCATION;VALUE=URI;X-ADDRESS=Just One More Rooster 1382 Howland Blvd Deltona FL 32738 USA;X-APPLE-RADIUS=500;X-TITLE=1382 Howland Blvd\, Deltona\, FL 32738 USA:geo:-81.1716624,28.9035877
END:VEVENT
BEGIN:VEVENT
DTSTART;TZID=America/New_York:20280211T183000
DTEND;TZID=America/New_York:20280211T183000
DTSTAMP:20260420T021841
CREATED:20260105T003218Z
LAST-MODIFIED:20260105T053829Z
UID:10009992-1833906600-1833906600@epictriviafl.com
SUMMARY:Trivia
DESCRIPTION:
URL:https://epictriviafl.com/event/trivia-rooster/2028-02-11/
LOCATION:Just One More Rooster\, 1382 Howland Blvd\, Deltona\, FL 32738 USA
GEO:28.9035877;-81.1716624
X-APPLE-STRUCTURED-LOCATION;VALUE=URI;X-ADDRESS=Just One More Rooster 1382 Howland Blvd Deltona FL 32738 USA;X-APPLE-RADIUS=500;X-TITLE=1382 Howland Blvd\, Deltona\, FL 32738 USA:geo:-81.1716624,28.9035877
END:VEVENT
BEGIN:VEVENT
DTSTART;TZID=America/New_York:20280218T183000
DTEND;TZID=America/New_York:20280218T183000
DTSTAMP:20260420T021841
CREATED:20260105T003218Z
LAST-MODIFIED:20260105T053829Z
UID:10009993-1834511400-1834511400@epictriviafl.com
SUMMARY:Trivia
DESCRIPTION:
URL:https://epictriviafl.com/event/trivia-rooster/2028-02-18/
LOCATION:Just One More Rooster\, 1382 Howland Blvd\, Deltona\, FL 32738 USA
GEO:28.9035877;-81.1716624
X-APPLE-STRUCTURED-LOCATION;VALUE=URI;X-ADDRESS=Just One More Rooster 1382 Howland Blvd Deltona FL 32738 USA;X-APPLE-RADIUS=500;X-TITLE=1382 Howland Blvd\, Deltona\, FL 32738 USA:geo:-81.1716624,28.9035877
END:VEVENT
BEGIN:VEVENT
DTSTART;TZID=America/New_York:20280225T183000
DTEND;TZID=America/New_York:20280225T183000
DTSTAMP:20260420T021841
CREATED:20260105T003218Z
LAST-MODIFIED:20260105T053829Z
UID:10009994-1835116200-1835116200@epictriviafl.com
SUMMARY:Trivia
DESCRIPTION:
URL:https://epictriviafl.com/event/trivia-rooster/2028-02-25/
LOCATION:Just One More Rooster\, 1382 Howland Blvd\, Deltona\, FL 32738 USA
GEO:28.9035877;-81.1716624
X-APPLE-STRUCTURED-LOCATION;VALUE=URI;X-ADDRESS=Just One More Rooster 1382 Howland Blvd Deltona FL 32738 USA;X-APPLE-RADIUS=500;X-TITLE=1382 Howland Blvd\, Deltona\, FL 32738 USA:geo:-81.1716624,28.9035877
END:VEVENT
BEGIN:VEVENT
DTSTART;TZID=America/New_York:20280303T183000
DTEND;TZID=America/New_York:20280303T183000
DTSTAMP:20260420T021841
CREATED:20260105T003218Z
LAST-MODIFIED:20260105T053829Z
UID:10009995-1835721000-1835721000@epictriviafl.com
SUMMARY:Trivia
DESCRIPTION:
URL:https://epictriviafl.com/event/trivia-rooster/2028-03-03/
LOCATION:Just One More Rooster\, 1382 Howland Blvd\, Deltona\, FL 32738 USA
GEO:28.9035877;-81.1716624
X-APPLE-STRUCTURED-LOCATION;VALUE=URI;X-ADDRESS=Just One More Rooster 1382 Howland Blvd Deltona FL 32738 USA;X-APPLE-RADIUS=500;X-TITLE=1382 Howland Blvd\, Deltona\, FL 32738 USA:geo:-81.1716624,28.9035877
END:VEVENT
BEGIN:VEVENT
DTSTART;TZID=America/New_York:20280310T183000
DTEND;TZID=America/New_York:20280310T183000
DTSTAMP:20260420T021841
CREATED:20260105T003218Z
LAST-MODIFIED:20260105T053829Z
UID:10009996-1836325800-1836325800@epictriviafl.com
SUMMARY:Trivia
DESCRIPTION:
URL:https://epictriviafl.com/event/trivia-rooster/2028-03-10/
LOCATION:Just One More Rooster\, 1382 Howland Blvd\, Deltona\, FL 32738 USA
GEO:28.9035877;-81.1716624
X-APPLE-STRUCTURED-LOCATION;VALUE=URI;X-ADDRESS=Just One More Rooster 1382 Howland Blvd Deltona FL 32738 USA;X-APPLE-RADIUS=500;X-TITLE=1382 Howland Blvd\, Deltona\, FL 32738 USA:geo:-81.1716624,28.9035877
END:VEVENT
BEGIN:VEVENT
DTSTART;TZID=America/New_York:20280317T183000
DTEND;TZID=America/New_York:20280317T183000
DTSTAMP:20260420T021841
CREATED:20260105T003218Z
LAST-MODIFIED:20260105T053829Z
UID:10009997-1836930600-1836930600@epictriviafl.com
SUMMARY:Trivia
DESCRIPTION:
URL:https://epictriviafl.com/event/trivia-rooster/2028-03-17/
LOCATION:Just One More Rooster\, 1382 Howland Blvd\, Deltona\, FL 32738 USA
GEO:28.9035877;-81.1716624
X-APPLE-STRUCTURED-LOCATION;VALUE=URI;X-ADDRESS=Just One More Rooster 1382 Howland Blvd Deltona FL 32738 USA;X-APPLE-RADIUS=500;X-TITLE=1382 Howland Blvd\, Deltona\, FL 32738 USA:geo:-81.1716624,28.9035877
END:VEVENT
BEGIN:VEVENT
DTSTART;TZID=America/New_York:20280324T183000
DTEND;TZID=America/New_York:20280324T183000
DTSTAMP:20260420T021841
CREATED:20260105T003218Z
LAST-MODIFIED:20260105T053829Z
UID:10009998-1837535400-1837535400@epictriviafl.com
SUMMARY:Trivia
DESCRIPTION:
URL:https://epictriviafl.com/event/trivia-rooster/2028-03-24/
LOCATION:Just One More Rooster\, 1382 Howland Blvd\, Deltona\, FL 32738 USA
GEO:28.9035877;-81.1716624
X-APPLE-STRUCTURED-LOCATION;VALUE=URI;X-ADDRESS=Just One More Rooster 1382 Howland Blvd Deltona FL 32738 USA;X-APPLE-RADIUS=500;X-TITLE=1382 Howland Blvd\, Deltona\, FL 32738 USA:geo:-81.1716624,28.9035877
END:VEVENT
BEGIN:VEVENT
DTSTART;TZID=America/New_York:20280331T183000
DTEND;TZID=America/New_York:20280331T183000
DTSTAMP:20260420T021841
CREATED:20260105T003218Z
LAST-MODIFIED:20260105T053829Z
UID:10009999-1838140200-1838140200@epictriviafl.com
SUMMARY:Trivia
DESCRIPTION:
URL:https://epictriviafl.com/event/trivia-rooster/2028-03-31/
LOCATION:Just One More Rooster\, 1382 Howland Blvd\, Deltona\, FL 32738 USA
GEO:28.9035877;-81.1716624
X-APPLE-STRUCTURED-LOCATION;VALUE=URI;X-ADDRESS=Just One More Rooster 1382 Howland Blvd Deltona FL 32738 USA;X-APPLE-RADIUS=500;X-TITLE=1382 Howland Blvd\, Deltona\, FL 32738 USA:geo:-81.1716624,28.9035877
END:VEVENT
BEGIN:VEVENT
DTSTART;TZID=America/New_York:20280407T183000
DTEND;TZID=America/New_York:20280407T183000
DTSTAMP:20260420T021841
CREATED:20260105T003218Z
LAST-MODIFIED:20260105T053829Z
UID:10010000-1838745000-1838745000@epictriviafl.com
SUMMARY:Trivia
DESCRIPTION:
URL:https://epictriviafl.com/event/trivia-rooster/2028-04-07/
LOCATION:Just One More Rooster\, 1382 Howland Blvd\, Deltona\, FL 32738 USA
GEO:28.9035877;-81.1716624
X-APPLE-STRUCTURED-LOCATION;VALUE=URI;X-ADDRESS=Just One More Rooster 1382 Howland Blvd Deltona FL 32738 USA;X-APPLE-RADIUS=500;X-TITLE=1382 Howland Blvd\, Deltona\, FL 32738 USA:geo:-81.1716624,28.9035877
END:VEVENT
BEGIN:VEVENT
DTSTART;TZID=America/New_York:20280414T183000
DTEND;TZID=America/New_York:20280414T183000
DTSTAMP:20260420T021841
CREATED:20260105T003218Z
LAST-MODIFIED:20260105T053829Z
UID:10010001-1839349800-1839349800@epictriviafl.com
SUMMARY:Trivia
DESCRIPTION:
URL:https://epictriviafl.com/event/trivia-rooster/2028-04-14/
LOCATION:Just One More Rooster\, 1382 Howland Blvd\, Deltona\, FL 32738 USA
GEO:28.9035877;-81.1716624
X-APPLE-STRUCTURED-LOCATION;VALUE=URI;X-ADDRESS=Just One More Rooster 1382 Howland Blvd Deltona FL 32738 USA;X-APPLE-RADIUS=500;X-TITLE=1382 Howland Blvd\, Deltona\, FL 32738 USA:geo:-81.1716624,28.9035877
END:VEVENT
BEGIN:VEVENT
DTSTART;TZID=America/New_York:20280421T183000
DTEND;TZID=America/New_York:20280421T183000
DTSTAMP:20260420T021841
CREATED:20260105T003218Z
LAST-MODIFIED:20260105T053829Z
UID:10010002-1839954600-1839954600@epictriviafl.com
SUMMARY:Trivia
DESCRIPTION:
URL:https://epictriviafl.com/event/trivia-rooster/2028-04-21/
LOCATION:Just One More Rooster\, 1382 Howland Blvd\, Deltona\, FL 32738 USA
GEO:28.9035877;-81.1716624
X-APPLE-STRUCTURED-LOCATION;VALUE=URI;X-ADDRESS=Just One More Rooster 1382 Howland Blvd Deltona FL 32738 USA;X-APPLE-RADIUS=500;X-TITLE=1382 Howland Blvd\, Deltona\, FL 32738 USA:geo:-81.1716624,28.9035877
END:VEVENT
BEGIN:VEVENT
DTSTART;TZID=America/New_York:20280428T183000
DTEND;TZID=America/New_York:20280428T183000
DTSTAMP:20260420T021841
CREATED:20260105T003218Z
LAST-MODIFIED:20260105T053829Z
UID:10010003-1840559400-1840559400@epictriviafl.com
SUMMARY:Trivia
DESCRIPTION:
URL:https://epictriviafl.com/event/trivia-rooster/2028-04-28/
LOCATION:Just One More Rooster\, 1382 Howland Blvd\, Deltona\, FL 32738 USA
GEO:28.9035877;-81.1716624
X-APPLE-STRUCTURED-LOCATION;VALUE=URI;X-ADDRESS=Just One More Rooster 1382 Howland Blvd Deltona FL 32738 USA;X-APPLE-RADIUS=500;X-TITLE=1382 Howland Blvd\, Deltona\, FL 32738 USA:geo:-81.1716624,28.9035877
END:VEVENT
BEGIN:VEVENT
DTSTART;TZID=America/New_York:20280505T183000
DTEND;TZID=America/New_York:20280505T183000
DTSTAMP:20260420T021841
CREATED:20260105T003218Z
LAST-MODIFIED:20260105T053829Z
UID:10010004-1841164200-1841164200@epictriviafl.com
SUMMARY:Trivia
DESCRIPTION:
URL:https://epictriviafl.com/event/trivia-rooster/2028-05-05/
LOCATION:Just One More Rooster\, 1382 Howland Blvd\, Deltona\, FL 32738 USA
GEO:28.9035877;-81.1716624
X-APPLE-STRUCTURED-LOCATION;VALUE=URI;X-ADDRESS=Just One More Rooster 1382 Howland Blvd Deltona FL 32738 USA;X-APPLE-RADIUS=500;X-TITLE=1382 Howland Blvd\, Deltona\, FL 32738 USA:geo:-81.1716624,28.9035877
END:VEVENT
BEGIN:VEVENT
DTSTART;TZID=America/New_York:20280512T183000
DTEND;TZID=America/New_York:20280512T183000
DTSTAMP:20260420T021841
CREATED:20260105T003218Z
LAST-MODIFIED:20260105T053829Z
UID:10010005-1841769000-1841769000@epictriviafl.com
SUMMARY:Trivia
DESCRIPTION:
URL:https://epictriviafl.com/event/trivia-rooster/2028-05-12/
LOCATION:Just One More Rooster\, 1382 Howland Blvd\, Deltona\, FL 32738 USA
GEO:28.9035877;-81.1716624
X-APPLE-STRUCTURED-LOCATION;VALUE=URI;X-ADDRESS=Just One More Rooster 1382 Howland Blvd Deltona FL 32738 USA;X-APPLE-RADIUS=500;X-TITLE=1382 Howland Blvd\, Deltona\, FL 32738 USA:geo:-81.1716624,28.9035877
END:VEVENT
BEGIN:VEVENT
DTSTART;TZID=America/New_York:20280519T183000
DTEND;TZID=America/New_York:20280519T183000
DTSTAMP:20260420T021841
CREATED:20260105T003218Z
LAST-MODIFIED:20260105T053829Z
UID:10010006-1842373800-1842373800@epictriviafl.com
SUMMARY:Trivia
DESCRIPTION:
URL:https://epictriviafl.com/event/trivia-rooster/2028-05-19/
LOCATION:Just One More Rooster\, 1382 Howland Blvd\, Deltona\, FL 32738 USA
GEO:28.9035877;-81.1716624
X-APPLE-STRUCTURED-LOCATION;VALUE=URI;X-ADDRESS=Just One More Rooster 1382 Howland Blvd Deltona FL 32738 USA;X-APPLE-RADIUS=500;X-TITLE=1382 Howland Blvd\, Deltona\, FL 32738 USA:geo:-81.1716624,28.9035877
END:VEVENT
BEGIN:VEVENT
DTSTART;TZID=America/New_York:20280526T183000
DTEND;TZID=America/New_York:20280526T183000
DTSTAMP:20260420T021841
CREATED:20260105T003218Z
LAST-MODIFIED:20260105T053829Z
UID:10010007-1842978600-1842978600@epictriviafl.com
SUMMARY:Trivia
DESCRIPTION:
URL:https://epictriviafl.com/event/trivia-rooster/2028-05-26/
LOCATION:Just One More Rooster\, 1382 Howland Blvd\, Deltona\, FL 32738 USA
GEO:28.9035877;-81.1716624
X-APPLE-STRUCTURED-LOCATION;VALUE=URI;X-ADDRESS=Just One More Rooster 1382 Howland Blvd Deltona FL 32738 USA;X-APPLE-RADIUS=500;X-TITLE=1382 Howland Blvd\, Deltona\, FL 32738 USA:geo:-81.1716624,28.9035877
END:VEVENT
BEGIN:VEVENT
DTSTART;TZID=America/New_York:20280602T183000
DTEND;TZID=America/New_York:20280602T183000
DTSTAMP:20260420T021841
CREATED:20260105T003218Z
LAST-MODIFIED:20260105T053829Z
UID:10010008-1843583400-1843583400@epictriviafl.com
SUMMARY:Trivia
DESCRIPTION:
URL:https://epictriviafl.com/event/trivia-rooster/2028-06-02/
LOCATION:Just One More Rooster\, 1382 Howland Blvd\, Deltona\, FL 32738 USA
GEO:28.9035877;-81.1716624
X-APPLE-STRUCTURED-LOCATION;VALUE=URI;X-ADDRESS=Just One More Rooster 1382 Howland Blvd Deltona FL 32738 USA;X-APPLE-RADIUS=500;X-TITLE=1382 Howland Blvd\, Deltona\, FL 32738 USA:geo:-81.1716624,28.9035877
END:VEVENT
BEGIN:VEVENT
DTSTART;TZID=America/New_York:20280609T183000
DTEND;TZID=America/New_York:20280609T183000
DTSTAMP:20260420T021841
CREATED:20260105T003218Z
LAST-MODIFIED:20260105T053829Z
UID:10010009-1844188200-1844188200@epictriviafl.com
SUMMARY:Trivia
DESCRIPTION:
URL:https://epictriviafl.com/event/trivia-rooster/2028-06-09/
LOCATION:Just One More Rooster\, 1382 Howland Blvd\, Deltona\, FL 32738 USA
GEO:28.9035877;-81.1716624
X-APPLE-STRUCTURED-LOCATION;VALUE=URI;X-ADDRESS=Just One More Rooster 1382 Howland Blvd Deltona FL 32738 USA;X-APPLE-RADIUS=500;X-TITLE=1382 Howland Blvd\, Deltona\, FL 32738 USA:geo:-81.1716624,28.9035877
END:VEVENT
BEGIN:VEVENT
DTSTART;TZID=America/New_York:20280616T183000
DTEND;TZID=America/New_York:20280616T183000
DTSTAMP:20260420T021841
CREATED:20260105T003218Z
LAST-MODIFIED:20260105T053829Z
UID:10010010-1844793000-1844793000@epictriviafl.com
SUMMARY:Trivia
DESCRIPTION:
URL:https://epictriviafl.com/event/trivia-rooster/2028-06-16/
LOCATION:Just One More Rooster\, 1382 Howland Blvd\, Deltona\, FL 32738 USA
GEO:28.9035877;-81.1716624
X-APPLE-STRUCTURED-LOCATION;VALUE=URI;X-ADDRESS=Just One More Rooster 1382 Howland Blvd Deltona FL 32738 USA;X-APPLE-RADIUS=500;X-TITLE=1382 Howland Blvd\, Deltona\, FL 32738 USA:geo:-81.1716624,28.9035877
END:VEVENT
BEGIN:VEVENT
DTSTART;TZID=America/New_York:20280623T183000
DTEND;TZID=America/New_York:20280623T183000
DTSTAMP:20260420T021841
CREATED:20260105T003218Z
LAST-MODIFIED:20260105T053829Z
UID:10010011-1845397800-1845397800@epictriviafl.com
SUMMARY:Trivia
DESCRIPTION:
URL:https://epictriviafl.com/event/trivia-rooster/2028-06-23/
LOCATION:Just One More Rooster\, 1382 Howland Blvd\, Deltona\, FL 32738 USA
GEO:28.9035877;-81.1716624
X-APPLE-STRUCTURED-LOCATION;VALUE=URI;X-ADDRESS=Just One More Rooster 1382 Howland Blvd Deltona FL 32738 USA;X-APPLE-RADIUS=500;X-TITLE=1382 Howland Blvd\, Deltona\, FL 32738 USA:geo:-81.1716624,28.9035877
END:VEVENT
END:VCALENDAR