BEGIN:VCALENDAR
VERSION:2.0
PRODID:-//Epic Trivia - ECPv6.15.18//NONSGML v1.0//EN
CALSCALE:GREGORIAN
METHOD:PUBLISH
X-WR-CALNAME:Epic Trivia
X-ORIGINAL-URL:https://epictriviafl.com
X-WR-CALDESC:Events for Epic Trivia
REFRESH-INTERVAL;VALUE=DURATION:PT1H
X-Robots-Tag:noindex
X-PUBLISHED-TTL:PT1H
BEGIN:VTIMEZONE
TZID:America/New_York
BEGIN:DAYLIGHT
TZOFFSETFROM:-0500
TZOFFSETTO:-0400
TZNAME:EDT
DTSTART:20260308T070000
END:DAYLIGHT
BEGIN:STANDARD
TZOFFSETFROM:-0400
TZOFFSETTO:-0500
TZNAME:EST
DTSTART:20261101T060000
END:STANDARD
BEGIN:DAYLIGHT
TZOFFSETFROM:-0500
TZOFFSETTO:-0400
TZNAME:EDT
DTSTART:20270314T070000
END:DAYLIGHT
BEGIN:STANDARD
TZOFFSETFROM:-0400
TZOFFSETTO:-0500
TZNAME:EST
DTSTART:20271107T060000
END:STANDARD
BEGIN:DAYLIGHT
TZOFFSETFROM:-0500
TZOFFSETTO:-0400
TZNAME:EDT
DTSTART:20280312T070000
END:DAYLIGHT
BEGIN:STANDARD
TZOFFSETFROM:-0400
TZOFFSETTO:-0500
TZNAME:EST
DTSTART:20281105T060000
END:STANDARD
END:VTIMEZONE
BEGIN:VEVENT
DTSTART;TZID=America/New_York:20270101T183000
DTEND;TZID=America/New_York:20270101T183000
DTSTAMP:20260419T200113
CREATED:20260105T003218Z
LAST-MODIFIED:20260105T053829Z
UID:10009934-1798828200-1798828200@epictriviafl.com
SUMMARY:Trivia
DESCRIPTION:
URL:https://epictriviafl.com/event/trivia-rooster/2027-01-01/
LOCATION:Just One More Rooster\, 1382 Howland Blvd\, Deltona\, FL 32738 USA
GEO:28.9035877;-81.1716624
X-APPLE-STRUCTURED-LOCATION;VALUE=URI;X-ADDRESS=Just One More Rooster 1382 Howland Blvd Deltona FL 32738 USA;X-APPLE-RADIUS=500;X-TITLE=1382 Howland Blvd\, Deltona\, FL 32738 USA:geo:-81.1716624,28.9035877
END:VEVENT
BEGIN:VEVENT
DTSTART;TZID=America/New_York:20270108T183000
DTEND;TZID=America/New_York:20270108T183000
DTSTAMP:20260419T200113
CREATED:20260105T003218Z
LAST-MODIFIED:20260105T053829Z
UID:10009935-1799433000-1799433000@epictriviafl.com
SUMMARY:Trivia
DESCRIPTION:
URL:https://epictriviafl.com/event/trivia-rooster/2027-01-08/
LOCATION:Just One More Rooster\, 1382 Howland Blvd\, Deltona\, FL 32738 USA
GEO:28.9035877;-81.1716624
X-APPLE-STRUCTURED-LOCATION;VALUE=URI;X-ADDRESS=Just One More Rooster 1382 Howland Blvd Deltona FL 32738 USA;X-APPLE-RADIUS=500;X-TITLE=1382 Howland Blvd\, Deltona\, FL 32738 USA:geo:-81.1716624,28.9035877
END:VEVENT
BEGIN:VEVENT
DTSTART;TZID=America/New_York:20270115T183000
DTEND;TZID=America/New_York:20270115T183000
DTSTAMP:20260419T200113
CREATED:20260105T003218Z
LAST-MODIFIED:20260105T053829Z
UID:10009936-1800037800-1800037800@epictriviafl.com
SUMMARY:Trivia
DESCRIPTION:
URL:https://epictriviafl.com/event/trivia-rooster/2027-01-15/
LOCATION:Just One More Rooster\, 1382 Howland Blvd\, Deltona\, FL 32738 USA
GEO:28.9035877;-81.1716624
X-APPLE-STRUCTURED-LOCATION;VALUE=URI;X-ADDRESS=Just One More Rooster 1382 Howland Blvd Deltona FL 32738 USA;X-APPLE-RADIUS=500;X-TITLE=1382 Howland Blvd\, Deltona\, FL 32738 USA:geo:-81.1716624,28.9035877
END:VEVENT
BEGIN:VEVENT
DTSTART;TZID=America/New_York:20270122T183000
DTEND;TZID=America/New_York:20270122T183000
DTSTAMP:20260419T200113
CREATED:20260105T003218Z
LAST-MODIFIED:20260105T053829Z
UID:10009937-1800642600-1800642600@epictriviafl.com
SUMMARY:Trivia
DESCRIPTION:
URL:https://epictriviafl.com/event/trivia-rooster/2027-01-22/
LOCATION:Just One More Rooster\, 1382 Howland Blvd\, Deltona\, FL 32738 USA
GEO:28.9035877;-81.1716624
X-APPLE-STRUCTURED-LOCATION;VALUE=URI;X-ADDRESS=Just One More Rooster 1382 Howland Blvd Deltona FL 32738 USA;X-APPLE-RADIUS=500;X-TITLE=1382 Howland Blvd\, Deltona\, FL 32738 USA:geo:-81.1716624,28.9035877
END:VEVENT
BEGIN:VEVENT
DTSTART;TZID=America/New_York:20270129T183000
DTEND;TZID=America/New_York:20270129T183000
DTSTAMP:20260419T200113
CREATED:20260105T003218Z
LAST-MODIFIED:20260105T053829Z
UID:10009938-1801247400-1801247400@epictriviafl.com
SUMMARY:Trivia
DESCRIPTION:
URL:https://epictriviafl.com/event/trivia-rooster/2027-01-29/
LOCATION:Just One More Rooster\, 1382 Howland Blvd\, Deltona\, FL 32738 USA
GEO:28.9035877;-81.1716624
X-APPLE-STRUCTURED-LOCATION;VALUE=URI;X-ADDRESS=Just One More Rooster 1382 Howland Blvd Deltona FL 32738 USA;X-APPLE-RADIUS=500;X-TITLE=1382 Howland Blvd\, Deltona\, FL 32738 USA:geo:-81.1716624,28.9035877
END:VEVENT
BEGIN:VEVENT
DTSTART;TZID=America/New_York:20270205T183000
DTEND;TZID=America/New_York:20270205T183000
DTSTAMP:20260419T200113
CREATED:20260105T003218Z
LAST-MODIFIED:20260105T053829Z
UID:10009939-1801852200-1801852200@epictriviafl.com
SUMMARY:Trivia
DESCRIPTION:
URL:https://epictriviafl.com/event/trivia-rooster/2027-02-05/
LOCATION:Just One More Rooster\, 1382 Howland Blvd\, Deltona\, FL 32738 USA
GEO:28.9035877;-81.1716624
X-APPLE-STRUCTURED-LOCATION;VALUE=URI;X-ADDRESS=Just One More Rooster 1382 Howland Blvd Deltona FL 32738 USA;X-APPLE-RADIUS=500;X-TITLE=1382 Howland Blvd\, Deltona\, FL 32738 USA:geo:-81.1716624,28.9035877
END:VEVENT
BEGIN:VEVENT
DTSTART;TZID=America/New_York:20270212T183000
DTEND;TZID=America/New_York:20270212T183000
DTSTAMP:20260419T200113
CREATED:20260105T003218Z
LAST-MODIFIED:20260105T053829Z
UID:10009940-1802457000-1802457000@epictriviafl.com
SUMMARY:Trivia
DESCRIPTION:
URL:https://epictriviafl.com/event/trivia-rooster/2027-02-12/
LOCATION:Just One More Rooster\, 1382 Howland Blvd\, Deltona\, FL 32738 USA
GEO:28.9035877;-81.1716624
X-APPLE-STRUCTURED-LOCATION;VALUE=URI;X-ADDRESS=Just One More Rooster 1382 Howland Blvd Deltona FL 32738 USA;X-APPLE-RADIUS=500;X-TITLE=1382 Howland Blvd\, Deltona\, FL 32738 USA:geo:-81.1716624,28.9035877
END:VEVENT
BEGIN:VEVENT
DTSTART;TZID=America/New_York:20270219T183000
DTEND;TZID=America/New_York:20270219T183000
DTSTAMP:20260419T200113
CREATED:20260105T003218Z
LAST-MODIFIED:20260105T053829Z
UID:10009941-1803061800-1803061800@epictriviafl.com
SUMMARY:Trivia
DESCRIPTION:
URL:https://epictriviafl.com/event/trivia-rooster/2027-02-19/
LOCATION:Just One More Rooster\, 1382 Howland Blvd\, Deltona\, FL 32738 USA
GEO:28.9035877;-81.1716624
X-APPLE-STRUCTURED-LOCATION;VALUE=URI;X-ADDRESS=Just One More Rooster 1382 Howland Blvd Deltona FL 32738 USA;X-APPLE-RADIUS=500;X-TITLE=1382 Howland Blvd\, Deltona\, FL 32738 USA:geo:-81.1716624,28.9035877
END:VEVENT
BEGIN:VEVENT
DTSTART;TZID=America/New_York:20270226T183000
DTEND;TZID=America/New_York:20270226T183000
DTSTAMP:20260419T200114
CREATED:20260105T003218Z
LAST-MODIFIED:20260105T053829Z
UID:10009942-1803666600-1803666600@epictriviafl.com
SUMMARY:Trivia
DESCRIPTION:
URL:https://epictriviafl.com/event/trivia-rooster/2027-02-26/
LOCATION:Just One More Rooster\, 1382 Howland Blvd\, Deltona\, FL 32738 USA
GEO:28.9035877;-81.1716624
X-APPLE-STRUCTURED-LOCATION;VALUE=URI;X-ADDRESS=Just One More Rooster 1382 Howland Blvd Deltona FL 32738 USA;X-APPLE-RADIUS=500;X-TITLE=1382 Howland Blvd\, Deltona\, FL 32738 USA:geo:-81.1716624,28.9035877
END:VEVENT
BEGIN:VEVENT
DTSTART;TZID=America/New_York:20270305T183000
DTEND;TZID=America/New_York:20270305T183000
DTSTAMP:20260419T200114
CREATED:20260105T003218Z
LAST-MODIFIED:20260105T053829Z
UID:10009943-1804271400-1804271400@epictriviafl.com
SUMMARY:Trivia
DESCRIPTION:
URL:https://epictriviafl.com/event/trivia-rooster/2027-03-05/
LOCATION:Just One More Rooster\, 1382 Howland Blvd\, Deltona\, FL 32738 USA
GEO:28.9035877;-81.1716624
X-APPLE-STRUCTURED-LOCATION;VALUE=URI;X-ADDRESS=Just One More Rooster 1382 Howland Blvd Deltona FL 32738 USA;X-APPLE-RADIUS=500;X-TITLE=1382 Howland Blvd\, Deltona\, FL 32738 USA:geo:-81.1716624,28.9035877
END:VEVENT
BEGIN:VEVENT
DTSTART;TZID=America/New_York:20270312T183000
DTEND;TZID=America/New_York:20270312T183000
DTSTAMP:20260419T200114
CREATED:20260105T003218Z
LAST-MODIFIED:20260105T053829Z
UID:10009944-1804876200-1804876200@epictriviafl.com
SUMMARY:Trivia
DESCRIPTION:
URL:https://epictriviafl.com/event/trivia-rooster/2027-03-12/
LOCATION:Just One More Rooster\, 1382 Howland Blvd\, Deltona\, FL 32738 USA
GEO:28.9035877;-81.1716624
X-APPLE-STRUCTURED-LOCATION;VALUE=URI;X-ADDRESS=Just One More Rooster 1382 Howland Blvd Deltona FL 32738 USA;X-APPLE-RADIUS=500;X-TITLE=1382 Howland Blvd\, Deltona\, FL 32738 USA:geo:-81.1716624,28.9035877
END:VEVENT
BEGIN:VEVENT
DTSTART;TZID=America/New_York:20270319T183000
DTEND;TZID=America/New_York:20270319T183000
DTSTAMP:20260419T200114
CREATED:20260105T003218Z
LAST-MODIFIED:20260105T053829Z
UID:10009945-1805481000-1805481000@epictriviafl.com
SUMMARY:Trivia
DESCRIPTION:
URL:https://epictriviafl.com/event/trivia-rooster/2027-03-19/
LOCATION:Just One More Rooster\, 1382 Howland Blvd\, Deltona\, FL 32738 USA
GEO:28.9035877;-81.1716624
X-APPLE-STRUCTURED-LOCATION;VALUE=URI;X-ADDRESS=Just One More Rooster 1382 Howland Blvd Deltona FL 32738 USA;X-APPLE-RADIUS=500;X-TITLE=1382 Howland Blvd\, Deltona\, FL 32738 USA:geo:-81.1716624,28.9035877
END:VEVENT
BEGIN:VEVENT
DTSTART;TZID=America/New_York:20270326T183000
DTEND;TZID=America/New_York:20270326T183000
DTSTAMP:20260419T200114
CREATED:20260105T003218Z
LAST-MODIFIED:20260105T053829Z
UID:10009946-1806085800-1806085800@epictriviafl.com
SUMMARY:Trivia
DESCRIPTION:
URL:https://epictriviafl.com/event/trivia-rooster/2027-03-26/
LOCATION:Just One More Rooster\, 1382 Howland Blvd\, Deltona\, FL 32738 USA
GEO:28.9035877;-81.1716624
X-APPLE-STRUCTURED-LOCATION;VALUE=URI;X-ADDRESS=Just One More Rooster 1382 Howland Blvd Deltona FL 32738 USA;X-APPLE-RADIUS=500;X-TITLE=1382 Howland Blvd\, Deltona\, FL 32738 USA:geo:-81.1716624,28.9035877
END:VEVENT
BEGIN:VEVENT
DTSTART;TZID=America/New_York:20270402T183000
DTEND;TZID=America/New_York:20270402T183000
DTSTAMP:20260419T200114
CREATED:20260105T003218Z
LAST-MODIFIED:20260105T053829Z
UID:10009947-1806690600-1806690600@epictriviafl.com
SUMMARY:Trivia
DESCRIPTION:
URL:https://epictriviafl.com/event/trivia-rooster/2027-04-02/
LOCATION:Just One More Rooster\, 1382 Howland Blvd\, Deltona\, FL 32738 USA
GEO:28.9035877;-81.1716624
X-APPLE-STRUCTURED-LOCATION;VALUE=URI;X-ADDRESS=Just One More Rooster 1382 Howland Blvd Deltona FL 32738 USA;X-APPLE-RADIUS=500;X-TITLE=1382 Howland Blvd\, Deltona\, FL 32738 USA:geo:-81.1716624,28.9035877
END:VEVENT
BEGIN:VEVENT
DTSTART;TZID=America/New_York:20270409T183000
DTEND;TZID=America/New_York:20270409T183000
DTSTAMP:20260419T200114
CREATED:20260105T003218Z
LAST-MODIFIED:20260105T053829Z
UID:10009948-1807295400-1807295400@epictriviafl.com
SUMMARY:Trivia
DESCRIPTION:
URL:https://epictriviafl.com/event/trivia-rooster/2027-04-09/
LOCATION:Just One More Rooster\, 1382 Howland Blvd\, Deltona\, FL 32738 USA
GEO:28.9035877;-81.1716624
X-APPLE-STRUCTURED-LOCATION;VALUE=URI;X-ADDRESS=Just One More Rooster 1382 Howland Blvd Deltona FL 32738 USA;X-APPLE-RADIUS=500;X-TITLE=1382 Howland Blvd\, Deltona\, FL 32738 USA:geo:-81.1716624,28.9035877
END:VEVENT
BEGIN:VEVENT
DTSTART;TZID=America/New_York:20270416T183000
DTEND;TZID=America/New_York:20270416T183000
DTSTAMP:20260419T200114
CREATED:20260105T003218Z
LAST-MODIFIED:20260105T053829Z
UID:10009949-1807900200-1807900200@epictriviafl.com
SUMMARY:Trivia
DESCRIPTION:
URL:https://epictriviafl.com/event/trivia-rooster/2027-04-16/
LOCATION:Just One More Rooster\, 1382 Howland Blvd\, Deltona\, FL 32738 USA
GEO:28.9035877;-81.1716624
X-APPLE-STRUCTURED-LOCATION;VALUE=URI;X-ADDRESS=Just One More Rooster 1382 Howland Blvd Deltona FL 32738 USA;X-APPLE-RADIUS=500;X-TITLE=1382 Howland Blvd\, Deltona\, FL 32738 USA:geo:-81.1716624,28.9035877
END:VEVENT
BEGIN:VEVENT
DTSTART;TZID=America/New_York:20270423T183000
DTEND;TZID=America/New_York:20270423T183000
DTSTAMP:20260419T200114
CREATED:20260105T003218Z
LAST-MODIFIED:20260105T053829Z
UID:10009950-1808505000-1808505000@epictriviafl.com
SUMMARY:Trivia
DESCRIPTION:
URL:https://epictriviafl.com/event/trivia-rooster/2027-04-23/
LOCATION:Just One More Rooster\, 1382 Howland Blvd\, Deltona\, FL 32738 USA
GEO:28.9035877;-81.1716624
X-APPLE-STRUCTURED-LOCATION;VALUE=URI;X-ADDRESS=Just One More Rooster 1382 Howland Blvd Deltona FL 32738 USA;X-APPLE-RADIUS=500;X-TITLE=1382 Howland Blvd\, Deltona\, FL 32738 USA:geo:-81.1716624,28.9035877
END:VEVENT
BEGIN:VEVENT
DTSTART;TZID=America/New_York:20270430T183000
DTEND;TZID=America/New_York:20270430T183000
DTSTAMP:20260419T200114
CREATED:20260105T003218Z
LAST-MODIFIED:20260105T053829Z
UID:10009951-1809109800-1809109800@epictriviafl.com
SUMMARY:Trivia
DESCRIPTION:
URL:https://epictriviafl.com/event/trivia-rooster/2027-04-30/
LOCATION:Just One More Rooster\, 1382 Howland Blvd\, Deltona\, FL 32738 USA
GEO:28.9035877;-81.1716624
X-APPLE-STRUCTURED-LOCATION;VALUE=URI;X-ADDRESS=Just One More Rooster 1382 Howland Blvd Deltona FL 32738 USA;X-APPLE-RADIUS=500;X-TITLE=1382 Howland Blvd\, Deltona\, FL 32738 USA:geo:-81.1716624,28.9035877
END:VEVENT
BEGIN:VEVENT
DTSTART;TZID=America/New_York:20270507T183000
DTEND;TZID=America/New_York:20270507T183000
DTSTAMP:20260419T200114
CREATED:20260105T003218Z
LAST-MODIFIED:20260105T053829Z
UID:10009952-1809714600-1809714600@epictriviafl.com
SUMMARY:Trivia
DESCRIPTION:
URL:https://epictriviafl.com/event/trivia-rooster/2027-05-07/
LOCATION:Just One More Rooster\, 1382 Howland Blvd\, Deltona\, FL 32738 USA
GEO:28.9035877;-81.1716624
X-APPLE-STRUCTURED-LOCATION;VALUE=URI;X-ADDRESS=Just One More Rooster 1382 Howland Blvd Deltona FL 32738 USA;X-APPLE-RADIUS=500;X-TITLE=1382 Howland Blvd\, Deltona\, FL 32738 USA:geo:-81.1716624,28.9035877
END:VEVENT
BEGIN:VEVENT
DTSTART;TZID=America/New_York:20270514T183000
DTEND;TZID=America/New_York:20270514T183000
DTSTAMP:20260419T200114
CREATED:20260105T003218Z
LAST-MODIFIED:20260105T053829Z
UID:10009953-1810319400-1810319400@epictriviafl.com
SUMMARY:Trivia
DESCRIPTION:
URL:https://epictriviafl.com/event/trivia-rooster/2027-05-14/
LOCATION:Just One More Rooster\, 1382 Howland Blvd\, Deltona\, FL 32738 USA
GEO:28.9035877;-81.1716624
X-APPLE-STRUCTURED-LOCATION;VALUE=URI;X-ADDRESS=Just One More Rooster 1382 Howland Blvd Deltona FL 32738 USA;X-APPLE-RADIUS=500;X-TITLE=1382 Howland Blvd\, Deltona\, FL 32738 USA:geo:-81.1716624,28.9035877
END:VEVENT
BEGIN:VEVENT
DTSTART;TZID=America/New_York:20270521T183000
DTEND;TZID=America/New_York:20270521T183000
DTSTAMP:20260419T200114
CREATED:20260105T003218Z
LAST-MODIFIED:20260105T053829Z
UID:10009954-1810924200-1810924200@epictriviafl.com
SUMMARY:Trivia
DESCRIPTION:
URL:https://epictriviafl.com/event/trivia-rooster/2027-05-21/
LOCATION:Just One More Rooster\, 1382 Howland Blvd\, Deltona\, FL 32738 USA
GEO:28.9035877;-81.1716624
X-APPLE-STRUCTURED-LOCATION;VALUE=URI;X-ADDRESS=Just One More Rooster 1382 Howland Blvd Deltona FL 32738 USA;X-APPLE-RADIUS=500;X-TITLE=1382 Howland Blvd\, Deltona\, FL 32738 USA:geo:-81.1716624,28.9035877
END:VEVENT
BEGIN:VEVENT
DTSTART;TZID=America/New_York:20270528T183000
DTEND;TZID=America/New_York:20270528T183000
DTSTAMP:20260419T200114
CREATED:20260105T003218Z
LAST-MODIFIED:20260105T053829Z
UID:10009955-1811529000-1811529000@epictriviafl.com
SUMMARY:Trivia
DESCRIPTION:
URL:https://epictriviafl.com/event/trivia-rooster/2027-05-28/
LOCATION:Just One More Rooster\, 1382 Howland Blvd\, Deltona\, FL 32738 USA
GEO:28.9035877;-81.1716624
X-APPLE-STRUCTURED-LOCATION;VALUE=URI;X-ADDRESS=Just One More Rooster 1382 Howland Blvd Deltona FL 32738 USA;X-APPLE-RADIUS=500;X-TITLE=1382 Howland Blvd\, Deltona\, FL 32738 USA:geo:-81.1716624,28.9035877
END:VEVENT
BEGIN:VEVENT
DTSTART;TZID=America/New_York:20270604T183000
DTEND;TZID=America/New_York:20270604T183000
DTSTAMP:20260419T200114
CREATED:20260105T003218Z
LAST-MODIFIED:20260105T053829Z
UID:10009956-1812133800-1812133800@epictriviafl.com
SUMMARY:Trivia
DESCRIPTION:
URL:https://epictriviafl.com/event/trivia-rooster/2027-06-04/
LOCATION:Just One More Rooster\, 1382 Howland Blvd\, Deltona\, FL 32738 USA
GEO:28.9035877;-81.1716624
X-APPLE-STRUCTURED-LOCATION;VALUE=URI;X-ADDRESS=Just One More Rooster 1382 Howland Blvd Deltona FL 32738 USA;X-APPLE-RADIUS=500;X-TITLE=1382 Howland Blvd\, Deltona\, FL 32738 USA:geo:-81.1716624,28.9035877
END:VEVENT
BEGIN:VEVENT
DTSTART;TZID=America/New_York:20270611T183000
DTEND;TZID=America/New_York:20270611T183000
DTSTAMP:20260419T200114
CREATED:20260105T003218Z
LAST-MODIFIED:20260105T053829Z
UID:10009957-1812738600-1812738600@epictriviafl.com
SUMMARY:Trivia
DESCRIPTION:
URL:https://epictriviafl.com/event/trivia-rooster/2027-06-11/
LOCATION:Just One More Rooster\, 1382 Howland Blvd\, Deltona\, FL 32738 USA
GEO:28.9035877;-81.1716624
X-APPLE-STRUCTURED-LOCATION;VALUE=URI;X-ADDRESS=Just One More Rooster 1382 Howland Blvd Deltona FL 32738 USA;X-APPLE-RADIUS=500;X-TITLE=1382 Howland Blvd\, Deltona\, FL 32738 USA:geo:-81.1716624,28.9035877
END:VEVENT
BEGIN:VEVENT
DTSTART;TZID=America/New_York:20270618T183000
DTEND;TZID=America/New_York:20270618T183000
DTSTAMP:20260419T200114
CREATED:20260105T003218Z
LAST-MODIFIED:20260105T053829Z
UID:10009958-1813343400-1813343400@epictriviafl.com
SUMMARY:Trivia
DESCRIPTION:
URL:https://epictriviafl.com/event/trivia-rooster/2027-06-18/
LOCATION:Just One More Rooster\, 1382 Howland Blvd\, Deltona\, FL 32738 USA
GEO:28.9035877;-81.1716624
X-APPLE-STRUCTURED-LOCATION;VALUE=URI;X-ADDRESS=Just One More Rooster 1382 Howland Blvd Deltona FL 32738 USA;X-APPLE-RADIUS=500;X-TITLE=1382 Howland Blvd\, Deltona\, FL 32738 USA:geo:-81.1716624,28.9035877
END:VEVENT
BEGIN:VEVENT
DTSTART;TZID=America/New_York:20270625T183000
DTEND;TZID=America/New_York:20270625T183000
DTSTAMP:20260419T200114
CREATED:20260105T003218Z
LAST-MODIFIED:20260105T053829Z
UID:10009959-1813948200-1813948200@epictriviafl.com
SUMMARY:Trivia
DESCRIPTION:
URL:https://epictriviafl.com/event/trivia-rooster/2027-06-25/
LOCATION:Just One More Rooster\, 1382 Howland Blvd\, Deltona\, FL 32738 USA
GEO:28.9035877;-81.1716624
X-APPLE-STRUCTURED-LOCATION;VALUE=URI;X-ADDRESS=Just One More Rooster 1382 Howland Blvd Deltona FL 32738 USA;X-APPLE-RADIUS=500;X-TITLE=1382 Howland Blvd\, Deltona\, FL 32738 USA:geo:-81.1716624,28.9035877
END:VEVENT
BEGIN:VEVENT
DTSTART;TZID=America/New_York:20270702T183000
DTEND;TZID=America/New_York:20270702T183000
DTSTAMP:20260419T200114
CREATED:20260105T003218Z
LAST-MODIFIED:20260105T053829Z
UID:10009960-1814553000-1814553000@epictriviafl.com
SUMMARY:Trivia
DESCRIPTION:
URL:https://epictriviafl.com/event/trivia-rooster/2027-07-02/
LOCATION:Just One More Rooster\, 1382 Howland Blvd\, Deltona\, FL 32738 USA
GEO:28.9035877;-81.1716624
X-APPLE-STRUCTURED-LOCATION;VALUE=URI;X-ADDRESS=Just One More Rooster 1382 Howland Blvd Deltona FL 32738 USA;X-APPLE-RADIUS=500;X-TITLE=1382 Howland Blvd\, Deltona\, FL 32738 USA:geo:-81.1716624,28.9035877
END:VEVENT
BEGIN:VEVENT
DTSTART;TZID=America/New_York:20270709T183000
DTEND;TZID=America/New_York:20270709T183000
DTSTAMP:20260419T200114
CREATED:20260105T003218Z
LAST-MODIFIED:20260105T053829Z
UID:10009961-1815157800-1815157800@epictriviafl.com
SUMMARY:Trivia
DESCRIPTION:
URL:https://epictriviafl.com/event/trivia-rooster/2027-07-09/
LOCATION:Just One More Rooster\, 1382 Howland Blvd\, Deltona\, FL 32738 USA
GEO:28.9035877;-81.1716624
X-APPLE-STRUCTURED-LOCATION;VALUE=URI;X-ADDRESS=Just One More Rooster 1382 Howland Blvd Deltona FL 32738 USA;X-APPLE-RADIUS=500;X-TITLE=1382 Howland Blvd\, Deltona\, FL 32738 USA:geo:-81.1716624,28.9035877
END:VEVENT
BEGIN:VEVENT
DTSTART;TZID=America/New_York:20270716T183000
DTEND;TZID=America/New_York:20270716T183000
DTSTAMP:20260419T200114
CREATED:20260105T003218Z
LAST-MODIFIED:20260105T053829Z
UID:10009962-1815762600-1815762600@epictriviafl.com
SUMMARY:Trivia
DESCRIPTION:
URL:https://epictriviafl.com/event/trivia-rooster/2027-07-16/
LOCATION:Just One More Rooster\, 1382 Howland Blvd\, Deltona\, FL 32738 USA
GEO:28.9035877;-81.1716624
X-APPLE-STRUCTURED-LOCATION;VALUE=URI;X-ADDRESS=Just One More Rooster 1382 Howland Blvd Deltona FL 32738 USA;X-APPLE-RADIUS=500;X-TITLE=1382 Howland Blvd\, Deltona\, FL 32738 USA:geo:-81.1716624,28.9035877
END:VEVENT
BEGIN:VEVENT
DTSTART;TZID=America/New_York:20270723T183000
DTEND;TZID=America/New_York:20270723T183000
DTSTAMP:20260419T200114
CREATED:20260105T003218Z
LAST-MODIFIED:20260105T053829Z
UID:10009963-1816367400-1816367400@epictriviafl.com
SUMMARY:Trivia
DESCRIPTION:
URL:https://epictriviafl.com/event/trivia-rooster/2027-07-23/
LOCATION:Just One More Rooster\, 1382 Howland Blvd\, Deltona\, FL 32738 USA
GEO:28.9035877;-81.1716624
X-APPLE-STRUCTURED-LOCATION;VALUE=URI;X-ADDRESS=Just One More Rooster 1382 Howland Blvd Deltona FL 32738 USA;X-APPLE-RADIUS=500;X-TITLE=1382 Howland Blvd\, Deltona\, FL 32738 USA:geo:-81.1716624,28.9035877
END:VEVENT
END:VCALENDAR