BEGIN:VCALENDAR
VERSION:2.0
PRODID:-//Epic Trivia - ECPv6.15.18//NONSGML v1.0//EN
CALSCALE:GREGORIAN
METHOD:PUBLISH
X-ORIGINAL-URL:https://epictriviafl.com
X-WR-CALDESC:Events for Epic Trivia
REFRESH-INTERVAL;VALUE=DURATION:PT1H
X-Robots-Tag:noindex
X-PUBLISHED-TTL:PT1H
BEGIN:VTIMEZONE
TZID:America/New_York
BEGIN:DAYLIGHT
TZOFFSETFROM:-0500
TZOFFSETTO:-0400
TZNAME:EDT
DTSTART:20280312T070000
END:DAYLIGHT
BEGIN:STANDARD
TZOFFSETFROM:-0400
TZOFFSETTO:-0500
TZNAME:EST
DTSTART:20281105T060000
END:STANDARD
BEGIN:DAYLIGHT
TZOFFSETFROM:-0500
TZOFFSETTO:-0400
TZNAME:EDT
DTSTART:20290311T070000
END:DAYLIGHT
BEGIN:STANDARD
TZOFFSETFROM:-0400
TZOFFSETTO:-0500
TZNAME:EST
DTSTART:20291104T060000
END:STANDARD
BEGIN:DAYLIGHT
TZOFFSETFROM:-0500
TZOFFSETTO:-0400
TZNAME:EDT
DTSTART:20300310T070000
END:DAYLIGHT
BEGIN:STANDARD
TZOFFSETFROM:-0400
TZOFFSETTO:-0500
TZNAME:EST
DTSTART:20301103T060000
END:STANDARD
END:VTIMEZONE
BEGIN:VEVENT
DTSTART;TZID=America/New_York:20290126T183000
DTEND;TZID=America/New_York:20290126T183000
DTSTAMP:20260420T094735
CREATED:20260105T003218Z
LAST-MODIFIED:20260105T053829Z
UID:10010042-1864146600-1864146600@epictriviafl.com
SUMMARY:Trivia
DESCRIPTION:
URL:https://epictriviafl.com/event/trivia-rooster/2029-01-26/
LOCATION:Just One More Rooster\, 1382 Howland Blvd\, Deltona\, FL 32738 USA
GEO:28.9035877;-81.1716624
X-APPLE-STRUCTURED-LOCATION;VALUE=URI;X-ADDRESS=Just One More Rooster 1382 Howland Blvd Deltona FL 32738 USA;X-APPLE-RADIUS=500;X-TITLE=1382 Howland Blvd\, Deltona\, FL 32738 USA:geo:-81.1716624,28.9035877
END:VEVENT
BEGIN:VEVENT
DTSTART;TZID=America/New_York:20290202T183000
DTEND;TZID=America/New_York:20290202T183000
DTSTAMP:20260420T094735
CREATED:20260105T003218Z
LAST-MODIFIED:20260105T053829Z
UID:10010043-1864751400-1864751400@epictriviafl.com
SUMMARY:Trivia
DESCRIPTION:
URL:https://epictriviafl.com/event/trivia-rooster/2029-02-02/
LOCATION:Just One More Rooster\, 1382 Howland Blvd\, Deltona\, FL 32738 USA
GEO:28.9035877;-81.1716624
X-APPLE-STRUCTURED-LOCATION;VALUE=URI;X-ADDRESS=Just One More Rooster 1382 Howland Blvd Deltona FL 32738 USA;X-APPLE-RADIUS=500;X-TITLE=1382 Howland Blvd\, Deltona\, FL 32738 USA:geo:-81.1716624,28.9035877
END:VEVENT
BEGIN:VEVENT
DTSTART;TZID=America/New_York:20290209T183000
DTEND;TZID=America/New_York:20290209T183000
DTSTAMP:20260420T094735
CREATED:20260105T003218Z
LAST-MODIFIED:20260105T053829Z
UID:10010044-1865356200-1865356200@epictriviafl.com
SUMMARY:Trivia
DESCRIPTION:
URL:https://epictriviafl.com/event/trivia-rooster/2029-02-09/
LOCATION:Just One More Rooster\, 1382 Howland Blvd\, Deltona\, FL 32738 USA
GEO:28.9035877;-81.1716624
X-APPLE-STRUCTURED-LOCATION;VALUE=URI;X-ADDRESS=Just One More Rooster 1382 Howland Blvd Deltona FL 32738 USA;X-APPLE-RADIUS=500;X-TITLE=1382 Howland Blvd\, Deltona\, FL 32738 USA:geo:-81.1716624,28.9035877
END:VEVENT
BEGIN:VEVENT
DTSTART;TZID=America/New_York:20290216T183000
DTEND;TZID=America/New_York:20290216T183000
DTSTAMP:20260420T094735
CREATED:20260105T003218Z
LAST-MODIFIED:20260105T053829Z
UID:10010045-1865961000-1865961000@epictriviafl.com
SUMMARY:Trivia
DESCRIPTION:
URL:https://epictriviafl.com/event/trivia-rooster/2029-02-16/
LOCATION:Just One More Rooster\, 1382 Howland Blvd\, Deltona\, FL 32738 USA
GEO:28.9035877;-81.1716624
X-APPLE-STRUCTURED-LOCATION;VALUE=URI;X-ADDRESS=Just One More Rooster 1382 Howland Blvd Deltona FL 32738 USA;X-APPLE-RADIUS=500;X-TITLE=1382 Howland Blvd\, Deltona\, FL 32738 USA:geo:-81.1716624,28.9035877
END:VEVENT
BEGIN:VEVENT
DTSTART;TZID=America/New_York:20290223T183000
DTEND;TZID=America/New_York:20290223T183000
DTSTAMP:20260420T094735
CREATED:20260105T003218Z
LAST-MODIFIED:20260105T053829Z
UID:10010046-1866565800-1866565800@epictriviafl.com
SUMMARY:Trivia
DESCRIPTION:
URL:https://epictriviafl.com/event/trivia-rooster/2029-02-23/
LOCATION:Just One More Rooster\, 1382 Howland Blvd\, Deltona\, FL 32738 USA
GEO:28.9035877;-81.1716624
X-APPLE-STRUCTURED-LOCATION;VALUE=URI;X-ADDRESS=Just One More Rooster 1382 Howland Blvd Deltona FL 32738 USA;X-APPLE-RADIUS=500;X-TITLE=1382 Howland Blvd\, Deltona\, FL 32738 USA:geo:-81.1716624,28.9035877
END:VEVENT
BEGIN:VEVENT
DTSTART;TZID=America/New_York:20290302T183000
DTEND;TZID=America/New_York:20290302T183000
DTSTAMP:20260420T094735
CREATED:20260105T003218Z
LAST-MODIFIED:20260105T053829Z
UID:10010047-1867170600-1867170600@epictriviafl.com
SUMMARY:Trivia
DESCRIPTION:
URL:https://epictriviafl.com/event/trivia-rooster/2029-03-02/
LOCATION:Just One More Rooster\, 1382 Howland Blvd\, Deltona\, FL 32738 USA
GEO:28.9035877;-81.1716624
X-APPLE-STRUCTURED-LOCATION;VALUE=URI;X-ADDRESS=Just One More Rooster 1382 Howland Blvd Deltona FL 32738 USA;X-APPLE-RADIUS=500;X-TITLE=1382 Howland Blvd\, Deltona\, FL 32738 USA:geo:-81.1716624,28.9035877
END:VEVENT
BEGIN:VEVENT
DTSTART;TZID=America/New_York:20290309T183000
DTEND;TZID=America/New_York:20290309T183000
DTSTAMP:20260420T094735
CREATED:20260105T003218Z
LAST-MODIFIED:20260105T053829Z
UID:10010048-1867775400-1867775400@epictriviafl.com
SUMMARY:Trivia
DESCRIPTION:
URL:https://epictriviafl.com/event/trivia-rooster/2029-03-09/
LOCATION:Just One More Rooster\, 1382 Howland Blvd\, Deltona\, FL 32738 USA
GEO:28.9035877;-81.1716624
X-APPLE-STRUCTURED-LOCATION;VALUE=URI;X-ADDRESS=Just One More Rooster 1382 Howland Blvd Deltona FL 32738 USA;X-APPLE-RADIUS=500;X-TITLE=1382 Howland Blvd\, Deltona\, FL 32738 USA:geo:-81.1716624,28.9035877
END:VEVENT
BEGIN:VEVENT
DTSTART;TZID=America/New_York:20290316T183000
DTEND;TZID=America/New_York:20290316T183000
DTSTAMP:20260420T094735
CREATED:20260105T003218Z
LAST-MODIFIED:20260105T053829Z
UID:10010049-1868380200-1868380200@epictriviafl.com
SUMMARY:Trivia
DESCRIPTION:
URL:https://epictriviafl.com/event/trivia-rooster/2029-03-16/
LOCATION:Just One More Rooster\, 1382 Howland Blvd\, Deltona\, FL 32738 USA
GEO:28.9035877;-81.1716624
X-APPLE-STRUCTURED-LOCATION;VALUE=URI;X-ADDRESS=Just One More Rooster 1382 Howland Blvd Deltona FL 32738 USA;X-APPLE-RADIUS=500;X-TITLE=1382 Howland Blvd\, Deltona\, FL 32738 USA:geo:-81.1716624,28.9035877
END:VEVENT
BEGIN:VEVENT
DTSTART;TZID=America/New_York:20290323T183000
DTEND;TZID=America/New_York:20290323T183000
DTSTAMP:20260420T094735
CREATED:20260105T003218Z
LAST-MODIFIED:20260105T053829Z
UID:10010050-1868985000-1868985000@epictriviafl.com
SUMMARY:Trivia
DESCRIPTION:
URL:https://epictriviafl.com/event/trivia-rooster/2029-03-23/
LOCATION:Just One More Rooster\, 1382 Howland Blvd\, Deltona\, FL 32738 USA
GEO:28.9035877;-81.1716624
X-APPLE-STRUCTURED-LOCATION;VALUE=URI;X-ADDRESS=Just One More Rooster 1382 Howland Blvd Deltona FL 32738 USA;X-APPLE-RADIUS=500;X-TITLE=1382 Howland Blvd\, Deltona\, FL 32738 USA:geo:-81.1716624,28.9035877
END:VEVENT
BEGIN:VEVENT
DTSTART;TZID=America/New_York:20290330T183000
DTEND;TZID=America/New_York:20290330T183000
DTSTAMP:20260420T094735
CREATED:20260105T003218Z
LAST-MODIFIED:20260105T053829Z
UID:10010051-1869589800-1869589800@epictriviafl.com
SUMMARY:Trivia
DESCRIPTION:
URL:https://epictriviafl.com/event/trivia-rooster/2029-03-30/
LOCATION:Just One More Rooster\, 1382 Howland Blvd\, Deltona\, FL 32738 USA
GEO:28.9035877;-81.1716624
X-APPLE-STRUCTURED-LOCATION;VALUE=URI;X-ADDRESS=Just One More Rooster 1382 Howland Blvd Deltona FL 32738 USA;X-APPLE-RADIUS=500;X-TITLE=1382 Howland Blvd\, Deltona\, FL 32738 USA:geo:-81.1716624,28.9035877
END:VEVENT
BEGIN:VEVENT
DTSTART;TZID=America/New_York:20290406T183000
DTEND;TZID=America/New_York:20290406T183000
DTSTAMP:20260420T094735
CREATED:20260105T003218Z
LAST-MODIFIED:20260105T053829Z
UID:10010052-1870194600-1870194600@epictriviafl.com
SUMMARY:Trivia
DESCRIPTION:
URL:https://epictriviafl.com/event/trivia-rooster/2029-04-06/
LOCATION:Just One More Rooster\, 1382 Howland Blvd\, Deltona\, FL 32738 USA
GEO:28.9035877;-81.1716624
X-APPLE-STRUCTURED-LOCATION;VALUE=URI;X-ADDRESS=Just One More Rooster 1382 Howland Blvd Deltona FL 32738 USA;X-APPLE-RADIUS=500;X-TITLE=1382 Howland Blvd\, Deltona\, FL 32738 USA:geo:-81.1716624,28.9035877
END:VEVENT
BEGIN:VEVENT
DTSTART;TZID=America/New_York:20290413T183000
DTEND;TZID=America/New_York:20290413T183000
DTSTAMP:20260420T094735
CREATED:20260105T003218Z
LAST-MODIFIED:20260105T053829Z
UID:10010053-1870799400-1870799400@epictriviafl.com
SUMMARY:Trivia
DESCRIPTION:
URL:https://epictriviafl.com/event/trivia-rooster/2029-04-13/
LOCATION:Just One More Rooster\, 1382 Howland Blvd\, Deltona\, FL 32738 USA
GEO:28.9035877;-81.1716624
X-APPLE-STRUCTURED-LOCATION;VALUE=URI;X-ADDRESS=Just One More Rooster 1382 Howland Blvd Deltona FL 32738 USA;X-APPLE-RADIUS=500;X-TITLE=1382 Howland Blvd\, Deltona\, FL 32738 USA:geo:-81.1716624,28.9035877
END:VEVENT
BEGIN:VEVENT
DTSTART;TZID=America/New_York:20290420T183000
DTEND;TZID=America/New_York:20290420T183000
DTSTAMP:20260420T094735
CREATED:20260105T003218Z
LAST-MODIFIED:20260105T053829Z
UID:10010054-1871404200-1871404200@epictriviafl.com
SUMMARY:Trivia
DESCRIPTION:
URL:https://epictriviafl.com/event/trivia-rooster/2029-04-20/
LOCATION:Just One More Rooster\, 1382 Howland Blvd\, Deltona\, FL 32738 USA
GEO:28.9035877;-81.1716624
X-APPLE-STRUCTURED-LOCATION;VALUE=URI;X-ADDRESS=Just One More Rooster 1382 Howland Blvd Deltona FL 32738 USA;X-APPLE-RADIUS=500;X-TITLE=1382 Howland Blvd\, Deltona\, FL 32738 USA:geo:-81.1716624,28.9035877
END:VEVENT
BEGIN:VEVENT
DTSTART;TZID=America/New_York:20290427T183000
DTEND;TZID=America/New_York:20290427T183000
DTSTAMP:20260420T094735
CREATED:20260105T003218Z
LAST-MODIFIED:20260105T053829Z
UID:10010055-1872009000-1872009000@epictriviafl.com
SUMMARY:Trivia
DESCRIPTION:
URL:https://epictriviafl.com/event/trivia-rooster/2029-04-27/
LOCATION:Just One More Rooster\, 1382 Howland Blvd\, Deltona\, FL 32738 USA
GEO:28.9035877;-81.1716624
X-APPLE-STRUCTURED-LOCATION;VALUE=URI;X-ADDRESS=Just One More Rooster 1382 Howland Blvd Deltona FL 32738 USA;X-APPLE-RADIUS=500;X-TITLE=1382 Howland Blvd\, Deltona\, FL 32738 USA:geo:-81.1716624,28.9035877
END:VEVENT
BEGIN:VEVENT
DTSTART;TZID=America/New_York:20290504T183000
DTEND;TZID=America/New_York:20290504T183000
DTSTAMP:20260420T094735
CREATED:20260105T003218Z
LAST-MODIFIED:20260105T053829Z
UID:10010056-1872613800-1872613800@epictriviafl.com
SUMMARY:Trivia
DESCRIPTION:
URL:https://epictriviafl.com/event/trivia-rooster/2029-05-04/
LOCATION:Just One More Rooster\, 1382 Howland Blvd\, Deltona\, FL 32738 USA
GEO:28.9035877;-81.1716624
X-APPLE-STRUCTURED-LOCATION;VALUE=URI;X-ADDRESS=Just One More Rooster 1382 Howland Blvd Deltona FL 32738 USA;X-APPLE-RADIUS=500;X-TITLE=1382 Howland Blvd\, Deltona\, FL 32738 USA:geo:-81.1716624,28.9035877
END:VEVENT
BEGIN:VEVENT
DTSTART;TZID=America/New_York:20290511T183000
DTEND;TZID=America/New_York:20290511T183000
DTSTAMP:20260420T094735
CREATED:20260105T003218Z
LAST-MODIFIED:20260105T053829Z
UID:10010057-1873218600-1873218600@epictriviafl.com
SUMMARY:Trivia
DESCRIPTION:
URL:https://epictriviafl.com/event/trivia-rooster/2029-05-11/
LOCATION:Just One More Rooster\, 1382 Howland Blvd\, Deltona\, FL 32738 USA
GEO:28.9035877;-81.1716624
X-APPLE-STRUCTURED-LOCATION;VALUE=URI;X-ADDRESS=Just One More Rooster 1382 Howland Blvd Deltona FL 32738 USA;X-APPLE-RADIUS=500;X-TITLE=1382 Howland Blvd\, Deltona\, FL 32738 USA:geo:-81.1716624,28.9035877
END:VEVENT
BEGIN:VEVENT
DTSTART;TZID=America/New_York:20290518T183000
DTEND;TZID=America/New_York:20290518T183000
DTSTAMP:20260420T094735
CREATED:20260105T003218Z
LAST-MODIFIED:20260105T053829Z
UID:10010058-1873823400-1873823400@epictriviafl.com
SUMMARY:Trivia
DESCRIPTION:
URL:https://epictriviafl.com/event/trivia-rooster/2029-05-18/
LOCATION:Just One More Rooster\, 1382 Howland Blvd\, Deltona\, FL 32738 USA
GEO:28.9035877;-81.1716624
X-APPLE-STRUCTURED-LOCATION;VALUE=URI;X-ADDRESS=Just One More Rooster 1382 Howland Blvd Deltona FL 32738 USA;X-APPLE-RADIUS=500;X-TITLE=1382 Howland Blvd\, Deltona\, FL 32738 USA:geo:-81.1716624,28.9035877
END:VEVENT
BEGIN:VEVENT
DTSTART;TZID=America/New_York:20290525T183000
DTEND;TZID=America/New_York:20290525T183000
DTSTAMP:20260420T094735
CREATED:20260105T003218Z
LAST-MODIFIED:20260105T053829Z
UID:10010059-1874428200-1874428200@epictriviafl.com
SUMMARY:Trivia
DESCRIPTION:
URL:https://epictriviafl.com/event/trivia-rooster/2029-05-25/
LOCATION:Just One More Rooster\, 1382 Howland Blvd\, Deltona\, FL 32738 USA
GEO:28.9035877;-81.1716624
X-APPLE-STRUCTURED-LOCATION;VALUE=URI;X-ADDRESS=Just One More Rooster 1382 Howland Blvd Deltona FL 32738 USA;X-APPLE-RADIUS=500;X-TITLE=1382 Howland Blvd\, Deltona\, FL 32738 USA:geo:-81.1716624,28.9035877
END:VEVENT
BEGIN:VEVENT
DTSTART;TZID=America/New_York:20290601T183000
DTEND;TZID=America/New_York:20290601T183000
DTSTAMP:20260420T094735
CREATED:20260105T003218Z
LAST-MODIFIED:20260105T053829Z
UID:10010060-1875033000-1875033000@epictriviafl.com
SUMMARY:Trivia
DESCRIPTION:
URL:https://epictriviafl.com/event/trivia-rooster/2029-06-01/
LOCATION:Just One More Rooster\, 1382 Howland Blvd\, Deltona\, FL 32738 USA
GEO:28.9035877;-81.1716624
X-APPLE-STRUCTURED-LOCATION;VALUE=URI;X-ADDRESS=Just One More Rooster 1382 Howland Blvd Deltona FL 32738 USA;X-APPLE-RADIUS=500;X-TITLE=1382 Howland Blvd\, Deltona\, FL 32738 USA:geo:-81.1716624,28.9035877
END:VEVENT
BEGIN:VEVENT
DTSTART;TZID=America/New_York:20290608T183000
DTEND;TZID=America/New_York:20290608T183000
DTSTAMP:20260420T094735
CREATED:20260105T003218Z
LAST-MODIFIED:20260105T053829Z
UID:10010061-1875637800-1875637800@epictriviafl.com
SUMMARY:Trivia
DESCRIPTION:
URL:https://epictriviafl.com/event/trivia-rooster/2029-06-08/
LOCATION:Just One More Rooster\, 1382 Howland Blvd\, Deltona\, FL 32738 USA
GEO:28.9035877;-81.1716624
X-APPLE-STRUCTURED-LOCATION;VALUE=URI;X-ADDRESS=Just One More Rooster 1382 Howland Blvd Deltona FL 32738 USA;X-APPLE-RADIUS=500;X-TITLE=1382 Howland Blvd\, Deltona\, FL 32738 USA:geo:-81.1716624,28.9035877
END:VEVENT
BEGIN:VEVENT
DTSTART;TZID=America/New_York:20290615T183000
DTEND;TZID=America/New_York:20290615T183000
DTSTAMP:20260420T094735
CREATED:20260105T003218Z
LAST-MODIFIED:20260105T053829Z
UID:10010062-1876242600-1876242600@epictriviafl.com
SUMMARY:Trivia
DESCRIPTION:
URL:https://epictriviafl.com/event/trivia-rooster/2029-06-15/
LOCATION:Just One More Rooster\, 1382 Howland Blvd\, Deltona\, FL 32738 USA
GEO:28.9035877;-81.1716624
X-APPLE-STRUCTURED-LOCATION;VALUE=URI;X-ADDRESS=Just One More Rooster 1382 Howland Blvd Deltona FL 32738 USA;X-APPLE-RADIUS=500;X-TITLE=1382 Howland Blvd\, Deltona\, FL 32738 USA:geo:-81.1716624,28.9035877
END:VEVENT
BEGIN:VEVENT
DTSTART;TZID=America/New_York:20290622T183000
DTEND;TZID=America/New_York:20290622T183000
DTSTAMP:20260420T094735
CREATED:20260105T003218Z
LAST-MODIFIED:20260105T053829Z
UID:10010063-1876847400-1876847400@epictriviafl.com
SUMMARY:Trivia
DESCRIPTION:
URL:https://epictriviafl.com/event/trivia-rooster/2029-06-22/
LOCATION:Just One More Rooster\, 1382 Howland Blvd\, Deltona\, FL 32738 USA
GEO:28.9035877;-81.1716624
X-APPLE-STRUCTURED-LOCATION;VALUE=URI;X-ADDRESS=Just One More Rooster 1382 Howland Blvd Deltona FL 32738 USA;X-APPLE-RADIUS=500;X-TITLE=1382 Howland Blvd\, Deltona\, FL 32738 USA:geo:-81.1716624,28.9035877
END:VEVENT
BEGIN:VEVENT
DTSTART;TZID=America/New_York:20290629T183000
DTEND;TZID=America/New_York:20290629T183000
DTSTAMP:20260420T094735
CREATED:20260105T003218Z
LAST-MODIFIED:20260105T053829Z
UID:10010064-1877452200-1877452200@epictriviafl.com
SUMMARY:Trivia
DESCRIPTION:
URL:https://epictriviafl.com/event/trivia-rooster/2029-06-29/
LOCATION:Just One More Rooster\, 1382 Howland Blvd\, Deltona\, FL 32738 USA
GEO:28.9035877;-81.1716624
X-APPLE-STRUCTURED-LOCATION;VALUE=URI;X-ADDRESS=Just One More Rooster 1382 Howland Blvd Deltona FL 32738 USA;X-APPLE-RADIUS=500;X-TITLE=1382 Howland Blvd\, Deltona\, FL 32738 USA:geo:-81.1716624,28.9035877
END:VEVENT
BEGIN:VEVENT
DTSTART;TZID=America/New_York:20290706T183000
DTEND;TZID=America/New_York:20290706T183000
DTSTAMP:20260420T094735
CREATED:20260105T003218Z
LAST-MODIFIED:20260105T053829Z
UID:10010065-1878057000-1878057000@epictriviafl.com
SUMMARY:Trivia
DESCRIPTION:
URL:https://epictriviafl.com/event/trivia-rooster/2029-07-06/
LOCATION:Just One More Rooster\, 1382 Howland Blvd\, Deltona\, FL 32738 USA
GEO:28.9035877;-81.1716624
X-APPLE-STRUCTURED-LOCATION;VALUE=URI;X-ADDRESS=Just One More Rooster 1382 Howland Blvd Deltona FL 32738 USA;X-APPLE-RADIUS=500;X-TITLE=1382 Howland Blvd\, Deltona\, FL 32738 USA:geo:-81.1716624,28.9035877
END:VEVENT
BEGIN:VEVENT
DTSTART;TZID=America/New_York:20290713T183000
DTEND;TZID=America/New_York:20290713T183000
DTSTAMP:20260420T094735
CREATED:20260105T003218Z
LAST-MODIFIED:20260105T053829Z
UID:10010066-1878661800-1878661800@epictriviafl.com
SUMMARY:Trivia
DESCRIPTION:
URL:https://epictriviafl.com/event/trivia-rooster/2029-07-13/
LOCATION:Just One More Rooster\, 1382 Howland Blvd\, Deltona\, FL 32738 USA
GEO:28.9035877;-81.1716624
X-APPLE-STRUCTURED-LOCATION;VALUE=URI;X-ADDRESS=Just One More Rooster 1382 Howland Blvd Deltona FL 32738 USA;X-APPLE-RADIUS=500;X-TITLE=1382 Howland Blvd\, Deltona\, FL 32738 USA:geo:-81.1716624,28.9035877
END:VEVENT
BEGIN:VEVENT
DTSTART;TZID=America/New_York:20290720T183000
DTEND;TZID=America/New_York:20290720T183000
DTSTAMP:20260420T094735
CREATED:20260105T003218Z
LAST-MODIFIED:20260105T053829Z
UID:10010067-1879266600-1879266600@epictriviafl.com
SUMMARY:Trivia
DESCRIPTION:
URL:https://epictriviafl.com/event/trivia-rooster/2029-07-20/
LOCATION:Just One More Rooster\, 1382 Howland Blvd\, Deltona\, FL 32738 USA
GEO:28.9035877;-81.1716624
X-APPLE-STRUCTURED-LOCATION;VALUE=URI;X-ADDRESS=Just One More Rooster 1382 Howland Blvd Deltona FL 32738 USA;X-APPLE-RADIUS=500;X-TITLE=1382 Howland Blvd\, Deltona\, FL 32738 USA:geo:-81.1716624,28.9035877
END:VEVENT
BEGIN:VEVENT
DTSTART;TZID=America/New_York:20290727T183000
DTEND;TZID=America/New_York:20290727T183000
DTSTAMP:20260420T094735
CREATED:20260105T003218Z
LAST-MODIFIED:20260105T053829Z
UID:10010068-1879871400-1879871400@epictriviafl.com
SUMMARY:Trivia
DESCRIPTION:
URL:https://epictriviafl.com/event/trivia-rooster/2029-07-27/
LOCATION:Just One More Rooster\, 1382 Howland Blvd\, Deltona\, FL 32738 USA
GEO:28.9035877;-81.1716624
X-APPLE-STRUCTURED-LOCATION;VALUE=URI;X-ADDRESS=Just One More Rooster 1382 Howland Blvd Deltona FL 32738 USA;X-APPLE-RADIUS=500;X-TITLE=1382 Howland Blvd\, Deltona\, FL 32738 USA:geo:-81.1716624,28.9035877
END:VEVENT
BEGIN:VEVENT
DTSTART;TZID=America/New_York:20290803T183000
DTEND;TZID=America/New_York:20290803T183000
DTSTAMP:20260420T094735
CREATED:20260105T003218Z
LAST-MODIFIED:20260105T053829Z
UID:10010069-1880476200-1880476200@epictriviafl.com
SUMMARY:Trivia
DESCRIPTION:
URL:https://epictriviafl.com/event/trivia-rooster/2029-08-03/
LOCATION:Just One More Rooster\, 1382 Howland Blvd\, Deltona\, FL 32738 USA
GEO:28.9035877;-81.1716624
X-APPLE-STRUCTURED-LOCATION;VALUE=URI;X-ADDRESS=Just One More Rooster 1382 Howland Blvd Deltona FL 32738 USA;X-APPLE-RADIUS=500;X-TITLE=1382 Howland Blvd\, Deltona\, FL 32738 USA:geo:-81.1716624,28.9035877
END:VEVENT
BEGIN:VEVENT
DTSTART;TZID=America/New_York:20290810T183000
DTEND;TZID=America/New_York:20290810T183000
DTSTAMP:20260420T094735
CREATED:20260105T003218Z
LAST-MODIFIED:20260105T053829Z
UID:10010070-1881081000-1881081000@epictriviafl.com
SUMMARY:Trivia
DESCRIPTION:
URL:https://epictriviafl.com/event/trivia-rooster/2029-08-10/
LOCATION:Just One More Rooster\, 1382 Howland Blvd\, Deltona\, FL 32738 USA
GEO:28.9035877;-81.1716624
X-APPLE-STRUCTURED-LOCATION;VALUE=URI;X-ADDRESS=Just One More Rooster 1382 Howland Blvd Deltona FL 32738 USA;X-APPLE-RADIUS=500;X-TITLE=1382 Howland Blvd\, Deltona\, FL 32738 USA:geo:-81.1716624,28.9035877
END:VEVENT
BEGIN:VEVENT
DTSTART;TZID=America/New_York:20290817T183000
DTEND;TZID=America/New_York:20290817T183000
DTSTAMP:20260420T094735
CREATED:20260105T003218Z
LAST-MODIFIED:20260105T053829Z
UID:10010071-1881685800-1881685800@epictriviafl.com
SUMMARY:Trivia
DESCRIPTION:
URL:https://epictriviafl.com/event/trivia-rooster/2029-08-17/
LOCATION:Just One More Rooster\, 1382 Howland Blvd\, Deltona\, FL 32738 USA
GEO:28.9035877;-81.1716624
X-APPLE-STRUCTURED-LOCATION;VALUE=URI;X-ADDRESS=Just One More Rooster 1382 Howland Blvd Deltona FL 32738 USA;X-APPLE-RADIUS=500;X-TITLE=1382 Howland Blvd\, Deltona\, FL 32738 USA:geo:-81.1716624,28.9035877
END:VEVENT
END:VCALENDAR