BEGIN:VCALENDAR
VERSION:2.0
PRODID:-//Epic Trivia - ECPv6.15.18//NONSGML v1.0//EN
CALSCALE:GREGORIAN
METHOD:PUBLISH
X-ORIGINAL-URL:https://epictriviafl.com
X-WR-CALDESC:Events for Epic Trivia
REFRESH-INTERVAL;VALUE=DURATION:PT1H
X-Robots-Tag:noindex
X-PUBLISHED-TTL:PT1H
BEGIN:VTIMEZONE
TZID:America/New_York
BEGIN:DAYLIGHT
TZOFFSETFROM:-0500
TZOFFSETTO:-0400
TZNAME:EDT
DTSTART:20270314T070000
END:DAYLIGHT
BEGIN:STANDARD
TZOFFSETFROM:-0400
TZOFFSETTO:-0500
TZNAME:EST
DTSTART:20271107T060000
END:STANDARD
BEGIN:DAYLIGHT
TZOFFSETFROM:-0500
TZOFFSETTO:-0400
TZNAME:EDT
DTSTART:20280312T070000
END:DAYLIGHT
BEGIN:STANDARD
TZOFFSETFROM:-0400
TZOFFSETTO:-0500
TZNAME:EST
DTSTART:20281105T060000
END:STANDARD
BEGIN:DAYLIGHT
TZOFFSETFROM:-0500
TZOFFSETTO:-0400
TZNAME:EDT
DTSTART:20290311T070000
END:DAYLIGHT
BEGIN:STANDARD
TZOFFSETFROM:-0400
TZOFFSETTO:-0500
TZNAME:EST
DTSTART:20291104T060000
END:STANDARD
BEGIN:DAYLIGHT
TZOFFSETFROM:-0500
TZOFFSETTO:-0400
TZNAME:EDT
DTSTART:20300310T070000
END:DAYLIGHT
BEGIN:STANDARD
TZOFFSETFROM:-0400
TZOFFSETTO:-0500
TZNAME:EST
DTSTART:20301103T060000
END:STANDARD
END:VTIMEZONE
BEGIN:VEVENT
DTSTART;TZID=America/New_York:20280811T183000
DTEND;TZID=America/New_York:20280811T183000
DTSTAMP:20260420T070304
CREATED:20260105T003218Z
LAST-MODIFIED:20260105T053829Z
UID:10010018-1849631400-1849631400@epictriviafl.com
SUMMARY:Trivia
DESCRIPTION:
URL:https://epictriviafl.com/event/trivia-rooster/2028-08-11/
LOCATION:Just One More Rooster\, 1382 Howland Blvd\, Deltona\, FL 32738 USA
GEO:28.9035877;-81.1716624
X-APPLE-STRUCTURED-LOCATION;VALUE=URI;X-ADDRESS=Just One More Rooster 1382 Howland Blvd Deltona FL 32738 USA;X-APPLE-RADIUS=500;X-TITLE=1382 Howland Blvd\, Deltona\, FL 32738 USA:geo:-81.1716624,28.9035877
END:VEVENT
BEGIN:VEVENT
DTSTART;TZID=America/New_York:20280818T183000
DTEND;TZID=America/New_York:20280818T183000
DTSTAMP:20260420T070304
CREATED:20260105T003218Z
LAST-MODIFIED:20260105T053829Z
UID:10010019-1850236200-1850236200@epictriviafl.com
SUMMARY:Trivia
DESCRIPTION:
URL:https://epictriviafl.com/event/trivia-rooster/2028-08-18/
LOCATION:Just One More Rooster\, 1382 Howland Blvd\, Deltona\, FL 32738 USA
GEO:28.9035877;-81.1716624
X-APPLE-STRUCTURED-LOCATION;VALUE=URI;X-ADDRESS=Just One More Rooster 1382 Howland Blvd Deltona FL 32738 USA;X-APPLE-RADIUS=500;X-TITLE=1382 Howland Blvd\, Deltona\, FL 32738 USA:geo:-81.1716624,28.9035877
END:VEVENT
BEGIN:VEVENT
DTSTART;TZID=America/New_York:20280825T183000
DTEND;TZID=America/New_York:20280825T183000
DTSTAMP:20260420T070304
CREATED:20260105T003218Z
LAST-MODIFIED:20260105T053829Z
UID:10010020-1850841000-1850841000@epictriviafl.com
SUMMARY:Trivia
DESCRIPTION:
URL:https://epictriviafl.com/event/trivia-rooster/2028-08-25/
LOCATION:Just One More Rooster\, 1382 Howland Blvd\, Deltona\, FL 32738 USA
GEO:28.9035877;-81.1716624
X-APPLE-STRUCTURED-LOCATION;VALUE=URI;X-ADDRESS=Just One More Rooster 1382 Howland Blvd Deltona FL 32738 USA;X-APPLE-RADIUS=500;X-TITLE=1382 Howland Blvd\, Deltona\, FL 32738 USA:geo:-81.1716624,28.9035877
END:VEVENT
BEGIN:VEVENT
DTSTART;TZID=America/New_York:20280901T183000
DTEND;TZID=America/New_York:20280901T183000
DTSTAMP:20260420T070304
CREATED:20260105T003218Z
LAST-MODIFIED:20260105T053829Z
UID:10010021-1851445800-1851445800@epictriviafl.com
SUMMARY:Trivia
DESCRIPTION:
URL:https://epictriviafl.com/event/trivia-rooster/2028-09-01/
LOCATION:Just One More Rooster\, 1382 Howland Blvd\, Deltona\, FL 32738 USA
GEO:28.9035877;-81.1716624
X-APPLE-STRUCTURED-LOCATION;VALUE=URI;X-ADDRESS=Just One More Rooster 1382 Howland Blvd Deltona FL 32738 USA;X-APPLE-RADIUS=500;X-TITLE=1382 Howland Blvd\, Deltona\, FL 32738 USA:geo:-81.1716624,28.9035877
END:VEVENT
BEGIN:VEVENT
DTSTART;TZID=America/New_York:20280908T183000
DTEND;TZID=America/New_York:20280908T183000
DTSTAMP:20260420T070304
CREATED:20260105T003218Z
LAST-MODIFIED:20260105T053829Z
UID:10010022-1852050600-1852050600@epictriviafl.com
SUMMARY:Trivia
DESCRIPTION:
URL:https://epictriviafl.com/event/trivia-rooster/2028-09-08/
LOCATION:Just One More Rooster\, 1382 Howland Blvd\, Deltona\, FL 32738 USA
GEO:28.9035877;-81.1716624
X-APPLE-STRUCTURED-LOCATION;VALUE=URI;X-ADDRESS=Just One More Rooster 1382 Howland Blvd Deltona FL 32738 USA;X-APPLE-RADIUS=500;X-TITLE=1382 Howland Blvd\, Deltona\, FL 32738 USA:geo:-81.1716624,28.9035877
END:VEVENT
BEGIN:VEVENT
DTSTART;TZID=America/New_York:20280915T183000
DTEND;TZID=America/New_York:20280915T183000
DTSTAMP:20260420T070304
CREATED:20260105T003218Z
LAST-MODIFIED:20260105T053829Z
UID:10010023-1852655400-1852655400@epictriviafl.com
SUMMARY:Trivia
DESCRIPTION:
URL:https://epictriviafl.com/event/trivia-rooster/2028-09-15/
LOCATION:Just One More Rooster\, 1382 Howland Blvd\, Deltona\, FL 32738 USA
GEO:28.9035877;-81.1716624
X-APPLE-STRUCTURED-LOCATION;VALUE=URI;X-ADDRESS=Just One More Rooster 1382 Howland Blvd Deltona FL 32738 USA;X-APPLE-RADIUS=500;X-TITLE=1382 Howland Blvd\, Deltona\, FL 32738 USA:geo:-81.1716624,28.9035877
END:VEVENT
BEGIN:VEVENT
DTSTART;TZID=America/New_York:20280922T183000
DTEND;TZID=America/New_York:20280922T183000
DTSTAMP:20260420T070304
CREATED:20260105T003218Z
LAST-MODIFIED:20260105T053829Z
UID:10010024-1853260200-1853260200@epictriviafl.com
SUMMARY:Trivia
DESCRIPTION:
URL:https://epictriviafl.com/event/trivia-rooster/2028-09-22/
LOCATION:Just One More Rooster\, 1382 Howland Blvd\, Deltona\, FL 32738 USA
GEO:28.9035877;-81.1716624
X-APPLE-STRUCTURED-LOCATION;VALUE=URI;X-ADDRESS=Just One More Rooster 1382 Howland Blvd Deltona FL 32738 USA;X-APPLE-RADIUS=500;X-TITLE=1382 Howland Blvd\, Deltona\, FL 32738 USA:geo:-81.1716624,28.9035877
END:VEVENT
BEGIN:VEVENT
DTSTART;TZID=America/New_York:20280929T183000
DTEND;TZID=America/New_York:20280929T183000
DTSTAMP:20260420T070304
CREATED:20260105T003218Z
LAST-MODIFIED:20260105T053829Z
UID:10010025-1853865000-1853865000@epictriviafl.com
SUMMARY:Trivia
DESCRIPTION:
URL:https://epictriviafl.com/event/trivia-rooster/2028-09-29/
LOCATION:Just One More Rooster\, 1382 Howland Blvd\, Deltona\, FL 32738 USA
GEO:28.9035877;-81.1716624
X-APPLE-STRUCTURED-LOCATION;VALUE=URI;X-ADDRESS=Just One More Rooster 1382 Howland Blvd Deltona FL 32738 USA;X-APPLE-RADIUS=500;X-TITLE=1382 Howland Blvd\, Deltona\, FL 32738 USA:geo:-81.1716624,28.9035877
END:VEVENT
BEGIN:VEVENT
DTSTART;TZID=America/New_York:20281006T183000
DTEND;TZID=America/New_York:20281006T183000
DTSTAMP:20260420T070304
CREATED:20260105T003218Z
LAST-MODIFIED:20260105T053829Z
UID:10010026-1854469800-1854469800@epictriviafl.com
SUMMARY:Trivia
DESCRIPTION:
URL:https://epictriviafl.com/event/trivia-rooster/2028-10-06/
LOCATION:Just One More Rooster\, 1382 Howland Blvd\, Deltona\, FL 32738 USA
GEO:28.9035877;-81.1716624
X-APPLE-STRUCTURED-LOCATION;VALUE=URI;X-ADDRESS=Just One More Rooster 1382 Howland Blvd Deltona FL 32738 USA;X-APPLE-RADIUS=500;X-TITLE=1382 Howland Blvd\, Deltona\, FL 32738 USA:geo:-81.1716624,28.9035877
END:VEVENT
BEGIN:VEVENT
DTSTART;TZID=America/New_York:20281013T183000
DTEND;TZID=America/New_York:20281013T183000
DTSTAMP:20260420T070304
CREATED:20260105T003218Z
LAST-MODIFIED:20260105T053829Z
UID:10010027-1855074600-1855074600@epictriviafl.com
SUMMARY:Trivia
DESCRIPTION:
URL:https://epictriviafl.com/event/trivia-rooster/2028-10-13/
LOCATION:Just One More Rooster\, 1382 Howland Blvd\, Deltona\, FL 32738 USA
GEO:28.9035877;-81.1716624
X-APPLE-STRUCTURED-LOCATION;VALUE=URI;X-ADDRESS=Just One More Rooster 1382 Howland Blvd Deltona FL 32738 USA;X-APPLE-RADIUS=500;X-TITLE=1382 Howland Blvd\, Deltona\, FL 32738 USA:geo:-81.1716624,28.9035877
END:VEVENT
BEGIN:VEVENT
DTSTART;TZID=America/New_York:20281020T183000
DTEND;TZID=America/New_York:20281020T183000
DTSTAMP:20260420T070304
CREATED:20260105T003218Z
LAST-MODIFIED:20260105T053829Z
UID:10010028-1855679400-1855679400@epictriviafl.com
SUMMARY:Trivia
DESCRIPTION:
URL:https://epictriviafl.com/event/trivia-rooster/2028-10-20/
LOCATION:Just One More Rooster\, 1382 Howland Blvd\, Deltona\, FL 32738 USA
GEO:28.9035877;-81.1716624
X-APPLE-STRUCTURED-LOCATION;VALUE=URI;X-ADDRESS=Just One More Rooster 1382 Howland Blvd Deltona FL 32738 USA;X-APPLE-RADIUS=500;X-TITLE=1382 Howland Blvd\, Deltona\, FL 32738 USA:geo:-81.1716624,28.9035877
END:VEVENT
BEGIN:VEVENT
DTSTART;TZID=America/New_York:20281027T183000
DTEND;TZID=America/New_York:20281027T183000
DTSTAMP:20260420T070304
CREATED:20260105T003218Z
LAST-MODIFIED:20260105T053829Z
UID:10010029-1856284200-1856284200@epictriviafl.com
SUMMARY:Trivia
DESCRIPTION:
URL:https://epictriviafl.com/event/trivia-rooster/2028-10-27/
LOCATION:Just One More Rooster\, 1382 Howland Blvd\, Deltona\, FL 32738 USA
GEO:28.9035877;-81.1716624
X-APPLE-STRUCTURED-LOCATION;VALUE=URI;X-ADDRESS=Just One More Rooster 1382 Howland Blvd Deltona FL 32738 USA;X-APPLE-RADIUS=500;X-TITLE=1382 Howland Blvd\, Deltona\, FL 32738 USA:geo:-81.1716624,28.9035877
END:VEVENT
BEGIN:VEVENT
DTSTART;TZID=America/New_York:20281103T183000
DTEND;TZID=America/New_York:20281103T183000
DTSTAMP:20260420T070304
CREATED:20260105T003218Z
LAST-MODIFIED:20260105T053829Z
UID:10010030-1856889000-1856889000@epictriviafl.com
SUMMARY:Trivia
DESCRIPTION:
URL:https://epictriviafl.com/event/trivia-rooster/2028-11-03/
LOCATION:Just One More Rooster\, 1382 Howland Blvd\, Deltona\, FL 32738 USA
GEO:28.9035877;-81.1716624
X-APPLE-STRUCTURED-LOCATION;VALUE=URI;X-ADDRESS=Just One More Rooster 1382 Howland Blvd Deltona FL 32738 USA;X-APPLE-RADIUS=500;X-TITLE=1382 Howland Blvd\, Deltona\, FL 32738 USA:geo:-81.1716624,28.9035877
END:VEVENT
BEGIN:VEVENT
DTSTART;TZID=America/New_York:20281110T183000
DTEND;TZID=America/New_York:20281110T183000
DTSTAMP:20260420T070304
CREATED:20260105T003218Z
LAST-MODIFIED:20260105T053829Z
UID:10010031-1857493800-1857493800@epictriviafl.com
SUMMARY:Trivia
DESCRIPTION:
URL:https://epictriviafl.com/event/trivia-rooster/2028-11-10/
LOCATION:Just One More Rooster\, 1382 Howland Blvd\, Deltona\, FL 32738 USA
GEO:28.9035877;-81.1716624
X-APPLE-STRUCTURED-LOCATION;VALUE=URI;X-ADDRESS=Just One More Rooster 1382 Howland Blvd Deltona FL 32738 USA;X-APPLE-RADIUS=500;X-TITLE=1382 Howland Blvd\, Deltona\, FL 32738 USA:geo:-81.1716624,28.9035877
END:VEVENT
BEGIN:VEVENT
DTSTART;TZID=America/New_York:20281117T183000
DTEND;TZID=America/New_York:20281117T183000
DTSTAMP:20260420T070304
CREATED:20260105T003218Z
LAST-MODIFIED:20260105T053829Z
UID:10010032-1858098600-1858098600@epictriviafl.com
SUMMARY:Trivia
DESCRIPTION:
URL:https://epictriviafl.com/event/trivia-rooster/2028-11-17/
LOCATION:Just One More Rooster\, 1382 Howland Blvd\, Deltona\, FL 32738 USA
GEO:28.9035877;-81.1716624
X-APPLE-STRUCTURED-LOCATION;VALUE=URI;X-ADDRESS=Just One More Rooster 1382 Howland Blvd Deltona FL 32738 USA;X-APPLE-RADIUS=500;X-TITLE=1382 Howland Blvd\, Deltona\, FL 32738 USA:geo:-81.1716624,28.9035877
END:VEVENT
BEGIN:VEVENT
DTSTART;TZID=America/New_York:20281124T183000
DTEND;TZID=America/New_York:20281124T183000
DTSTAMP:20260420T070304
CREATED:20260105T003218Z
LAST-MODIFIED:20260105T053829Z
UID:10010033-1858703400-1858703400@epictriviafl.com
SUMMARY:Trivia
DESCRIPTION:
URL:https://epictriviafl.com/event/trivia-rooster/2028-11-24/
LOCATION:Just One More Rooster\, 1382 Howland Blvd\, Deltona\, FL 32738 USA
GEO:28.9035877;-81.1716624
X-APPLE-STRUCTURED-LOCATION;VALUE=URI;X-ADDRESS=Just One More Rooster 1382 Howland Blvd Deltona FL 32738 USA;X-APPLE-RADIUS=500;X-TITLE=1382 Howland Blvd\, Deltona\, FL 32738 USA:geo:-81.1716624,28.9035877
END:VEVENT
BEGIN:VEVENT
DTSTART;TZID=America/New_York:20281201T183000
DTEND;TZID=America/New_York:20281201T183000
DTSTAMP:20260420T070304
CREATED:20260105T003218Z
LAST-MODIFIED:20260105T053829Z
UID:10010034-1859308200-1859308200@epictriviafl.com
SUMMARY:Trivia
DESCRIPTION:
URL:https://epictriviafl.com/event/trivia-rooster/2028-12-01/
LOCATION:Just One More Rooster\, 1382 Howland Blvd\, Deltona\, FL 32738 USA
GEO:28.9035877;-81.1716624
X-APPLE-STRUCTURED-LOCATION;VALUE=URI;X-ADDRESS=Just One More Rooster 1382 Howland Blvd Deltona FL 32738 USA;X-APPLE-RADIUS=500;X-TITLE=1382 Howland Blvd\, Deltona\, FL 32738 USA:geo:-81.1716624,28.9035877
END:VEVENT
BEGIN:VEVENT
DTSTART;TZID=America/New_York:20281208T183000
DTEND;TZID=America/New_York:20281208T183000
DTSTAMP:20260420T070304
CREATED:20260105T003218Z
LAST-MODIFIED:20260105T053829Z
UID:10010035-1859913000-1859913000@epictriviafl.com
SUMMARY:Trivia
DESCRIPTION:
URL:https://epictriviafl.com/event/trivia-rooster/2028-12-08/
LOCATION:Just One More Rooster\, 1382 Howland Blvd\, Deltona\, FL 32738 USA
GEO:28.9035877;-81.1716624
X-APPLE-STRUCTURED-LOCATION;VALUE=URI;X-ADDRESS=Just One More Rooster 1382 Howland Blvd Deltona FL 32738 USA;X-APPLE-RADIUS=500;X-TITLE=1382 Howland Blvd\, Deltona\, FL 32738 USA:geo:-81.1716624,28.9035877
END:VEVENT
BEGIN:VEVENT
DTSTART;TZID=America/New_York:20281215T183000
DTEND;TZID=America/New_York:20281215T183000
DTSTAMP:20260420T070304
CREATED:20260105T003218Z
LAST-MODIFIED:20260105T053829Z
UID:10010036-1860517800-1860517800@epictriviafl.com
SUMMARY:Trivia
DESCRIPTION:
URL:https://epictriviafl.com/event/trivia-rooster/2028-12-15/
LOCATION:Just One More Rooster\, 1382 Howland Blvd\, Deltona\, FL 32738 USA
GEO:28.9035877;-81.1716624
X-APPLE-STRUCTURED-LOCATION;VALUE=URI;X-ADDRESS=Just One More Rooster 1382 Howland Blvd Deltona FL 32738 USA;X-APPLE-RADIUS=500;X-TITLE=1382 Howland Blvd\, Deltona\, FL 32738 USA:geo:-81.1716624,28.9035877
END:VEVENT
BEGIN:VEVENT
DTSTART;TZID=America/New_York:20281222T183000
DTEND;TZID=America/New_York:20281222T183000
DTSTAMP:20260420T070304
CREATED:20260105T003218Z
LAST-MODIFIED:20260105T053829Z
UID:10010037-1861122600-1861122600@epictriviafl.com
SUMMARY:Trivia
DESCRIPTION:
URL:https://epictriviafl.com/event/trivia-rooster/2028-12-22/
LOCATION:Just One More Rooster\, 1382 Howland Blvd\, Deltona\, FL 32738 USA
GEO:28.9035877;-81.1716624
X-APPLE-STRUCTURED-LOCATION;VALUE=URI;X-ADDRESS=Just One More Rooster 1382 Howland Blvd Deltona FL 32738 USA;X-APPLE-RADIUS=500;X-TITLE=1382 Howland Blvd\, Deltona\, FL 32738 USA:geo:-81.1716624,28.9035877
END:VEVENT
BEGIN:VEVENT
DTSTART;TZID=America/New_York:20281229T183000
DTEND;TZID=America/New_York:20281229T183000
DTSTAMP:20260420T070304
CREATED:20260105T003218Z
LAST-MODIFIED:20260105T053829Z
UID:10010038-1861727400-1861727400@epictriviafl.com
SUMMARY:Trivia
DESCRIPTION:
URL:https://epictriviafl.com/event/trivia-rooster/2028-12-29/
LOCATION:Just One More Rooster\, 1382 Howland Blvd\, Deltona\, FL 32738 USA
GEO:28.9035877;-81.1716624
X-APPLE-STRUCTURED-LOCATION;VALUE=URI;X-ADDRESS=Just One More Rooster 1382 Howland Blvd Deltona FL 32738 USA;X-APPLE-RADIUS=500;X-TITLE=1382 Howland Blvd\, Deltona\, FL 32738 USA:geo:-81.1716624,28.9035877
END:VEVENT
BEGIN:VEVENT
DTSTART;TZID=America/New_York:20290105T183000
DTEND;TZID=America/New_York:20290105T183000
DTSTAMP:20260420T070304
CREATED:20260105T003218Z
LAST-MODIFIED:20260105T053829Z
UID:10010039-1862332200-1862332200@epictriviafl.com
SUMMARY:Trivia
DESCRIPTION:
URL:https://epictriviafl.com/event/trivia-rooster/2029-01-05/
LOCATION:Just One More Rooster\, 1382 Howland Blvd\, Deltona\, FL 32738 USA
GEO:28.9035877;-81.1716624
X-APPLE-STRUCTURED-LOCATION;VALUE=URI;X-ADDRESS=Just One More Rooster 1382 Howland Blvd Deltona FL 32738 USA;X-APPLE-RADIUS=500;X-TITLE=1382 Howland Blvd\, Deltona\, FL 32738 USA:geo:-81.1716624,28.9035877
END:VEVENT
BEGIN:VEVENT
DTSTART;TZID=America/New_York:20290112T183000
DTEND;TZID=America/New_York:20290112T183000
DTSTAMP:20260420T070304
CREATED:20260105T003218Z
LAST-MODIFIED:20260105T053829Z
UID:10010040-1862937000-1862937000@epictriviafl.com
SUMMARY:Trivia
DESCRIPTION:
URL:https://epictriviafl.com/event/trivia-rooster/2029-01-12/
LOCATION:Just One More Rooster\, 1382 Howland Blvd\, Deltona\, FL 32738 USA
GEO:28.9035877;-81.1716624
X-APPLE-STRUCTURED-LOCATION;VALUE=URI;X-ADDRESS=Just One More Rooster 1382 Howland Blvd Deltona FL 32738 USA;X-APPLE-RADIUS=500;X-TITLE=1382 Howland Blvd\, Deltona\, FL 32738 USA:geo:-81.1716624,28.9035877
END:VEVENT
BEGIN:VEVENT
DTSTART;TZID=America/New_York:20290119T183000
DTEND;TZID=America/New_York:20290119T183000
DTSTAMP:20260420T070304
CREATED:20260105T003218Z
LAST-MODIFIED:20260105T053829Z
UID:10010041-1863541800-1863541800@epictriviafl.com
SUMMARY:Trivia
DESCRIPTION:
URL:https://epictriviafl.com/event/trivia-rooster/2029-01-19/
LOCATION:Just One More Rooster\, 1382 Howland Blvd\, Deltona\, FL 32738 USA
GEO:28.9035877;-81.1716624
X-APPLE-STRUCTURED-LOCATION;VALUE=URI;X-ADDRESS=Just One More Rooster 1382 Howland Blvd Deltona FL 32738 USA;X-APPLE-RADIUS=500;X-TITLE=1382 Howland Blvd\, Deltona\, FL 32738 USA:geo:-81.1716624,28.9035877
END:VEVENT
BEGIN:VEVENT
DTSTART;TZID=America/New_York:20290126T183000
DTEND;TZID=America/New_York:20290126T183000
DTSTAMP:20260420T070304
CREATED:20260105T003218Z
LAST-MODIFIED:20260105T053829Z
UID:10010042-1864146600-1864146600@epictriviafl.com
SUMMARY:Trivia
DESCRIPTION:
URL:https://epictriviafl.com/event/trivia-rooster/2029-01-26/
LOCATION:Just One More Rooster\, 1382 Howland Blvd\, Deltona\, FL 32738 USA
GEO:28.9035877;-81.1716624
X-APPLE-STRUCTURED-LOCATION;VALUE=URI;X-ADDRESS=Just One More Rooster 1382 Howland Blvd Deltona FL 32738 USA;X-APPLE-RADIUS=500;X-TITLE=1382 Howland Blvd\, Deltona\, FL 32738 USA:geo:-81.1716624,28.9035877
END:VEVENT
BEGIN:VEVENT
DTSTART;TZID=America/New_York:20290202T183000
DTEND;TZID=America/New_York:20290202T183000
DTSTAMP:20260420T070304
CREATED:20260105T003218Z
LAST-MODIFIED:20260105T053829Z
UID:10010043-1864751400-1864751400@epictriviafl.com
SUMMARY:Trivia
DESCRIPTION:
URL:https://epictriviafl.com/event/trivia-rooster/2029-02-02/
LOCATION:Just One More Rooster\, 1382 Howland Blvd\, Deltona\, FL 32738 USA
GEO:28.9035877;-81.1716624
X-APPLE-STRUCTURED-LOCATION;VALUE=URI;X-ADDRESS=Just One More Rooster 1382 Howland Blvd Deltona FL 32738 USA;X-APPLE-RADIUS=500;X-TITLE=1382 Howland Blvd\, Deltona\, FL 32738 USA:geo:-81.1716624,28.9035877
END:VEVENT
BEGIN:VEVENT
DTSTART;TZID=America/New_York:20290209T183000
DTEND;TZID=America/New_York:20290209T183000
DTSTAMP:20260420T070304
CREATED:20260105T003218Z
LAST-MODIFIED:20260105T053829Z
UID:10010044-1865356200-1865356200@epictriviafl.com
SUMMARY:Trivia
DESCRIPTION:
URL:https://epictriviafl.com/event/trivia-rooster/2029-02-09/
LOCATION:Just One More Rooster\, 1382 Howland Blvd\, Deltona\, FL 32738 USA
GEO:28.9035877;-81.1716624
X-APPLE-STRUCTURED-LOCATION;VALUE=URI;X-ADDRESS=Just One More Rooster 1382 Howland Blvd Deltona FL 32738 USA;X-APPLE-RADIUS=500;X-TITLE=1382 Howland Blvd\, Deltona\, FL 32738 USA:geo:-81.1716624,28.9035877
END:VEVENT
BEGIN:VEVENT
DTSTART;TZID=America/New_York:20290216T183000
DTEND;TZID=America/New_York:20290216T183000
DTSTAMP:20260420T070305
CREATED:20260105T003218Z
LAST-MODIFIED:20260105T053829Z
UID:10010045-1865961000-1865961000@epictriviafl.com
SUMMARY:Trivia
DESCRIPTION:
URL:https://epictriviafl.com/event/trivia-rooster/2029-02-16/
LOCATION:Just One More Rooster\, 1382 Howland Blvd\, Deltona\, FL 32738 USA
GEO:28.9035877;-81.1716624
X-APPLE-STRUCTURED-LOCATION;VALUE=URI;X-ADDRESS=Just One More Rooster 1382 Howland Blvd Deltona FL 32738 USA;X-APPLE-RADIUS=500;X-TITLE=1382 Howland Blvd\, Deltona\, FL 32738 USA:geo:-81.1716624,28.9035877
END:VEVENT
BEGIN:VEVENT
DTSTART;TZID=America/New_York:20290223T183000
DTEND;TZID=America/New_York:20290223T183000
DTSTAMP:20260420T070305
CREATED:20260105T003218Z
LAST-MODIFIED:20260105T053829Z
UID:10010046-1866565800-1866565800@epictriviafl.com
SUMMARY:Trivia
DESCRIPTION:
URL:https://epictriviafl.com/event/trivia-rooster/2029-02-23/
LOCATION:Just One More Rooster\, 1382 Howland Blvd\, Deltona\, FL 32738 USA
GEO:28.9035877;-81.1716624
X-APPLE-STRUCTURED-LOCATION;VALUE=URI;X-ADDRESS=Just One More Rooster 1382 Howland Blvd Deltona FL 32738 USA;X-APPLE-RADIUS=500;X-TITLE=1382 Howland Blvd\, Deltona\, FL 32738 USA:geo:-81.1716624,28.9035877
END:VEVENT
BEGIN:VEVENT
DTSTART;TZID=America/New_York:20290302T183000
DTEND;TZID=America/New_York:20290302T183000
DTSTAMP:20260420T070305
CREATED:20260105T003218Z
LAST-MODIFIED:20260105T053829Z
UID:10010047-1867170600-1867170600@epictriviafl.com
SUMMARY:Trivia
DESCRIPTION:
URL:https://epictriviafl.com/event/trivia-rooster/2029-03-02/
LOCATION:Just One More Rooster\, 1382 Howland Blvd\, Deltona\, FL 32738 USA
GEO:28.9035877;-81.1716624
X-APPLE-STRUCTURED-LOCATION;VALUE=URI;X-ADDRESS=Just One More Rooster 1382 Howland Blvd Deltona FL 32738 USA;X-APPLE-RADIUS=500;X-TITLE=1382 Howland Blvd\, Deltona\, FL 32738 USA:geo:-81.1716624,28.9035877
END:VEVENT
END:VCALENDAR