BEGIN:VCALENDAR
VERSION:2.0
PRODID:-//Epic Trivia - ECPv6.15.18//NONSGML v1.0//EN
CALSCALE:GREGORIAN
METHOD:PUBLISH
X-ORIGINAL-URL:https://epictriviafl.com
X-WR-CALDESC:Events for Epic Trivia
REFRESH-INTERVAL;VALUE=DURATION:PT1H
X-Robots-Tag:noindex
X-PUBLISHED-TTL:PT1H
BEGIN:VTIMEZONE
TZID:America/New_York
BEGIN:DAYLIGHT
TZOFFSETFROM:-0500
TZOFFSETTO:-0400
TZNAME:EDT
DTSTART:20250309T070000
END:DAYLIGHT
BEGIN:STANDARD
TZOFFSETFROM:-0400
TZOFFSETTO:-0500
TZNAME:EST
DTSTART:20251102T060000
END:STANDARD
BEGIN:DAYLIGHT
TZOFFSETFROM:-0500
TZOFFSETTO:-0400
TZNAME:EDT
DTSTART:20260308T070000
END:DAYLIGHT
BEGIN:STANDARD
TZOFFSETFROM:-0400
TZOFFSETTO:-0500
TZNAME:EST
DTSTART:20261101T060000
END:STANDARD
BEGIN:DAYLIGHT
TZOFFSETFROM:-0500
TZOFFSETTO:-0400
TZNAME:EDT
DTSTART:20270314T070000
END:DAYLIGHT
BEGIN:STANDARD
TZOFFSETFROM:-0400
TZOFFSETTO:-0500
TZNAME:EST
DTSTART:20271107T060000
END:STANDARD
END:VTIMEZONE
BEGIN:VEVENT
DTSTART;TZID=America/New_York:20260417T183000
DTEND;TZID=America/New_York:20260417T183000
DTSTAMP:20260419T171328
CREATED:20260105T003218Z
LAST-MODIFIED:20260105T053829Z
UID:10009897-1776450600-1776450600@epictriviafl.com
SUMMARY:Trivia
DESCRIPTION:
URL:https://epictriviafl.com/event/trivia-rooster/2026-04-17/
LOCATION:Just One More Rooster\, 1382 Howland Blvd\, Deltona\, FL 32738 USA
GEO:28.9035877;-81.1716624
X-APPLE-STRUCTURED-LOCATION;VALUE=URI;X-ADDRESS=Just One More Rooster 1382 Howland Blvd Deltona FL 32738 USA;X-APPLE-RADIUS=500;X-TITLE=1382 Howland Blvd\, Deltona\, FL 32738 USA:geo:-81.1716624,28.9035877
END:VEVENT
BEGIN:VEVENT
DTSTART;TZID=America/New_York:20260410T183000
DTEND;TZID=America/New_York:20260410T183000
DTSTAMP:20260419T171328
CREATED:20260105T003218Z
LAST-MODIFIED:20260105T053829Z
UID:10009896-1775845800-1775845800@epictriviafl.com
SUMMARY:Trivia
DESCRIPTION:
URL:https://epictriviafl.com/event/trivia-rooster/2026-04-10/
LOCATION:Just One More Rooster\, 1382 Howland Blvd\, Deltona\, FL 32738 USA
GEO:28.9035877;-81.1716624
X-APPLE-STRUCTURED-LOCATION;VALUE=URI;X-ADDRESS=Just One More Rooster 1382 Howland Blvd Deltona FL 32738 USA;X-APPLE-RADIUS=500;X-TITLE=1382 Howland Blvd\, Deltona\, FL 32738 USA:geo:-81.1716624,28.9035877
END:VEVENT
BEGIN:VEVENT
DTSTART;TZID=America/New_York:20260403T183000
DTEND;TZID=America/New_York:20260403T183000
DTSTAMP:20260419T171328
CREATED:20260105T003218Z
LAST-MODIFIED:20260105T053829Z
UID:10009895-1775241000-1775241000@epictriviafl.com
SUMMARY:Trivia
DESCRIPTION:
URL:https://epictriviafl.com/event/trivia-rooster/2026-04-03/
LOCATION:Just One More Rooster\, 1382 Howland Blvd\, Deltona\, FL 32738 USA
GEO:28.9035877;-81.1716624
X-APPLE-STRUCTURED-LOCATION;VALUE=URI;X-ADDRESS=Just One More Rooster 1382 Howland Blvd Deltona FL 32738 USA;X-APPLE-RADIUS=500;X-TITLE=1382 Howland Blvd\, Deltona\, FL 32738 USA:geo:-81.1716624,28.9035877
END:VEVENT
BEGIN:VEVENT
DTSTART;TZID=America/New_York:20260327T183000
DTEND;TZID=America/New_York:20260327T183000
DTSTAMP:20260419T171328
CREATED:20260105T003218Z
LAST-MODIFIED:20260105T053829Z
UID:10009894-1774636200-1774636200@epictriviafl.com
SUMMARY:Trivia
DESCRIPTION:
URL:https://epictriviafl.com/event/trivia-rooster/2026-03-27/
LOCATION:Just One More Rooster\, 1382 Howland Blvd\, Deltona\, FL 32738 USA
GEO:28.9035877;-81.1716624
X-APPLE-STRUCTURED-LOCATION;VALUE=URI;X-ADDRESS=Just One More Rooster 1382 Howland Blvd Deltona FL 32738 USA;X-APPLE-RADIUS=500;X-TITLE=1382 Howland Blvd\, Deltona\, FL 32738 USA:geo:-81.1716624,28.9035877
END:VEVENT
BEGIN:VEVENT
DTSTART;TZID=America/New_York:20260320T183000
DTEND;TZID=America/New_York:20260320T183000
DTSTAMP:20260419T171328
CREATED:20260105T003218Z
LAST-MODIFIED:20260105T053829Z
UID:10009893-1774031400-1774031400@epictriviafl.com
SUMMARY:Trivia
DESCRIPTION:
URL:https://epictriviafl.com/event/trivia-rooster/2026-03-20/
LOCATION:Just One More Rooster\, 1382 Howland Blvd\, Deltona\, FL 32738 USA
GEO:28.9035877;-81.1716624
X-APPLE-STRUCTURED-LOCATION;VALUE=URI;X-ADDRESS=Just One More Rooster 1382 Howland Blvd Deltona FL 32738 USA;X-APPLE-RADIUS=500;X-TITLE=1382 Howland Blvd\, Deltona\, FL 32738 USA:geo:-81.1716624,28.9035877
END:VEVENT
BEGIN:VEVENT
DTSTART;TZID=America/New_York:20260313T183000
DTEND;TZID=America/New_York:20260313T183000
DTSTAMP:20260419T171328
CREATED:20260105T003218Z
LAST-MODIFIED:20260105T053829Z
UID:10009892-1773426600-1773426600@epictriviafl.com
SUMMARY:Trivia
DESCRIPTION:
URL:https://epictriviafl.com/event/trivia-rooster/2026-03-13/
LOCATION:Just One More Rooster\, 1382 Howland Blvd\, Deltona\, FL 32738 USA
GEO:28.9035877;-81.1716624
X-APPLE-STRUCTURED-LOCATION;VALUE=URI;X-ADDRESS=Just One More Rooster 1382 Howland Blvd Deltona FL 32738 USA;X-APPLE-RADIUS=500;X-TITLE=1382 Howland Blvd\, Deltona\, FL 32738 USA:geo:-81.1716624,28.9035877
END:VEVENT
BEGIN:VEVENT
DTSTART;TZID=America/New_York:20260306T183000
DTEND;TZID=America/New_York:20260306T183000
DTSTAMP:20260419T171328
CREATED:20260105T003218Z
LAST-MODIFIED:20260105T053829Z
UID:10009891-1772821800-1772821800@epictriviafl.com
SUMMARY:Trivia
DESCRIPTION:
URL:https://epictriviafl.com/event/trivia-rooster/2026-03-06/
LOCATION:Just One More Rooster\, 1382 Howland Blvd\, Deltona\, FL 32738 USA
GEO:28.9035877;-81.1716624
X-APPLE-STRUCTURED-LOCATION;VALUE=URI;X-ADDRESS=Just One More Rooster 1382 Howland Blvd Deltona FL 32738 USA;X-APPLE-RADIUS=500;X-TITLE=1382 Howland Blvd\, Deltona\, FL 32738 USA:geo:-81.1716624,28.9035877
END:VEVENT
BEGIN:VEVENT
DTSTART;TZID=America/New_York:20260227T183000
DTEND;TZID=America/New_York:20260227T183000
DTSTAMP:20260419T171328
CREATED:20260105T003218Z
LAST-MODIFIED:20260105T053829Z
UID:10009890-1772217000-1772217000@epictriviafl.com
SUMMARY:Trivia
DESCRIPTION:
URL:https://epictriviafl.com/event/trivia-rooster/2026-02-27/
LOCATION:Just One More Rooster\, 1382 Howland Blvd\, Deltona\, FL 32738 USA
GEO:28.9035877;-81.1716624
X-APPLE-STRUCTURED-LOCATION;VALUE=URI;X-ADDRESS=Just One More Rooster 1382 Howland Blvd Deltona FL 32738 USA;X-APPLE-RADIUS=500;X-TITLE=1382 Howland Blvd\, Deltona\, FL 32738 USA:geo:-81.1716624,28.9035877
END:VEVENT
BEGIN:VEVENT
DTSTART;TZID=America/New_York:20260220T183000
DTEND;TZID=America/New_York:20260220T183000
DTSTAMP:20260419T171328
CREATED:20260105T003218Z
LAST-MODIFIED:20260105T053829Z
UID:10009889-1771612200-1771612200@epictriviafl.com
SUMMARY:Trivia
DESCRIPTION:
URL:https://epictriviafl.com/event/trivia-rooster/2026-02-20/
LOCATION:Just One More Rooster\, 1382 Howland Blvd\, Deltona\, FL 32738 USA
GEO:28.9035877;-81.1716624
X-APPLE-STRUCTURED-LOCATION;VALUE=URI;X-ADDRESS=Just One More Rooster 1382 Howland Blvd Deltona FL 32738 USA;X-APPLE-RADIUS=500;X-TITLE=1382 Howland Blvd\, Deltona\, FL 32738 USA:geo:-81.1716624,28.9035877
END:VEVENT
BEGIN:VEVENT
DTSTART;TZID=America/New_York:20260213T183000
DTEND;TZID=America/New_York:20260213T183000
DTSTAMP:20260419T171328
CREATED:20260105T003218Z
LAST-MODIFIED:20260105T053829Z
UID:10009888-1771007400-1771007400@epictriviafl.com
SUMMARY:Trivia
DESCRIPTION:
URL:https://epictriviafl.com/event/trivia-rooster/2026-02-13/
LOCATION:Just One More Rooster\, 1382 Howland Blvd\, Deltona\, FL 32738 USA
GEO:28.9035877;-81.1716624
X-APPLE-STRUCTURED-LOCATION;VALUE=URI;X-ADDRESS=Just One More Rooster 1382 Howland Blvd Deltona FL 32738 USA;X-APPLE-RADIUS=500;X-TITLE=1382 Howland Blvd\, Deltona\, FL 32738 USA:geo:-81.1716624,28.9035877
END:VEVENT
BEGIN:VEVENT
DTSTART;TZID=America/New_York:20260206T183000
DTEND;TZID=America/New_York:20260206T183000
DTSTAMP:20260419T171328
CREATED:20260105T003218Z
LAST-MODIFIED:20260105T053829Z
UID:10009887-1770402600-1770402600@epictriviafl.com
SUMMARY:Trivia
DESCRIPTION:
URL:https://epictriviafl.com/event/trivia-rooster/2026-02-06/
LOCATION:Just One More Rooster\, 1382 Howland Blvd\, Deltona\, FL 32738 USA
GEO:28.9035877;-81.1716624
X-APPLE-STRUCTURED-LOCATION;VALUE=URI;X-ADDRESS=Just One More Rooster 1382 Howland Blvd Deltona FL 32738 USA;X-APPLE-RADIUS=500;X-TITLE=1382 Howland Blvd\, Deltona\, FL 32738 USA:geo:-81.1716624,28.9035877
END:VEVENT
BEGIN:VEVENT
DTSTART;TZID=America/New_York:20260130T183000
DTEND;TZID=America/New_York:20260130T183000
DTSTAMP:20260419T171328
CREATED:20260105T003218Z
LAST-MODIFIED:20260105T053829Z
UID:10009886-1769797800-1769797800@epictriviafl.com
SUMMARY:Trivia
DESCRIPTION:
URL:https://epictriviafl.com/event/trivia-rooster/2026-01-30/
LOCATION:Just One More Rooster\, 1382 Howland Blvd\, Deltona\, FL 32738 USA
GEO:28.9035877;-81.1716624
X-APPLE-STRUCTURED-LOCATION;VALUE=URI;X-ADDRESS=Just One More Rooster 1382 Howland Blvd Deltona FL 32738 USA;X-APPLE-RADIUS=500;X-TITLE=1382 Howland Blvd\, Deltona\, FL 32738 USA:geo:-81.1716624,28.9035877
END:VEVENT
BEGIN:VEVENT
DTSTART;TZID=America/New_York:20260123T183000
DTEND;TZID=America/New_York:20260123T183000
DTSTAMP:20260419T171328
CREATED:20260105T003218Z
LAST-MODIFIED:20260105T053829Z
UID:10009885-1769193000-1769193000@epictriviafl.com
SUMMARY:Trivia
DESCRIPTION:
URL:https://epictriviafl.com/event/trivia-rooster/2026-01-23/
LOCATION:Just One More Rooster\, 1382 Howland Blvd\, Deltona\, FL 32738 USA
GEO:28.9035877;-81.1716624
X-APPLE-STRUCTURED-LOCATION;VALUE=URI;X-ADDRESS=Just One More Rooster 1382 Howland Blvd Deltona FL 32738 USA;X-APPLE-RADIUS=500;X-TITLE=1382 Howland Blvd\, Deltona\, FL 32738 USA:geo:-81.1716624,28.9035877
END:VEVENT
BEGIN:VEVENT
DTSTART;TZID=America/New_York:20260116T183000
DTEND;TZID=America/New_York:20260116T183000
DTSTAMP:20260419T171328
CREATED:20260105T003218Z
LAST-MODIFIED:20260105T053829Z
UID:10009884-1768588200-1768588200@epictriviafl.com
SUMMARY:Trivia
DESCRIPTION:
URL:https://epictriviafl.com/event/trivia-rooster/2026-01-16/
LOCATION:Just One More Rooster\, 1382 Howland Blvd\, Deltona\, FL 32738 USA
GEO:28.9035877;-81.1716624
X-APPLE-STRUCTURED-LOCATION;VALUE=URI;X-ADDRESS=Just One More Rooster 1382 Howland Blvd Deltona FL 32738 USA;X-APPLE-RADIUS=500;X-TITLE=1382 Howland Blvd\, Deltona\, FL 32738 USA:geo:-81.1716624,28.9035877
END:VEVENT
BEGIN:VEVENT
DTSTART;TZID=America/New_York:20260109T183000
DTEND;TZID=America/New_York:20260109T183000
DTSTAMP:20260419T171328
CREATED:20260105T003218Z
LAST-MODIFIED:20260105T053829Z
UID:10008833-1767983400-1767983400@epictriviafl.com
SUMMARY:Trivia
DESCRIPTION:
URL:https://epictriviafl.com/event/trivia-rooster/2026-01-09/
LOCATION:Just One More Rooster\, 1382 Howland Blvd\, Deltona\, FL 32738 USA
GEO:28.9035877;-81.1716624
X-APPLE-STRUCTURED-LOCATION;VALUE=URI;X-ADDRESS=Just One More Rooster 1382 Howland Blvd Deltona FL 32738 USA;X-APPLE-RADIUS=500;X-TITLE=1382 Howland Blvd\, Deltona\, FL 32738 USA:geo:-81.1716624,28.9035877
END:VEVENT
END:VCALENDAR