BEGIN:VCALENDAR
VERSION:2.0
PRODID:-//Epic Trivia - ECPv6.15.18//NONSGML v1.0//EN
CALSCALE:GREGORIAN
METHOD:PUBLISH
X-WR-CALNAME:Epic Trivia
X-ORIGINAL-URL:https://epictriviafl.com
X-WR-CALDESC:Events for Epic Trivia
REFRESH-INTERVAL;VALUE=DURATION:PT1H
X-Robots-Tag:noindex
X-PUBLISHED-TTL:PT1H
BEGIN:VTIMEZONE
TZID:America/New_York
BEGIN:DAYLIGHT
TZOFFSETFROM:-0500
TZOFFSETTO:-0400
TZNAME:EDT
DTSTART:20270314T070000
END:DAYLIGHT
BEGIN:STANDARD
TZOFFSETFROM:-0400
TZOFFSETTO:-0500
TZNAME:EST
DTSTART:20271107T060000
END:STANDARD
BEGIN:DAYLIGHT
TZOFFSETFROM:-0500
TZOFFSETTO:-0400
TZNAME:EDT
DTSTART:20280312T070000
END:DAYLIGHT
BEGIN:STANDARD
TZOFFSETFROM:-0400
TZOFFSETTO:-0500
TZNAME:EST
DTSTART:20281105T060000
END:STANDARD
BEGIN:DAYLIGHT
TZOFFSETFROM:-0500
TZOFFSETTO:-0400
TZNAME:EDT
DTSTART:20290311T070000
END:DAYLIGHT
BEGIN:STANDARD
TZOFFSETFROM:-0400
TZOFFSETTO:-0500
TZNAME:EST
DTSTART:20291104T060000
END:STANDARD
END:VTIMEZONE
BEGIN:VEVENT
DTSTART;TZID=America/New_York:20280725T190000
DTEND;TZID=America/New_York:20280725T190000
DTSTAMP:20260423T104214
CREATED:20260105T003103Z
LAST-MODIFIED:20260105T055137Z
UID:10016256-1848164400-1848164400@epictriviafl.com
SUMMARY:Trivia
DESCRIPTION:
URL:https://epictriviafl.com/event/trivia-hurricane-longwood/2028-07-25/
LOCATION:Hurricane Grill & Wings\, 2401 W State Rd 434\, Longwood\, FL 32779 USA
GEO:28.6883313;-81.4046306
X-APPLE-STRUCTURED-LOCATION;VALUE=URI;X-ADDRESS=Hurricane Grill & Wings 2401 W State Rd 434 Longwood FL 32779 USA;X-APPLE-RADIUS=500;X-TITLE=2401 W State Rd 434\, Longwood\, FL 32779 USA:geo:-81.4046306,28.6883313
END:VEVENT
BEGIN:VEVENT
DTSTART;TZID=America/New_York:20280726T183000
DTEND;TZID=America/New_York:20280726T183000
DTSTAMP:20260423T104214
CREATED:20260105T003119Z
LAST-MODIFIED:20260105T054818Z
UID:10014956-1848249000-1848249000@epictriviafl.com
SUMMARY:Music Bingo
DESCRIPTION:
URL:https://epictriviafl.com/event/music-bingo-hurricane-apopka-2/2028-07-26/
LOCATION:Hurricane Grill & Wings\, 2401 W State Rd 434\, Longwood\, FL 32779 USA
GEO:28.6883313;-81.4046306
X-APPLE-STRUCTURED-LOCATION;VALUE=URI;X-ADDRESS=Hurricane Grill & Wings 2401 W State Rd 434 Longwood FL 32779 USA;X-APPLE-RADIUS=500;X-TITLE=2401 W State Rd 434\, Longwood\, FL 32779 USA:geo:-81.4046306,28.6883313
END:VEVENT
BEGIN:VEVENT
DTSTART;TZID=America/New_York:20280730T183000
DTEND;TZID=America/New_York:20280730T183000
DTSTAMP:20260423T104214
CREATED:20260105T003234Z
LAST-MODIFIED:20260105T060012Z
UID:10019897-1848594600-1848594600@epictriviafl.com
SUMMARY:Music Bingo
DESCRIPTION:
URL:https://epictriviafl.com/event/music-bingo-hurricane-apopka-3/2028-07-30/
LOCATION:Hurricane Grill & Wings\, 2401 W State Rd 434\, Longwood\, FL 32779 USA
GEO:28.6883313;-81.4046306
X-APPLE-STRUCTURED-LOCATION;VALUE=URI;X-ADDRESS=Hurricane Grill & Wings 2401 W State Rd 434 Longwood FL 32779 USA;X-APPLE-RADIUS=500;X-TITLE=2401 W State Rd 434\, Longwood\, FL 32779 USA:geo:-81.4046306,28.6883313
END:VEVENT
BEGIN:VEVENT
DTSTART;TZID=America/New_York:20280731T183000
DTEND;TZID=America/New_York:20280731T183000
DTSTAMP:20260423T104214
CREATED:20260105T003044Z
LAST-MODIFIED:20260105T055734Z
UID:10018857-1848681000-1848681000@epictriviafl.com
SUMMARY:Music Bingo
DESCRIPTION:
URL:https://epictriviafl.com/event/music-bingo-hurricane-apopka/2028-07-31/
LOCATION:Hurricane Grill & Wings\, 2401 W State Rd 434\, Longwood\, FL 32779 USA
GEO:28.6883313;-81.4046306
X-APPLE-STRUCTURED-LOCATION;VALUE=URI;X-ADDRESS=Hurricane Grill & Wings 2401 W State Rd 434 Longwood FL 32779 USA;X-APPLE-RADIUS=500;X-TITLE=2401 W State Rd 434\, Longwood\, FL 32779 USA:geo:-81.4046306,28.6883313
END:VEVENT
BEGIN:VEVENT
DTSTART;TZID=America/New_York:20280731T190000
DTEND;TZID=America/New_York:20280731T190000
DTSTAMP:20260423T104214
CREATED:20260105T003046Z
LAST-MODIFIED:20260105T055526Z
UID:10018077-1848682800-1848682800@epictriviafl.com
SUMMARY:Music Bingo
DESCRIPTION:
URL:https://epictriviafl.com/event/music-bingo-hurricane-longwood/2028-07-31/
LOCATION:Hurricane Grill & Wings\, 2401 W State Rd 434\, Longwood\, FL 32779 USA
GEO:28.6883313;-81.4046306
X-APPLE-STRUCTURED-LOCATION;VALUE=URI;X-ADDRESS=Hurricane Grill & Wings 2401 W State Rd 434 Longwood FL 32779 USA;X-APPLE-RADIUS=500;X-TITLE=2401 W State Rd 434\, Longwood\, FL 32779 USA:geo:-81.4046306,28.6883313
END:VEVENT
BEGIN:VEVENT
DTSTART;TZID=America/New_York:20280801T190000
DTEND;TZID=America/New_York:20280801T190000
DTSTAMP:20260423T104214
CREATED:20260105T003103Z
LAST-MODIFIED:20260105T055137Z
UID:10016257-1848769200-1848769200@epictriviafl.com
SUMMARY:Trivia
DESCRIPTION:
URL:https://epictriviafl.com/event/trivia-hurricane-longwood/2028-08-01/
LOCATION:Hurricane Grill & Wings\, 2401 W State Rd 434\, Longwood\, FL 32779 USA
GEO:28.6883313;-81.4046306
X-APPLE-STRUCTURED-LOCATION;VALUE=URI;X-ADDRESS=Hurricane Grill & Wings 2401 W State Rd 434 Longwood FL 32779 USA;X-APPLE-RADIUS=500;X-TITLE=2401 W State Rd 434\, Longwood\, FL 32779 USA:geo:-81.4046306,28.6883313
END:VEVENT
BEGIN:VEVENT
DTSTART;TZID=America/New_York:20280802T183000
DTEND;TZID=America/New_York:20280802T183000
DTSTAMP:20260423T104214
CREATED:20260105T003119Z
LAST-MODIFIED:20260105T054818Z
UID:10014957-1848853800-1848853800@epictriviafl.com
SUMMARY:Music Bingo
DESCRIPTION:
URL:https://epictriviafl.com/event/music-bingo-hurricane-apopka-2/2028-08-02/
LOCATION:Hurricane Grill & Wings\, 2401 W State Rd 434\, Longwood\, FL 32779 USA
GEO:28.6883313;-81.4046306
X-APPLE-STRUCTURED-LOCATION;VALUE=URI;X-ADDRESS=Hurricane Grill & Wings 2401 W State Rd 434 Longwood FL 32779 USA;X-APPLE-RADIUS=500;X-TITLE=2401 W State Rd 434\, Longwood\, FL 32779 USA:geo:-81.4046306,28.6883313
END:VEVENT
BEGIN:VEVENT
DTSTART;TZID=America/New_York:20280806T183000
DTEND;TZID=America/New_York:20280806T183000
DTSTAMP:20260423T104214
CREATED:20260105T003234Z
LAST-MODIFIED:20260105T060012Z
UID:10019898-1849199400-1849199400@epictriviafl.com
SUMMARY:Music Bingo
DESCRIPTION:
URL:https://epictriviafl.com/event/music-bingo-hurricane-apopka-3/2028-08-06/
LOCATION:Hurricane Grill & Wings\, 2401 W State Rd 434\, Longwood\, FL 32779 USA
GEO:28.6883313;-81.4046306
X-APPLE-STRUCTURED-LOCATION;VALUE=URI;X-ADDRESS=Hurricane Grill & Wings 2401 W State Rd 434 Longwood FL 32779 USA;X-APPLE-RADIUS=500;X-TITLE=2401 W State Rd 434\, Longwood\, FL 32779 USA:geo:-81.4046306,28.6883313
END:VEVENT
BEGIN:VEVENT
DTSTART;TZID=America/New_York:20280807T183000
DTEND;TZID=America/New_York:20280807T183000
DTSTAMP:20260423T104214
CREATED:20260105T003044Z
LAST-MODIFIED:20260105T055734Z
UID:10018858-1849285800-1849285800@epictriviafl.com
SUMMARY:Music Bingo
DESCRIPTION:
URL:https://epictriviafl.com/event/music-bingo-hurricane-apopka/2028-08-07/
LOCATION:Hurricane Grill & Wings\, 2401 W State Rd 434\, Longwood\, FL 32779 USA
GEO:28.6883313;-81.4046306
X-APPLE-STRUCTURED-LOCATION;VALUE=URI;X-ADDRESS=Hurricane Grill & Wings 2401 W State Rd 434 Longwood FL 32779 USA;X-APPLE-RADIUS=500;X-TITLE=2401 W State Rd 434\, Longwood\, FL 32779 USA:geo:-81.4046306,28.6883313
END:VEVENT
BEGIN:VEVENT
DTSTART;TZID=America/New_York:20280807T190000
DTEND;TZID=America/New_York:20280807T190000
DTSTAMP:20260423T104214
CREATED:20260105T003046Z
LAST-MODIFIED:20260105T055526Z
UID:10018078-1849287600-1849287600@epictriviafl.com
SUMMARY:Music Bingo
DESCRIPTION:
URL:https://epictriviafl.com/event/music-bingo-hurricane-longwood/2028-08-07/
LOCATION:Hurricane Grill & Wings\, 2401 W State Rd 434\, Longwood\, FL 32779 USA
GEO:28.6883313;-81.4046306
X-APPLE-STRUCTURED-LOCATION;VALUE=URI;X-ADDRESS=Hurricane Grill & Wings 2401 W State Rd 434 Longwood FL 32779 USA;X-APPLE-RADIUS=500;X-TITLE=2401 W State Rd 434\, Longwood\, FL 32779 USA:geo:-81.4046306,28.6883313
END:VEVENT
BEGIN:VEVENT
DTSTART;TZID=America/New_York:20280808T190000
DTEND;TZID=America/New_York:20280808T190000
DTSTAMP:20260423T104214
CREATED:20260105T003103Z
LAST-MODIFIED:20260105T055137Z
UID:10016258-1849374000-1849374000@epictriviafl.com
SUMMARY:Trivia
DESCRIPTION:
URL:https://epictriviafl.com/event/trivia-hurricane-longwood/2028-08-08/
LOCATION:Hurricane Grill & Wings\, 2401 W State Rd 434\, Longwood\, FL 32779 USA
GEO:28.6883313;-81.4046306
X-APPLE-STRUCTURED-LOCATION;VALUE=URI;X-ADDRESS=Hurricane Grill & Wings 2401 W State Rd 434 Longwood FL 32779 USA;X-APPLE-RADIUS=500;X-TITLE=2401 W State Rd 434\, Longwood\, FL 32779 USA:geo:-81.4046306,28.6883313
END:VEVENT
BEGIN:VEVENT
DTSTART;TZID=America/New_York:20280809T183000
DTEND;TZID=America/New_York:20280809T183000
DTSTAMP:20260423T104214
CREATED:20260105T003119Z
LAST-MODIFIED:20260105T054818Z
UID:10014958-1849458600-1849458600@epictriviafl.com
SUMMARY:Music Bingo
DESCRIPTION:
URL:https://epictriviafl.com/event/music-bingo-hurricane-apopka-2/2028-08-09/
LOCATION:Hurricane Grill & Wings\, 2401 W State Rd 434\, Longwood\, FL 32779 USA
GEO:28.6883313;-81.4046306
X-APPLE-STRUCTURED-LOCATION;VALUE=URI;X-ADDRESS=Hurricane Grill & Wings 2401 W State Rd 434 Longwood FL 32779 USA;X-APPLE-RADIUS=500;X-TITLE=2401 W State Rd 434\, Longwood\, FL 32779 USA:geo:-81.4046306,28.6883313
END:VEVENT
BEGIN:VEVENT
DTSTART;TZID=America/New_York:20280813T183000
DTEND;TZID=America/New_York:20280813T183000
DTSTAMP:20260423T104214
CREATED:20260105T003234Z
LAST-MODIFIED:20260105T060012Z
UID:10019899-1849804200-1849804200@epictriviafl.com
SUMMARY:Music Bingo
DESCRIPTION:
URL:https://epictriviafl.com/event/music-bingo-hurricane-apopka-3/2028-08-13/
LOCATION:Hurricane Grill & Wings\, 2401 W State Rd 434\, Longwood\, FL 32779 USA
GEO:28.6883313;-81.4046306
X-APPLE-STRUCTURED-LOCATION;VALUE=URI;X-ADDRESS=Hurricane Grill & Wings 2401 W State Rd 434 Longwood FL 32779 USA;X-APPLE-RADIUS=500;X-TITLE=2401 W State Rd 434\, Longwood\, FL 32779 USA:geo:-81.4046306,28.6883313
END:VEVENT
BEGIN:VEVENT
DTSTART;TZID=America/New_York:20280814T183000
DTEND;TZID=America/New_York:20280814T183000
DTSTAMP:20260423T104214
CREATED:20260105T003044Z
LAST-MODIFIED:20260105T055734Z
UID:10018859-1849890600-1849890600@epictriviafl.com
SUMMARY:Music Bingo
DESCRIPTION:
URL:https://epictriviafl.com/event/music-bingo-hurricane-apopka/2028-08-14/
LOCATION:Hurricane Grill & Wings\, 2401 W State Rd 434\, Longwood\, FL 32779 USA
GEO:28.6883313;-81.4046306
X-APPLE-STRUCTURED-LOCATION;VALUE=URI;X-ADDRESS=Hurricane Grill & Wings 2401 W State Rd 434 Longwood FL 32779 USA;X-APPLE-RADIUS=500;X-TITLE=2401 W State Rd 434\, Longwood\, FL 32779 USA:geo:-81.4046306,28.6883313
END:VEVENT
BEGIN:VEVENT
DTSTART;TZID=America/New_York:20280814T190000
DTEND;TZID=America/New_York:20280814T190000
DTSTAMP:20260423T104214
CREATED:20260105T003046Z
LAST-MODIFIED:20260105T055526Z
UID:10018079-1849892400-1849892400@epictriviafl.com
SUMMARY:Music Bingo
DESCRIPTION:
URL:https://epictriviafl.com/event/music-bingo-hurricane-longwood/2028-08-14/
LOCATION:Hurricane Grill & Wings\, 2401 W State Rd 434\, Longwood\, FL 32779 USA
GEO:28.6883313;-81.4046306
X-APPLE-STRUCTURED-LOCATION;VALUE=URI;X-ADDRESS=Hurricane Grill & Wings 2401 W State Rd 434 Longwood FL 32779 USA;X-APPLE-RADIUS=500;X-TITLE=2401 W State Rd 434\, Longwood\, FL 32779 USA:geo:-81.4046306,28.6883313
END:VEVENT
BEGIN:VEVENT
DTSTART;TZID=America/New_York:20280815T190000
DTEND;TZID=America/New_York:20280815T190000
DTSTAMP:20260423T104214
CREATED:20260105T003103Z
LAST-MODIFIED:20260105T055137Z
UID:10016259-1849978800-1849978800@epictriviafl.com
SUMMARY:Trivia
DESCRIPTION:
URL:https://epictriviafl.com/event/trivia-hurricane-longwood/2028-08-15/
LOCATION:Hurricane Grill & Wings\, 2401 W State Rd 434\, Longwood\, FL 32779 USA
GEO:28.6883313;-81.4046306
X-APPLE-STRUCTURED-LOCATION;VALUE=URI;X-ADDRESS=Hurricane Grill & Wings 2401 W State Rd 434 Longwood FL 32779 USA;X-APPLE-RADIUS=500;X-TITLE=2401 W State Rd 434\, Longwood\, FL 32779 USA:geo:-81.4046306,28.6883313
END:VEVENT
BEGIN:VEVENT
DTSTART;TZID=America/New_York:20280816T183000
DTEND;TZID=America/New_York:20280816T183000
DTSTAMP:20260423T104214
CREATED:20260105T003119Z
LAST-MODIFIED:20260105T054818Z
UID:10014959-1850063400-1850063400@epictriviafl.com
SUMMARY:Music Bingo
DESCRIPTION:
URL:https://epictriviafl.com/event/music-bingo-hurricane-apopka-2/2028-08-16/
LOCATION:Hurricane Grill & Wings\, 2401 W State Rd 434\, Longwood\, FL 32779 USA
GEO:28.6883313;-81.4046306
X-APPLE-STRUCTURED-LOCATION;VALUE=URI;X-ADDRESS=Hurricane Grill & Wings 2401 W State Rd 434 Longwood FL 32779 USA;X-APPLE-RADIUS=500;X-TITLE=2401 W State Rd 434\, Longwood\, FL 32779 USA:geo:-81.4046306,28.6883313
END:VEVENT
BEGIN:VEVENT
DTSTART;TZID=America/New_York:20280820T183000
DTEND;TZID=America/New_York:20280820T183000
DTSTAMP:20260423T104214
CREATED:20260105T003234Z
LAST-MODIFIED:20260105T060012Z
UID:10019900-1850409000-1850409000@epictriviafl.com
SUMMARY:Music Bingo
DESCRIPTION:
URL:https://epictriviafl.com/event/music-bingo-hurricane-apopka-3/2028-08-20/
LOCATION:Hurricane Grill & Wings\, 2401 W State Rd 434\, Longwood\, FL 32779 USA
GEO:28.6883313;-81.4046306
X-APPLE-STRUCTURED-LOCATION;VALUE=URI;X-ADDRESS=Hurricane Grill & Wings 2401 W State Rd 434 Longwood FL 32779 USA;X-APPLE-RADIUS=500;X-TITLE=2401 W State Rd 434\, Longwood\, FL 32779 USA:geo:-81.4046306,28.6883313
END:VEVENT
BEGIN:VEVENT
DTSTART;TZID=America/New_York:20280821T183000
DTEND;TZID=America/New_York:20280821T183000
DTSTAMP:20260423T104214
CREATED:20260105T003044Z
LAST-MODIFIED:20260105T055734Z
UID:10018860-1850495400-1850495400@epictriviafl.com
SUMMARY:Music Bingo
DESCRIPTION:
URL:https://epictriviafl.com/event/music-bingo-hurricane-apopka/2028-08-21/
LOCATION:Hurricane Grill & Wings\, 2401 W State Rd 434\, Longwood\, FL 32779 USA
GEO:28.6883313;-81.4046306
X-APPLE-STRUCTURED-LOCATION;VALUE=URI;X-ADDRESS=Hurricane Grill & Wings 2401 W State Rd 434 Longwood FL 32779 USA;X-APPLE-RADIUS=500;X-TITLE=2401 W State Rd 434\, Longwood\, FL 32779 USA:geo:-81.4046306,28.6883313
END:VEVENT
BEGIN:VEVENT
DTSTART;TZID=America/New_York:20280821T190000
DTEND;TZID=America/New_York:20280821T190000
DTSTAMP:20260423T104214
CREATED:20260105T003046Z
LAST-MODIFIED:20260105T055526Z
UID:10018080-1850497200-1850497200@epictriviafl.com
SUMMARY:Music Bingo
DESCRIPTION:
URL:https://epictriviafl.com/event/music-bingo-hurricane-longwood/2028-08-21/
LOCATION:Hurricane Grill & Wings\, 2401 W State Rd 434\, Longwood\, FL 32779 USA
GEO:28.6883313;-81.4046306
X-APPLE-STRUCTURED-LOCATION;VALUE=URI;X-ADDRESS=Hurricane Grill & Wings 2401 W State Rd 434 Longwood FL 32779 USA;X-APPLE-RADIUS=500;X-TITLE=2401 W State Rd 434\, Longwood\, FL 32779 USA:geo:-81.4046306,28.6883313
END:VEVENT
BEGIN:VEVENT
DTSTART;TZID=America/New_York:20280822T190000
DTEND;TZID=America/New_York:20280822T190000
DTSTAMP:20260423T104214
CREATED:20260105T003103Z
LAST-MODIFIED:20260105T055137Z
UID:10016260-1850583600-1850583600@epictriviafl.com
SUMMARY:Trivia
DESCRIPTION:
URL:https://epictriviafl.com/event/trivia-hurricane-longwood/2028-08-22/
LOCATION:Hurricane Grill & Wings\, 2401 W State Rd 434\, Longwood\, FL 32779 USA
GEO:28.6883313;-81.4046306
X-APPLE-STRUCTURED-LOCATION;VALUE=URI;X-ADDRESS=Hurricane Grill & Wings 2401 W State Rd 434 Longwood FL 32779 USA;X-APPLE-RADIUS=500;X-TITLE=2401 W State Rd 434\, Longwood\, FL 32779 USA:geo:-81.4046306,28.6883313
END:VEVENT
BEGIN:VEVENT
DTSTART;TZID=America/New_York:20280823T183000
DTEND;TZID=America/New_York:20280823T183000
DTSTAMP:20260423T104214
CREATED:20260105T003119Z
LAST-MODIFIED:20260105T054818Z
UID:10014960-1850668200-1850668200@epictriviafl.com
SUMMARY:Music Bingo
DESCRIPTION:
URL:https://epictriviafl.com/event/music-bingo-hurricane-apopka-2/2028-08-23/
LOCATION:Hurricane Grill & Wings\, 2401 W State Rd 434\, Longwood\, FL 32779 USA
GEO:28.6883313;-81.4046306
X-APPLE-STRUCTURED-LOCATION;VALUE=URI;X-ADDRESS=Hurricane Grill & Wings 2401 W State Rd 434 Longwood FL 32779 USA;X-APPLE-RADIUS=500;X-TITLE=2401 W State Rd 434\, Longwood\, FL 32779 USA:geo:-81.4046306,28.6883313
END:VEVENT
BEGIN:VEVENT
DTSTART;TZID=America/New_York:20280827T183000
DTEND;TZID=America/New_York:20280827T183000
DTSTAMP:20260423T104214
CREATED:20260105T003234Z
LAST-MODIFIED:20260105T060012Z
UID:10019901-1851013800-1851013800@epictriviafl.com
SUMMARY:Music Bingo
DESCRIPTION:
URL:https://epictriviafl.com/event/music-bingo-hurricane-apopka-3/2028-08-27/
LOCATION:Hurricane Grill & Wings\, 2401 W State Rd 434\, Longwood\, FL 32779 USA
GEO:28.6883313;-81.4046306
X-APPLE-STRUCTURED-LOCATION;VALUE=URI;X-ADDRESS=Hurricane Grill & Wings 2401 W State Rd 434 Longwood FL 32779 USA;X-APPLE-RADIUS=500;X-TITLE=2401 W State Rd 434\, Longwood\, FL 32779 USA:geo:-81.4046306,28.6883313
END:VEVENT
BEGIN:VEVENT
DTSTART;TZID=America/New_York:20280828T183000
DTEND;TZID=America/New_York:20280828T183000
DTSTAMP:20260423T104214
CREATED:20260105T003044Z
LAST-MODIFIED:20260105T055734Z
UID:10018861-1851100200-1851100200@epictriviafl.com
SUMMARY:Music Bingo
DESCRIPTION:
URL:https://epictriviafl.com/event/music-bingo-hurricane-apopka/2028-08-28/
LOCATION:Hurricane Grill & Wings\, 2401 W State Rd 434\, Longwood\, FL 32779 USA
GEO:28.6883313;-81.4046306
X-APPLE-STRUCTURED-LOCATION;VALUE=URI;X-ADDRESS=Hurricane Grill & Wings 2401 W State Rd 434 Longwood FL 32779 USA;X-APPLE-RADIUS=500;X-TITLE=2401 W State Rd 434\, Longwood\, FL 32779 USA:geo:-81.4046306,28.6883313
END:VEVENT
BEGIN:VEVENT
DTSTART;TZID=America/New_York:20280828T190000
DTEND;TZID=America/New_York:20280828T190000
DTSTAMP:20260423T104214
CREATED:20260105T003046Z
LAST-MODIFIED:20260105T055526Z
UID:10018081-1851102000-1851102000@epictriviafl.com
SUMMARY:Music Bingo
DESCRIPTION:
URL:https://epictriviafl.com/event/music-bingo-hurricane-longwood/2028-08-28/
LOCATION:Hurricane Grill & Wings\, 2401 W State Rd 434\, Longwood\, FL 32779 USA
GEO:28.6883313;-81.4046306
X-APPLE-STRUCTURED-LOCATION;VALUE=URI;X-ADDRESS=Hurricane Grill & Wings 2401 W State Rd 434 Longwood FL 32779 USA;X-APPLE-RADIUS=500;X-TITLE=2401 W State Rd 434\, Longwood\, FL 32779 USA:geo:-81.4046306,28.6883313
END:VEVENT
BEGIN:VEVENT
DTSTART;TZID=America/New_York:20280829T190000
DTEND;TZID=America/New_York:20280829T190000
DTSTAMP:20260423T104214
CREATED:20260105T003103Z
LAST-MODIFIED:20260105T055137Z
UID:10016261-1851188400-1851188400@epictriviafl.com
SUMMARY:Trivia
DESCRIPTION:
URL:https://epictriviafl.com/event/trivia-hurricane-longwood/2028-08-29/
LOCATION:Hurricane Grill & Wings\, 2401 W State Rd 434\, Longwood\, FL 32779 USA
GEO:28.6883313;-81.4046306
X-APPLE-STRUCTURED-LOCATION;VALUE=URI;X-ADDRESS=Hurricane Grill & Wings 2401 W State Rd 434 Longwood FL 32779 USA;X-APPLE-RADIUS=500;X-TITLE=2401 W State Rd 434\, Longwood\, FL 32779 USA:geo:-81.4046306,28.6883313
END:VEVENT
BEGIN:VEVENT
DTSTART;TZID=America/New_York:20280830T183000
DTEND;TZID=America/New_York:20280830T183000
DTSTAMP:20260423T104214
CREATED:20260105T003119Z
LAST-MODIFIED:20260105T054818Z
UID:10014961-1851273000-1851273000@epictriviafl.com
SUMMARY:Music Bingo
DESCRIPTION:
URL:https://epictriviafl.com/event/music-bingo-hurricane-apopka-2/2028-08-30/
LOCATION:Hurricane Grill & Wings\, 2401 W State Rd 434\, Longwood\, FL 32779 USA
GEO:28.6883313;-81.4046306
X-APPLE-STRUCTURED-LOCATION;VALUE=URI;X-ADDRESS=Hurricane Grill & Wings 2401 W State Rd 434 Longwood FL 32779 USA;X-APPLE-RADIUS=500;X-TITLE=2401 W State Rd 434\, Longwood\, FL 32779 USA:geo:-81.4046306,28.6883313
END:VEVENT
BEGIN:VEVENT
DTSTART;TZID=America/New_York:20280903T183000
DTEND;TZID=America/New_York:20280903T183000
DTSTAMP:20260423T104214
CREATED:20260105T003234Z
LAST-MODIFIED:20260105T060012Z
UID:10019902-1851618600-1851618600@epictriviafl.com
SUMMARY:Music Bingo
DESCRIPTION:
URL:https://epictriviafl.com/event/music-bingo-hurricane-apopka-3/2028-09-03/
LOCATION:Hurricane Grill & Wings\, 2401 W State Rd 434\, Longwood\, FL 32779 USA
GEO:28.6883313;-81.4046306
X-APPLE-STRUCTURED-LOCATION;VALUE=URI;X-ADDRESS=Hurricane Grill & Wings 2401 W State Rd 434 Longwood FL 32779 USA;X-APPLE-RADIUS=500;X-TITLE=2401 W State Rd 434\, Longwood\, FL 32779 USA:geo:-81.4046306,28.6883313
END:VEVENT
BEGIN:VEVENT
DTSTART;TZID=America/New_York:20280904T183000
DTEND;TZID=America/New_York:20280904T183000
DTSTAMP:20260423T104214
CREATED:20260105T003044Z
LAST-MODIFIED:20260105T055734Z
UID:10018862-1851705000-1851705000@epictriviafl.com
SUMMARY:Music Bingo
DESCRIPTION:
URL:https://epictriviafl.com/event/music-bingo-hurricane-apopka/2028-09-04/
LOCATION:Hurricane Grill & Wings\, 2401 W State Rd 434\, Longwood\, FL 32779 USA
GEO:28.6883313;-81.4046306
X-APPLE-STRUCTURED-LOCATION;VALUE=URI;X-ADDRESS=Hurricane Grill & Wings 2401 W State Rd 434 Longwood FL 32779 USA;X-APPLE-RADIUS=500;X-TITLE=2401 W State Rd 434\, Longwood\, FL 32779 USA:geo:-81.4046306,28.6883313
END:VEVENT
BEGIN:VEVENT
DTSTART;TZID=America/New_York:20280904T190000
DTEND;TZID=America/New_York:20280904T190000
DTSTAMP:20260423T104214
CREATED:20260105T003046Z
LAST-MODIFIED:20260105T055526Z
UID:10018082-1851706800-1851706800@epictriviafl.com
SUMMARY:Music Bingo
DESCRIPTION:
URL:https://epictriviafl.com/event/music-bingo-hurricane-longwood/2028-09-04/
LOCATION:Hurricane Grill & Wings\, 2401 W State Rd 434\, Longwood\, FL 32779 USA
GEO:28.6883313;-81.4046306
X-APPLE-STRUCTURED-LOCATION;VALUE=URI;X-ADDRESS=Hurricane Grill & Wings 2401 W State Rd 434 Longwood FL 32779 USA;X-APPLE-RADIUS=500;X-TITLE=2401 W State Rd 434\, Longwood\, FL 32779 USA:geo:-81.4046306,28.6883313
END:VEVENT
END:VCALENDAR