BEGIN:VCALENDAR
VERSION:2.0
PRODID:-//Epic Trivia - ECPv6.15.18//NONSGML v1.0//EN
CALSCALE:GREGORIAN
METHOD:PUBLISH
X-WR-CALNAME:Epic Trivia
X-ORIGINAL-URL:https://epictriviafl.com
X-WR-CALDESC:Events for Epic Trivia
REFRESH-INTERVAL;VALUE=DURATION:PT1H
X-Robots-Tag:noindex
X-PUBLISHED-TTL:PT1H
BEGIN:VTIMEZONE
TZID:America/New_York
BEGIN:DAYLIGHT
TZOFFSETFROM:-0500
TZOFFSETTO:-0400
TZNAME:EDT
DTSTART:20270314T070000
END:DAYLIGHT
BEGIN:STANDARD
TZOFFSETFROM:-0400
TZOFFSETTO:-0500
TZNAME:EST
DTSTART:20271107T060000
END:STANDARD
BEGIN:DAYLIGHT
TZOFFSETFROM:-0500
TZOFFSETTO:-0400
TZNAME:EDT
DTSTART:20280312T070000
END:DAYLIGHT
BEGIN:STANDARD
TZOFFSETFROM:-0400
TZOFFSETTO:-0500
TZNAME:EST
DTSTART:20281105T060000
END:STANDARD
BEGIN:DAYLIGHT
TZOFFSETFROM:-0500
TZOFFSETTO:-0400
TZNAME:EDT
DTSTART:20290311T070000
END:DAYLIGHT
BEGIN:STANDARD
TZOFFSETFROM:-0400
TZOFFSETTO:-0500
TZNAME:EST
DTSTART:20291104T060000
END:STANDARD
END:VTIMEZONE
BEGIN:VEVENT
DTSTART;TZID=America/New_York:20280227T183000
DTEND;TZID=America/New_York:20280227T183000
DTSTAMP:20260422T194509
CREATED:20260105T003234Z
LAST-MODIFIED:20260105T060012Z
UID:10019875-1835289000-1835289000@epictriviafl.com
SUMMARY:Music Bingo
DESCRIPTION:
URL:https://epictriviafl.com/event/music-bingo-hurricane-apopka-3/2028-02-27/
LOCATION:Hurricane Grill & Wings\, 2401 W State Rd 434\, Longwood\, FL 32779 USA
GEO:28.6883313;-81.4046306
X-APPLE-STRUCTURED-LOCATION;VALUE=URI;X-ADDRESS=Hurricane Grill & Wings 2401 W State Rd 434 Longwood FL 32779 USA;X-APPLE-RADIUS=500;X-TITLE=2401 W State Rd 434\, Longwood\, FL 32779 USA:geo:-81.4046306,28.6883313
END:VEVENT
BEGIN:VEVENT
DTSTART;TZID=America/New_York:20280228T183000
DTEND;TZID=America/New_York:20280228T183000
DTSTAMP:20260422T194509
CREATED:20260105T003044Z
LAST-MODIFIED:20260105T055734Z
UID:10018835-1835375400-1835375400@epictriviafl.com
SUMMARY:Music Bingo
DESCRIPTION:
URL:https://epictriviafl.com/event/music-bingo-hurricane-apopka/2028-02-28/
LOCATION:Hurricane Grill & Wings\, 2401 W State Rd 434\, Longwood\, FL 32779 USA
GEO:28.6883313;-81.4046306
X-APPLE-STRUCTURED-LOCATION;VALUE=URI;X-ADDRESS=Hurricane Grill & Wings 2401 W State Rd 434 Longwood FL 32779 USA;X-APPLE-RADIUS=500;X-TITLE=2401 W State Rd 434\, Longwood\, FL 32779 USA:geo:-81.4046306,28.6883313
END:VEVENT
BEGIN:VEVENT
DTSTART;TZID=America/New_York:20280228T190000
DTEND;TZID=America/New_York:20280228T190000
DTSTAMP:20260422T194509
CREATED:20260105T003046Z
LAST-MODIFIED:20260105T055526Z
UID:10018055-1835377200-1835377200@epictriviafl.com
SUMMARY:Music Bingo
DESCRIPTION:
URL:https://epictriviafl.com/event/music-bingo-hurricane-longwood/2028-02-28/
LOCATION:Hurricane Grill & Wings\, 2401 W State Rd 434\, Longwood\, FL 32779 USA
GEO:28.6883313;-81.4046306
X-APPLE-STRUCTURED-LOCATION;VALUE=URI;X-ADDRESS=Hurricane Grill & Wings 2401 W State Rd 434 Longwood FL 32779 USA;X-APPLE-RADIUS=500;X-TITLE=2401 W State Rd 434\, Longwood\, FL 32779 USA:geo:-81.4046306,28.6883313
END:VEVENT
BEGIN:VEVENT
DTSTART;TZID=America/New_York:20280229T190000
DTEND;TZID=America/New_York:20280229T190000
DTSTAMP:20260422T194509
CREATED:20260105T003103Z
LAST-MODIFIED:20260105T055137Z
UID:10016235-1835463600-1835463600@epictriviafl.com
SUMMARY:Trivia
DESCRIPTION:
URL:https://epictriviafl.com/event/trivia-hurricane-longwood/2028-02-29/
LOCATION:Hurricane Grill & Wings\, 2401 W State Rd 434\, Longwood\, FL 32779 USA
GEO:28.6883313;-81.4046306
X-APPLE-STRUCTURED-LOCATION;VALUE=URI;X-ADDRESS=Hurricane Grill & Wings 2401 W State Rd 434 Longwood FL 32779 USA;X-APPLE-RADIUS=500;X-TITLE=2401 W State Rd 434\, Longwood\, FL 32779 USA:geo:-81.4046306,28.6883313
END:VEVENT
BEGIN:VEVENT
DTSTART;TZID=America/New_York:20280301T183000
DTEND;TZID=America/New_York:20280301T183000
DTSTAMP:20260422T194509
CREATED:20260105T003119Z
LAST-MODIFIED:20260105T054818Z
UID:10014935-1835548200-1835548200@epictriviafl.com
SUMMARY:Music Bingo
DESCRIPTION:
URL:https://epictriviafl.com/event/music-bingo-hurricane-apopka-2/2028-03-01/
LOCATION:Hurricane Grill & Wings\, 2401 W State Rd 434\, Longwood\, FL 32779 USA
GEO:28.6883313;-81.4046306
X-APPLE-STRUCTURED-LOCATION;VALUE=URI;X-ADDRESS=Hurricane Grill & Wings 2401 W State Rd 434 Longwood FL 32779 USA;X-APPLE-RADIUS=500;X-TITLE=2401 W State Rd 434\, Longwood\, FL 32779 USA:geo:-81.4046306,28.6883313
END:VEVENT
BEGIN:VEVENT
DTSTART;TZID=America/New_York:20280305T183000
DTEND;TZID=America/New_York:20280305T183000
DTSTAMP:20260422T194509
CREATED:20260105T003234Z
LAST-MODIFIED:20260105T060012Z
UID:10019876-1835893800-1835893800@epictriviafl.com
SUMMARY:Music Bingo
DESCRIPTION:
URL:https://epictriviafl.com/event/music-bingo-hurricane-apopka-3/2028-03-05/
LOCATION:Hurricane Grill & Wings\, 2401 W State Rd 434\, Longwood\, FL 32779 USA
GEO:28.6883313;-81.4046306
X-APPLE-STRUCTURED-LOCATION;VALUE=URI;X-ADDRESS=Hurricane Grill & Wings 2401 W State Rd 434 Longwood FL 32779 USA;X-APPLE-RADIUS=500;X-TITLE=2401 W State Rd 434\, Longwood\, FL 32779 USA:geo:-81.4046306,28.6883313
END:VEVENT
BEGIN:VEVENT
DTSTART;TZID=America/New_York:20280306T183000
DTEND;TZID=America/New_York:20280306T183000
DTSTAMP:20260422T194509
CREATED:20260105T003044Z
LAST-MODIFIED:20260105T055734Z
UID:10018836-1835980200-1835980200@epictriviafl.com
SUMMARY:Music Bingo
DESCRIPTION:
URL:https://epictriviafl.com/event/music-bingo-hurricane-apopka/2028-03-06/
LOCATION:Hurricane Grill & Wings\, 2401 W State Rd 434\, Longwood\, FL 32779 USA
GEO:28.6883313;-81.4046306
X-APPLE-STRUCTURED-LOCATION;VALUE=URI;X-ADDRESS=Hurricane Grill & Wings 2401 W State Rd 434 Longwood FL 32779 USA;X-APPLE-RADIUS=500;X-TITLE=2401 W State Rd 434\, Longwood\, FL 32779 USA:geo:-81.4046306,28.6883313
END:VEVENT
BEGIN:VEVENT
DTSTART;TZID=America/New_York:20280306T190000
DTEND;TZID=America/New_York:20280306T190000
DTSTAMP:20260422T194509
CREATED:20260105T003046Z
LAST-MODIFIED:20260105T055526Z
UID:10018056-1835982000-1835982000@epictriviafl.com
SUMMARY:Music Bingo
DESCRIPTION:
URL:https://epictriviafl.com/event/music-bingo-hurricane-longwood/2028-03-06/
LOCATION:Hurricane Grill & Wings\, 2401 W State Rd 434\, Longwood\, FL 32779 USA
GEO:28.6883313;-81.4046306
X-APPLE-STRUCTURED-LOCATION;VALUE=URI;X-ADDRESS=Hurricane Grill & Wings 2401 W State Rd 434 Longwood FL 32779 USA;X-APPLE-RADIUS=500;X-TITLE=2401 W State Rd 434\, Longwood\, FL 32779 USA:geo:-81.4046306,28.6883313
END:VEVENT
BEGIN:VEVENT
DTSTART;TZID=America/New_York:20280307T190000
DTEND;TZID=America/New_York:20280307T190000
DTSTAMP:20260422T194509
CREATED:20260105T003103Z
LAST-MODIFIED:20260105T055137Z
UID:10016236-1836068400-1836068400@epictriviafl.com
SUMMARY:Trivia
DESCRIPTION:
URL:https://epictriviafl.com/event/trivia-hurricane-longwood/2028-03-07/
LOCATION:Hurricane Grill & Wings\, 2401 W State Rd 434\, Longwood\, FL 32779 USA
GEO:28.6883313;-81.4046306
X-APPLE-STRUCTURED-LOCATION;VALUE=URI;X-ADDRESS=Hurricane Grill & Wings 2401 W State Rd 434 Longwood FL 32779 USA;X-APPLE-RADIUS=500;X-TITLE=2401 W State Rd 434\, Longwood\, FL 32779 USA:geo:-81.4046306,28.6883313
END:VEVENT
BEGIN:VEVENT
DTSTART;TZID=America/New_York:20280308T183000
DTEND;TZID=America/New_York:20280308T183000
DTSTAMP:20260422T194509
CREATED:20260105T003119Z
LAST-MODIFIED:20260105T054818Z
UID:10014936-1836153000-1836153000@epictriviafl.com
SUMMARY:Music Bingo
DESCRIPTION:
URL:https://epictriviafl.com/event/music-bingo-hurricane-apopka-2/2028-03-08/
LOCATION:Hurricane Grill & Wings\, 2401 W State Rd 434\, Longwood\, FL 32779 USA
GEO:28.6883313;-81.4046306
X-APPLE-STRUCTURED-LOCATION;VALUE=URI;X-ADDRESS=Hurricane Grill & Wings 2401 W State Rd 434 Longwood FL 32779 USA;X-APPLE-RADIUS=500;X-TITLE=2401 W State Rd 434\, Longwood\, FL 32779 USA:geo:-81.4046306,28.6883313
END:VEVENT
BEGIN:VEVENT
DTSTART;TZID=America/New_York:20280312T183000
DTEND;TZID=America/New_York:20280312T183000
DTSTAMP:20260422T194509
CREATED:20260105T003234Z
LAST-MODIFIED:20260105T060012Z
UID:10019877-1836498600-1836498600@epictriviafl.com
SUMMARY:Music Bingo
DESCRIPTION:
URL:https://epictriviafl.com/event/music-bingo-hurricane-apopka-3/2028-03-12/
LOCATION:Hurricane Grill & Wings\, 2401 W State Rd 434\, Longwood\, FL 32779 USA
GEO:28.6883313;-81.4046306
X-APPLE-STRUCTURED-LOCATION;VALUE=URI;X-ADDRESS=Hurricane Grill & Wings 2401 W State Rd 434 Longwood FL 32779 USA;X-APPLE-RADIUS=500;X-TITLE=2401 W State Rd 434\, Longwood\, FL 32779 USA:geo:-81.4046306,28.6883313
END:VEVENT
BEGIN:VEVENT
DTSTART;TZID=America/New_York:20280313T183000
DTEND;TZID=America/New_York:20280313T183000
DTSTAMP:20260422T194509
CREATED:20260105T003044Z
LAST-MODIFIED:20260105T055734Z
UID:10018837-1836585000-1836585000@epictriviafl.com
SUMMARY:Music Bingo
DESCRIPTION:
URL:https://epictriviafl.com/event/music-bingo-hurricane-apopka/2028-03-13/
LOCATION:Hurricane Grill & Wings\, 2401 W State Rd 434\, Longwood\, FL 32779 USA
GEO:28.6883313;-81.4046306
X-APPLE-STRUCTURED-LOCATION;VALUE=URI;X-ADDRESS=Hurricane Grill & Wings 2401 W State Rd 434 Longwood FL 32779 USA;X-APPLE-RADIUS=500;X-TITLE=2401 W State Rd 434\, Longwood\, FL 32779 USA:geo:-81.4046306,28.6883313
END:VEVENT
BEGIN:VEVENT
DTSTART;TZID=America/New_York:20280313T190000
DTEND;TZID=America/New_York:20280313T190000
DTSTAMP:20260422T194509
CREATED:20260105T003046Z
LAST-MODIFIED:20260105T055526Z
UID:10018057-1836586800-1836586800@epictriviafl.com
SUMMARY:Music Bingo
DESCRIPTION:
URL:https://epictriviafl.com/event/music-bingo-hurricane-longwood/2028-03-13/
LOCATION:Hurricane Grill & Wings\, 2401 W State Rd 434\, Longwood\, FL 32779 USA
GEO:28.6883313;-81.4046306
X-APPLE-STRUCTURED-LOCATION;VALUE=URI;X-ADDRESS=Hurricane Grill & Wings 2401 W State Rd 434 Longwood FL 32779 USA;X-APPLE-RADIUS=500;X-TITLE=2401 W State Rd 434\, Longwood\, FL 32779 USA:geo:-81.4046306,28.6883313
END:VEVENT
BEGIN:VEVENT
DTSTART;TZID=America/New_York:20280314T190000
DTEND;TZID=America/New_York:20280314T190000
DTSTAMP:20260422T194509
CREATED:20260105T003103Z
LAST-MODIFIED:20260105T055137Z
UID:10016237-1836673200-1836673200@epictriviafl.com
SUMMARY:Trivia
DESCRIPTION:
URL:https://epictriviafl.com/event/trivia-hurricane-longwood/2028-03-14/
LOCATION:Hurricane Grill & Wings\, 2401 W State Rd 434\, Longwood\, FL 32779 USA
GEO:28.6883313;-81.4046306
X-APPLE-STRUCTURED-LOCATION;VALUE=URI;X-ADDRESS=Hurricane Grill & Wings 2401 W State Rd 434 Longwood FL 32779 USA;X-APPLE-RADIUS=500;X-TITLE=2401 W State Rd 434\, Longwood\, FL 32779 USA:geo:-81.4046306,28.6883313
END:VEVENT
BEGIN:VEVENT
DTSTART;TZID=America/New_York:20280315T183000
DTEND;TZID=America/New_York:20280315T183000
DTSTAMP:20260422T194509
CREATED:20260105T003119Z
LAST-MODIFIED:20260105T054818Z
UID:10014937-1836757800-1836757800@epictriviafl.com
SUMMARY:Music Bingo
DESCRIPTION:
URL:https://epictriviafl.com/event/music-bingo-hurricane-apopka-2/2028-03-15/
LOCATION:Hurricane Grill & Wings\, 2401 W State Rd 434\, Longwood\, FL 32779 USA
GEO:28.6883313;-81.4046306
X-APPLE-STRUCTURED-LOCATION;VALUE=URI;X-ADDRESS=Hurricane Grill & Wings 2401 W State Rd 434 Longwood FL 32779 USA;X-APPLE-RADIUS=500;X-TITLE=2401 W State Rd 434\, Longwood\, FL 32779 USA:geo:-81.4046306,28.6883313
END:VEVENT
BEGIN:VEVENT
DTSTART;TZID=America/New_York:20280319T183000
DTEND;TZID=America/New_York:20280319T183000
DTSTAMP:20260422T194509
CREATED:20260105T003234Z
LAST-MODIFIED:20260105T060012Z
UID:10019878-1837103400-1837103400@epictriviafl.com
SUMMARY:Music Bingo
DESCRIPTION:
URL:https://epictriviafl.com/event/music-bingo-hurricane-apopka-3/2028-03-19/
LOCATION:Hurricane Grill & Wings\, 2401 W State Rd 434\, Longwood\, FL 32779 USA
GEO:28.6883313;-81.4046306
X-APPLE-STRUCTURED-LOCATION;VALUE=URI;X-ADDRESS=Hurricane Grill & Wings 2401 W State Rd 434 Longwood FL 32779 USA;X-APPLE-RADIUS=500;X-TITLE=2401 W State Rd 434\, Longwood\, FL 32779 USA:geo:-81.4046306,28.6883313
END:VEVENT
BEGIN:VEVENT
DTSTART;TZID=America/New_York:20280320T183000
DTEND;TZID=America/New_York:20280320T183000
DTSTAMP:20260422T194509
CREATED:20260105T003044Z
LAST-MODIFIED:20260105T055734Z
UID:10018838-1837189800-1837189800@epictriviafl.com
SUMMARY:Music Bingo
DESCRIPTION:
URL:https://epictriviafl.com/event/music-bingo-hurricane-apopka/2028-03-20/
LOCATION:Hurricane Grill & Wings\, 2401 W State Rd 434\, Longwood\, FL 32779 USA
GEO:28.6883313;-81.4046306
X-APPLE-STRUCTURED-LOCATION;VALUE=URI;X-ADDRESS=Hurricane Grill & Wings 2401 W State Rd 434 Longwood FL 32779 USA;X-APPLE-RADIUS=500;X-TITLE=2401 W State Rd 434\, Longwood\, FL 32779 USA:geo:-81.4046306,28.6883313
END:VEVENT
BEGIN:VEVENT
DTSTART;TZID=America/New_York:20280320T190000
DTEND;TZID=America/New_York:20280320T190000
DTSTAMP:20260422T194509
CREATED:20260105T003046Z
LAST-MODIFIED:20260105T055526Z
UID:10018058-1837191600-1837191600@epictriviafl.com
SUMMARY:Music Bingo
DESCRIPTION:
URL:https://epictriviafl.com/event/music-bingo-hurricane-longwood/2028-03-20/
LOCATION:Hurricane Grill & Wings\, 2401 W State Rd 434\, Longwood\, FL 32779 USA
GEO:28.6883313;-81.4046306
X-APPLE-STRUCTURED-LOCATION;VALUE=URI;X-ADDRESS=Hurricane Grill & Wings 2401 W State Rd 434 Longwood FL 32779 USA;X-APPLE-RADIUS=500;X-TITLE=2401 W State Rd 434\, Longwood\, FL 32779 USA:geo:-81.4046306,28.6883313
END:VEVENT
BEGIN:VEVENT
DTSTART;TZID=America/New_York:20280321T190000
DTEND;TZID=America/New_York:20280321T190000
DTSTAMP:20260422T194509
CREATED:20260105T003103Z
LAST-MODIFIED:20260105T055137Z
UID:10016238-1837278000-1837278000@epictriviafl.com
SUMMARY:Trivia
DESCRIPTION:
URL:https://epictriviafl.com/event/trivia-hurricane-longwood/2028-03-21/
LOCATION:Hurricane Grill & Wings\, 2401 W State Rd 434\, Longwood\, FL 32779 USA
GEO:28.6883313;-81.4046306
X-APPLE-STRUCTURED-LOCATION;VALUE=URI;X-ADDRESS=Hurricane Grill & Wings 2401 W State Rd 434 Longwood FL 32779 USA;X-APPLE-RADIUS=500;X-TITLE=2401 W State Rd 434\, Longwood\, FL 32779 USA:geo:-81.4046306,28.6883313
END:VEVENT
BEGIN:VEVENT
DTSTART;TZID=America/New_York:20280322T183000
DTEND;TZID=America/New_York:20280322T183000
DTSTAMP:20260422T194509
CREATED:20260105T003119Z
LAST-MODIFIED:20260105T054818Z
UID:10014938-1837362600-1837362600@epictriviafl.com
SUMMARY:Music Bingo
DESCRIPTION:
URL:https://epictriviafl.com/event/music-bingo-hurricane-apopka-2/2028-03-22/
LOCATION:Hurricane Grill & Wings\, 2401 W State Rd 434\, Longwood\, FL 32779 USA
GEO:28.6883313;-81.4046306
X-APPLE-STRUCTURED-LOCATION;VALUE=URI;X-ADDRESS=Hurricane Grill & Wings 2401 W State Rd 434 Longwood FL 32779 USA;X-APPLE-RADIUS=500;X-TITLE=2401 W State Rd 434\, Longwood\, FL 32779 USA:geo:-81.4046306,28.6883313
END:VEVENT
BEGIN:VEVENT
DTSTART;TZID=America/New_York:20280326T183000
DTEND;TZID=America/New_York:20280326T183000
DTSTAMP:20260422T194509
CREATED:20260105T003234Z
LAST-MODIFIED:20260105T060012Z
UID:10019879-1837708200-1837708200@epictriviafl.com
SUMMARY:Music Bingo
DESCRIPTION:
URL:https://epictriviafl.com/event/music-bingo-hurricane-apopka-3/2028-03-26/
LOCATION:Hurricane Grill & Wings\, 2401 W State Rd 434\, Longwood\, FL 32779 USA
GEO:28.6883313;-81.4046306
X-APPLE-STRUCTURED-LOCATION;VALUE=URI;X-ADDRESS=Hurricane Grill & Wings 2401 W State Rd 434 Longwood FL 32779 USA;X-APPLE-RADIUS=500;X-TITLE=2401 W State Rd 434\, Longwood\, FL 32779 USA:geo:-81.4046306,28.6883313
END:VEVENT
BEGIN:VEVENT
DTSTART;TZID=America/New_York:20280327T183000
DTEND;TZID=America/New_York:20280327T183000
DTSTAMP:20260422T194509
CREATED:20260105T003044Z
LAST-MODIFIED:20260105T055734Z
UID:10018839-1837794600-1837794600@epictriviafl.com
SUMMARY:Music Bingo
DESCRIPTION:
URL:https://epictriviafl.com/event/music-bingo-hurricane-apopka/2028-03-27/
LOCATION:Hurricane Grill & Wings\, 2401 W State Rd 434\, Longwood\, FL 32779 USA
GEO:28.6883313;-81.4046306
X-APPLE-STRUCTURED-LOCATION;VALUE=URI;X-ADDRESS=Hurricane Grill & Wings 2401 W State Rd 434 Longwood FL 32779 USA;X-APPLE-RADIUS=500;X-TITLE=2401 W State Rd 434\, Longwood\, FL 32779 USA:geo:-81.4046306,28.6883313
END:VEVENT
BEGIN:VEVENT
DTSTART;TZID=America/New_York:20280327T190000
DTEND;TZID=America/New_York:20280327T190000
DTSTAMP:20260422T194509
CREATED:20260105T003046Z
LAST-MODIFIED:20260105T055526Z
UID:10018059-1837796400-1837796400@epictriviafl.com
SUMMARY:Music Bingo
DESCRIPTION:
URL:https://epictriviafl.com/event/music-bingo-hurricane-longwood/2028-03-27/
LOCATION:Hurricane Grill & Wings\, 2401 W State Rd 434\, Longwood\, FL 32779 USA
GEO:28.6883313;-81.4046306
X-APPLE-STRUCTURED-LOCATION;VALUE=URI;X-ADDRESS=Hurricane Grill & Wings 2401 W State Rd 434 Longwood FL 32779 USA;X-APPLE-RADIUS=500;X-TITLE=2401 W State Rd 434\, Longwood\, FL 32779 USA:geo:-81.4046306,28.6883313
END:VEVENT
BEGIN:VEVENT
DTSTART;TZID=America/New_York:20280328T190000
DTEND;TZID=America/New_York:20280328T190000
DTSTAMP:20260422T194509
CREATED:20260105T003103Z
LAST-MODIFIED:20260105T055137Z
UID:10016239-1837882800-1837882800@epictriviafl.com
SUMMARY:Trivia
DESCRIPTION:
URL:https://epictriviafl.com/event/trivia-hurricane-longwood/2028-03-28/
LOCATION:Hurricane Grill & Wings\, 2401 W State Rd 434\, Longwood\, FL 32779 USA
GEO:28.6883313;-81.4046306
X-APPLE-STRUCTURED-LOCATION;VALUE=URI;X-ADDRESS=Hurricane Grill & Wings 2401 W State Rd 434 Longwood FL 32779 USA;X-APPLE-RADIUS=500;X-TITLE=2401 W State Rd 434\, Longwood\, FL 32779 USA:geo:-81.4046306,28.6883313
END:VEVENT
BEGIN:VEVENT
DTSTART;TZID=America/New_York:20280329T183000
DTEND;TZID=America/New_York:20280329T183000
DTSTAMP:20260422T194509
CREATED:20260105T003119Z
LAST-MODIFIED:20260105T054818Z
UID:10014939-1837967400-1837967400@epictriviafl.com
SUMMARY:Music Bingo
DESCRIPTION:
URL:https://epictriviafl.com/event/music-bingo-hurricane-apopka-2/2028-03-29/
LOCATION:Hurricane Grill & Wings\, 2401 W State Rd 434\, Longwood\, FL 32779 USA
GEO:28.6883313;-81.4046306
X-APPLE-STRUCTURED-LOCATION;VALUE=URI;X-ADDRESS=Hurricane Grill & Wings 2401 W State Rd 434 Longwood FL 32779 USA;X-APPLE-RADIUS=500;X-TITLE=2401 W State Rd 434\, Longwood\, FL 32779 USA:geo:-81.4046306,28.6883313
END:VEVENT
BEGIN:VEVENT
DTSTART;TZID=America/New_York:20280402T183000
DTEND;TZID=America/New_York:20280402T183000
DTSTAMP:20260422T194509
CREATED:20260105T003234Z
LAST-MODIFIED:20260105T060012Z
UID:10019880-1838313000-1838313000@epictriviafl.com
SUMMARY:Music Bingo
DESCRIPTION:
URL:https://epictriviafl.com/event/music-bingo-hurricane-apopka-3/2028-04-02/
LOCATION:Hurricane Grill & Wings\, 2401 W State Rd 434\, Longwood\, FL 32779 USA
GEO:28.6883313;-81.4046306
X-APPLE-STRUCTURED-LOCATION;VALUE=URI;X-ADDRESS=Hurricane Grill & Wings 2401 W State Rd 434 Longwood FL 32779 USA;X-APPLE-RADIUS=500;X-TITLE=2401 W State Rd 434\, Longwood\, FL 32779 USA:geo:-81.4046306,28.6883313
END:VEVENT
BEGIN:VEVENT
DTSTART;TZID=America/New_York:20280403T183000
DTEND;TZID=America/New_York:20280403T183000
DTSTAMP:20260422T194509
CREATED:20260105T003044Z
LAST-MODIFIED:20260105T055734Z
UID:10018840-1838399400-1838399400@epictriviafl.com
SUMMARY:Music Bingo
DESCRIPTION:
URL:https://epictriviafl.com/event/music-bingo-hurricane-apopka/2028-04-03/
LOCATION:Hurricane Grill & Wings\, 2401 W State Rd 434\, Longwood\, FL 32779 USA
GEO:28.6883313;-81.4046306
X-APPLE-STRUCTURED-LOCATION;VALUE=URI;X-ADDRESS=Hurricane Grill & Wings 2401 W State Rd 434 Longwood FL 32779 USA;X-APPLE-RADIUS=500;X-TITLE=2401 W State Rd 434\, Longwood\, FL 32779 USA:geo:-81.4046306,28.6883313
END:VEVENT
BEGIN:VEVENT
DTSTART;TZID=America/New_York:20280403T190000
DTEND;TZID=America/New_York:20280403T190000
DTSTAMP:20260422T194509
CREATED:20260105T003046Z
LAST-MODIFIED:20260105T055526Z
UID:10018060-1838401200-1838401200@epictriviafl.com
SUMMARY:Music Bingo
DESCRIPTION:
URL:https://epictriviafl.com/event/music-bingo-hurricane-longwood/2028-04-03/
LOCATION:Hurricane Grill & Wings\, 2401 W State Rd 434\, Longwood\, FL 32779 USA
GEO:28.6883313;-81.4046306
X-APPLE-STRUCTURED-LOCATION;VALUE=URI;X-ADDRESS=Hurricane Grill & Wings 2401 W State Rd 434 Longwood FL 32779 USA;X-APPLE-RADIUS=500;X-TITLE=2401 W State Rd 434\, Longwood\, FL 32779 USA:geo:-81.4046306,28.6883313
END:VEVENT
BEGIN:VEVENT
DTSTART;TZID=America/New_York:20280404T190000
DTEND;TZID=America/New_York:20280404T190000
DTSTAMP:20260422T194509
CREATED:20260105T003103Z
LAST-MODIFIED:20260105T055137Z
UID:10016240-1838487600-1838487600@epictriviafl.com
SUMMARY:Trivia
DESCRIPTION:
URL:https://epictriviafl.com/event/trivia-hurricane-longwood/2028-04-04/
LOCATION:Hurricane Grill & Wings\, 2401 W State Rd 434\, Longwood\, FL 32779 USA
GEO:28.6883313;-81.4046306
X-APPLE-STRUCTURED-LOCATION;VALUE=URI;X-ADDRESS=Hurricane Grill & Wings 2401 W State Rd 434 Longwood FL 32779 USA;X-APPLE-RADIUS=500;X-TITLE=2401 W State Rd 434\, Longwood\, FL 32779 USA:geo:-81.4046306,28.6883313
END:VEVENT
BEGIN:VEVENT
DTSTART;TZID=America/New_York:20280405T183000
DTEND;TZID=America/New_York:20280405T183000
DTSTAMP:20260422T194509
CREATED:20260105T003119Z
LAST-MODIFIED:20260105T054818Z
UID:10014940-1838572200-1838572200@epictriviafl.com
SUMMARY:Music Bingo
DESCRIPTION:
URL:https://epictriviafl.com/event/music-bingo-hurricane-apopka-2/2028-04-05/
LOCATION:Hurricane Grill & Wings\, 2401 W State Rd 434\, Longwood\, FL 32779 USA
GEO:28.6883313;-81.4046306
X-APPLE-STRUCTURED-LOCATION;VALUE=URI;X-ADDRESS=Hurricane Grill & Wings 2401 W State Rd 434 Longwood FL 32779 USA;X-APPLE-RADIUS=500;X-TITLE=2401 W State Rd 434\, Longwood\, FL 32779 USA:geo:-81.4046306,28.6883313
END:VEVENT
END:VCALENDAR